{"text_format":"1","workbook":"xlsx","n_sheets":7,"sheets":["Калькулятор","реестр организаций","УТСК","МП трест «Теплофикация»","ОАО \"ЧОКЭ\"","Челябинский г.о.","Челябинская обл."],"not_rendered":{"charts":0,"images":0,"macros":1,"external_links":2,"defined_names":46,"comments":0,"pivot_tables":0},"unopened":[],"bounds":{"document_bytes":16777216,"sheet_cells":100000,"rows_first":2000,"rows_last":500,"rows_between":2000,"halvings":0,"cell_chars":16384,"cell_head_chars":4096},"cells_cut":0,"cells_raw":0,"read":"whole","date_system":"1900"}

{"sheet":"Калькулятор","index":0,"n_rows":385,"n_cols":63,"rows_kept":385,"cut":false,"hidden":false,"merged":[[377,25,377,26],[377,27,377,29],[377,30,377,32],[141,33,141,34],[140,27,140,30],[141,27,141,28],[66,3,66,8],[44,10,44,13],[50,1,50,5],[45,1,45,5],[49,1,49,5],[46,2,46,4],[52,1,52,2],[7,1,7,13],[6,1,6,13],[10,1,10,13],[8,1,8,13],[141,31,141,32],[22,2,22,13],[29,2,29,13],[30,2,30,13],[39,2,39,4],[24,1,24,5],[28,2,28,13],[48,1,48,13],[36,2,36,13],[32,2,32,4],[25,2,25,4],[52,3,52,10],[1,2,1,13],[2,2,2,13],[21,2,21,13],[23,2,23,13],[3,1,3,13],[4,1,4,13],[5,1,5,13],[18,1,18,13],[12,1,12,9],[12,10,12,13],[14,1,14,9],[15,12,15,13],[14,10,14,13],[16,1,16,5],[15,10,15,11],[15,1,15,5],[24,11,24,12],[31,11,31,12],[38,11,38,12],[45,11,45,12],[37,2,37,13],[38,1,38,5],[42,1,42,13],[31,1,31,5],[141,38,141,39],[141,40,141,41],[140,33,140,36],[44,1,44,9],[35,2,35,13],[66,9,66,14],[141,35,141,36],[140,25,140,26],[140,31,140,32],[141,25,141,26],[141,29,141,30],[139,25,139,30],[139,31,139,36],[53,1,54,13],[52,25,52,26],[52,11,52,13]]}
[]
[null,"Наименование муниципального образования:",null,null,null,null,null,null,null,null,null,null,null,null,null,null,null,null,null,"тепловая нагрузка не превышает 1,5 Гкал/ч",null,null,null,null,null,"тепловая нагрузка более 1,5 Гкал/ч"]
[null,"Наименование сетевой организаци:",null,null,null,null,null,null,null,null,null,null,null,null,null,null,null,null,null,"наименование","50 - 250 мм","251-400 мм","401-550 мм","551-700 мм","701 мм и выше","наименование","50 - 250 мм","251-400 мм","400-550 мм","551-700 мм","701 мм и выше"]
[null,null,null,null,null,null,null,null,null,null,null,null,null,null,null,null,null,null,null,"Надземная (наземная) прокладка",4,5,6,7,8,"Надземная (наземная) прокладка",22,23,24,25,26]
[null,null,null,null,null,null,null,null,null,null,null,null,null,null,null,null,null,null,null,"Подземная прокладка канальная",9,10,11,12,13,"Подземная прокладка канальная",27,28,29,30,31]
[null,null,null,null,null,null,null,null,null,null,null,null,null,null,null,null,null,null,null,"Подземная прокладка бесканальная",14,15,16,17,18,"Подземная прокладка бесканальная",32,33,34,35,36]
[null,"Плата за подключение объекта конкретного заявителя определяется в расчете на 1 Гкал/ч подключаемой тепловой нагрузки по формуле:"]
[null,"ПI = П1 + ΣП2.1, i, j + П2.2 + Н",null,null,null,null,null,null,null,null,null,null,null,null,null,null,null,null,null,null,{"$f":"IF($C$3=ЗАО Миассмебель,U6,\"\")","v":{"$error":"#NAME?"}},"ЗАО Миассмебель"]
[null,"где:\nП1  - расходы на проведение мероприятий по подключению объектов заявителей, тыс. руб./Гкал/ч\nП2.1,i,j  - расходы на создание (реконструкцию) тепловых сетей (за исключением создания (реконструкции) тепловых пунктов) i-го диапазона диаметров j-го типа прокладки от существующих тепловых сетей или источников тепловой энергии до точек подключения объектов заявителей, тыс. руб./Гкал/ч\nП2.2 - расходы на создание (реконструкцию) тепловых пунктов от существующих тепловых сетей или источников тепловой энергии до точек подключения объектов заявителей, подключаемая тепловая нагрузка которых более 0,1 Гкал/ч и не превышает 1,5 Гкал/ч, тыс. руб./Гкал/ч\nН - налог на прибыль, отнесенный к плате за подключение, тыс. руб./Гкал/ч"]
[]
[null,"Расходы на проведение мероприятий по подключению объектов заявителей (П1)",null,null,null,null,null,null,null,null,null,null,null,null,null,null,null,null,null,"да"]
[null,null,null,null,null,null,null,null,null,null,null,null,null,null,null,null,null,null,null,"нет"]
[null,"Наличие технической возможности подключения:",null,null,null,null,null,null,null,null,null,null,null,null,null,null,null,null,null,"Расчет в индивидуальном порядке",null,"Налог на прибыль (эти значения в расчете не участвуют)"]
[null,null,null,null,null,null,null,null,null,null,null,null,null,null,null,null,null,null,null,"наименование","50 - 250 мм","251-400 мм","401-550 мм","551-700 мм","701 мм и выше","наименование","50 - 250 мм","251-400 мм","400-550 мм","551-700 мм","701 мм и выше"]
[null,"Подключаемая тепловая нагрузка, Гкал/час",null,null,null,null,null,null,null,null,null,null,null,null,null,null,null,null,null,"Надземная (наземная) прокладка",20,20,20,20,20,"Надземная (наземная) прокладка",38,38,38,38,38]
[null,"Ставка тарифа (П1):",null,null,null,null,null,null,null,null,{"$f":"IFERROR(IF(K15,VLOOKUP(C3,Y145:AL366,14,0),0),IFERROR(VLOOKUP(C3,Y375:AK377,11,0),0))","v":0},null,"тыс. руб./Гкал/ч",null,null,null,null,null,null,"Подземная прокладка канальная",20,20,20,20,20,"Подземная прокладка канальная",38,38,38,38,38]
[null,"Стоимость мероприятий по подключению:",null,null,null,null,{"$f":"IF(OR(K15=0,K16=0),\"0,00\",K15)","v":"0,00"},null,null,"х",{"$f":"IF(OR(K15=0,K16=0),\"0,00\",K16)","v":"0,00"},"=",{"$f":"IF(K15=0,0,K17*G17)","v":0},"тыс. руб.",null,null,2514.11,null,null,"Подземная прокладка бесканальная",20,20,20,20,20,"Подземная прокладка бесканальная",38,38,38,38,38]
[]
[null,"Расходы на создание (реконструкцию) тепловых сетей (за исключением создания (реконструкции) тепловых пунктов) от существующих тепловых сетей или источников тепловой энергии до точек подключения объектов заявителей (П2.1)",null,null,null,null,null,null,null,null,null,null,null,null,null,null,"МУП «Челябинские коммунальные тепловые сети» в г. Челябинске"]
[]
[null,"Участок №1"]
[null,"способ прокладки трубопровода:",null,null,null,null,null,null,null,null,null,null,null,null,null,{"$f":"IFERROR(IF(AND(K15<1.5,C24=Z144,C22=Z141),VLOOKUP(C3,Y145:AK374,2,0),IF(AND(K15<1.5,C24=AA144,C22=Z141),VLOOKUP(C3,Y145:AK374,3,0),IF(AND(K15<1.5,C24=AB144,C22=AB142),VLOOKUP(C3,Y145:AK374,4,0),IF(AND(K15<1.5,C24=AC144,C22=AB142),VLOOKUP(C3,Y145:AK374,5,0),IF(AND(K15<1.5,C24=AD144,C22=AD142),VLOOKUP(C3,Y145:AK374,6,0),IF(AND(K15<1.5,C24=AE144,C22=AD142),VLOOKUP(C3,Y145:AK374,7,0),IF(AND(K15>=1.5,C24=AF144,C22=AF141),VLOOKUP(C3,Y145:AK374,8,0),IF(AND(K15>=1.5,C24=AG144,C22=AF141),VLOOKUP(C3,Y145:AK374,9,0),IF(AND(K15>=1.5,C24=AH144,C22=AH142),VLOOKUP(C3,Y145:AK374,10,0),IF(AND(K15>=1.5,C24=AI144,C22=AH142),VLOOKUP(C3,Y145:AK374,11,0),IF(AND(K15>=1.5,C24=AJ144,C22=AJ142),VLOOKUP(C3,Y145:AK374,12,0),IF(AND(K15>=1.5,C24=AK144,C22=AJ142),VLOOKUP(C3,Y145:AK374,13,0),0)))))))))))),IF(AND(C22=T4,C24=T26),VLOOKUP(C3,Y375:AK377,2,0),IF(AND(C22=T4,C24=T30),VLOOKUP(C3,Y375:AK377,3,0),IF(AND(C22=T5,C24=T26),VLOOKUP(C3,Y375:AK377,4,0),IF(AND(C22=T5,C24=T27),VLOOKUP(C3,Y375:AK377,5,0),IF(AND(C22=T5,C24=T28),VLOOKUP(C3,Y375:AK377,6,0),IF(AND(C22=T6,C24=T26),VLOOKUP(C3,Y375:AK377,7,0),IF(AND(C22=T6,C24=T27),VLOOKUP(C3,Y375:AK377,8,0),IF(AND(C22=T6,C24=T28),VLOOKUP(C3,Y375:AK377,9,0),IF(C3=Q19,2514.11,0))))))))))","v":0}]
[null,null,null,null,null,null,null,null,null,null,null,null,null,null,null,null,1,1,null,null,{"$f":"VLOOKUP(C22,T3:Y6,IF(C24=U3,2,IF(C24=V3,3,IF(C24=W3,4,IF(C24=X3,5,IF(C24=Y3,6,0))))),FALSE)","v":{"$error":"#N/A"}},{"$f":"VLOOKUP(C22,Z3:AE6,IF(C24=AA3,2,IF(C24=AB3,3,IF(C24=AC3,4,IF(C24=AD3,5,IF(C24=AE3,6))))),FALSE)","v":{"$error":"#N/A"}}]
[null,"диаметр трубопровода, мм",null,null,null,null,null,null,null,null,null,null,null,null,null,null,null,null,null,null,"ВПР(F22;S14:X17;ЕСЛИ(F24=T14;2;ЕСЛИ(F24=U14;3;(F24=V14;4;)));ЛОЖЬ))",{"$f":"VLOOKUP(C22,Z14:AD18,IF(C24=U3,2,IF(C24=V3,3,4)),FALSE)","v":{"$error":"#N/A"}}]
[null,"Ставка тарифа за строительство сетей (П2.1):",null,null,null,null,null,null,null,null,{"$f":"IFERROR(IFERROR(IF(C3=Q19,2514.11,IF(C24=T29,0,IF(AND(K15<1.5,C24=Z144,C22=Z141),VLOOKUP(C3,Y145:AK374,2,0),IF(AND(K15<1.5,C24=AA144,C22=Z141),VLOOKUP(C3,Y145:AK374,3,0),IF(AND(K15<1.5,C24=AB144,C22=AB142),VLOOKUP(C3,Y145:AK374,4,0),IF(AND(K15<1.5,C24=AC144,C22=AB142),VLOOKUP(C3,Y145:AK374,5,0),IF(AND(K15<1.5,C24=AD144,C22=AD142),VLOOKUP(C3,Y145:AK374,6,0),IF(AND(K15<1.5,C24=AE144,C22=AD142),VLOOKUP(C3,Y145:AK374,7,0),IF(AND(K15>=1.5,C24=AF144,C22=AF141),VLOOKUP(C3,Y145:AK374,8,0),IF(AND(K15>=1.5,C24=AG144,C22=AF141),VLOOKUP(C3,Y145:AK374,9,0),IF(AND(K15>=1.5,C24=AH144,C22=AH142),VLOOKUP(C3,Y145:AK374,10,0),IF(AND(K15>=1.5,C24=AI144,C22=AH142),VLOOKUP(C3,Y145:AK374,11,0),IF(AND(K15>=1.5,C24=AJ144,C22=AJ142),VLOOKUP(C3,Y145:AK374,12,0),IF(AND(K15>=1.5,C24=AK144,C22=AJ142),VLOOKUP(C3,Y145:AK374,13,0),IF(AND(C22=T4,C24=T26),VLOOKUP(C3,Y375:AK377,2,0),IF(AND(C22=T4,C24=T30),VLOOKUP(C3,Y375:AK377,3,0),IF(AND(C22=T5,C24=T26),VLOOKUP(C3,Y375:AK377,4,0),IF(AND(C22=T5,C24=T27),VLOOKUP(C3,Y375:AK377,5,0),IF(AND(C22=T5,C24=T28),VLOOKUP(C3,Y375:AK377,6,0),IF(AND(C22=T6,C24=T26),VLOOKUP(C3,Y375:AK377,7,0),IF(AND(C22=T6,C24=T27),VLOOKUP(C3,Y375:AK377,8,0),IF(AND(C22=T6,C24=T28),VLOOKUP(C3,Y375:AK377,9,0),IF(C3=Q19,2514.11,0))))))))))))))))))))))),IF(AND(C22=T4,C24=T26),VLOOKUP(C3,Y375:AK377,2,0),IF(AND(C22=T4,C24=T30),VLOOKUP(C3,Y375:AK377,3,0),IF(AND(C22=T5,C24=T26),VLOOKUP(C3,Y375:AK377,4,0),IF(AND(C22=T5,C24=T27),VLOOKUP(C3,Y375:AK377,5,0),IF(AND(C22=T5,C24=T28),VLOOKUP(C3,Y375:AK377,6,0),IF(AND(C22=T6,C24=T26),VLOOKUP(C3,Y375:AK377,7,0),IF(AND(C22=T6,C24=T27),VLOOKUP(C3,Y375:AK377,8,0),IF(AND(C22=T6,C24=T28),VLOOKUP(C3,Y375:AK377,9,0),IF(C3=Q19,2514.11,0)))))))))),0)","v":0},"тыс. руб./Гкал/ч"]
[null,"Стоимость строительства участка №1",null,null,null,null,{"$f":"IF($F$3='[1]реестр организаций'!$B$4,\" \",$K$15)","v":0},null,null,"х",{"$f":"K25","v":0},"=",{"$f":"IFERROR(IF($F$3='реестр организаций'!$B$4,\" \",G26*K26),G26*K26)","v":0},"тыс. руб.",null,null,null,null,null,"50 - 250 мм"]
[null,null,null,null,null,null,null,null,null,null,null,null,null,null,null,null,null,null,null,"251-400 мм"]
[null,"Участок №2",null,null,null,null,null,null,null,null,null,null,null,null,null,null,null,null,null,"401-550 мм"]
[null,"способ прокладки трубопровода:",null,null,null,null,null,null,null,null,null,null,null,null,null,{"$f":"M17+M26+M33+M40+M47+M51","v":0},null,null,null,"551-700 мм"]
[null,null,null,null,null,null,null,null,null,null,null,null,null,null,null,null,null,null,null,"701 мм и выше",{"$f":"VLOOKUP(C29,T3:Y6,IF(C31=U3,2,IF(C31=V3,3,IF(C31=W3,4,IF(C31=X3,5,IF(C31=Y3,6,0))))),FALSE)","v":{"$error":"#N/A"}},{"$f":"VLOOKUP(C29,Z3:AE6,IF(C31=AA3,2,IF(C31=AB3,3,IF(C31=AC3,4,IF(C31=AD3,5,IF(C31=AE3,6))))),FALSE)","v":{"$error":"#N/A"}}]
[null,"диаметр трубопровода, мм",null,null,null,null,null,null,null,null,null,null,null,null,null,{"$f":"IF(AND(C3=Y375,C38=U14,C36=T4),VLOOKUP(C3,Y375:AK377,2,0),0)","v":0},null,null,null,null,{"$f":"VLOOKUP(C29,T14:Y17,IF(C31=U14,2,IF(C31=V14,3,IF(C31=W14,4,IF(C31=X14,5,IF(C31=Y14,6,))))),FALSE)","v":{"$error":"#N/A"}},{"$f":"VLOOKUP(C29,Z14:AE17,IF(C31=AA14,2,IF(C31=AB14,3,IF(C31=AC14,4,IF(C31=AD14,5,IF(C31=AE14,6,))))))","v":{"$error":"#N/A"}}]
[null,"Ставка тарифа за строительство сетей (П2.1):",null,null,null,null,null,null,null,null,{"$f":"IFERROR(IFERROR(IF(C3=Q19,2514.11,IF(C31=T29,0,IF(AND(K15<1.5,C31=Z144,C29=Z141),VLOOKUP(C3,Y145:AK374,2,0),IF(AND(K15<1.5,C31=AA144,C29=Z141),VLOOKUP(C3,Y145:AK374,3,0),IF(AND(K15<1.5,C31=AB144,C29=AB142),VLOOKUP(C3,Y145:AK374,4,0),IF(AND(K15<1.5,C31=AC144,C29=AB142),VLOOKUP(C3,Y145:AK374,5,0),IF(AND(K15<1.5,C31=AD144,C29=AD142),VLOOKUP(C3,Y145:AK374,6,0),IF(AND(K15<1.5,C31=AE144,C29=AD142),VLOOKUP(C3,Y145:AK374,7,0),IF(AND(K15>=1.5,C31=AF144,C29=AF141),VLOOKUP(C3,Y145:AK374,8,0),IF(AND(K15>=1.5,C31=AG144,C29=AF141),VLOOKUP(C3,Y145:AK374,9,0),IF(AND(K15>=1.5,C31=AH144,C29=AH142),VLOOKUP(C3,Y145:AK374,10,0),IF(AND(K15>=1.5,C31=AI144,C29=AH142),VLOOKUP(C3,Y145:AK374,11,0),IF(AND(K15>=1.5,C31=AJ144,C29=AJ142),VLOOKUP(C3,Y145:AK374,12,0),IF(AND(K15>=1.5,C31=AK144,C29=AJ142),VLOOKUP(C3,Y145:AK374,13,0),IF(AND(C29=T4,C31=T26),VLOOKUP(C3,Y375:AK377,2,0),IF(AND(C29=T4,C31=T30),VLOOKUP(C3,Y375:AK377,3,0),IF(AND(C29=T5,C31=T26),VLOOKUP(C3,Y375:AK377,4,0),IF(AND(C29=T5,C31=T27),VLOOKUP(C3,Y375:AK377,5,0),IF(AND(C29=T5,C31=T28),VLOOKUP(C3,Y375:AK377,6,0),IF(AND(C29=T6,C31=T26),VLOOKUP(C3,Y375:AK377,7,0),IF(AND(C29=T6,C31=T27),VLOOKUP(C3,Y375:AK377,8,0),IF(AND(C29=T6,C31=T28),VLOOKUP(C3,Y375:AK377,9,0),IF(C3=Q19,2514.11,0))))))))))))))))))))))),IF(AND(C29=T4,C31=T26),VLOOKUP(C3,Y375:AK377,2,0),IF(AND(C29=T4,C31=T30),VLOOKUP(C3,Y375:AK377,3,0),IF(AND(C29=T5,C31=T26),VLOOKUP(C3,Y375:AK377,4,0),IF(AND(C29=T5,C31=T27),VLOOKUP(C3,Y375:AK377,5,0),IF(AND(C29=T5,C31=T28),VLOOKUP(C3,Y375:AK377,6,0),IF(AND(C29=T6,C31=T26),VLOOKUP(C3,Y375:AK377,7,0),IF(AND(C29=T6,C31=T27),VLOOKUP(C3,Y375:AK377,8,0),IF(AND(C29=T6,C31=T28),VLOOKUP(C3,Y375:AK377,9,0),IF(C3=Q19,2514.11,0)))))))))),0)","v":0},"тыс. руб./Гкал/ч"]
[null,"Стоимость строительства участка №2",null,null,null,null,{"$f":"IF($C$3='реестр организаций'!$B$4,\" \",$K$15)","v":0},null,null,"х",{"$f":"IF($C$3='реестр организаций'!$B$4,\" \",K32)","v":0},"=",{"$f":"IFERROR(K33*G33,K33*G33)","v":0},"тыс. руб.",null,";ЕСЛИ(И(C38=T26;C36=T4);ВПР(C3;Y375:AK377;2;0);ЕСЛИ(И(C38=T26;C36=T5);ВПР(C3;Y375:AK377;4;0);ЕСЛИ(И(C38=T27;C36=T5);ВПР(C3;Y375:AK377;5;0);ЕСЛИ(И(C38=T28;C36=T5);ВПР(C3;Y375:AK377;6;0);ЕСЛИ(И(C38=T26;C36=T6);ВПР(C3;Y375:AK377;7;0);ЕСЛИ(И(C38=T27;C36=T6);ВПР(C3;Y375:AK377;8;0);ЕСЛИ(И(C38=T28;C36=T6);ВПР(C3;Y375:AK377;9;0);0)))))))))"]
[null,null,null,null,null,null,null,null,null,null,null,null,null,null,null,{"$f":"IFERROR(IF(AND(K15<1.5,C38=Z144,C36=Z141),VLOOKUP(C3,Y145:AK366,2,0),IF(AND(K15<1.5,C38=AA144,C36=Z141),VLOOKUP(C3,Y145:AK366,3,0),IF(AND(K15<1.5,C38=AB144,C36=AB142),VLOOKUP(C3,Y145:AK366,4,0),IF(AND(K15<1.5,C38=AC144,C36=AB142),VLOOKUP(C3,Y145:AK366,5,0),IF(AND(K15<1.5,C38=AD144,C36=AD142),VLOOKUP(C3,Y145:AK366,6,0),IF(AND(K15<1.5,C38=AE144,C36=AD142),VLOOKUP(C3,Y145:AK366,7,0),IF(AND(K15>=1.5,C38=AF144,C36=AF141),VLOOKUP(C3,Y145:AK366,8,0),IF(AND(K15>=1.5,C38=AG144,C36=AF141),VLOOKUP(C3,Y145:AK366,9,0),IF(AND(K15>=1.5,C38=AH144,C36=AH142),VLOOKUP(C3,Y145:AK366,10,0),IF(AND(K15>=1.5,C38=AI144,C36=AH142),VLOOKUP(C3,Y145:AK366,11,0),IF(AND(K15>=1.5,C38=AJ144,C36=AJ142),VLOOKUP(C3,Y145:AK366,12,0),IF(AND(K15>=1.5,C38=AK144,C36=AJ142),VLOOKUP(C3,Y145:AK366,13,0),0)))))))))))),IF(AND(C38=T30,C36=T4),VLOOKUP(C3,Y375:AK377,3,0)))","v":0}]
[null,"Участок №3"]
[null,"способ прокладки трубопровода:",null,null,null,null,null,null,null,null,null,null,null,null,null,{"$f":"IF(AND(OR(C38=T30,C38=T29),OR(C36=T4,C36=T5,C36=T6),AND(C3<>Y375,C3<>Y376)),0,1)","v":1}]
[null,null,null,null,null,null,null,null,null,null,null,null,null,null,null,{"$f":"IF(AND(C38=T30,C36=T4),VLOOKUP(C3,Y375:AK377,3,0),0)","v":0},null,null,null,null,{"$f":"VLOOKUP(C36,T3:Y6,IF(C38=U3,2,IF(C38=V3,3,IF(C38=W3,4,IF(C38=X3,5,IF(C38=Y3,6,0))))),FALSE)","v":{"$error":"#N/A"}},{"$f":"VLOOKUP(C36,Z3:AE6,IF(C38=AA3,2,IF(C38=AB3,3,IF(C38=AC3,4,IF(C38=AD3,5,IF(C38=AE3,6))))),FALSE)","v":{"$error":"#N/A"}}]
[null,"диаметр трубопровода, мм",null,null,null,null,null,null,null,null,null,null,null,null,null,{"$f":"IFERROR(P29,IF(AND(C38=T30,C36=T4),VLOOKUP(C3,Y375:AK377,3,0),0))","v":0},null,null,null,null,{"$f":"VLOOKUP(C36,T14:X18,IF(C38=U3,2,IF(C38=V3,3,4)),FALSE)","v":{"$error":"#N/A"}},{"$f":"VLOOKUP(C36,Z14:AD18,IF(C38=U3,2,IF(C38=V3,3,4)),FALSE)","v":{"$error":"#N/A"}}]
[null,"Ставка тарифа за строительство сетей (П2.1):",null,null,null,null,null,null,null,null,{"$f":"IFERROR(IFERROR(IF(C3=Q19,2514.11,IF(C38=T29,0,IF(AND(K15<1.5,C38=Z144,C36=Z141),VLOOKUP(C3,Y145:AK374,2,0),IF(AND(K15<1.5,C38=AA144,C36=Z141),VLOOKUP(C3,Y145:AK374,3,0),IF(AND(K15<1.5,C38=AB144,C36=AB142),VLOOKUP(C3,Y145:AK374,4,0),IF(AND(K15<1.5,C38=AC144,C36=AB142),VLOOKUP(C3,Y145:AK374,5,0),IF(AND(K15<1.5,C38=AD144,C36=AD142),VLOOKUP(C3,Y145:AK374,6,0),IF(AND(K15<1.5,C38=AE144,C36=AD142),VLOOKUP(C3,Y145:AK374,7,0),IF(AND(K15>=1.5,C38=AF144,C36=AF141),VLOOKUP(C3,Y145:AK374,8,0),IF(AND(K15>=1.5,C38=AG144,C36=AF141),VLOOKUP(C3,Y145:AK374,9,0),IF(AND(K15>=1.5,C38=AH144,C36=AH142),VLOOKUP(C3,Y145:AK374,10,0),IF(AND(K15>=1.5,C38=AI144,C36=AH142),VLOOKUP(C3,Y145:AK374,11,0),IF(AND(K15>=1.5,C38=AJ144,C36=AJ142),VLOOKUP(C3,Y145:AK374,12,0),IF(AND(K15>=1.5,C38=AK144,C36=AJ142),VLOOKUP(C3,Y145:AK374,13,0),IF(AND(C36=T4,C38=T26),VLOOKUP(C3,Y375:AK377,2,0),IF(AND(C36=T4,C38=T30),VLOOKUP(C3,Y375:AK377,3,0),IF(AND(C36=T5,C38=T26),VLOOKUP(C3,Y375:AK377,4,0),IF(AND(C36=T5,C38=T27),VLOOKUP(C3,Y375:AK377,5,0),IF(AND(C36=T5,C38=T28),VLOOKUP(C3,Y375:AK377,6,0),IF(AND(C36=T6,C38=T26),VLOOKUP(C3,Y375:AK377,7,0),IF(AND(C36=T6,C38=T27),VLOOKUP(C3,Y375:AK377,8,0),IF(AND(C36=T6,C38=T28),VLOOKUP(C3,Y375:AK377,9,0),IF(C3=Q19,2514.11,0))))))))))))))))))))))),IF(AND(C36=T4,C38=T26),VLOOKUP(C3,Y375:AK377,2,0),IF(AND(C36=T4,C38=T30),VLOOKUP(C3,Y375:AK377,3,0),IF(AND(C36=T5,C38=T26),VLOOKUP(C3,Y375:AK377,4,0),IF(AND(C36=T5,C38=T27),VLOOKUP(C3,Y375:AK377,5,0),IF(AND(C36=T5,C38=T28),VLOOKUP(C3,Y375:AK377,6,0),IF(AND(C36=T6,C38=T26),VLOOKUP(C3,Y375:AK377,7,0),IF(AND(C36=T6,C38=T27),VLOOKUP(C3,Y375:AK377,8,0),IF(AND(C36=T6,C38=T28),VLOOKUP(C3,Y375:AK377,9,0),IF(C3=Q19,2514.11,0)))))))))),0)","v":0},"тыс. руб./Гкал/ч"]
[null,"Стоимость строительства участка №3",null,null,null,null,{"$f":"IF($C$3='реестр организаций'!$B$4,\" \",$K$15)","v":0},null,null,"х",{"$f":"IF($C$3='реестр организаций'!$B$4,\" \",K39)","v":0},"=",{"$f":"IFERROR(K40*G40,K40*G40)","v":0},"тыс. руб."]
[]
[null,null,null,null,null,null,null,null,null,null,null,null,null,null,null,null,null,null,null,"да",19,20]
[null,"Расходы на создание (реконструкцию) тепловых пунктов от существующих тепловых сетей или источников тепловой энергии до точек подключения объектов заявителей (П2.2)",null,null,null,null,null,null,null,null,null,null,null,null,null,null,null,null,null,"нет",37,38]
[]
[null,"Необходимость строительства (реконструкции) тепловых пунктов"]
[null,"Ставка тарифа за строительство тепловых пунктов (П2.2):",null,null,null,null,null,null,null,null,{"$f":"IFERROR(IF(AND(K15<1.5,K45=\"да\"),VLOOKUP(C3,Y145:AP374,17,0),IF(AND(K15>=1.5, K45=\"да\"),VLOOKUP(C3,Y145:AP374,18,0),0)),0)","v":0},"тыс. руб./Гкал/ч",null,null,null,null,null,null,null,null,"(ВПР(F3;'реестр организаций'!B4:AL314;20;ЛОЖЬ));(ВПР(F3;'реестр организаций'!B4:AL314;38;ЛОЖЬ))"]
[null,"Стоимость строительства ",null,null,null,null,{"$f":"IF($C$3='реестр организаций'!$B$4,\" \",$K$15)","v":0},null,null,"х",{"$f":"K46","v":0},"=",{"$f":"G47*K47","v":0},"тыс. руб."]
[]
[null,"Налог на прибыль "]
[null,"Ставка тарифа налога на прибыль (Н):",null,null,null,null,null,null,null,null,{"$f":"IFERROR(IF(AND(K15<1.5,OR(M26<>0,M33<>0,M40<>0)),VLOOKUP(C3,Y145:AP374,15,0),IF(AND(K15>=1.5,OR(M26<>0,M33<>0,M40<>0)),VLOOKUP(C3,Y145:AP374,16,0),0)),VLOOKUP(C3,Y375:AK377,10,0))","v":0},null,"тыс. руб./Гкал/ч",null,null,null,null,null,null,{"$f":"IF(K45=T43,\"0\",IF(K45=T42,IF(AND(K15>0.1,K15<1.5),VLOOKUP(C3,'реестр организаций'!B4:AM470,Калькулятор!V42,FALSE)),VLOOKUP(C3,'реестр организаций'!B4:AM470,Калькулятор!V43,FALSE)))","v":{"$error":"#N/A"}},"налог на приыль"]
[null,"Стоимость налога на прибыль, отнесенного к плате за подключение:",null,null,null,null,{"$f":"IF($C$3='реестр организаций'!$B$4,\" \",$K$15)","v":0},null,null,"х",{"$f":"K50","v":0},"=",{"$f":"G51*K51","v":0},"тыс. руб."]
[]
[null,"Размер платы за подключение: ",null,{"$f":"IF(K13=T12,\"Расчет в индивидуальном порядке\",IF(K15=0,0,(M17+M26+M33+M40+M47+M51)))","v":0},null,null,null,null,null,null,null,"тыс.руб. (без НДС)",null,null,null,null,null,null,null,{"$f":"IF(K13=T12,\"Расчет в индивидуальном порядке\",IF(K15<0.1,0.55/1.18,(M47+M40+M33+M26+M17+M51)))","v":0.46610169491525427},null,null,null,null,null,{"$f":"IF(OR(S47=0,S53=0,S55=0),0,VLOOKUP(S1,'[2]реестр ОВКХ 2017г'!E1:CL296,IF(S55=AH34,AE47,AE46),FALSE))","v":0},null,"тыс.руб./м."]
[null,"ВНИМАНИЕ! Данные расчеты носят справочный характер и не могут являться окончательными для оплаты стоимости технологического присоединения. Калькулятор расчета платы за технологическое присоединение к системе теплоснабжения предназначен для расчета примерной стоимости размера платы за подключение к тепловым сетям теплоснабжающих (теплосетевых) организаций на территории Челябинской области"]
[null,null,null,null,null,null,null,null,null,null,null,null,null,null,null,null,null,null,null,"ЕСЛИ(И(L15>0,1;L15<1,5);ВПР(F3;'реестр организаций'!B4:AM334;Калькулятор!U42;ЛОЖЬ));ВПР(F3;'реестр организаций'!B4:AM334;Калькулятор!U43;ЛОЖЬ)"]
[]
[null,null,null,null,null,null,null,null,null,null,null,null,null,null,null,null,null,null,null,"ЕСЛИ($F$2='реестр организаций'!$B$4;\" \";ЕСЛИ(И(L15>0,1;L15<1,5);ВПР(F3;'реестр организаций'!B4:AM334;Калькулятор!T42;ЛОЖЬ));ВПР(F3;'реестр организаций'!B4:AM334;Калькулятор!T43;ЛОЖЬ))"]
[]
[null,null,null,null,null,null,null,null,null,null,null,null,null,null,null,null,null,null,null,"ЕСЛИ(L45=S42;ЕСЛИ(И(L15>0,1;L15<1,5);ВПР(F3;'реестр организаций'!B4:AM334;Калькулятор!T42;ЛОЖЬ));ВПР(F3;'реестр организаций'!B4:AM334;Калькулятор!T43;ЛОЖЬ)));0"]
[null,null,null,null,null,null,null,null,null,null,null,null,null,null,null,null,null,null,"ТП 2017","ЕСЛИ(L47=S44;ЕСЛИ(И(F14>0,1;F14<1,5);(ВПР(F2;'реестр организаций'!B3:AL313;T44;ЛОЖЬ));(ВПР(F2;'реестр организаций'!B3:AL313;T45;ЛОЖЬ)));0)"]
[null,null,null,null,null,null,null,null,null,null,null,null,null,null,null,null,null,null,"ТП 2018","ЕСЛИ(L45=S43;\"0\";ЕСЛИ(L45=S42;ЕСЛИ(И(L15>0,1;L15<1,5);ВПР(F3;'реестр организаций'!B4:AM334;Калькулятор!T42;ЛОЖЬ));ВПР(F3;'реестр организаций'!B4:AM334;Калькулятор!T43;ЛОЖЬ)));0"]
[null,null,null,null,null,null,null,null,null,null,null,null,null,null,null,null,null,null,"Верно ТП 2018","ЕСЛИ(L45=S42;ЕСЛИ(И(L15>0,1;L15<1,5);(ВПР(F3;'реестр организаций'!B4:AM334;T42;ЛОЖЬ));(ВПР(F3;'реестр организаций'!B4:AM334;T43;ЛОЖЬ)));0)"]
[null,null,null,null,null,null,null,null,null,null,null,null,null,null,null,null,null,null,"НП 2018","ЕСЛИ(И(L15>0,1;L15<1,5);(ВПР(F3;'реестр организаций'!B4:AM334;U42;ЛОЖЬ));(ВПР(F3;'реестр организаций'!B4:AM334;U43;ЛОЖЬ)))"]
[null,null,null,null,null,null,null,null,null,null,null,null,null,null,null,null,null,null,"верно НП 2018","ЕСЛИ(ИЛИ(N26=0;N3=0;N40=0;N47=0);0;ЕСЛИ(И(L15>0,1;L15<1,5);(ВПР(F3;'реестр организаций'!B4:AM334;U42;ЛОЖЬ));(ВПР(F3;'реестр организаций'!B4:AM334;U43;ЛОЖЬ)))"]
[null,null,null,null,null,null,null,null,null,null,null,null,null,null,null,null,null,null,"вода 2017","ЕСЛИ(ИЛИ(C53=0;C55=0);0;ВПР(C3;'реестр ОВКХ 2018г'!B2:DU294;РАСЧЕТ!M53;ЛОЖЬ))"]
[null,null,null,null,null,null,null,null,null,null,null,null,null,null,null,null,null,null,"ставка","ВПР(F3;'реестр организаций'!B4:AM334;ЕСЛИ(L15<0,1<Калькулятор!L15<1,5;3;21);ЛОЖЬ)"]
[null,null,null,null,null,null,null,null,null,null,null,null,null,null,null,null,null,null,null,"ЕСЛИ(L15<0,1;0,55/1,18;;ЕСЛИ(L15<0,1<Калькулятор!L15<1,5;3;21);ВПР(F3;'реестр организаций'!B4:AM334);ЛОЖЬ)"]
[]
[null,null,null,null,null,null,null,null,null,null,null,null,null,null,null,null,null,null,null,"№ п/п","Муниципальное образование"]
[null,null,null,null,null,null,null,null,null,null,null,null,null,null,null,null,null,null,null,null,1,2,3,4,5,6,7,8,9,10,11,12,13,14,15,16,17,18,19,20,21,22,23,24,25,26,27,28,29,30,31,32,33,34,35,36,37,38,39,40,41,42]
[null,null,null,null,null,null,null,null,null,null,null,null,null,null,null,null,null,null,null,1,"Верхнеуфалейский городской округ","Златоустовский городской округ","Карабашский городской округ","Копейский городской округ","Кыштымский городской округ","Магнитогорский городской округ","Миасский городской округ","Озерский городской округ","Снежинский городской округ","Трехгорный городской округ","Троицкий городской округ","Усть-Катавский городской округ","Чебаркульский городской округ","Челябинский городской округ","Южноуральский городской округ","Агаповский муниципальный район","Аргаяшский муниципальный район","Ашинский муниципальный район","Брединский муниципальный район","Варненский муниципальный район","Верхнеуральский муниципальный район","Еткульский муниципальный район","Еманжелинский муниципальный район","Каслинский муниципальный район","Карталинский муниципальный район","Катав-Ивановский муниципальный район","Кизильский муниципальный район","Коркинский муниципальный район","Красноармейский муниципальный район","Кусинский муниципальный район","Кунашакский муниципальный район","Нагайбакский муниципальный район","Нязепетровский муниципальный район","Октябрьский муниципальный район","Пластовский муниципальный район","Саткинский муниципальный район","Сосновский муниципальный район","Троицкий муниципальный район","Увельский муниципальный район","Уйский муниципальный район","Чебаркульский муниципальный район","Чесменский муниципальный район","Верхнеуфалейский городской округ"]
[null,null,null,null,null,null,null,null,null,null,null,null,null,null,null,null,null,null,null,1,"ООО «Теплосети»","ООО «ЗЭМЗ-Энерго»","ООО «Перспектива»","АО «Челябоблкоммунэнерго» в Копейском городском округе","ФКУЗ «Санаторий «Лесное озеро» МВД России» ","ПАО «Магнитогорский металлургический комбинат»","ЗАО «Миассмебель»","ММПКХ","АО «Трансэнерго»","ФГУП «Приборостроительный завод»","Южно-Уральская дирекция по тепловодоснабжению - структурное подразделение Центральной дирекции по тепловодоснабжению - филиала ОАО «РЖД»","ООО «Коммунальные системы»","МУП «Теплоком»","АО «Урало-Сибирская Теплоэнергетическая Компания-Челябинск» в г. Челябинске","Акционерное общество «Интер РАО - Электрогенерация»","ООО «Эффективная теплоэнергетика»","ООО «Теплоград»","ОАО «Челябкоммунэнерго»","Федеральное государственное казенное учреждение «Пограничное управление ФСБ России по Челябинской области»","ООО «СтройКомплекс»","АО «Челябоблкоммунэнерго»","ООО «Никос-Сервис»","АО «Челябоблкоммунэнерго»","МУП «БЖЭК»","ООО «ЖКХ «Партнер»","МУП «ТеплоЭнерго»","АО «Челябоблкоммунэнерго»","ООО «Фабрика Южуралкартон»","ООО «Бродокалмакское ЖКХ»","ООО «Тепловые сети»","АО «Челябоблкоммунэнерго»","МУП «Арсинское ЖКХ»","АО «Челябоблкоммунэнерго»","МУП «Кочердыкское ЖКХ»","ОАО «Южуралзолото Группа Компаний»","ООО «Уралэнергогрупп»","ООО «Инжиниринговая компания» Модернизация коммунальных систем»","ООО «Белозерское ЖКХ № 2»","ООО «Рождественское ЖКХ»","МУП «Кидышевская котельная и тепловые сети»","ООО «ТеплоЭнергоРесурс»","ООО «Атлант»"]
[null,null,null,null,null,null,null,null,null,null,null,null,null,null,null,null,null,null,null,2,"ООО «Бриз»","ООО «Теплоэнергетик»","ФГБУ «ЦЖКУ» Министерства обороны РФ","ООО «Энергостандарт»","ООО «ИРМИ-ЖКХ»","ООО «Трест Магнитострой»","АО «ЭнСер»","ФГУП «ПО «Маяк»",1,"ФГБУ «ЦЖКУ» Министерства обороны РФ","МУП «Электротепловые сети»","ООО «Теплоэнергетика»","филиал «Санаторий Чебаркульский» ФГБУ «Санаторно-курортный комплекс» Приволжский» Министерство обороны Российской Федерации","МУП «Челябинские коммунальные тепловые сети» в г. Челябинске","Акционерное общество «Южноуральская теплосбытовая компания»","АО «Челябоблкоммунэнерго»","Аргаяшское МУП «ВКХ»","Южно-Уральская дирекция по тепловодоснабжению - структурное подразделение Центральной дирекции по тепловодоснабжению - филиала ОАО «РЖД»","АО «Челябоблкоммунэнерго»","АО «Челябоблкоммунэнерго»","ООО «Надежность-Тепло»","ООО «Тепловые электрические сети и системы»","ООО «ИСК»","МУП «Булзинский ЭУЖКХ»","АО «Челябоблкоммунэнерго»","ООО «Источники тепла»",1,"ОАО «Асбестоцемент»","ООО «Красноармейская энергосервисная компания»",1,"МУП «Кунашак Сервис»","МУП «Кассельское ЖКХ»","ООО «ТЭС»","АО «Челябоблкоммунэнерго»","ООО «Теплосервис»","ООО «Реммонтаж Сервис»","АО «Челябоблкоммунэнерго»","Федеральное государственное казенное учреждение «Пограничное управление ФСБ России по Челябинской области»","ООО «Каменское ЖКХ»","ООО «Перспектива плюс»","ООО «КУНДРАВЫКОМ»","Федеральное государственное казенное учреждение «Пограничное управление ФСБ России по Челябинской области»"]
[null,null,null,null,null,null,null,null,null,null,null,null,null,null,null,null,null,null,null,3,"Вагонное депо Верхний Уфалей - филиал ЗАО «Уралгоршахткомплект»","ООО «НПП «ТехМикс»",2,"ФКУ ИК-11 ГУФСИН России по Челябинской области","МУП «Санаторий «Дальняя Дача»","МП трест «Теплофикация»","ООО «Теплотех-Сервис»","ООО «Сервисный Центр»",null,"МУП «Многоотраслевое производственное объединение энергосетей»","Федеральное государственное казенное учреждение «Пограничное управление ФСБ России по Челябинской области»",2,"Производственный отдел челябинского филиала ООО «МЕЧЕЛ-ЭНЕРГО»","ООО «Альтернативная топливно-энергетическая компания» в г. Челябинске","ООО «ТеплоСервис»","ООО «Уральская энергия»","МУ «Управление Байрамгуловского ЖКХ»","ООО «Теплоэнергетика»","Южно-Уральская дирекция по тепловодоснабжению - структурное подразделение Центральной дирекции по тепловодоснабжению - филиала ОАО «РЖД»","Федеральное государственное казенное учреждение «Пограничное управление ФСБ России по Челябинской области»","ООО «Эффективная теплоэнергетика»","АО «Челябоблкоммунэнерго»","ООО «Уралсервис»","ООО «Перспектива»","ОАО «Новокаолиновый ГОК»","ООО «Энергосервис»",null,"ООО «ЭЛЕВКОН»","МУП ЖКХ «Северное»",null,2,"ООО «Эффективная теплоэнергетика»","ООО «Теплоснаб» (г.Екатеринбург)","Федеральное государственное казенное учреждение «Пограничное управление ФСБ России по Челябинской области»",2,"АО «Саткинский чугуноплавильный завод»","ООО «ЖЭК»","ЗАО «Троицкая энергетическая компания»","ООО «ПрофТерминал-Энерго»","ООО «МУЖКП Тимирязевское»","ООО УК «КвадроИнвест»","Общество с ограниченной ответственностью «ЧЕСМЕНСКОЕ УПРАВЛЕНИЕ КОММУНАЛЬНОГО ХОЗЯЙСТВА»"]
[null,null,null,null,null,null,null,null,null,null,null,null,null,null,null,null,null,null,null,4,"ООО «Теплоэнергетическая компания «Системы управления»","Путевая машинная станция № 173 Южно-Уральской дирекции по ремонту пути - структурного подразделения Центральной дирекции по ремонту пути - филиала ОАО «РЖД»",null,"ООО «Коркинский экскаваторо-вагоноремонтный завод»","ООО «Центр»","ФКУ ИК-18 ГУФСИН России по Челябинской области","МУП МГО «Городское хозяйство»","ММУП ЖКХ пос. Новогорный",null,3,"ГУЗ «Областная туберкулезная больница № 13»",null,"ФГБУ «ЦЖКУ» Министерства обороны РФ","ООО ТСО «Северо-Запад» в г. Челябинске","ООО «РЕМСТРОЙ»","ООО «ЖКХ Агаповское»","МУ «Управление Дербишевского ЖКХ»","ООО «Уральская Теплоэнергетическая Компания»",3,3,"АО «Челябкоммунэнерго»","ОАО «Челябкоммунэнерго»","ООО «Коммунальные системы»","МУП «Каслинский хлебозавод»","ООО «ЖКХ «Гарант плюс»",3,null,"ООО «Теплосервис»","АО «Челябкоммунэнерго» ",null,null,"ООО «Вектор»",3,"МУП «Каракульский Жилкомсервис»",null,"ОАО «Энергосистемы»","ОАО «Есаульское ремонтно-техническое предприятие»","ООО «Новые коммунальные системы - Троицк»","МУП «Кичигинское ЖКХ»","АО «Челябоблкоммунэнерго»","МУП «Чебаркульские Районные Коммунальные Сети»","АО «Челябоблкоммунэнерго»"]
[null,null,null,null,null,null,null,null,null,null,null,null,null,null,null,null,null,null,null,5,"МУП «Энергетик»","МУП «Коммунальные сети»",null,"ООО «Карго 74»","Муниципальное предприятие Кыштымского городского округа «Многопрофильное предприятие»","АО «Челябоблкоммунэнерго»","ООО «Южный ТеплоЭнергетический комплекс»","ПАО «Фортум» (Аргаяшская ТЭЦ)",null,null,"Закрытое акционерное общество «Троицкая энергетическая компания»",null,4,"ООО «Тепловые электрические сети и системы» в г. Челябинске",4,"ООО «Центр»","МУ «Управление Ишалинского ЖКХ»","АО «Челябоблкоммунэнерго»",null,null,"ООО «Станица»","ООО «ПрофТерминал-Энерго»","ООО «Корвет»","ФКУ ИК - 21 ГУФСИН России по Челябинской области","ФГКУ комбинат «Скала» Росрезерва",null,null,"МУП «Розинские тепловые сети»","ООО «Луговское»",null,null,"АО «Челябоблкоммунэнерго»",null,4,null,"Южно-Уральская дирекция по тепловодоснабжению - структурное подразделение Центральной дирекции по тепловодоснабжению - филиала ОАО «РЖД»","ООО ТГК «Восход»","ФГКУ Комбинат «Уральский» Росрезерва","ООО «Хуторское ЖКХ»",4,"ООО «ТеплоЭнергоСервис»",4]
[null,null,null,null,null,null,null,null,null,null,null,null,null,null,null,null,null,null,null,6,"МУП «Ресурс-Н»","ООО «Тепловик»",null,"ООО «Центр»","ООО «ЮжУралСпец МС»","ООО «Тургеневский»","ООО «ИБК-Энерго»",5,null,null,"ООО «Эффективная теплоэнергетика»",null,null,"ОАО «Южуралкондитер» в г. Челябинске",null,"МП ЖКХ «Желтинское»","ООО МЦМиР «Курорт Увильды»","ПАО «Ростелеком» Челябинский филиал",null,null,5,"ООО «ИРМИ-ЖКХ»",5,"АО «Вишневогорский ГОК»","ООО ЮУТЭК «ТеплоСервис»",null,null,5,"ООО «Перспектива»",null,null,"ООО «Уральская энергия»",null,null,null,"ООО «ЖКХ-Бердяуш»","МУП «Кременкульские коммунальные системы» п. Кременкуль, п. Садовый","ТСЖ «Кумысное»","МУП «Коммунальные услуги»",null,"ООО «ФилимоновоКом»"]
[null,null,null,null,null,null,null,null,null,null,null,null,null,null,null,null,null,null,null,null,"ООО «Теплоснабжение»","АО «Златмаш»",null,"ОАО «Челябкоммунэнерго»","ООО «ЮжУралСпец МВ»",6,"ООО «УралТеплоСтрой»",null,null,null,"Троицкая ГРЭС филиал ПАО «ОГК-2»",null,null,"ООО «Теплосбыт» в г. Челябинске",null,"ООО «Вертикаль»","МУ «Управление Норкинского ЖКХ»","ОАО «Ашинский металлургический завод»",null,null,null,"МУП ЖКХ с. Коелга",null,"ООО «Центр»","ООО «Карталинский элеватор»",null,null,null,"МУП ЖКХ «Шумовское»",null,null,6,null,null,null,"ООО «Коммунальное обеспечение населения и сервис»","ООО «Энергия»","ООО «Целинное ЖКХ»","ООО «Пром-тепло»",null,"ООО «МУЖКП Тимирязевское»"]
[null,null,null,null,null,null,null,null,null,null,null,null,null,null,null,null,null,null,null,null,7,"ООО «Златсеть»",null,"ООО «РЕМСТРОЙ»","ОАО «Челябкоммунэнерго»",null,"Гохран России (филиал «Объект «Урал»)",null,null,null,"ООО «Районные Тепловые Сети»",null,null,"ОАО «БетЭлТранс» в г. Челябинске",null,"МП ЖКХ «Магнитное»","МУП «Управление Губернского ЖКХ Кузнецкого сельскогго поселения»","МУП «Служба благоустройства Миньярского городского поселения»",null,null,null,7,null,"МУП ЖКХ «Шабурово»","Федеральное государственное казенное учреждение «Пограничное управление ФСБ России по Челябинской области»",null,null,null,"ООО «ИРМИ ЖКХ»",null,null,null,null,null,null,"ООО «ЖКХ» п. Сулея","Южно-Уральская дирекция по тепловодоснабжению - структурное подразделение Центральной дирекции по тепловодоснабжению - филиала ОАО «РЖД»","ООО «Эффективная теплоэнергетика»","ЗАО КХП «Злак»",null,"ФГБУ «ЦЖКУ» Министерства обороны РФ"]
[null,null,null,null,null,null,null,null,null,null,null,null,null,null,null,null,null,null,null,null,null,"Южно-Уральская дирекция по тепловодоснабжению - структурное подразделение Центральной дирекции по тепловодоснабжению - филиала ОАО «РЖД»",null,"ООО «Перспектива»",8,null,"АО «Миасский машиностроительный завод»",null,null,null,"ФГБУ «ЦЖКУ» Министерства обороны РФ ",null,null,"МУП «Производственное объединение водоснабжения и водоотведения» в г. Челябинске",null,"ООО «Тепловые электрические сети и системы»","ООО «Центр»","ООО «Тепловая-эксплуатационная компания №1»",null,null,null,null,null,8,8,null,null,null,8,null,null,null,null,null,null,"Государственное стационарное учреждение социального обслуживания системы социальной защиты населения «Саткинский психоневрологический интернат»","ООО «ВЕЛЛ-КОМ»","ООО «Родниковское ЖКХ»","АО работников «Народное предприятие» Челябинское рудоуправление»",null,8]
[null,null,null,null,null,null,null,null,null,null,null,null,null,null,null,null,null,null,null,{"$f":"U79+V81+W74+X82+Y80+Z78+AA85+AB77+AC73+AD75+AE82+AF74+AG76+AH107+AI76+AJ82+AK82+AL83+AM75+AN75+AO77+AP79+AQ77+AR80+AS80+AT75+AU73+AV77+AW80+AX73+AY74+AZ78+BA75+BB76+BC74+BD85+BE93+BF82+BG83+BH76+BI80+BJ76","v":295},null,9,null,"ООО «Производственное коммерческое предприятие Синергия»",null,null,"ИП Валиев Вагиз Ахунзянович",null,null,null,"ООО «Перспектива»",null,null,"Южно-Уральская дирекция по тепловодоснабжению - структурное подразделение Центральной дирекции по тепловодоснабжению - филиала ОАО «РЖД» в г. Челябинске",null,"МУП «На Торговой»","МУ «Управление Худайбердинского ЖКХ»","ООО «Теплоэнерготрейд»",null,null,null,null,null,null,null,null,null,null,null,null,null,null,null,null,null,"ООО «Урал Энерго Девелопмент»","ООО «ТеплоЭнергоМастер»","МУП Скалистское ЖКХ «Троицко-совхозное сельское поселение»","АО «Челябоблкоммунэнерго»"]
[null,null,null,null,null,null,null,null,null,null,null,null,null,null,null,null,null,null,null,null,null,null,null,10,null,null,"ООО «УралТехСервис»",null,null,null,10,null,null,"ООО «ПетроПак» в г. Челябинске",null,10,10,"ООО «Миньярская коммунальная компания»",null,null,null,null,null,null,null,null,null,null,null,null,null,null,null,null,null,"ООО «Теплосервис»","ООО «Эффективная теплоэнергетика»",10,"ФГБУ «ЦЖКУ» Министерства обороны РФ"]
[null,null,null,null,null,null,null,null,null,null,null,null,null,null,null,null,null,null,null,null,null,null,null,null,null,null,"ООО «ТеплоЭнергоСервис»",null,null,null,null,null,null,"АО «Макфа» в г. Челябинске",null,null,null,11,null,null,null,null,null,null,null,null,null,null,null,null,null,null,null,null,null,"МУП «Теплосервис»","ООО «ПлазаДевелопментСервис»",null,11]
[null,null,null,null,null,null,null,null,null,null,null,null,null,null,null,null,null,null,null,null,null,null,null,null,null,null,"ООО «ТеплИст»",null,null,null,null,null,null,"ООО «Теплоэнергосбыт» в г. Челябинске",null,null,null,null,null,null,null,null,null,null,null,null,null,null,null,null,null,null,null,null,null,"ООО «СТАНДАРТТЕПЛО»","ООО «Центр»"]
[null,null,null,null,null,null,null,null,null,null,null,null,null,null,null,null,null,null,null,null,null,null,null,null,null,null,13,null,null,null,null,null,null,"ПАО «ЧЗПСН-Профнастил» в г. Челябинске",null,null,null,null,null,null,null,null,null,null,null,null,null,null,null,null,null,null,null,null,null,13,"ООО «КН-Сервис»"]
[null,null,null,null,null,null,null,null,null,null,null,null,null,null,null,null,null,null,null,null,null,null,null,null,null,null,null,null,null,null,null,null,null,"АО «Челябоблкоммунэнерго» в г. Челябинске",null,null,null,null,null,null,null,null,null,null,null,null,null,null,null,null,null,null,null,null,null,null,"ООО «Теченское ЖКХ»"]
[null,null,null,null,null,null,null,null,null,null,null,null,null,null,null,null,null,null,null,null,null,null,null,null,null,null,null,null,null,null,null,null,null,"ООО «Термогаз» в г. Челябинске",null,null,null,null,null,null,null,null,null,null,null,null,null,null,null,null,null,null,null,null,null,null,"ООО УК «Солнечный»"]
[null,null,null,null,null,null,null,null,null,null,null,null,null,null,null,null,null,null,null,null,null,null,null,null,null,null,null,null,null,null,null,null,null,"ОАО «Трубодеталь» в г. Челябинске",null,null,null,null,null,null,null,null,null,null,null,null,null,null,null,null,null,null,null,null,null,null,"ООО УК «ЮУ КЖСИ»"]
[null,null,null,null,null,null,null,null,null,null,null,null,null,null,null,null,null,null,null,null,null,null,null,null,null,null,null,null,null,null,null,null,null,"АО «Сигнал» в г. Челябинске",null,null,null,null,null,null,null,null,null,null,null,null,null,null,null,null,null,null,null,null,null,null,"ООО «Здоровый дух»"]
[null,null,null,null,null,null,null,null,null,null,null,null,null,null,null,null,null,null,null,null,null,null,null,null,null,null,null,null,null,null,null,null,null,"ООО «Объединение «Союзпищепром» в г. Челябинске",null,null,null,null,null,null,null,null,null,null,null,null,null,null,null,null,null,null,null,null,null,null,"ООО «Теплый Дом»"]
[null,null,null,null,null,null,null,null,null,null,null,null,null,null,null,null,null,null,null,null,null,null,null,null,null,null,null,null,null,null,null,null,null,"Челябинский филиал ООО «МЕЧЕЛ-ЭНЕРГО» в г. Челябинске",null,null,null,null,null,null,null,null,null,null,null,null,null,null,null,null,null,null,null,null,null,null,"ООО «Теплосервис»"]
[null,null,null,null,null,null,null,null,null,null,null,null,null,null,null,null,null,null,null,null,null,null,null,null,null,null,null,null,null,null,null,null,null,"ООО «Тепловая котельная «Западная» в г. Челябинске",null,null,null,null,null,null,null,null,null,null,null,null,null,null,null,null,null,null,null,null,null,null,"ООО УК «АККТиВ»"]
[null,null,null,null,null,null,null,null,null,null,null,null,null,null,null,null,null,null,null,null,null,null,null,null,null,null,null,null,null,null,null,null,null,"ПАО «Фортум» в г. Челябинске",null,null,null,null,null,null,null,null,null,null,null,null,null,null,null,null,null,null,null,null,null,null,21]
[null,null,null,null,null,null,null,null,null,null,null,null,null,null,null,null,null,null,null,null,null,null,null,null,null,null,null,null,null,null,null,null,null,"ООО «ЧКПЗ-Энерго» в г. Челябинске"]
[null,null,null,null,null,null,null,null,null,null,null,null,null,null,null,null,null,null,null,null,null,null,null,null,null,null,null,null,null,null,null,null,null,"ООО «ЮжУралТеплоПрибор» в г. Челябинске"]
[null,null,null,null,null,null,null,null,null,null,null,null,null,null,null,null,null,null,null,null,null,null,null,null,null,null,null,null,null,null,null,null,null,"АО «ЭСК ЧТПЗ» в г. Челябинске"]
[null,null,null,null,null,null,null,null,null,null,null,null,null,null,null,null,null,null,null,null,null,null,null,null,null,null,null,null,null,null,null,null,null,"ОАО «Челябкоммунэнерго» в г. Челябинске"]
[null,null,null,null,null,null,null,null,null,null,null,null,null,null,null,null,null,null,null,null,null,null,null,null,null,null,null,null,null,null,null,null,null,"ООО Агрокомплекс «Чурилово» в г. Челябинске"]
[null,null,null,null,null,null,null,null,null,null,null,null,null,null,null,null,null,null,null,null,null,null,null,null,null,null,null,null,null,null,null,null,null,"ФГБУ «ЦЖКУ» Министерства обороны РФ в г. Челябинске"]
[null,null,null,null,null,null,null,null,null,null,null,null,null,null,null,null,null,null,null,null,null,null,null,null,null,null,null,null,null,null,null,null,null,"ООО «Энерго Сетевая Компания» в г. Челябинске"]
[null,null,null,null,null,null,null,null,null,null,null,null,null,null,null,null,null,null,null,null,null,null,null,null,null,null,null,null,null,null,null,null,null,"ООО «Центр» в г. Челябинске"]
[null,null,null,null,null,null,null,null,null,null,null,null,null,null,null,null,null,null,null,null,null,null,null,null,null,null,null,null,null,null,null,null,null,"ФГАУ ВО «ЮУрГУ» (НИУ) в г. Челябинске"]
[null,null,null,null,null,null,null,null,null,null,null,null,null,null,null,null,null,null,null,null,null,null,null,null,null,null,null,null,null,null,null,null,null,"ООО «Источники тепла» в г. Челябинске"]
[null,null,null,null,null,null,null,null,null,null,null,null,null,null,null,null,null,null,null,null,null,null,null,null,null,null,null,null,null,null,null,null,null,"ООО «РЕМСТРОЙ» в г. Челябинске"]
[null,null,null,null,null,null,null,null,null,null,null,null,null,null,null,null,null,null,null,null,null,null,null,null,null,null,null,null,null,null,null,null,null,"ООО «Магнитогорская сетевая компания» в г. Челябинске"]
[null,null,null,null,null,null,null,null,null,null,null,null,null,null,null,null,null,null,null,null,null,null,null,null,null,null,null,null,null,null,null,null,null,"ООО «ЧТСК» в г. Челябинске"]
[null,null,null,null,null,null,null,null,null,null,null,null,null,null,null,null,null,null,null,null,null,null,null,null,null,null,null,null,null,null,null,null,null,35]
[]
[]
[]
[]
[]
[]
[]
[]
[]
[]
[]
[]
[]
[]
[]
[]
[]
[]
[]
[]
[null,null,null,null,null,null,null,null,null,null,null,null,null,null,null,null,null,null,null,null,null,null,null,null,null,null,null,null,null,null,null,null,null,null,null,null,"МУ «Управление Байрамгуловского ЖКХ»"]
[]
[]
[]
[]
[]
[]
[]
[]
[]
[]
[]
[null,null,null,null,null,null,null,null,null,null,null,null,null,null,null,null,null,null,null,null,null,null,null,null,null,"0,1-1,5",null,null,null,null,null,"свыше 1,5"]
[null,null,null,null,null,null,null,null,null,null,null,null,null,null,null,null,null,null,null,null,null,null,null,null,null,"Надземная (наземная) прокладка",null,"Подземная прокладка канальная",null,null,null,"Надземная (наземная) прокладка",null,"Подземная прокладка"]
[null,null,null,null,null,null,null,null,null,null,null,null,null,null,null,null,null,null,null,null,null,null,null,null,null,null,null,"Подземная прокладка канальная",null,"Подземная прокладка бесканальная",null,null,null,"Подземная прокладка канальная",null,"Подземная прокладка бесканальная",null,null,"Налог",null,"СТАВКА П2.2"]
[null,null,null,null,null,null,null,null,null,null,null,null,null,null,null,null,null,null,null,null,null,null,null,null,1,2,3,4,5,6,7,8,9,10,11,12,13,14,15,16,17,18]
[null,null,null,null,null,null,null,null,null,null,null,null,null,null,null,null,null,null,null,null,null,null,null,null,"Наименование организации","50 - 250 мм","251-400 мм","50 - 250 мм","251-400 мм","50 - 250 мм","251-400 мм","50 - 250 мм","251-400 мм","50 - 250 мм","251-400 мм","50 - 250 мм","251-400 мм","СТАВКА П1","0,1-1,5","свыше 1,5","0,1-1,5","свыше 1,5"]
[null,null,null,null,null,null,null,null,null,null,null,null,null,null,null,null,null,null,null,null,null,null,null,1,"ООО «Теплосети»",1053.01,0,2081.17,null,1563.98,null,369.34,864.39,1196.6199999999999,1117.1300000000001,1132.18,1390.6,13.84,377.24,243.71,0,0]
[null,null,null,null,null,null,null,null,null,null,null,null,null,null,null,null,null,null,null,null,null,null,null,2,"ООО «Бриз»",{"$f":"$Z$145","v":1053.01},{"$f":"$AA$145","v":0},{"$f":"$AB$145","v":2081.17},{"$f":"AC145","v":0},{"$f":"$AD$145","v":1563.98},{"$f":"$AE$145","v":0},{"$f":"$AF$145","v":369.34},{"$f":"$AG$145","v":864.39},{"$f":"$AH$145","v":1196.6199999999999},{"$f":"$AI$145","v":1117.1300000000001},{"$f":"$AJ$145","v":1132.18},{"$f":"$AK$145","v":1390.6},{"$f":"$AL$145","v":13.84},{"$f":"$AM$145","v":377.24},{"$f":"$AN$145","v":243.71},{"$f":"$AO$145","v":0},{"$f":"$AP$145","v":0}]
[null,null,null,null,null,null,null,null,null,null,null,null,null,null,null,null,null,null,null,null,null,null,null,3,"Вагонное депо Верхний Уфалей - филиал ЗАО «Уралгоршахткомплект»",{"$f":"$Z$145","v":1053.01},{"$f":"$AA$145","v":0},{"$f":"$AB$145","v":2081.17},{"$f":"AC146","v":0},{"$f":"$AD$145","v":1563.98},{"$f":"$AE$145","v":0},{"$f":"$AF$145","v":369.34},{"$f":"$AG$145","v":864.39},{"$f":"$AH$145","v":1196.6199999999999},{"$f":"$AI$145","v":1117.1300000000001},{"$f":"$AJ$145","v":1132.18},{"$f":"$AK$145","v":1390.6},{"$f":"$AL$145","v":13.84},{"$f":"$AM$145","v":377.24},{"$f":"$AN$145","v":243.71},{"$f":"$AO$145","v":0},{"$f":"$AP$145","v":0}]
[null,null,null,null,null,null,null,null,null,null,null,null,null,null,null,null,null,null,null,null,null,null,null,null,"ООО «Теплоэнергетическая компания «Системы управления»",1053.01,0,2081.17,0,1563.98,0,369.34,864.39,1196.6199999999999,1117.1300000000001,1132.18,1390.6,13.84,377.24,243.71,0,0]
[null,null,null,null,null,null,null,null,null,null,null,null,null,null,null,null,null,null,null,null,null,null,null,null,"МУП «Энергетик»",1053.01,0,2081.17,0,1563.98,0,369.34,864.39,1196.6199999999999,1117.1300000000001,1132.18,1390.6,13.84,377.24,243.71,0,0]
[null,null,null,null,null,null,null,null,null,null,null,null,null,null,null,null,null,null,null,null,null,null,null,null,"МУП «Ресурс-Н»",1053.01,0,2081.17,0,1563.98,0,369.34,864.39,1196.6199999999999,1117.1300000000001,1132.18,1390.6,13.84,377.24,243.71,0,0]
[null,null,null,null,null,null,null,null,null,null,null,null,null,null,null,null,null,null,null,null,null,null,null,null,"ООО «Теплоснабжение»",1053.01,0,2081.17,0,1563.98,0,369.34,864.39,1196.6199999999999,1117.1300000000001,1132.18,1390.6,13.84,377.24,243.71,0,0]
[null,null,null,null,null,null,null,null,null,null,null,null,null,null,null,null,null,null,null,null,null,null,null,null,"ООО «ЗЭМЗ-Энерго»",1053.01,0,2081.17,0,1563.98,0,369.34,864.39,1196.6199999999999,1117.1300000000001,1132.18,1390.6,13.84,377.24,243.71,0,0]
[null,null,null,null,null,null,null,null,null,null,null,null,null,null,null,null,null,null,null,null,null,null,null,null,"ООО «Теплоэнергетик»",1053.01,0,2081.17,0,1563.98,0,369.34,864.39,1196.6199999999999,1117.1300000000001,1132.18,1390.6,13.84,377.24,243.71,0,0]
[null,null,null,null,null,null,null,null,null,null,null,null,null,null,null,null,null,null,null,null,null,null,null,null,"ООО «НПП «ТехМикс»",1053.01,0,2081.17,0,1563.98,0,369.34,864.39,1196.6199999999999,1117.1300000000001,1132.18,1390.6,13.84,377.24,243.71,0,0]
[null,null,null,null,null,null,null,null,null,null,null,null,null,null,null,null,null,null,null,null,null,null,null,null,"Путевая машинная станция № 173 Южно-Уральской дирекции по ремонту пути - структурного подразделения Центральной дирекции по ремонту пути - филиала ОАО «РЖД»",1053.01,0,2081.17,0,1563.98,0,369.34,864.39,1196.6199999999999,1117.1300000000001,1132.18,1390.6,13.84,377.24,243.71,0,0]
[null,null,null,null,null,null,null,null,null,null,null,null,null,null,null,null,null,null,null,null,null,null,null,null,"МУП «Коммунальные сети»",1053.01,0,2081.17,0,1563.98,0,369.34,864.39,1196.6199999999999,1117.1300000000001,1132.18,1390.6,13.84,377.24,243.71,0,0]
[null,null,null,null,null,null,null,null,null,null,null,null,null,null,null,null,null,null,null,null,null,null,null,null,"ООО «Тепловик»",1053.01,0,2081.17,0,1563.98,0,369.34,864.39,1196.6199999999999,1117.1300000000001,1132.18,1390.6,13.84,377.24,243.71,0,0]
[null,null,null,null,null,null,null,null,null,null,null,null,null,null,null,null,null,null,null,null,null,null,null,null,"АО «Златмаш»",1053.01,0,2081.17,0,1563.98,0,369.34,864.39,1196.6199999999999,1117.1300000000001,1132.18,1390.6,13.84,377.24,243.71,0,0]
[null,null,null,null,null,null,null,null,null,null,null,null,null,null,null,null,null,null,null,null,null,null,null,null,"ООО «Златсеть»",1053.01,0,2081.17,0,1563.98,0,369.34,864.39,1196.6199999999999,1117.1300000000001,1132.18,1390.6,13.84,377.24,243.71,0,0]
[null,null,null,null,null,null,null,null,null,null,null,null,null,null,null,null,null,null,null,null,null,null,null,null,"ООО «Энергостандарт»",1053.01,0,2081.17,0,1563.98,0,369.34,864.39,1196.6199999999999,1117.1300000000001,1132.18,1390.6,13.84,377.24,243.71,0,0]
[null,null,null,null,null,null,null,null,null,null,null,null,null,null,null,null,null,null,null,null,null,null,null,null,"ФКУ ИК-11 ГУФСИН России по Челябинской области",1053.01,0,2081.17,0,1563.98,0,369.34,864.39,1196.6199999999999,1117.1300000000001,1132.18,1390.6,13.84,377.24,243.71,0,0]
[null,null,null,null,null,null,null,null,null,null,null,null,null,null,null,null,null,null,null,null,null,null,null,null,"ООО «Коркинский экскаваторо-вагоноремонтный завод»",1053.01,0,2081.17,0,1563.98,0,369.34,864.39,1196.6199999999999,1117.1300000000001,1132.18,1390.6,13.84,377.24,243.71,0,0]
[null,null,null,null,null,null,null,null,null,null,null,null,null,null,null,null,null,null,null,null,null,null,null,null,"ООО «Карго 74»",1053.01,0,2081.17,0,1563.98,0,369.34,864.39,1196.6199999999999,1117.1300000000001,1132.18,1390.6,13.84,377.24,243.71,0,0]
[null,null,null,null,null,null,null,null,null,null,null,null,null,null,null,null,null,null,null,null,null,null,null,null,"ООО «Производственное коммерческое предприятие Синергия»",1053.01,0,2081.17,0,1563.98,0,369.34,864.39,1196.6199999999999,1117.1300000000001,1132.18,1390.6,13.84,377.24,243.71,0,0]
[null,null,null,null,null,null,null,null,null,null,null,null,null,null,null,null,null,null,null,null,null,null,null,null,"ФКУЗ «Санаторий «Лесное озеро» МВД России» ",1053.01,0,2081.17,0,1563.98,0,369.34,864.39,1196.6199999999999,1117.1300000000001,1132.18,1390.6,13.84,377.24,243.71,0,0]
[null,null,null,null,null,null,null,null,null,null,null,null,null,null,null,null,null,null,null,null,null,null,null,null,"МУП «Санаторий «Дальняя Дача»",1053.01,0,2081.17,0,1563.98,0,369.34,864.39,1196.6199999999999,1117.1300000000001,1132.18,1390.6,13.84,377.24,243.71,0,0]
[null,null,null,null,null,null,null,null,null,null,null,null,null,null,null,null,null,null,null,null,null,null,null,null,"Муниципальное предприятие Кыштымского городского округа «Многопрофильное предприятие»",1053.01,0,2081.17,{"$f":"AC166","v":0},1563.98,0,369.34,864.39,1196.6199999999999,1117.1300000000001,1132.18,1390.6,13.84,377.24,243.71,0,0]
[null,null,null,null,null,null,null,null,null,null,null,null,null,null,null,null,null,null,null,null,null,null,null,null,"ООО «ЮжУралСпец МС»",1053.01,0,2081.17,0,1563.98,0,369.34,864.39,1196.6199999999999,1117.1300000000001,1132.18,1390.6,13.84,377.24,243.71,0,0]
[null,null,null,null,null,null,null,null,null,null,null,null,null,null,null,null,null,null,null,null,null,null,null,null,"ООО «ЮжУралСпец МВ»",1053.01,0,2081.17,0,1563.98,0,369.34,864.39,1196.6199999999999,1117.1300000000001,1132.18,1390.6,13.84,377.24,243.71,0,0]
[null,null,null,null,null,null,null,null,null,null,null,null,null,null,null,null,null,null,null,null,null,null,null,null,"ПАО «Магнитогорский металлургический комбинат»",1053.01,0,2081.17,0,1563.98,0,369.34,864.39,1196.6199999999999,1117.1300000000001,1132.18,1390.6,13.84,377.24,243.71,0,0]
[null,null,null,null,null,null,null,null,null,null,null,null,null,null,null,null,null,null,null,null,null,null,null,null,"ООО «Трест Магнитострой»",1053.01,0,2081.17,{"$f":"AC170","v":0},1563.98,0,369.34,864.39,1196.6199999999999,1117.1300000000001,1132.18,1390.6,13.84,377.24,243.71,0,0]
[null,null,null,null,null,null,null,null,null,null,null,null,null,null,null,null,null,null,null,null,null,null,null,null,"МП трест «Теплофикация»",1053.01,0,2081.17,0,1563.98,0,369.34,864.39,1196.6199999999999,1117.1300000000001,1132.18,1390.6,13.84,377.24,243.71,0,0]
[null,null,null,null,null,null,null,null,null,null,null,null,null,null,null,null,null,null,null,null,null,null,null,null,"ФКУ ИК-18 ГУФСИН России по Челябинской области",1053.01,0,2081.17,{"$f":"AC172","v":0},1563.98,0,369.34,864.39,1196.6199999999999,1117.1300000000001,1132.18,1390.6,13.84,377.24,243.71,0,0]
[null,null,null,null,null,null,null,null,null,null,null,null,null,null,null,null,null,null,null,null,null,null,null,null,"ООО «Тургеневский»",1053.01,0,2081.17,{"$f":"AC173","v":0},1563.98,0,369.34,864.39,1196.6199999999999,1117.1300000000001,1132.18,1390.6,13.84,377.24,243.71,0,0]
[null,null,null,null,null,null,null,null,null,null,null,null,null,null,null,null,null,null,null,null,null,null,null,null,"ЗАО «Миассмебель»",1053.01,0,2081.17,{"$f":"AC174","v":0},1563.98,0,369.34,864.39,1196.6199999999999,1117.1300000000001,1132.18,1390.6,13.84,377.24,243.71,0,0]
[null,null,null,null,null,null,null,null,null,null,null,null,null,null,null,null,null,null,null,null,null,null,null,null,"АО «ЭнСер»",1053.01,0,2081.17,{"$f":"AC175","v":0},1563.98,0,369.34,864.39,1196.6199999999999,1117.1300000000001,1132.18,1390.6,13.84,377.24,243.71,0,0]
[null,null,null,null,null,null,null,null,null,null,null,null,null,null,null,null,null,null,null,null,null,null,null,null,"ООО «Теплотех-Сервис»",1053.01,0,2081.17,0,1563.98,0,369.34,864.39,1196.6199999999999,1117.1300000000001,1132.18,1390.6,13.84,377.24,243.71,0,0]
[null,null,null,null,null,null,null,null,null,null,null,null,null,null,null,null,null,null,null,null,null,null,null,null,"МУП МГО «Городское хозяйство»",1053.01,0,2081.17,0,1563.98,0,369.34,864.39,1196.6199999999999,1117.1300000000001,1132.18,1390.6,13.84,377.24,243.71,0,0]
[null,null,null,null,null,null,null,null,null,null,null,null,null,null,null,null,null,null,null,null,null,null,null,null,"ООО «Южный ТеплоЭнергетический комплекс»",1053.01,0,2081.17,{"$f":"AC178","v":0},1563.98,0,369.34,864.39,1196.6199999999999,1117.1300000000001,1132.18,1390.6,13.84,377.24,243.71,0,0]
[null,null,null,null,null,null,null,null,null,null,null,null,null,null,null,null,null,null,null,null,null,null,null,null,"ООО «ИБК-Энерго»",1053.01,0,2081.17,{"$f":"AC179","v":0},1563.98,0,369.34,864.39,1196.6199999999999,1117.1300000000001,1132.18,1390.6,13.84,377.24,243.71,0,0]
[null,null,null,null,null,null,null,null,null,null,null,null,null,null,null,null,null,null,null,null,null,null,null,null,"ООО «УралТеплоСтрой»",1053.01,0,2081.17,0,1563.98,0,369.34,864.39,1196.6199999999999,1117.1300000000001,1132.18,1390.6,13.84,377.24,243.71,0,0]
[null,null,null,null,null,null,null,null,null,null,null,null,null,null,null,null,null,null,null,null,null,null,null,null,"Гохран России (филиал «Объект «Урал»)",1053.01,0,2081.17,0,1563.98,0,369.34,864.39,1196.6199999999999,1117.1300000000001,1132.18,1390.6,13.84,377.24,243.71,0,0]
[null,null,null,null,null,null,null,null,null,null,null,null,null,null,null,null,null,null,null,null,null,null,null,null,"АО «Миасский машиностроительный завод»",1053.01,0,2081.17,0,1563.98,0,369.34,864.39,1196.6199999999999,1117.1300000000001,1132.18,1390.6,13.84,377.24,243.71,0,0]
[null,null,null,null,null,null,null,null,null,null,null,null,null,null,null,null,null,null,null,null,null,null,null,null,"ИП Валиев Вагиз Ахунзянович",1053.01,0,2081.17,{"$f":"AC183","v":0},1563.98,0,369.34,864.39,1196.6199999999999,1117.1300000000001,1132.18,1390.6,13.84,377.24,243.71,0,0]
[null,null,null,null,null,null,null,null,null,null,null,null,null,null,null,null,null,null,null,null,null,null,null,null,"ООО «УралТехСервис»",1053.01,0,2081.17,{"$f":"AC184","v":0},1563.98,0,369.34,864.39,1196.6199999999999,1117.1300000000001,1132.18,1390.6,13.84,377.24,243.71,0,0]
[null,null,null,null,null,null,null,null,null,null,null,null,null,null,null,null,null,null,null,null,null,null,null,null,"ООО «ТеплИст»",1053.01,0,2081.17,0,1563.98,0,369.34,864.39,1196.6199999999999,1117.1300000000001,1132.18,1390.6,13.84,377.24,243.71,0,0]
[null,null,null,null,null,null,null,null,null,null,null,null,null,null,null,null,null,null,null,null,null,null,null,null,"ММПКХ",1053.01,0,2081.17,0,1563.98,0,369.34,864.39,1196.6199999999999,1117.1300000000001,1132.18,1390.6,13.84,377.24,243.71,0,0]
[null,null,null,null,null,null,null,null,null,null,null,null,null,null,null,null,null,null,null,null,null,null,null,null,"ФГУП «ПО «Маяк»",1053.01,0,2081.17,0,1563.98,0,369.34,864.39,1196.6199999999999,1117.1300000000001,1132.18,1390.6,13.84,377.24,243.71,0,0]
[null,null,null,null,null,null,null,null,null,null,null,null,null,null,null,null,null,null,null,null,null,null,null,null,"ООО «Сервисный Центр»",1053.01,0,2081.17,0,1563.98,0,369.34,864.39,1196.6199999999999,1117.1300000000001,1132.18,1390.6,13.84,377.24,243.71,0,0]
[null,null,null,null,null,null,null,null,null,null,null,null,null,null,null,null,null,null,null,null,null,null,null,null,"ММУП ЖКХ пос. Новогорный",1053.01,0,2081.17,0,1563.98,0,369.34,864.39,1196.6199999999999,1117.1300000000001,1132.18,1390.6,13.84,377.24,243.71,0,0]
[null,null,null,null,null,null,null,null,null,null,null,null,null,null,null,null,null,null,null,null,null,null,null,null,"ПАО «Фортум» (Аргаяшская ТЭЦ)",1053.01,0,2081.17,0,1563.98,0,369.34,864.39,1196.6199999999999,1117.1300000000001,1132.18,1390.6,13.84,377.24,243.71,0,0]
[null,null,null,null,null,null,null,null,null,null,null,null,null,null,null,null,null,null,null,null,null,null,null,null,"ФГУП «Приборостроительный завод»",1053.01,0,2081.17,0,1563.98,0,369.34,864.39,1196.6199999999999,1117.1300000000001,1132.18,1390.6,13.84,377.24,243.71,0,0]
[null,null,null,null,null,null,null,null,null,null,null,null,null,null,null,null,null,null,null,null,null,null,null,null,"МУП «Многоотраслевое производственное объединение энергосетей»",1053.01,0,2081.17,0,1563.98,0,369.34,864.39,1196.6199999999999,1117.1300000000001,1132.18,1390.6,13.84,377.24,243.71,0,0]
[null,null,null,null,null,null,null,null,null,null,null,null,null,null,null,null,null,null,null,null,null,null,null,null,"АО «Трансэнерго»",174.44,0,null,0,null,0,174.44,null,null,null,null,null,14.54,43.61,43.61,0,0]
[null,null,null,null,null,null,null,null,null,null,null,null,null,null,null,null,null,null,null,null,null,null,null,null,"МУП «Электротепловые сети»",1053.01,0,2081.17,0,1563.98,0,369.34,864.39,1196.6199999999999,1117.1300000000001,1132.18,1390.6,13.84,377.24,243.71,0,0]
[null,null,null,null,null,null,null,null,null,null,null,null,null,null,null,null,null,null,null,null,null,null,null,null,"ГУЗ «Областная туберкулезная больница № 13»",1053.01,0,2081.17,0,1563.98,0,369.34,864.39,1196.6199999999999,1117.1300000000001,1132.18,1390.6,13.84,377.24,243.71,0,0]
[null,null,null,null,null,null,null,null,null,null,null,null,null,null,null,null,null,null,null,null,null,null,null,null,"Закрытое акционерное общество «Троицкая энергетическая компания»",1053.01,0,2081.17,0,1563.98,0,369.34,864.39,1196.6199999999999,1117.1300000000001,1132.18,1390.6,13.84,377.24,243.71,0,0]
[null,null,null,null,null,null,null,null,null,null,null,null,null,null,null,null,null,null,null,null,null,null,null,null,"Троицкая ГРЭС филиал ПАО «ОГК-2»",1053.01,0,2081.17,0,1563.98,0,369.34,864.39,1196.6199999999999,1117.1300000000001,1132.18,1390.6,13.84,377.24,243.71,0,0]
[null,null,null,null,null,null,null,null,null,null,null,null,null,null,null,null,null,null,null,null,null,null,null,null,"ООО «Районные Тепловые Сети»",1053.01,0,2081.17,0,1563.98,0,369.34,864.39,1196.6199999999999,1117.1300000000001,1132.18,1390.6,13.84,377.24,243.71,0,0]
[null,null,null,null,null,null,null,null,null,null,null,null,null,null,null,null,null,null,null,null,null,null,null,null,"ФГБУ «ЦЖКУ» Министерства обороны РФ ",1053.01,0,2081.17,0,1563.98,0,369.34,864.39,1196.6199999999999,1117.1300000000001,1132.18,1390.6,13.84,377.24,243.71,0,0]
[null,null,null,null,null,null,null,null,null,null,null,null,null,null,null,null,null,null,null,null,null,null,null,null,"МУП «Теплоком»",1053.01,0,2081.17,0,1563.98,0,369.34,864.39,1196.6199999999999,1117.1300000000001,1132.18,1390.6,13.84,377.24,243.71,0,0]
[null,null,null,null,null,null,null,null,null,null,null,null,null,null,null,null,null,null,null,null,null,null,null,null,"филиал «Санаторий Чебаркульский» ФГБУ «Санаторно-курортный комплекс» Приволжский» Министерство обороны Российской Федерации",1053.01,0,2081.17,0,1563.98,0,369.34,864.39,1196.6199999999999,1117.1300000000001,1132.18,1390.6,13.84,377.24,243.71,0,0]
[null,null,null,null,null,null,null,null,null,null,null,null,null,null,null,null,null,null,null,null,null,null,null,null,"Производственный отдел челябинского филиала ООО «МЕЧЕЛ-ЭНЕРГО»",1053.01,0,2081.17,0,1563.98,0,369.34,864.39,1196.6199999999999,1117.1300000000001,1132.18,1390.6,13.84,377.24,243.71,0,0]
[null,null,null,null,null,null,null,null,null,null,null,null,null,null,null,null,null,null,null,null,null,null,null,null,"ООО «Бродокалмакское ЖКХ»",1053.01,0,2081.17,0,1563.98,0,369.34,864.39,1196.6199999999999,1117.1300000000001,1132.18,1390.6,13.84,377.24,243.71,0,0]
[null,null,null,null,null,null,null,null,null,null,null,null,null,null,null,null,null,null,null,null,null,null,null,null,"ООО «Красноармейская энергосервисная компания»",1053.01,0,2081.17,0,1563.98,0,369.34,864.39,1196.6199999999999,1117.1300000000001,1132.18,1390.6,13.84,377.24,243.71,0,0]
[null,null,null,null,null,null,null,null,null,null,null,null,null,null,null,null,null,null,null,null,null,null,null,null,"МУП ЖКХ «Северное»",1053.01,0,2081.17,{"$f":"AC205","v":0},1563.98,0,369.34,864.39,1196.6199999999999,1117.1300000000001,1132.18,1390.6,13.84,377.24,243.71,0,0]
[null,null,null,null,null,null,null,null,null,null,null,null,null,null,null,null,null,null,null,null,null,null,null,null,"АО «Челябкоммунэнерго» ",1053.01,0,2081.17,0,1563.98,0,369.34,864.39,1196.6199999999999,1117.1300000000001,1132.18,1390.6,13.84,377.24,243.71,0,0]
[null,null,null,null,null,null,null,null,null,null,null,null,null,null,null,null,null,null,null,null,null,null,null,null,"ООО «Луговское»",1053.01,0,2081.17,0,1563.98,0,369.34,864.39,1196.6199999999999,1117.1300000000001,1132.18,1390.6,13.84,377.24,243.71,0,0]
[null,null,null,null,null,null,null,null,null,null,null,null,null,null,null,null,null,null,null,null,null,null,null,null,"МУП ЖКХ «Шумовское»",1053.01,0,2081.17,0,1563.98,0,369.34,864.39,1196.6199999999999,1117.1300000000001,1132.18,1390.6,13.84,377.24,243.71,0,0]
[null,null,null,null,null,null,null,null,null,null,null,null,null,null,null,null,null,null,null,null,null,null,null,null,"ООО «ИРМИ ЖКХ»",1053.01,0,2081.17,0,1563.98,0,369.34,864.39,1196.6199999999999,1117.1300000000001,1132.18,1390.6,13.84,377.24,243.71,0,0]
[null,null,null,null,null,null,null,null,null,null,null,null,null,null,null,null,null,null,null,null,null,null,null,null,"ООО «ЖКХ Агаповское»",{"$f":"$Z$145","v":1053.01},{"$f":"$AA$145","v":0},{"$f":"$AB$145","v":2081.17},0,{"$f":"$AD$145","v":1563.98},{"$f":"$AE$145","v":0},{"$f":"$AF$145","v":369.34},{"$f":"$AG$145","v":864.39},{"$f":"$AH$145","v":1196.6199999999999},{"$f":"$AI$145","v":1117.1300000000001},{"$f":"$AJ$145","v":1132.18},{"$f":"$AK$145","v":1390.6},{"$f":"$AL$145","v":13.84},{"$f":"$AM$145","v":377.24},{"$f":"$AN$145","v":243.71},{"$f":"$AO$145","v":0},{"$f":"$AP$145","v":0}]
[null,null,null,null,null,null,null,null,null,null,null,null,null,null,null,null,null,null,null,null,null,null,null,null,"МП ЖКХ «Желтинское»",1053.01,0,2081.17,{"$f":"AC211","v":0},1563.98,0,369.34,864.39,1196.6199999999999,1117.1300000000001,1132.18,1390.6,13.84,377.24,243.71,0,0]
[null,null,null,null,null,null,null,null,null,null,null,null,null,null,null,null,null,null,null,null,null,null,null,null,"ООО «Вертикаль»",{"$f":"$Z$145","v":1053.01},0,2081.17,{"$f":"AC212","v":0},1563.98,0,369.34,864.39,{"$f":"$AH$145","v":1196.6199999999999},1117.1300000000001,1132.18,1390.6,13.84,377.24,243.71,0,0]
[null,null,null,null,null,null,null,null,null,null,null,null,null,null,null,null,null,null,null,null,null,null,null,null,"МП ЖКХ «Магнитное»",1053.01,{"$f":"$AA$145","v":0},2081.17,{"$f":"AC213","v":0},1563.98,0,369.34,864.39,1196.6199999999999,1117.1300000000001,1132.18,1390.6,13.84,377.24,243.71,0,0]
[null,null,null,null,null,null,null,null,null,null,null,null,null,null,null,null,null,null,null,null,null,null,null,null,"МУП «На Торговой»",1053.01,0,2081.17,0,1563.98,0,369.34,864.39,1196.6199999999999,1117.1300000000001,1132.18,1390.6,13.84,377.24,243.71,0,0]
[null,null,null,null,null,null,null,null,null,null,null,null,null,null,null,null,null,null,null,null,null,null,null,null,"Акционерное общество «Интер РАО - Электрогенерация»",1053.01,0,2081.17,0,1563.98,0,369.34,864.39,1196.6199999999999,1117.1300000000001,1132.18,1390.6,13.84,377.24,243.71,0,0]
[null,null,null,null,null,null,null,null,null,null,null,null,null,null,null,null,null,null,null,null,null,null,null,null,"Акционерное общество «Южноуральская теплосбытовая компания»",1053.01,0,2081.17,{"$f":"AC216","v":0},1563.98,0,369.34,864.39,1196.6199999999999,1117.1300000000001,1132.18,1390.6,13.84,377.24,243.71,0,0]
[null,null,null,null,null,null,null,null,null,null,null,null,null,null,null,null,null,null,null,null,null,null,null,null,"ООО «РЕМСТРОЙ»",1053.01,0,2081.17,0,1563.98,0,369.34,864.39,1196.6199999999999,1117.1300000000001,1132.18,1390.6,13.84,377.24,243.71,0,0]
[null,null,null,null,null,null,null,null,null,null,null,null,null,null,null,null,null,null,null,null,null,null,null,null,"ООО «Теплоград»",1053.01,0,2081.17,0,1563.98,0,369.34,864.39,1196.6199999999999,1117.1300000000001,1132.18,1390.6,13.84,377.24,243.71,0,0]
[null,null,null,null,null,null,null,null,null,null,null,null,null,null,null,null,null,null,null,null,null,null,null,null,"Аргаяшское МУП «ВКХ»",1053.01,0,2081.17,{"$f":"AC219","v":0},1563.98,0,369.34,864.39,1196.6199999999999,1117.1300000000001,1132.18,1390.6,13.84,377.24,243.71,0,0]
[null,null,null,null,null,null,null,null,null,null,null,null,null,null,null,null,null,null,null,null,null,null,null,null,"МУ «Управление Байрамгуловского ЖКХ»",1053.01,0,2081.17,0,1563.98,0,369.34,864.39,1196.6199999999999,1117.1300000000001,1132.18,1390.6,13.84,377.24,243.71,0,0]
[null,null,null,null,null,null,null,null,null,null,null,null,null,null,null,null,null,null,null,null,null,null,null,null,"МУ «Управление Дербишевского ЖКХ»",1053.01,0,2081.17,0,1563.98,0,369.34,864.39,1196.6199999999999,1117.1300000000001,1132.18,1390.6,13.84,377.24,243.71,0,0]
[null,null,null,null,null,null,null,null,null,null,null,null,null,null,null,null,null,null,null,null,null,null,null,null,"МУ «Управление Ишалинского ЖКХ»",1053.01,0,2081.17,0,1563.98,0,369.34,864.39,1196.6199999999999,1117.1300000000001,1132.18,1390.6,13.84,377.24,243.71,0,0]
[null,null,null,null,null,null,null,null,null,null,null,null,null,null,null,null,null,null,null,null,null,null,null,null,"ООО МЦМиР «Курорт Увильды»",1053.01,0,2081.17,0,1563.98,0,369.34,864.39,1196.6199999999999,1117.1300000000001,1132.18,1390.6,13.84,377.24,243.71,0,0]
[null,null,null,null,null,null,null,null,null,null,null,null,null,null,null,null,null,null,null,null,null,null,null,null,"МУ «Управление Норкинского ЖКХ»",1053.01,0,2081.17,0,1563.98,0,369.34,864.39,1196.6199999999999,1117.1300000000001,1132.18,1390.6,13.84,377.24,243.71,0,0]
[null,null,null,null,null,null,null,null,null,null,null,null,null,null,null,null,null,null,null,null,null,null,null,null,"МУП «Управление Губернского ЖКХ Кузнецкого сельскогго поселения»",1053.01,0,2081.17,{"$f":"AC225","v":0},1563.98,0,369.34,864.39,1196.6199999999999,1117.1300000000001,1132.18,1390.6,13.84,377.24,243.71,0,0]
[null,null,null,null,null,null,null,null,null,null,null,null,null,null,null,null,null,null,null,null,null,null,null,null,"МУ «Управление Худайбердинского ЖКХ»",1053.01,0,2081.17,{"$f":"AC226","v":0},1563.98,0,369.34,864.39,1196.6199999999999,1117.1300000000001,1132.18,1390.6,13.84,377.24,243.71,0,0]
[null,null,null,null,null,null,null,null,null,null,null,null,null,null,null,null,null,null,null,null,null,null,null,null,"ООО «Теплоэнергетика»",1053.01,0,2081.17,{"$f":"AC227","v":0},1563.98,0,369.34,864.39,1196.6199999999999,1117.1300000000001,1132.18,1390.6,13.84,377.24,243.71,0,0]
[null,null,null,null,null,null,null,null,null,null,null,null,null,null,null,null,null,null,null,null,null,null,null,null,"ООО «Уральская Теплоэнергетическая Компания»",1053.01,0,2081.17,0,1563.98,0,369.34,864.39,1196.6199999999999,1117.1300000000001,1132.18,1390.6,13.84,377.24,243.71,0,0]
[null,null,null,null,null,null,null,null,null,null,null,null,null,null,null,null,null,null,null,null,null,null,null,null,"ПАО «Ростелеком» Челябинский филиал",1053.01,0,2081.17,{"$f":"AC229","v":0},1563.98,0,369.34,864.39,1196.6199999999999,1117.1300000000001,1132.18,1390.6,13.84,377.24,243.71,0,0]
[null,null,null,null,null,null,null,null,null,null,null,null,null,null,null,null,null,null,null,null,null,null,null,null,"ОАО «Ашинский металлургический завод»",1053.01,0,2081.17,0,1563.98,0,369.34,864.39,1196.6199999999999,1117.1300000000001,1132.18,1390.6,13.84,377.24,243.71,0,0]
[null,null,null,null,null,null,null,null,null,null,null,null,null,null,null,null,null,null,null,null,null,null,null,null,"МУП «Служба благоустройства Миньярского городского поселения»",1053.01,0,2081.17,{"$f":"AC231","v":0},1563.98,0,369.34,864.39,1196.6199999999999,1117.1300000000001,1132.18,1390.6,13.84,377.24,243.71,0,0]
[null,null,null,null,null,null,null,null,null,null,null,null,null,null,null,null,null,null,null,null,null,null,null,null,"ООО «Тепловая-эксплуатационная компания №1»",1053.01,0,2081.17,{"$f":"AC232","v":0},1563.98,0,369.34,864.39,1196.6199999999999,1117.1300000000001,1132.18,1390.6,13.84,377.24,243.71,0,0]
[null,null,null,null,null,null,null,null,null,null,null,null,null,null,null,null,null,null,null,null,null,null,null,null,"ООО «Теплоэнерготрейд»",1053.01,0,2081.17,0,1563.98,0,369.34,864.39,1196.6199999999999,1117.1300000000001,1132.18,1390.6,13.84,377.24,243.71,0,0]
[null,null,null,null,null,null,null,null,null,null,null,null,null,null,null,null,null,null,null,null,null,null,null,null,"ООО «Миньярская коммунальная компания»",1053.01,0,2081.17,0,1563.98,0,369.34,864.39,1196.6199999999999,1117.1300000000001,1132.18,1390.6,13.84,377.24,243.71,0,0]
[null,null,null,null,null,null,null,null,null,null,null,null,null,null,null,null,null,null,null,null,null,null,null,null,"МУП «ТеплоЭнерго»",1053.01,0,2081.17,{"$f":"AC235","v":0},1563.98,0,369.34,864.39,1196.6199999999999,1117.1300000000001,1132.18,1390.6,13.84,377.24,243.71,0,0]
[null,null,null,null,null,null,null,null,null,null,null,null,null,null,null,null,null,null,null,null,null,null,null,null,"ООО «Источники тепла»",1053.01,0,2081.17,{"$f":"AC236","v":0},1563.98,0,369.34,864.39,1196.6199999999999,1117.1300000000001,1132.18,1390.6,13.84,377.24,243.71,0,0]
[null,null,null,null,null,null,null,null,null,null,null,null,null,null,null,null,null,null,null,null,null,null,null,null,"ООО «Энергосервис»",1053.01,0,2081.17,0,1563.98,0,369.34,864.39,1196.6199999999999,1117.1300000000001,1132.18,1390.6,13.84,377.24,243.71,0,0]
[null,null,null,null,null,null,null,null,null,null,null,null,null,null,null,null,null,null,null,null,null,null,null,null,"ООО «Фабрика Южуралкартон»",1053.01,0,2081.17,0,1563.98,0,369.34,864.39,1196.6199999999999,1117.1300000000001,1132.18,1390.6,13.84,377.24,243.71,0,0]
[null,null,null,null,null,null,null,null,null,null,null,null,null,null,null,null,null,null,null,null,null,null,null,null,"ОАО «Асбестоцемент»",1053.01,0,2081.17,0,1563.98,0,369.34,864.39,1196.6199999999999,1117.1300000000001,1132.18,1390.6,13.84,377.24,243.71,0,0]
[null,null,null,null,null,null,null,null,null,null,null,null,null,null,null,null,null,null,null,null,null,null,null,null,"ООО «ЭЛЕВКОН»",1053.01,0,2081.17,0,1563.98,0,369.34,864.39,1196.6199999999999,1117.1300000000001,1132.18,1390.6,13.84,377.24,243.71,0,0]
[null,null,null,null,null,null,null,null,null,null,null,null,null,null,null,null,null,null,null,null,null,null,null,null,"МУП «Розинские тепловые сети»",1053.01,0,2081.17,0,1563.98,0,369.34,864.39,1196.6199999999999,1117.1300000000001,1132.18,1390.6,13.84,377.24,243.71,0,0]
[null,null,null,null,null,null,null,null,null,null,null,null,null,null,null,null,null,null,null,null,null,null,null,null,"ООО «Тепловые сети»",1053.01,0,2081.17,0,1563.98,0,369.34,864.39,1196.6199999999999,1117.1300000000001,1132.18,1390.6,13.84,377.24,243.71,0,0]
[null,null,null,null,null,null,null,null,null,null,null,null,null,null,null,null,null,null,null,null,null,null,null,null,"МУП «Кунашак Сервис»",1053.01,0,2081.17,0,1563.98,0,369.34,864.39,1196.6199999999999,1117.1300000000001,1132.18,1390.6,13.84,377.24,243.71,0,0]
[null,null,null,null,null,null,null,null,null,null,null,null,null,null,null,null,null,null,null,null,null,null,null,null,"ООО «СтройКомплекс»",1053.01,0,2081.17,0,1563.98,0,369.34,864.39,1196.6199999999999,1117.1300000000001,1132.18,1390.6,13.84,377.24,243.71,0,0]
[null,null,null,null,null,null,null,null,null,null,null,null,null,null,null,null,null,null,null,null,null,null,null,null,"ООО «Надежность-Тепло»",1053.01,0,2081.17,{"$f":"AC245","v":0},1563.98,0,369.34,864.39,1196.6199999999999,1117.1300000000001,1132.18,1390.6,13.84,377.24,243.71,0,0]
[null,null,null,null,null,null,null,null,null,null,null,null,null,null,null,null,null,null,null,null,null,null,null,null,"АО «Челябкоммунэнерго»",1053.01,0,2081.17,{"$f":"AC246","v":0},1563.98,0,369.34,864.39,1196.6199999999999,1117.1300000000001,1132.18,1390.6,13.84,377.24,243.71,0,0]
[null,null,null,null,null,null,null,null,null,null,null,null,null,null,null,null,null,null,null,null,null,null,null,null,"ООО «Станица»",1053.01,0,2081.17,{"$f":"AC247","v":0},1563.98,0,369.34,864.39,1196.6199999999999,1117.1300000000001,1132.18,1390.6,13.84,377.24,243.71,0,0]
[null,null,null,null,null,null,null,null,null,null,null,null,null,null,null,null,null,null,null,null,null,null,null,null,"ООО «Никос-Сервис»",1053.01,0,2081.17,0,1563.98,0,369.34,864.39,1196.6199999999999,1117.1300000000001,1132.18,1390.6,13.84,377.24,243.71,0,0]
[null,null,null,null,null,null,null,null,null,null,null,null,null,null,null,null,null,null,null,null,null,null,null,null,"ООО «Тепловые электрические сети и системы»",1053.01,0,2081.17,{"$f":"AC249","v":0},1563.98,0,369.34,864.39,1196.6199999999999,1117.1300000000001,1132.18,1390.6,13.84,377.24,243.71,0,0]
[null,null,null,null,null,null,null,null,null,null,null,null,null,null,null,null,null,null,null,null,null,null,null,null,"ОАО «Челябкоммунэнерго»",1053.01,0,2081.17,0,1563.98,0,369.34,864.39,1196.6199999999999,1117.1300000000001,1132.18,1390.6,13.84,377.24,243.71,0,0]
[null,null,null,null,null,null,null,null,null,null,null,null,null,null,null,null,null,null,null,null,null,null,null,null,"ООО «ИРМИ-ЖКХ»",1053.01,0,2081.17,{"$f":"AC251","v":0},1563.98,0,369.34,864.39,1196.6199999999999,1117.1300000000001,1132.18,1390.6,13.84,377.24,243.71,0,0]
[null,null,null,null,null,null,null,null,null,null,null,null,null,null,null,null,null,null,null,null,null,null,null,null,"МУП ЖКХ с. Коелга",1053.01,0,2081.17,{"$f":"AC252","v":0},1563.98,0,369.34,864.39,1196.6199999999999,1117.1300000000001,1132.18,1390.6,13.84,377.24,243.71,0,0]
[null,null,null,null,null,null,null,null,null,null,null,null,null,null,null,null,null,null,null,null,null,null,null,null,"ООО «ИСК»",1053.01,0,2081.17,0,1563.98,0,369.34,864.39,1196.6199999999999,1117.1300000000001,1132.18,1390.6,13.84,377.24,243.71,0,0]
[null,null,null,null,null,null,null,null,null,null,null,null,null,null,null,null,null,null,null,null,null,null,null,null,"ООО «Уралсервис»",1053.01,0,2081.17,0,1563.98,0,369.34,864.39,1196.6199999999999,1117.1300000000001,1132.18,1390.6,13.84,377.24,243.71,0,0]
[null,null,null,null,null,null,null,null,null,null,null,null,null,null,null,null,null,null,null,null,null,null,null,null,"ООО «Коммунальные системы»",1053.01,0,2081.17,0,1563.98,0,369.34,864.39,1196.6199999999999,1117.1300000000001,1132.18,1390.6,13.84,377.24,243.71,0,0]
[null,null,null,null,null,null,null,null,null,null,null,null,null,null,null,null,null,null,null,null,null,null,null,null,"ООО «Корвет»",1053.01,0,2081.17,0,1563.98,0,369.34,864.39,1196.6199999999999,1117.1300000000001,1132.18,1390.6,13.84,377.24,243.71,0,0]
[null,null,null,null,null,null,null,null,null,null,null,null,null,null,null,null,null,null,null,null,null,null,null,null,"МУП «БЖЭК»",1053.01,0,2081.17,0,1563.98,0,369.34,864.39,1196.6199999999999,1117.1300000000001,1132.18,1390.6,13.84,377.24,243.71,0,0]
[null,null,null,null,null,null,null,null,null,null,null,null,null,null,null,null,null,null,null,null,null,null,null,null,"МУП «Булзинский ЭУЖКХ»",1053.01,0,2081.17,{"$f":"AC258","v":0},1563.98,0,369.34,864.39,1196.6199999999999,1117.1300000000001,1132.18,1390.6,13.84,377.24,243.71,0,0]
[null,null,null,null,null,null,null,null,null,null,null,null,null,null,null,null,null,null,null,null,null,null,null,null,"ООО «Перспектива»",1053.01,0,2081.17,0,1563.98,0,369.34,864.39,1196.6199999999999,1117.1300000000001,1132.18,1390.6,13.84,377.24,243.71,0,0]
[null,null,null,null,null,null,null,null,null,null,null,null,null,null,null,null,null,null,null,null,null,null,null,null,"МУП «Каслинский хлебозавод»",1053.01,0,2081.17,0,1563.98,0,369.34,864.39,1196.6199999999999,1117.1300000000001,1132.18,1390.6,13.84,377.24,243.71,0,0]
[null,null,null,null,null,null,null,null,null,null,null,null,null,null,null,null,null,null,null,null,null,null,null,null,"ФКУ ИК - 21 ГУФСИН России по Челябинской области",1053.01,0,2081.17,{"$f":"AC261","v":0},1563.98,0,369.34,864.39,1196.6199999999999,1117.1300000000001,1132.18,1390.6,13.84,377.24,243.71,0,0]
[null,null,null,null,null,null,null,null,null,null,null,null,null,null,null,null,null,null,null,null,null,null,null,null,"АО «Вишневогорский ГОК»",1053.01,0,2081.17,{"$f":"AC262","v":0},1563.98,0,369.34,864.39,1196.6199999999999,1117.1300000000001,1132.18,1390.6,13.84,377.24,243.71,0,0]
[null,null,null,null,null,null,null,null,null,null,null,null,null,null,null,null,null,null,null,null,null,null,null,null,"МУП ЖКХ «Шабурово»",1053.01,0,2081.17,0,1563.98,0,369.34,864.39,1196.6199999999999,1117.1300000000001,1132.18,1390.6,13.84,377.24,243.71,0,0]
[null,null,null,null,null,null,null,null,null,null,null,null,null,null,null,null,null,null,null,null,null,null,null,null,"ООО «ЖКХ «Партнер»",1053.01,0,2081.17,0,1563.98,0,369.34,864.39,1196.6199999999999,1117.1300000000001,1132.18,1390.6,13.84,377.24,243.71,0,0]
[null,null,null,null,null,null,null,null,null,null,null,null,null,null,null,null,null,null,null,null,null,null,null,null,"ОАО «Новокаолиновый ГОК»",1053.01,0,2081.17,{"$f":"AC265","v":0},1563.98,0,369.34,864.39,1196.6199999999999,1117.1300000000001,1132.18,1390.6,13.84,377.24,243.71,0,0]
[null,null,null,null,null,null,null,null,null,null,null,null,null,null,null,null,null,null,null,null,null,null,null,null,"ООО «ЖКХ «Гарант плюс»",1053.01,0,2081.17,{"$f":"AC266","v":0},1563.98,0,369.34,864.39,1196.6199999999999,1117.1300000000001,1132.18,1390.6,13.84,377.24,243.71,0,0]
[null,null,null,null,null,null,null,null,null,null,null,null,null,null,null,null,null,null,null,null,null,null,null,null,"ФГКУ комбинат «Скала» Росрезерва",1053.01,0,2081.17,{"$f":"AC267","v":0},1563.98,0,369.34,864.39,1196.6199999999999,1117.1300000000001,1132.18,1390.6,13.84,377.24,243.71,0,0]
[null,null,null,null,null,null,null,null,null,null,null,null,null,null,null,null,null,null,null,null,null,null,null,null,"ООО ЮУТЭК «ТеплоСервис»",1053.01,0,2081.17,0,1563.98,0,369.34,864.39,1196.6199999999999,1117.1300000000001,1132.18,1390.6,13.84,377.24,243.71,0,0]
[null,null,null,null,null,null,null,null,null,null,null,null,null,null,null,null,null,null,null,null,null,null,null,null,"ООО «Карталинский элеватор»",1053.01,0,2081.17,0,1563.98,0,369.34,864.39,1196.6199999999999,1117.1300000000001,1132.18,1390.6,13.84,377.24,243.71,0,0]
[null,null,null,null,null,null,null,null,null,null,null,null,null,null,null,null,null,null,null,null,null,null,null,null,"МУП «Кочердыкское ЖКХ»",1053.01,0,2081.17,0,1563.98,0,369.34,864.39,1196.6199999999999,1117.1300000000001,1132.18,1390.6,13.84,377.24,243.71,0,0]
[null,null,null,null,null,null,null,null,null,null,null,null,null,null,null,null,null,null,null,null,null,null,null,null,"МУП «Каракульский Жилкомсервис»",1053.01,0,2081.17,{"$f":"AC271","v":0},1563.98,0,369.34,864.39,1196.6199999999999,1117.1300000000001,1132.18,1390.6,13.84,377.24,243.71,0,0]
[null,null,null,null,null,null,null,null,null,null,null,null,null,null,null,null,null,null,null,null,null,null,null,null,"ООО «Атлант»",1053.01,0,2081.17,{"$f":"AC272","v":0},1563.98,0,369.34,864.39,1196.6199999999999,1117.1300000000001,1132.18,1390.6,13.84,377.24,243.71,0,0]
[null,null,null,null,null,null,null,null,null,null,null,null,null,null,null,null,null,null,null,null,null,null,null,null,"Общество с ограниченной ответственностью «ЧЕСМЕНСКОЕ УПРАВЛЕНИЕ КОММУНАЛЬНОГО ХОЗЯЙСТВА»",1053.01,0,2081.17,0,1563.98,0,369.34,864.39,1196.6199999999999,1117.1300000000001,1132.18,1390.6,13.84,377.24,243.71,0,0]
[null,null,null,null,null,null,null,null,null,null,null,null,null,null,null,null,null,null,null,null,null,null,null,null,"ООО «ТеплоЭнергоРесурс»",{"$f":"$Z$145","v":1053.01},{"$f":"$AA$145","v":0},{"$f":"$AB$145","v":2081.17},{"$f":"AC274","v":0},{"$f":"$AD$145","v":1563.98},{"$f":"$AE$145","v":0},{"$f":"$AF$145","v":369.34},{"$f":"$AG$145","v":864.39},{"$f":"$AH$145","v":1196.6199999999999},{"$f":"$AI$145","v":1117.1300000000001},{"$f":"$AJ$145","v":1132.18},{"$f":"$AK$145","v":1390.6},{"$f":"$AL$145","v":13.84},{"$f":"$AM$145","v":377.24},{"$f":"$AN$145","v":243.71},{"$f":"$AO$145","v":0},{"$f":"$AP$145","v":0}]
[null,null,null,null,null,null,null,null,null,null,null,null,null,null,null,null,null,null,null,null,null,null,null,null,"ООО «КУНДРАВЫКОМ»",1053.01,0,2081.17,0,1563.98,0,369.34,864.39,1196.6199999999999,1117.1300000000001,1132.18,1390.6,13.84,377.24,243.71,0,0]
[null,null,null,null,null,null,null,null,null,null,null,null,null,null,null,null,null,null,null,null,null,null,null,null,"ООО УК «КвадроИнвест»",1053.01,0,2081.17,{"$f":"AC276","v":0},1563.98,0,369.34,864.39,1196.6199999999999,1117.1300000000001,1132.18,1390.6,13.84,377.24,243.71,0,0]
[null,null,null,null,null,null,null,null,null,null,null,null,null,null,null,null,null,null,null,null,null,null,null,null,"МУП «Чебаркульские Районные Коммунальные Сети»",1053.01,0,2081.17,{"$f":"AC277","v":0},1563.98,0,369.34,864.39,1196.6199999999999,1117.1300000000001,1132.18,1390.6,13.84,377.24,243.71,0,0]
[null,null,null,null,null,null,null,null,null,null,null,null,null,null,null,null,null,null,null,null,null,null,null,null,"ООО «ТеплоЭнергоСервис»",1053.01,0,2081.17,0,1563.98,0,369.34,864.39,1196.6199999999999,1117.1300000000001,1132.18,1390.6,13.84,377.24,243.71,0,0]
[null,null,null,null,null,null,null,null,null,null,null,null,null,null,null,null,null,null,null,null,null,null,null,null,"ООО «ФилимоновоКом»",1053.01,0,2081.17,0,1563.98,0,369.34,864.39,1196.6199999999999,1117.1300000000001,1132.18,1390.6,13.84,377.24,243.71,0,0]
[null,null,null,null,null,null,null,null,null,null,null,null,null,null,null,null,null,null,null,null,null,null,null,null,"МУП «Кидышевская котельная и тепловые сети»",1053.01,0,2081.17,0,1563.98,0,369.34,864.39,1196.6199999999999,1117.1300000000001,1132.18,1390.6,13.84,377.24,243.71,0,0]
[null,null,null,null,null,null,null,null,null,null,null,null,null,null,null,null,null,null,null,null,null,null,null,null,"ООО «Перспектива плюс»",1053.01,0,2081.17,0,1563.98,0,369.34,864.39,1196.6199999999999,1117.1300000000001,1132.18,1390.6,13.84,377.24,243.71,0,0]
[null,null,null,null,null,null,null,null,null,null,null,null,null,null,null,null,null,null,null,null,null,null,null,null,"ООО «МУЖКП Тимирязевское»",1053.01,0,2081.17,0,1563.98,0,369.34,864.39,1196.6199999999999,1117.1300000000001,1132.18,1390.6,13.84,377.24,243.71,0,0]
[null,null,null,null,null,null,null,null,null,null,null,null,null,null,null,null,null,null,null,null,null,null,null,null,"ООО «Рождественское ЖКХ»",1053.01,0,2081.17,0,1563.98,0,369.34,864.39,1196.6199999999999,1117.1300000000001,1132.18,1390.6,13.84,377.24,243.71,0,0]
[null,null,null,null,null,null,null,null,null,null,null,null,null,null,null,null,null,null,null,null,null,null,null,null,"ООО «Каменское ЖКХ»",1053.01,0,2081.17,0,1563.98,0,369.34,864.39,1196.6199999999999,1117.1300000000001,1132.18,1390.6,13.84,377.24,243.71,0,0]
[null,null,null,null,null,null,null,null,null,null,null,null,null,null,null,null,null,null,null,null,null,null,null,null,"ООО «ПрофТерминал-Энерго»",1053.01,0,2081.17,0,1563.98,0,369.34,864.39,1196.6199999999999,1117.1300000000001,1132.18,1390.6,13.84,377.24,243.71,0,0]
[null,null,null,null,null,null,null,null,null,null,null,null,null,null,null,null,null,null,null,null,null,null,null,null,"МУП «Кичигинское ЖКХ»",1053.01,0,2081.17,0,1563.98,0,369.34,864.39,1196.6199999999999,1117.1300000000001,1132.18,1390.6,13.84,377.24,243.71,0,0]
[null,null,null,null,null,null,null,null,null,null,null,null,null,null,null,null,null,null,null,null,null,null,null,null,"ООО «Хуторское ЖКХ»",1053.01,0,2081.17,{"$f":"AC287","v":0},1563.98,0,369.34,864.39,1196.6199999999999,1117.1300000000001,1132.18,1390.6,13.84,377.24,243.71,0,0]
[null,null,null,null,null,null,null,null,null,null,null,null,null,null,null,null,null,null,null,null,null,null,null,null,"МУП «Коммунальные услуги»",1053.01,0,2081.17,{"$f":"AC288","v":0},1563.98,0,369.34,864.39,1196.6199999999999,1117.1300000000001,1132.18,1390.6,13.84,377.24,243.71,0,0]
[null,null,null,null,null,null,null,null,null,null,null,null,null,null,null,null,null,null,null,null,null,null,null,null,"ООО «Пром-тепло»",1053.01,0,2081.17,0,1563.98,0,369.34,864.39,1196.6199999999999,1117.1300000000001,1132.18,1390.6,13.84,377.24,243.71,0,0]
[null,null,null,null,null,null,null,null,null,null,null,null,null,null,null,null,null,null,null,null,null,null,null,null,"ЗАО КХП «Злак»",1053.01,0,2081.17,{"$f":"AC290","v":0},1563.98,0,369.34,864.39,1196.6199999999999,1117.1300000000001,1132.18,1390.6,13.84,377.24,243.71,0,0]
[null,null,null,null,null,null,null,null,null,null,null,null,null,null,null,null,null,null,null,null,null,null,null,null,"АО работников «Народное предприятие» Челябинское рудоуправление»",1053.01,0,2081.17,{"$f":"AC291","v":0},1563.98,0,369.34,864.39,1196.6199999999999,1117.1300000000001,1132.18,1390.6,13.84,377.24,243.71,0,0]
[null,null,null,null,null,null,null,null,null,null,null,null,null,null,null,null,null,null,null,null,null,null,null,null,"ФГБУ «ЦЖКУ» Министерства обороны РФ",1053.01,0,2081.17,0,1563.98,0,369.34,864.39,1196.6199999999999,1117.1300000000001,1132.18,1390.6,13.84,377.24,243.71,0,0]
[null,null,null,null,null,null,null,null,null,null,null,null,null,null,null,null,null,null,null,null,null,null,null,null,"ООО «Белозерское ЖКХ № 2»",1053.01,0,2081.17,0,1563.98,0,369.34,864.39,1196.6199999999999,1117.1300000000001,1132.18,1390.6,13.84,377.24,243.71,0,0]
[null,null,null,null,null,null,null,null,null,null,null,null,null,null,null,null,null,null,null,null,null,null,null,null,"Федеральное государственное казенное учреждение «Пограничное управление ФСБ России по Челябинской области»",1053.01,0,2081.17,0,1563.98,0,369.34,864.39,1196.6199999999999,1117.1300000000001,1132.18,1390.6,13.84,377.24,243.71,0,0]
[null,null,null,null,null,null,null,null,null,null,null,null,null,null,null,null,null,null,null,null,null,null,null,null,"ЗАО «Троицкая энергетическая компания»",1053.01,0,2081.17,0,1563.98,0,369.34,864.39,1196.6199999999999,1117.1300000000001,1132.18,1390.6,13.84,377.24,243.71,0,0]
[null,null,null,null,null,null,null,null,null,null,null,null,null,null,null,null,null,null,null,null,null,null,null,null,"ООО «Новые коммунальные системы - Троицк»",1053.01,0,2081.17,0,1563.98,0,369.34,864.39,1196.6199999999999,1117.1300000000001,1132.18,1390.6,13.84,377.24,243.71,0,0]
[null,null,null,null,null,null,null,null,null,null,null,null,null,null,null,null,null,null,null,null,null,null,null,null,"ФГКУ Комбинат «Уральский» Росрезерва",1053.01,0,2081.17,0,1563.98,0,369.34,864.39,1196.6199999999999,1117.1300000000001,1132.18,1390.6,13.84,377.24,243.71,0,0]
[null,null,null,null,null,null,null,null,null,null,null,null,null,null,null,null,null,null,null,null,null,null,null,null,"ТСЖ «Кумысное»",1053.01,0,2081.17,0,1563.98,0,369.34,864.39,1196.6199999999999,1117.1300000000001,1132.18,1390.6,13.84,377.24,243.71,0,0]
[null,null,null,null,null,null,null,null,null,null,null,null,null,null,null,null,null,null,null,null,null,null,null,null,"ООО «Целинное ЖКХ»",1053.01,0,2081.17,0,1563.98,0,369.34,864.39,1196.6199999999999,1117.1300000000001,1132.18,1390.6,13.84,377.24,243.71,0,0]
[null,null,null,null,null,null,null,null,null,null,null,null,null,null,null,null,null,null,null,null,null,null,null,null,"ООО «Родниковское ЖКХ»",1053.01,0,2081.17,0,1563.98,0,369.34,864.39,1196.6199999999999,1117.1300000000001,1132.18,1390.6,13.84,377.24,243.71,0,0]
[null,null,null,null,null,null,null,null,null,null,null,null,null,null,null,null,null,null,null,null,null,null,null,null,"МУП Скалистское ЖКХ «Троицко-совхозное сельское поселение»",1053.01,0,2081.17,0,1563.98,0,369.34,864.39,1196.6199999999999,1117.1300000000001,1132.18,1390.6,13.84,377.24,243.71,0,0]
[null,null,null,null,null,null,null,null,null,null,null,null,null,null,null,null,null,null,null,null,null,null,null,null,"ООО «Инжиниринговая компания» Модернизация коммунальных систем»",1053.01,0,2081.17,0,1563.98,0,369.34,864.39,1196.6199999999999,1117.1300000000001,1132.18,1390.6,13.84,377.24,243.71,0,0]
[null,null,null,null,null,null,null,null,null,null,null,null,null,null,null,null,null,null,null,null,null,null,null,null,"ООО «ЖЭК»",1053.01,0,2081.17,0,1563.98,0,369.34,864.39,1196.6199999999999,1117.1300000000001,1132.18,1390.6,13.84,377.24,243.71,0,0]
[null,null,null,null,null,null,null,null,null,null,null,null,null,null,null,null,null,null,null,null,null,null,null,null,"ОАО «Есаульское ремонтно-техническое предприятие»",1053.01,0,2081.17,0,1563.98,0,369.34,864.39,1196.6199999999999,1117.1300000000001,1132.18,1390.6,13.84,377.24,243.71,0,0]
[null,null,null,null,null,null,null,null,null,null,null,null,null,null,null,null,null,null,null,null,null,null,null,null,"ООО ТГК «Восход»",1053.01,0,2081.17,0,1563.98,0,369.34,864.39,1196.6199999999999,1117.1300000000001,1132.18,1390.6,13.84,377.24,243.71,0,0]
[null,null,null,null,null,null,null,null,null,null,null,null,null,null,null,null,null,null,null,null,null,null,null,null,"МУП «Кременкульские коммунальные системы» п. Кременкуль, п. Садовый",1053.01,0,2081.17,0,1563.98,0,369.34,864.39,1196.6199999999999,1117.1300000000001,1132.18,1390.6,13.84,377.24,243.71,0,0]
[null,null,null,null,null,null,null,null,null,null,null,null,null,null,null,null,null,null,null,null,null,null,null,null,"ООО «Энергия»",1053.01,0,2081.17,0,1563.98,0,369.34,864.39,1196.6199999999999,1117.1300000000001,1132.18,1390.6,13.84,377.24,243.71,0,0]
[null,null,null,null,null,null,null,null,null,null,null,null,null,null,null,null,null,null,null,null,null,null,null,null,"ООО «ВЕЛЛ-КОМ»",1053.01,0,2081.17,0,1563.98,0,369.34,864.39,1196.6199999999999,1117.1300000000001,1132.18,1390.6,13.84,377.24,243.71,0,0]
[null,null,null,null,null,null,null,null,null,null,null,null,null,null,null,null,null,null,null,null,null,null,null,null,"ООО «ТеплоЭнергоМастер»",1053.01,0,2081.17,0,1563.98,0,369.34,864.39,1196.6199999999999,1117.1300000000001,1132.18,1390.6,13.84,377.24,243.71,0,0]
[null,null,null,null,null,null,null,null,null,null,null,null,null,null,null,null,null,null,null,null,null,null,null,null,"ООО «ПлазаДевелопментСервис»",1053.01,0,2081.17,0,1563.98,0,369.34,864.39,1196.6199999999999,1117.1300000000001,1132.18,1390.6,13.84,377.24,243.71,0,0]
[null,null,null,null,null,null,null,null,null,null,null,null,null,null,null,null,null,null,null,null,null,null,null,null,"ООО «Центр»",1053.01,0,2081.17,0,1563.98,0,369.34,864.39,1196.6199999999999,1117.1300000000001,1132.18,1390.6,13.84,377.24,243.71,0,0]
[null,null,null,null,null,null,null,null,null,null,null,null,null,null,null,null,null,null,null,null,null,null,null,null,"ООО «КН-Сервис»",1053.01,0,2081.17,0,1563.98,0,369.34,864.39,1196.6199999999999,1117.1300000000001,1132.18,1390.6,13.84,377.24,243.71,0,0]
[null,null,null,null,null,null,null,null,null,null,null,null,null,null,null,null,null,null,null,null,null,null,null,null,"ООО «Теченское ЖКХ»",1053.01,0,2081.17,0,1563.98,0,369.34,864.39,1196.6199999999999,1117.1300000000001,1132.18,1390.6,13.84,377.24,243.71,0,0]
[null,null,null,null,null,null,null,null,null,null,null,null,null,null,null,null,null,null,null,null,null,null,null,null,"ООО УК «Солнечный»",1053.01,0,2081.17,0,1563.98,0,369.34,864.39,1196.6199999999999,1117.1300000000001,1132.18,1390.6,13.84,377.24,243.71,0,0]
[null,null,null,null,null,null,null,null,null,null,null,null,null,null,null,null,null,null,null,null,null,null,null,null,"ООО УК «ЮУ КЖСИ»",1053.01,0,2081.17,{"$f":"AC315","v":0},1563.98,0,369.34,864.39,1196.6199999999999,1117.1300000000001,1132.18,1390.6,13.84,377.24,243.71,0,0]
[null,null,null,null,null,null,null,null,null,null,null,null,null,null,null,null,null,null,null,null,null,null,null,null,"ООО «Здоровый дух»",1053.01,0,2081.17,{"$f":"AC316","v":0},1563.98,0,369.34,864.39,1196.6199999999999,1117.1300000000001,1132.18,1390.6,13.84,377.24,243.71,0,0]
[null,null,null,null,null,null,null,null,null,null,null,null,null,null,null,null,null,null,null,null,null,null,null,null,"ООО «Теплый Дом»",1053.01,0,2081.17,0,1563.98,0,369.34,864.39,1196.6199999999999,1117.1300000000001,1132.18,1390.6,13.84,377.24,243.71,0,0]
[null,null,null,null,null,null,null,null,null,null,null,null,null,null,null,null,null,null,null,null,null,null,null,null,"ООО УК «АККТиВ»",1053.01,0,2081.17,{"$f":"AC311","v":0},1563.98,0,369.34,864.39,1196.6199999999999,1117.1300000000001,1132.18,1390.6,13.84,377.24,243.71,0,0]
[null,null,null,null,null,null,null,null,null,null,null,null,null,null,null,null,null,null,null,null,null,null,null,null,"ОАО «Южуралзолото Группа Компаний»",1053.01,0,2081.17,0,1563.98,0,369.34,864.39,1196.6199999999999,1117.1300000000001,1132.18,1390.6,13.84,377.24,243.71,0,0]
[null,null,null,null,null,null,null,null,null,null,null,null,null,null,null,null,null,null,null,null,null,null,null,null,"ООО «Уралэнергогрупп»",1053.01,0,2081.17,0,1563.98,0,369.34,864.39,1196.6199999999999,1117.1300000000001,1132.18,1390.6,13.84,377.24,243.71,0,0]
[null,null,null,null,null,null,null,null,null,null,null,null,null,null,null,null,null,null,null,null,null,null,null,null,"ООО «Реммонтаж Сервис»",1053.01,0,2081.17,{"$f":"AC321","v":0},1563.98,0,369.34,864.39,1196.6199999999999,1117.1300000000001,1132.18,1390.6,13.84,377.24,243.71,0,0]
[null,null,null,null,null,null,null,null,null,null,null,null,null,null,null,null,null,null,null,null,null,null,null,null,"АО «Саткинский чугуноплавильный завод»",1053.01,0,2081.17,{"$f":"AC315","v":0},1563.98,0,369.34,864.39,1196.6199999999999,1117.1300000000001,1132.18,1390.6,13.84,377.24,243.71,0,0]
[null,null,null,null,null,null,null,null,null,null,null,null,null,null,null,null,null,null,null,null,null,null,null,null,"ОАО «Энергосистемы»",1053.01,0,2081.17,0,1563.98,0,369.34,864.39,1196.6199999999999,1117.1300000000001,1132.18,1390.6,13.84,377.24,243.71,0,0]
[null,null,null,null,null,null,null,null,null,null,null,null,null,null,null,null,null,null,null,null,null,null,null,null,"Южно-Уральская дирекция по тепловодоснабжению - структурное подразделение Центральной дирекции по тепловодоснабжению - филиала ОАО «РЖД»",1053.01,0,2081.17,0,1563.98,0,369.34,864.39,1196.6199999999999,1117.1300000000001,1132.18,1390.6,13.84,377.24,243.71,0,0]
[null,null,0,null,null,null,null,null,null,null,null,null,null,null,null,null,null,null,null,null,null,null,null,null,"ООО «ЖКХ-Бердяуш»",1053.01,0,2081.17,{"$f":"AC325","v":0},1563.98,0,369.34,864.39,1196.6199999999999,1117.1300000000001,1132.18,1390.6,13.84,377.24,243.71,0,0]
[null,null,null,null,null,null,null,null,null,null,null,null,null,null,null,null,null,null,null,null,null,null,null,null,"ООО «Коммунальное обеспечение населения и сервис»",1053.01,0,2081.17,0,1563.98,0,369.34,864.39,1196.6199999999999,1117.1300000000001,1132.18,1390.6,13.84,377.24,243.71,0,0]
[null,null,null,null,null,null,null,null,null,null,null,null,null,null,null,null,null,null,null,null,null,null,null,null,"ООО «ЖКХ» п. Сулея",1053.01,0,2081.17,0,1563.98,0,369.34,864.39,1196.6199999999999,1117.1300000000001,1132.18,1390.6,13.84,377.24,243.71,0,0]
[null,null,null,null,null,null,null,null,null,null,null,null,null,null,null,null,null,null,null,null,null,null,null,null,"Государственное стационарное учреждение социального обслуживания системы социальной защиты населения «Саткинский психоневрологический интернат»",1053.01,0,2081.17,{"$f":"AC328","v":0},1563.98,0,369.34,864.39,1196.6199999999999,1117.1300000000001,1132.18,1390.6,13.84,377.24,243.71,0,0]
[null,null,null,null,null,null,null,null,null,null,null,null,null,null,null,null,null,null,null,null,null,null,null,null,"ООО «Урал Энерго Девелопмент»",1053.01,0,2081.17,{"$f":"AC329","v":0},1563.98,0,369.34,864.39,1196.6199999999999,1117.1300000000001,1132.18,1390.6,13.84,377.24,243.71,0,0]
[null,null,null,null,null,null,null,null,null,null,null,null,null,null,null,null,null,null,null,null,null,null,null,null,"ООО «Теплосервис»",1053.01,0,2081.17,{"$f":"AC330","v":0},1563.98,0,369.34,864.39,1196.6199999999999,1117.1300000000001,1132.18,1390.6,13.84,377.24,243.71,0,0]
[null,null,null,null,null,null,null,null,null,null,null,null,null,null,null,null,null,null,null,null,null,null,null,null,"МУП «Теплосервис»",1053.01,0,2081.17,{"$f":"AC331","v":0},1563.98,0,369.34,864.39,1196.6199999999999,1117.1300000000001,1132.18,1390.6,13.84,377.24,243.71,0,0]
[null,null,null,null,null,null,null,null,null,null,null,null,null,null,null,null,null,null,null,null,null,null,null,null,"ООО «СТАНДАРТТЕПЛО»",1053.01,0,2081.17,{"$f":"AC332","v":0},1563.98,0,369.34,864.39,1196.6199999999999,1117.1300000000001,1132.18,1390.6,13.84,377.24,243.71,0,0]
[null,null,null,null,null,null,null,null,null,null,null,null,null,null,null,null,null,null,null,null,null,null,null,null,"ООО «ТЭС»",1053.01,0,2081.17,{"$f":"AC333","v":0},1563.98,0,369.34,864.39,1196.6199999999999,1117.1300000000001,1132.18,1390.6,13.84,377.24,243.71,0,0]
[null,null,null,null,null,null,null,null,null,null,null,null,null,null,null,null,null,null,null,null,null,null,null,null,"ООО «Теплоснаб» (г.Екатеринбург)",1053.01,0,2081.17,0,1563.98,0,369.34,864.39,1196.6199999999999,1117.1300000000001,1132.18,1390.6,13.84,377.24,243.71,0,0]
[null,null,null,null,null,null,null,null,null,null,null,null,null,null,null,null,null,null,null,null,null,null,null,null,"МУП «Арсинское ЖКХ»",1053.01,0,2081.17,{"$f":"AC335","v":0},1563.98,0,369.34,864.39,1196.6199999999999,1117.1300000000001,1132.18,1390.6,13.84,377.24,243.71,0,0]
[null,null,null,null,null,null,null,null,null,null,null,null,null,null,null,null,null,null,null,null,null,null,null,null,"МУП «Кассельское ЖКХ»",1053.01,0,2081.17,{"$f":"AC336","v":0},1563.98,0,369.34,864.39,1196.6199999999999,1117.1300000000001,1132.18,1390.6,13.84,377.24,243.71,0,0]
[null,null,null,null,null,null,null,null,null,null,null,null,null,null,null,null,null,null,null,null,null,null,null,null,"ООО «Эффективная теплоэнергетика»",1053.01,0,2081.17,{"$f":"AC337","v":0},1563.98,0,369.34,864.39,1196.6199999999999,1117.1300000000001,1132.18,1390.6,13.84,377.24,243.71,0,0]
[null,null,null,null,null,null,null,null,null,null,null,null,null,null,null,null,null,null,null,null,null,null,null,null,"ООО «Вектор»",{"$f":"$Z$145","v":1053.01},{"$f":"$AA$145","v":0},{"$f":"$AB$145","v":2081.17},{"$f":"AC338","v":0},{"$f":"$AD$145","v":1563.98},{"$f":"$AE$145","v":0},{"$f":"$AF$145","v":369.34},{"$f":"$AG$145","v":864.39},{"$f":"$AH$145","v":1196.6199999999999},{"$f":"$AI$145","v":1117.1300000000001},{"$f":"$AJ$145","v":1132.18},{"$f":"$AK$145","v":1390.6},{"$f":"$AL$145","v":13.84},{"$f":"$AM$145","v":377.24},{"$f":"$AN$145","v":243.71},{"$f":"$AO$145","v":0},{"$f":"$AP$145","v":0}]
[null,null,null,null,null,null,null,null,null,null,null,null,null,null,null,null,null,null,null,null,null,null,null,null,"АО «Челябоблкоммунэнерго»",1053.01,0,2081.17,{"$f":"AC339","v":0},1563.98,0,369.34,864.39,1196.6199999999999,1117.1300000000001,1132.18,1390.6,13.84,377.24,243.71,0,0]
[null,null,null,null,null,null,null,null,null,null,null,null,null,null,null,null,null,null,null,null,null,null,null,null,"ООО «Уральская энергия»",{"$f":"$Z$145","v":1053.01},{"$f":"$AA$145","v":0},{"$f":"$AB$145","v":2081.17},{"$f":"AC340","v":0},{"$f":"$AD$145","v":1563.98},{"$f":"$AE$145","v":0},{"$f":"$AF$145","v":369.34},{"$f":"$AG$145","v":864.39},{"$f":"$AH$145","v":1196.6199999999999},{"$f":"$AI$145","v":1117.1300000000001},{"$f":"$AJ$145","v":1132.18},{"$f":"$AK$145","v":1390.6},{"$f":"$AL$145","v":13.84},{"$f":"$AM$145","v":377.24},{"$f":"$AN$145","v":243.71},{"$f":"$AO$145","v":0},{"$f":"$AP$145","v":0}]
[null,null,null,null,null,null,null,null,null,null,null,null,null,null,null,null,null,null,null,null,null,null,null,null,"ООО ТСО «Северо-Запад» в г. Челябинске",0,0,2488.06,2349.13,0,0,0,0,2279.6799999999998,2250.1999999999998,0,0,{"$f":"$AL$145","v":13.84},577.51,545.82000000000005,{"$f":"$AO$145","v":0},{"$f":"$AP$145","v":0}]
[null,null,null,null,null,null,null,null,null,null,null,null,null,null,null,null,null,null,null,null,null,null,null,null,"ООО «Тепловые электрические сети и системы» в г. Челябинске",{"$f":"$Z$342","v":0},{"$f":"$AA$342","v":0},{"$f":"$AB$342","v":2488.06},{"$f":"$AC$342","v":2349.13},{"$f":"$AD$342","v":0},{"$f":"$AE$342","v":0},{"$f":"$AF$342","v":0},{"$f":"$AG$342","v":0},{"$f":"$AH$342","v":2279.6799999999998},{"$f":"$AI$342","v":2250.1999999999998},{"$f":"$AJ$342","v":0},{"$f":"$AK$342","v":0},13.84,{"$f":"$AM$342","v":577.51},545.82000000000005,0,0]
[null,null,null,null,null,null,null,null,null,null,null,null,null,null,null,null,null,null,null,null,null,null,null,null,"ОАО «Южуралкондитер» в г. Челябинске",0,0,2488.06,2349.13,0,0,0,0,2279.6799999999998,2250.1999999999998,0,0,13.84,577.51,545.82000000000005,0,0]
[null,null,null,null,null,null,null,null,null,null,null,null,null,null,null,null,null,null,null,null,null,null,null,null,"ООО «Теплосбыт» в г. Челябинске",0,0,2488.06,2349.13,0,0,0,0,2279.6799999999998,2250.1999999999998,0,0,13.84,577.51,545.82000000000005,0,0]
[null,null,null,null,null,null,null,null,null,null,null,null,null,null,null,null,null,null,null,null,null,null,null,null,"ОАО «БетЭлТранс» в г. Челябинске",0,0,2488.06,2349.13,0,0,0,0,2279.6799999999998,2250.1999999999998,0,0,13.84,577.51,545.82000000000005,0,0]
[null,null,null,null,null,null,null,null,null,null,null,null,null,null,null,null,null,null,null,null,null,null,null,null,"МУП «Производственное объединение водоснабжения и водоотведения» в г. Челябинске",0,0,2488.06,2349.13,0,0,0,0,2279.6799999999998,2250.1999999999998,0,0,13.84,577.51,545.82000000000005,0,0]
[null,null,null,null,null,null,null,null,null,null,null,null,null,null,null,null,null,null,null,null,null,null,null,null,"Южно-Уральская дирекция по тепловодоснабжению - структурное подразделение Центральной дирекции по тепловодоснабжению - филиала ОАО «РЖД» в г. Челябинске",0,0,2488.06,2349.13,0,0,0,0,2279.6799999999998,2250.1999999999998,0,0,13.84,577.51,545.82000000000005,0,0]
[null,null,null,null,null,null,null,null,null,null,null,null,null,null,null,null,null,null,null,null,null,null,null,null,"ООО «ПетроПак» в г. Челябинске",0,0,2488.06,2349.13,0,0,0,0,2279.6799999999998,2250.1999999999998,0,0,13.84,577.51,545.82000000000005,0,0]
[null,null,null,null,null,null,null,null,null,null,null,null,null,null,null,null,null,null,null,null,null,null,null,null,"АО «Макфа» в г. Челябинске",0,0,2488.06,2349.13,0,0,0,0,2279.6799999999998,2250.1999999999998,0,0,13.84,577.51,545.82000000000005,0,0]
[null,null,null,null,null,null,null,null,null,null,null,null,null,null,null,null,null,null,null,null,null,null,null,null,"ООО «Теплоэнергосбыт» в г. Челябинске",0,0,2488.06,2349.13,0,0,0,0,2279.6799999999998,2250.1999999999998,0,0,13.84,577.51,545.82000000000005,0,0]
[null,null,null,null,null,null,null,null,null,null,null,null,null,null,null,null,null,null,null,null,null,null,null,null,"ПАО «ЧЗПСН-Профнастил» в г. Челябинске",0,0,2488.06,2349.13,0,0,0,0,2279.6799999999998,2250.1999999999998,0,0,13.84,577.51,545.82000000000005,0,0]
[null,null,null,null,null,null,null,null,null,null,null,null,null,null,null,null,null,null,null,null,null,null,null,null,"АО «Челябоблкоммунэнерго» в г. Челябинске",0,0,2488.06,2349.13,0,0,0,0,2279.6799999999998,2250.1999999999998,0,0,13.84,577.51,545.82000000000005,0,0]
[null,null,null,null,null,null,null,null,null,null,null,null,null,null,null,null,null,null,null,null,null,null,null,null,"ООО «Термогаз» в г. Челябинске",0,0,2488.06,2349.13,0,0,0,0,2279.6799999999998,2250.1999999999998,0,0,13.84,577.51,545.82000000000005,0,0]
[null,null,null,null,null,null,null,null,null,null,null,null,null,null,null,null,null,null,null,null,null,null,null,null,"ОАО «Трубодеталь» в г. Челябинске",0,0,2488.06,2349.13,0,0,0,0,2279.6799999999998,2250.1999999999998,0,0,13.84,577.51,545.82000000000005,0,0]
[null,null,null,null,null,null,null,null,null,null,null,null,null,null,null,null,null,null,null,null,null,null,null,null,"АО «Сигнал» в г. Челябинске",0,0,2488.06,2349.13,0,0,0,0,2279.6799999999998,2250.1999999999998,0,0,13.84,577.51,545.82000000000005,0,0]
[null,null,null,null,null,null,null,null,null,null,null,null,null,null,null,null,null,null,null,null,null,null,null,null,"ООО «Объединение «Союзпищепром» в г. Челябинске",0,0,2488.06,2349.13,0,0,0,0,2279.6799999999998,2250.1999999999998,0,0,13.84,577.51,545.82000000000005,0,0]
[null,null,null,null,null,null,null,null,null,null,null,null,null,null,null,null,null,null,null,null,null,null,null,null,"Челябинский филиал ООО «МЕЧЕЛ-ЭНЕРГО» в г. Челябинске",0,0,2488.06,2349.13,0,0,0,0,2279.6799999999998,2250.1999999999998,0,0,{"$f":"$AL$145","v":13.84},577.51,545.82000000000005,{"$f":"$AO$145","v":0},{"$f":"$AP$145","v":0}]
[null,null,null,null,null,null,null,null,null,null,null,null,null,null,null,null,null,null,null,null,null,null,null,null,"ООО «Тепловая котельная «Западная» в г. Челябинске",0,0,2488.06,2349.13,0,0,0,0,2279.6799999999998,2250.1999999999998,0,0,13.84,577.51,545.82000000000005,0,0]
[null,null,null,null,null,null,null,null,null,null,null,null,null,null,null,null,null,null,null,null,null,null,null,null,"ПАО «Фортум» в г. Челябинске",0,0,2488.06,2349.13,0,0,0,0,2279.6799999999998,2250.1999999999998,0,0,13.84,577.51,545.82000000000005,0,0]
[null,null,null,null,null,null,null,null,null,null,null,null,null,null,null,null,null,null,null,null,null,null,null,null,"ООО «ЧКПЗ-Энерго» в г. Челябинске",0,0,2488.06,2349.13,0,0,0,0,2279.6799999999998,2250.1999999999998,0,0,13.84,577.51,545.82000000000005,0,0]
[null,null,null,null,null,null,null,null,null,null,null,null,null,null,null,null,null,null,null,null,null,null,null,null,"ООО «ЮжУралТеплоПрибор» в г. Челябинске",0,0,2488.06,2349.13,0,0,0,0,2279.6799999999998,2250.1999999999998,0,0,13.84,577.51,545.82000000000005,0,0]
[null,null,null,null,null,null,null,null,null,null,null,null,null,null,null,null,null,null,null,null,null,null,null,null,"АО «ЭСК ЧТПЗ» в г. Челябинске",0,0,2488.06,2349.13,0,0,0,0,2279.6799999999998,2250.1999999999998,0,0,13.84,577.51,545.82000000000005,0,0]
[null,null,null,null,null,null,null,null,null,null,null,null,null,null,null,null,null,null,null,null,null,null,null,null,"ОАО «Челябкоммунэнерго» в г. Челябинске",{"$f":"$Z$342","v":0},{"$f":"$AA$342","v":0},{"$f":"$AB$342","v":2488.06},{"$f":"$AC$342","v":2349.13},{"$f":"$AD$342","v":0},{"$f":"$AE$342","v":0},{"$f":"$AF$342","v":0},{"$f":"$AG$342","v":0},{"$f":"$AH$342","v":2279.6799999999998},{"$f":"$AI$342","v":2250.1999999999998},{"$f":"$AJ$342","v":0},{"$f":"$AK$342","v":0},13.84,{"$f":"$AM$342","v":577.51},546.82000000000005,0,0]
[null,null,null,null,null,null,null,null,null,null,null,null,null,null,null,null,null,null,null,null,null,null,null,null,"ООО Агрокомплекс «Чурилово» в г. Челябинске",0,0,2488.06,2349.13,0,0,0,0,2279.6799999999998,2250.1999999999998,0,0,13.84,577.51,547.82000000000005,0,0]
[null,null,null,null,null,null,null,null,null,null,null,null,null,null,null,null,null,null,null,null,null,null,null,null,"ФГБУ «ЦЖКУ» Министерства обороны РФ в г. Челябинске",0,0,2488.06,2349.13,0,0,0,0,2279.6799999999998,2250.1999999999998,0,0,13.84,577.51,548.82000000000005,0,0]
[null,null,null,null,null,null,null,null,null,null,null,null,null,null,null,null,null,null,null,null,null,null,null,null,"ООО «Энерго Сетевая Компания» в г. Челябинске",0,0,2488.06,2349.13,0,0,0,0,2279.6799999999998,2250.1999999999998,0,0,13.84,577.51,549.82000000000005,0,0]
[null,null,null,null,null,null,null,null,null,null,null,null,null,null,null,null,null,null,null,null,null,null,null,null,"ООО «Центр» в г. Челябинске",0,0,2488.06,2349.13,0,0,0,0,2279.6799999999998,2250.1999999999998,0,0,13.84,577.51,550.82000000000005,0,0]
[null,null,null,null,null,null,null,null,null,null,null,null,null,null,null,null,null,null,null,null,null,null,null,null,"ФГАУ ВО «ЮУрГУ» (НИУ) в г. Челябинске",0,0,2488.06,2349.13,0,0,0,0,2279.6799999999998,2250.1999999999998,0,0,13.84,577.51,551.82000000000005,0,0]
[null,null,null,null,null,null,null,null,null,null,null,null,null,null,null,null,null,null,null,null,null,null,null,null,"ООО «Источники тепла» в г. Челябинске",0,0,2488.06,2349.13,0,0,0,0,2279.6799999999998,2250.1999999999998,0,0,13.84,577.51,552.82000000000005,0,0]
[null,null,null,null,null,null,null,null,null,null,null,null,null,null,null,null,null,null,null,null,null,null,null,null,"ООО «РЕМСТРОЙ» в г. Челябинске",0,0,2488.06,2349.13,0,0,0,0,2279.6799999999998,2250.1999999999998,0,0,13.84,577.51,553.82000000000005,0,0]
[null,null,null,null,null,null,null,null,null,null,null,null,null,null,null,null,null,null,null,null,null,null,null,null,"ООО «Магнитогорская сетевая компания» в г. Челябинске",0,0,2488.06,2349.13,0,0,0,0,2279.6799999999998,2250.1999999999998,0,0,13.84,577.51,554.82000000000005,0,0]
[null,null,null,null,null,null,null,null,null,null,null,null,null,null,null,null,null,null,null,null,null,null,null,null,"ООО «ЧТСК» в г. Челябинске",0,0,2488.06,2349.13,0,0,0,0,2279.6799999999998,2250.1999999999998,0,0,13.84,577.51,555.82000000000005,0,0]
[null,null,null,null,null,null,null,null,null,null,null,null,null,null,null,null,null,null,null,null,null,null,null,null,"АО «Челябоблкоммунэнерго» в Копейском городском округе",null,null,1392.19,1392.19,null,null,null,null,1392.19,1392.19,null,null,13.84,127.21,107.05,101.62,101.62]
[null,null,null,null,null,null,null,null,null,null,null,null,null,null,null,null,null,null,null,null,null,null,null,null,"АО «Урало-Сибирская Теплоэнергетическая Компания-Челябинск» в г. Челябинске",0,4562.08,4626.87,245.05,1841.94,null,null,null,1356.52,14.54]
[null,null,null,null,null,null,null,null,null,null,null,null,null,null,null,null,null,null,null,null,null,null,null,null,"МУП «Челябинские коммунальные тепловые сети» в г. Челябинске",2514.11,2514.11,null,null,null,null,null,null,438.13,14.54,null,null,null,null,null,null,0]
[null,null,null,null,null,null,null,null,null,null,null,null,null,null,null,null,null,null,null,null,null,null,null,null,"ООО «Альтернативная топливно-энергетическая компания» в г. Челябинске",null,null,2142.38,null,null,415.02,1106.58,4697.41,295.02,14.54,null,null,null,null,null,0,0]
[null,null,null,null,null,null,null,null,null,null,null,null,null,null,null,null,null,null,null,null,null,null,null,null,null,"Надземная (наземная) прокладка",null,"Подземная прокладка канальная",null,null,"Подземная прокладка бесканальная",null,null,null,null,null,null,null,null,null,"СТАВКА П2.2"]
[null,null,null,null,null,null,null,null,null,null,null,null,null,null,null,null,null,null,null,null,null,null,null,null,null,2,3,4,5,6,7,8,9,10,11,12,null,null,null,null,17,18]
[null,null,null,null,null,null,null,null,null,null,null,null,null,null,null,null,null,null,null,null,null,null,null,null,null,"50 - 250 мм","701 и выше","50 - 250 мм","251-400 мм","401-550 мм","50 - 250 мм","251-400 мм","401-550 мм","Налог","П1","П2.2",null,null,null,null,"0,1-1,5","свыше 1,5"]
[]
[]
[]
[]
[null,null,null,null,null,null,null,null,null,null,null,null,null,null,null,null,null,null,null,null,null,null,null,null,null,{"$f":"IF(AND(C38=AA380,C36=Z378),VLOOKUP(C3,Y375:AK377,2,0),0)","v":0}]

{"sheet":"реестр организаций","index":1,"n_rows":470,"n_cols":39,"rows_kept":470,"cut":false,"hidden":true,"merged":[[2,22,2,26],[2,27,2,31],[2,32,2,36],[1,3,1,20],[1,21,1,38],[2,4,2,8],[2,9,2,13],[2,14,2,18]]}
[null,1,2,3,4,5,6,7,8,9,10,11,12,13,14,15,16,17,18,19,20,21,22,23,24,25,26,27,28,29,30,31,32,33,34,35,36,37,38]
[null,null,null,"Тепловая нагрузка более 0,1 Гкал/ч и не превышает 1,5 Гкал/ч",null,null,null,null,null,null,null,null,null,null,null,null,null,null,null,null,null,"Тепловая нагрузка свыше 1,5 Гкал/ч"]
[null,null,null,1,"2.1 Надземная прокладка",null,null,null,null,"2.2.1 Подземная канальная прокладка",null,null,null,null,"2.2.2 Подземная безканальная прокладка",null,null,null,null,"3","4",1,"2.1 Надземная прокладка",null,null,null,null,"2.2.1 Подземная канальная прокладка",null,null,null,null,"2.2.2 Подземная безканальная прокладка",null,null,null,null,"3","4"]
["№ п/п","Наименование теплоснабжающей (теплосетевой) организации","Постановление об установлении платы за подключение к системам теплоснабжения","П1","2.1.1","2.1.2","2.1.3","2.1.4","2.1.5","2.2.1.1","2.2.1.2","2.2.1.3","2.2.1.4","2.2.1.5","2.2.2.1","2.2.2.2","2.2.2.3","2.2.2.4","2.2.2.5","ТП","НП","П1","2.1.1","2.1.2","2.1.3","2.1.4","2.1.5","2.2.1.1","2.2.1.2","2.2.1.3","2.2.1.4","2.2.1.5","2.2.2.1","2.2.2.2","2.2.2.3","2.2.2.4","2.2.2.5","ТП","НП"]
["1"," Верхнеуфалейский городской округ"]
["1","Вагонное депо Верхний Уфалей - филиал ЗАО \"Уралгоршахткомплект\"",null,{"$f":"'Челябинская обл.'!$C$7","v":"13,23"},{"$f":"'Челябинская обл.'!$C$10","v":1005.74},{"$f":"'Челябинская обл.'!$C$11","v":0},{"$f":"'Челябинская обл.'!$C$12","v":0},{"$f":"'Челябинская обл.'!$C$13","v":0},{"$f":"'Челябинская обл.'!$C$14","v":0},{"$f":"'Челябинская обл.'!$C$17","v":1987.75},{"$f":"'Челябинская обл.'!$C$18","v":0},{"$f":"'Челябинская обл.'!$C$19","v":0},{"$f":"'Челябинская обл.'!$C$20","v":0},{"$f":"'Челябинская обл.'!$C$21","v":0},{"$f":"'Челябинская обл.'!$C$23","v":1493.77},{"$f":"'Челябинская обл.'!$C$24","v":0},{"$f":"'Челябинская обл.'!$C$25","v":0},{"$f":"'Челябинская обл.'!$C$26","v":0},{"$f":"'Челябинская обл.'!$C$27","v":0},{"$f":"'Челябинская обл.'!$C$28","v":0},{"$f":"'Челябинская обл.'!$C$29","v":377.24},{"$f":"'Челябинская обл.'!$C$34","v":13.23},{"$f":"'Челябинская обл.'!$C$37","v":352.76},{"$f":"'Челябинская обл.'!$C$38","v":825.59},{"$f":"'Челябинская обл.'!$C$39","v":0},{"$f":"'Челябинская обл.'!$C$40","v":0},{"$f":"'Челябинская обл.'!$C$41","v":0},{"$f":"'Челябинская обл.'!$C$44","v":1142.9000000000001},{"$f":"'Челябинская обл.'!$C$45","v":1066.98},{"$f":"'Челябинская обл.'!$C$46","v":0},{"$f":"'Челябинская обл.'!$C$47","v":0},{"$f":"'Челябинская обл.'!$C$48","v":0},{"$f":"'Челябинская обл.'!$C$50","v":1081.3599999999999},{"$f":"'Челябинская обл.'!$C$51","v":1328.18},{"$f":"'Челябинская обл.'!$C$52","v":0},{"$f":"'Челябинская обл.'!$C$53","v":0},{"$f":"'Челябинская обл.'!$C$54","v":0},{"$f":"'Челябинская обл.'!$C$55","v":0},{"$f":"'Челябинская обл.'!$C$56","v":243.71}]
["2","МУП \"Энергетик\"",null,{"$f":"'Челябинская обл.'!$C$7","v":"13,23"},{"$f":"'Челябинская обл.'!$C$10","v":1005.74},{"$f":"'Челябинская обл.'!$C$11","v":0},{"$f":"'Челябинская обл.'!$C$12","v":0},{"$f":"'Челябинская обл.'!$C$13","v":0},{"$f":"'Челябинская обл.'!$C$14","v":0},{"$f":"'Челябинская обл.'!$C$17","v":1987.75},{"$f":"'Челябинская обл.'!$C$18","v":0},{"$f":"'Челябинская обл.'!$C$19","v":0},{"$f":"'Челябинская обл.'!$C$20","v":0},{"$f":"'Челябинская обл.'!$C$21","v":0},{"$f":"'Челябинская обл.'!$C$23","v":1493.77},{"$f":"'Челябинская обл.'!$C$24","v":0},{"$f":"'Челябинская обл.'!$C$25","v":0},{"$f":"'Челябинская обл.'!$C$26","v":0},{"$f":"'Челябинская обл.'!$C$27","v":0},{"$f":"'Челябинская обл.'!$C$28","v":0},{"$f":"'Челябинская обл.'!$C$29","v":377.24},{"$f":"'Челябинская обл.'!$C$34","v":13.23},{"$f":"'Челябинская обл.'!$C$37","v":352.76},{"$f":"'Челябинская обл.'!$C$38","v":825.59},{"$f":"'Челябинская обл.'!$C$39","v":0},{"$f":"'Челябинская обл.'!$C$40","v":0},{"$f":"'Челябинская обл.'!$C$41","v":0},{"$f":"'Челябинская обл.'!$C$44","v":1142.9000000000001},{"$f":"'Челябинская обл.'!$C$45","v":1066.98},{"$f":"'Челябинская обл.'!$C$46","v":0},{"$f":"'Челябинская обл.'!$C$47","v":0},{"$f":"'Челябинская обл.'!$C$48","v":0},{"$f":"'Челябинская обл.'!$C$50","v":1081.3599999999999},{"$f":"'Челябинская обл.'!$C$51","v":1328.18},{"$f":"'Челябинская обл.'!$C$52","v":0},{"$f":"'Челябинская обл.'!$C$53","v":0},{"$f":"'Челябинская обл.'!$C$54","v":0},{"$f":"'Челябинская обл.'!$C$55","v":0},{"$f":"'Челябинская обл.'!$C$56","v":243.71}]
["3","ОАО \"Уфалейникель\"",null,{"$f":"'Челябинская обл.'!$C$7","v":"13,23"},{"$f":"'Челябинская обл.'!$C$10","v":1005.74},{"$f":"'Челябинская обл.'!$C$11","v":0},{"$f":"'Челябинская обл.'!$C$12","v":0},{"$f":"'Челябинская обл.'!$C$13","v":0},{"$f":"'Челябинская обл.'!$C$14","v":0},{"$f":"'Челябинская обл.'!$C$17","v":1987.75},{"$f":"'Челябинская обл.'!$C$18","v":0},{"$f":"'Челябинская обл.'!$C$19","v":0},{"$f":"'Челябинская обл.'!$C$20","v":0},{"$f":"'Челябинская обл.'!$C$21","v":0},{"$f":"'Челябинская обл.'!$C$23","v":1493.77},{"$f":"'Челябинская обл.'!$C$24","v":0},{"$f":"'Челябинская обл.'!$C$25","v":0},{"$f":"'Челябинская обл.'!$C$26","v":0},{"$f":"'Челябинская обл.'!$C$27","v":0},{"$f":"'Челябинская обл.'!$C$28","v":0},{"$f":"'Челябинская обл.'!$C$29","v":377.24},{"$f":"'Челябинская обл.'!$C$34","v":13.23},{"$f":"'Челябинская обл.'!$C$37","v":352.76},{"$f":"'Челябинская обл.'!$C$38","v":825.59},{"$f":"'Челябинская обл.'!$C$39","v":0},{"$f":"'Челябинская обл.'!$C$40","v":0},{"$f":"'Челябинская обл.'!$C$41","v":0},{"$f":"'Челябинская обл.'!$C$44","v":1142.9000000000001},{"$f":"'Челябинская обл.'!$C$45","v":1066.98},{"$f":"'Челябинская обл.'!$C$46","v":0},{"$f":"'Челябинская обл.'!$C$47","v":0},{"$f":"'Челябинская обл.'!$C$48","v":0},{"$f":"'Челябинская обл.'!$C$50","v":1081.3599999999999},{"$f":"'Челябинская обл.'!$C$51","v":1328.18},{"$f":"'Челябинская обл.'!$C$52","v":0},{"$f":"'Челябинская обл.'!$C$53","v":0},{"$f":"'Челябинская обл.'!$C$54","v":0},{"$f":"'Челябинская обл.'!$C$55","v":0},{"$f":"'Челябинская обл.'!$C$56","v":243.71}]
["4","ООО \"Алмаз\"",null,{"$f":"'Челябинская обл.'!$C$7","v":"13,23"},{"$f":"'Челябинская обл.'!$C$10","v":1005.74},{"$f":"'Челябинская обл.'!$C$11","v":0},{"$f":"'Челябинская обл.'!$C$12","v":0},{"$f":"'Челябинская обл.'!$C$13","v":0},{"$f":"'Челябинская обл.'!$C$14","v":0},{"$f":"'Челябинская обл.'!$C$17","v":1987.75},{"$f":"'Челябинская обл.'!$C$18","v":0},{"$f":"'Челябинская обл.'!$C$19","v":0},{"$f":"'Челябинская обл.'!$C$20","v":0},{"$f":"'Челябинская обл.'!$C$21","v":0},{"$f":"'Челябинская обл.'!$C$23","v":1493.77},{"$f":"'Челябинская обл.'!$C$24","v":0},{"$f":"'Челябинская обл.'!$C$25","v":0},{"$f":"'Челябинская обл.'!$C$26","v":0},{"$f":"'Челябинская обл.'!$C$27","v":0},{"$f":"'Челябинская обл.'!$C$28","v":0},{"$f":"'Челябинская обл.'!$C$29","v":377.24},{"$f":"'Челябинская обл.'!$C$34","v":13.23},{"$f":"'Челябинская обл.'!$C$37","v":352.76},{"$f":"'Челябинская обл.'!$C$38","v":825.59},{"$f":"'Челябинская обл.'!$C$39","v":0},{"$f":"'Челябинская обл.'!$C$40","v":0},{"$f":"'Челябинская обл.'!$C$41","v":0},{"$f":"'Челябинская обл.'!$C$44","v":1142.9000000000001},{"$f":"'Челябинская обл.'!$C$45","v":1066.98},{"$f":"'Челябинская обл.'!$C$46","v":0},{"$f":"'Челябинская обл.'!$C$47","v":0},{"$f":"'Челябинская обл.'!$C$48","v":0},{"$f":"'Челябинская обл.'!$C$50","v":1081.3599999999999},{"$f":"'Челябинская обл.'!$C$51","v":1328.18},{"$f":"'Челябинская обл.'!$C$52","v":0},{"$f":"'Челябинская обл.'!$C$53","v":0},{"$f":"'Челябинская обл.'!$C$54","v":0},{"$f":"'Челябинская обл.'!$C$55","v":0},{"$f":"'Челябинская обл.'!$C$56","v":243.71}]
["5","ООО \"Бриз\"",null,{"$f":"'Челябинская обл.'!$C$7","v":"13,23"},{"$f":"'Челябинская обл.'!$C$10","v":1005.74},{"$f":"'Челябинская обл.'!$C$11","v":0},{"$f":"'Челябинская обл.'!$C$12","v":0},{"$f":"'Челябинская обл.'!$C$13","v":0},{"$f":"'Челябинская обл.'!$C$14","v":0},{"$f":"'Челябинская обл.'!$C$17","v":1987.75},{"$f":"'Челябинская обл.'!$C$18","v":0},{"$f":"'Челябинская обл.'!$C$19","v":0},{"$f":"'Челябинская обл.'!$C$20","v":0},{"$f":"'Челябинская обл.'!$C$21","v":0},{"$f":"'Челябинская обл.'!$C$23","v":1493.77},{"$f":"'Челябинская обл.'!$C$24","v":0},{"$f":"'Челябинская обл.'!$C$25","v":0},{"$f":"'Челябинская обл.'!$C$26","v":0},{"$f":"'Челябинская обл.'!$C$27","v":0},{"$f":"'Челябинская обл.'!$C$28","v":0},{"$f":"'Челябинская обл.'!$C$29","v":377.24},{"$f":"'Челябинская обл.'!$C$34","v":13.23},{"$f":"'Челябинская обл.'!$C$37","v":352.76},{"$f":"'Челябинская обл.'!$C$38","v":825.59},{"$f":"'Челябинская обл.'!$C$39","v":0},{"$f":"'Челябинская обл.'!$C$40","v":0},{"$f":"'Челябинская обл.'!$C$41","v":0},{"$f":"'Челябинская обл.'!$C$44","v":1142.9000000000001},{"$f":"'Челябинская обл.'!$C$45","v":1066.98},{"$f":"'Челябинская обл.'!$C$46","v":0},{"$f":"'Челябинская обл.'!$C$47","v":0},{"$f":"'Челябинская обл.'!$C$48","v":0},{"$f":"'Челябинская обл.'!$C$50","v":1081.3599999999999},{"$f":"'Челябинская обл.'!$C$51","v":1328.18},{"$f":"'Челябинская обл.'!$C$52","v":0},{"$f":"'Челябинская обл.'!$C$53","v":0},{"$f":"'Челябинская обл.'!$C$54","v":0},{"$f":"'Челябинская обл.'!$C$55","v":0},{"$f":"'Челябинская обл.'!$C$56","v":243.71}]
["6","ООО \"Сетевое Теплоэнергетическое Предприятие\" (Верхнеуфалейский г.о.)",null,{"$f":"'Челябинская обл.'!$C$7","v":"13,23"},{"$f":"'Челябинская обл.'!$C$10","v":1005.74},{"$f":"'Челябинская обл.'!$C$11","v":0},{"$f":"'Челябинская обл.'!$C$12","v":0},{"$f":"'Челябинская обл.'!$C$13","v":0},{"$f":"'Челябинская обл.'!$C$14","v":0},{"$f":"'Челябинская обл.'!$C$17","v":1987.75},{"$f":"'Челябинская обл.'!$C$18","v":0},{"$f":"'Челябинская обл.'!$C$19","v":0},{"$f":"'Челябинская обл.'!$C$20","v":0},{"$f":"'Челябинская обл.'!$C$21","v":0},{"$f":"'Челябинская обл.'!$C$23","v":1493.77},{"$f":"'Челябинская обл.'!$C$24","v":0},{"$f":"'Челябинская обл.'!$C$25","v":0},{"$f":"'Челябинская обл.'!$C$26","v":0},{"$f":"'Челябинская обл.'!$C$27","v":0},{"$f":"'Челябинская обл.'!$C$28","v":0},{"$f":"'Челябинская обл.'!$C$29","v":377.24},{"$f":"'Челябинская обл.'!$C$34","v":13.23},{"$f":"'Челябинская обл.'!$C$37","v":352.76},{"$f":"'Челябинская обл.'!$C$38","v":825.59},{"$f":"'Челябинская обл.'!$C$39","v":0},{"$f":"'Челябинская обл.'!$C$40","v":0},{"$f":"'Челябинская обл.'!$C$41","v":0},{"$f":"'Челябинская обл.'!$C$44","v":1142.9000000000001},{"$f":"'Челябинская обл.'!$C$45","v":1066.98},{"$f":"'Челябинская обл.'!$C$46","v":0},{"$f":"'Челябинская обл.'!$C$47","v":0},{"$f":"'Челябинская обл.'!$C$48","v":0},{"$f":"'Челябинская обл.'!$C$50","v":1081.3599999999999},{"$f":"'Челябинская обл.'!$C$51","v":1328.18},{"$f":"'Челябинская обл.'!$C$52","v":0},{"$f":"'Челябинская обл.'!$C$53","v":0},{"$f":"'Челябинская обл.'!$C$54","v":0},{"$f":"'Челябинская обл.'!$C$55","v":0},{"$f":"'Челябинская обл.'!$C$56","v":243.71}]
["7","ООО \"Теплосети\"",null,{"$f":"'Челябинская обл.'!$C$7","v":"13,23"},{"$f":"'Челябинская обл.'!$C$10","v":1005.74},{"$f":"'Челябинская обл.'!$C$11","v":0},{"$f":"'Челябинская обл.'!$C$12","v":0},{"$f":"'Челябинская обл.'!$C$13","v":0},{"$f":"'Челябинская обл.'!$C$14","v":0},{"$f":"'Челябинская обл.'!$C$17","v":1987.75},{"$f":"'Челябинская обл.'!$C$18","v":0},{"$f":"'Челябинская обл.'!$C$19","v":0},{"$f":"'Челябинская обл.'!$C$20","v":0},{"$f":"'Челябинская обл.'!$C$21","v":0},{"$f":"'Челябинская обл.'!$C$23","v":1493.77},{"$f":"'Челябинская обл.'!$C$24","v":0},{"$f":"'Челябинская обл.'!$C$25","v":0},{"$f":"'Челябинская обл.'!$C$26","v":0},{"$f":"'Челябинская обл.'!$C$27","v":0},{"$f":"'Челябинская обл.'!$C$28","v":0},{"$f":"'Челябинская обл.'!$C$29","v":377.24},{"$f":"'Челябинская обл.'!$C$34","v":13.23},{"$f":"'Челябинская обл.'!$C$37","v":352.76},{"$f":"'Челябинская обл.'!$C$38","v":825.59},{"$f":"'Челябинская обл.'!$C$39","v":0},{"$f":"'Челябинская обл.'!$C$40","v":0},{"$f":"'Челябинская обл.'!$C$41","v":0},{"$f":"'Челябинская обл.'!$C$44","v":1142.9000000000001},{"$f":"'Челябинская обл.'!$C$45","v":1066.98},{"$f":"'Челябинская обл.'!$C$46","v":0},{"$f":"'Челябинская обл.'!$C$47","v":0},{"$f":"'Челябинская обл.'!$C$48","v":0},{"$f":"'Челябинская обл.'!$C$50","v":1081.3599999999999},{"$f":"'Челябинская обл.'!$C$51","v":1328.18},{"$f":"'Челябинская обл.'!$C$52","v":0},{"$f":"'Челябинская обл.'!$C$53","v":0},{"$f":"'Челябинская обл.'!$C$54","v":0},{"$f":"'Челябинская обл.'!$C$55","v":0},{"$f":"'Челябинская обл.'!$C$56","v":243.71}]
[8,"ООО \"Теплоэнергетическая компания \"Системы управления\"",null,{"$f":"'Челябинская обл.'!$C$7","v":"13,23"},{"$f":"'Челябинская обл.'!$C$10","v":1005.74},{"$f":"'Челябинская обл.'!$C$11","v":0},{"$f":"'Челябинская обл.'!$C$12","v":0},{"$f":"'Челябинская обл.'!$C$13","v":0},{"$f":"'Челябинская обл.'!$C$14","v":0},{"$f":"'Челябинская обл.'!$C$17","v":1987.75},{"$f":"'Челябинская обл.'!$C$18","v":0},{"$f":"'Челябинская обл.'!$C$19","v":0},{"$f":"'Челябинская обл.'!$C$20","v":0},{"$f":"'Челябинская обл.'!$C$21","v":0},{"$f":"'Челябинская обл.'!$C$23","v":1493.77},{"$f":"'Челябинская обл.'!$C$24","v":0},{"$f":"'Челябинская обл.'!$C$25","v":0},{"$f":"'Челябинская обл.'!$C$26","v":0},{"$f":"'Челябинская обл.'!$C$27","v":0},{"$f":"'Челябинская обл.'!$C$28","v":0},{"$f":"'Челябинская обл.'!$C$29","v":377.24},{"$f":"'Челябинская обл.'!$C$34","v":13.23},{"$f":"'Челябинская обл.'!$C$37","v":352.76},{"$f":"'Челябинская обл.'!$C$38","v":825.59},{"$f":"'Челябинская обл.'!$C$39","v":0},{"$f":"'Челябинская обл.'!$C$40","v":0},{"$f":"'Челябинская обл.'!$C$41","v":0},{"$f":"'Челябинская обл.'!$C$44","v":1142.9000000000001},{"$f":"'Челябинская обл.'!$C$45","v":1066.98},{"$f":"'Челябинская обл.'!$C$46","v":0},{"$f":"'Челябинская обл.'!$C$47","v":0},{"$f":"'Челябинская обл.'!$C$48","v":0},{"$f":"'Челябинская обл.'!$C$50","v":1081.3599999999999},{"$f":"'Челябинская обл.'!$C$51","v":1328.18},{"$f":"'Челябинская обл.'!$C$52","v":0},{"$f":"'Челябинская обл.'!$C$53","v":0},{"$f":"'Челябинская обл.'!$C$54","v":0},{"$f":"'Челябинская обл.'!$C$55","v":0},{"$f":"'Челябинская обл.'!$C$56","v":243.71}]
["2","Златоустовский городской округ"]
["1","АО \"Златмаш\"",null,{"$f":"'Челябинская обл.'!$C$7","v":"13,23"},{"$f":"'Челябинская обл.'!$C$10","v":1005.74},{"$f":"'Челябинская обл.'!$C$11","v":0},{"$f":"'Челябинская обл.'!$C$12","v":0},{"$f":"'Челябинская обл.'!$C$13","v":0},{"$f":"'Челябинская обл.'!$C$14","v":0},{"$f":"'Челябинская обл.'!$C$17","v":1987.75},{"$f":"'Челябинская обл.'!$C$18","v":0},{"$f":"'Челябинская обл.'!$C$19","v":0},{"$f":"'Челябинская обл.'!$C$20","v":0},{"$f":"'Челябинская обл.'!$C$21","v":0},{"$f":"'Челябинская обл.'!$C$23","v":1493.77},{"$f":"'Челябинская обл.'!$C$24","v":0},{"$f":"'Челябинская обл.'!$C$25","v":0},{"$f":"'Челябинская обл.'!$C$26","v":0},{"$f":"'Челябинская обл.'!$C$27","v":0},{"$f":"'Челябинская обл.'!$C$28","v":0},{"$f":"'Челябинская обл.'!$C$29","v":377.24},{"$f":"'Челябинская обл.'!$C$34","v":13.23},{"$f":"'Челябинская обл.'!$C$37","v":352.76},{"$f":"'Челябинская обл.'!$C$38","v":825.59},{"$f":"'Челябинская обл.'!$C$39","v":0},{"$f":"'Челябинская обл.'!$C$40","v":0},{"$f":"'Челябинская обл.'!$C$41","v":0},{"$f":"'Челябинская обл.'!$C$44","v":1142.9000000000001},{"$f":"'Челябинская обл.'!$C$45","v":1066.98},{"$f":"'Челябинская обл.'!$C$46","v":0},{"$f":"'Челябинская обл.'!$C$47","v":0},{"$f":"'Челябинская обл.'!$C$48","v":0},{"$f":"'Челябинская обл.'!$C$50","v":1081.3599999999999},{"$f":"'Челябинская обл.'!$C$51","v":1328.18},{"$f":"'Челябинская обл.'!$C$52","v":0},{"$f":"'Челябинская обл.'!$C$53","v":0},{"$f":"'Челябинская обл.'!$C$54","v":0},{"$f":"'Челябинская обл.'!$C$55","v":0},{"$f":"'Челябинская обл.'!$C$56","v":243.71}]
["2","МУП \"Коммунальные сети\"",null,{"$f":"'Челябинская обл.'!$C$7","v":"13,23"},{"$f":"'Челябинская обл.'!$C$10","v":1005.74},{"$f":"'Челябинская обл.'!$C$11","v":0},{"$f":"'Челябинская обл.'!$C$12","v":0},{"$f":"'Челябинская обл.'!$C$13","v":0},{"$f":"'Челябинская обл.'!$C$14","v":0},{"$f":"'Челябинская обл.'!$C$17","v":1987.75},{"$f":"'Челябинская обл.'!$C$18","v":0},{"$f":"'Челябинская обл.'!$C$19","v":0},{"$f":"'Челябинская обл.'!$C$20","v":0},{"$f":"'Челябинская обл.'!$C$21","v":0},{"$f":"'Челябинская обл.'!$C$23","v":1493.77},{"$f":"'Челябинская обл.'!$C$24","v":0},{"$f":"'Челябинская обл.'!$C$25","v":0},{"$f":"'Челябинская обл.'!$C$26","v":0},{"$f":"'Челябинская обл.'!$C$27","v":0},{"$f":"'Челябинская обл.'!$C$28","v":0},{"$f":"'Челябинская обл.'!$C$29","v":377.24},{"$f":"'Челябинская обл.'!$C$34","v":13.23},{"$f":"'Челябинская обл.'!$C$37","v":352.76},{"$f":"'Челябинская обл.'!$C$38","v":825.59},{"$f":"'Челябинская обл.'!$C$39","v":0},{"$f":"'Челябинская обл.'!$C$40","v":0},{"$f":"'Челябинская обл.'!$C$41","v":0},{"$f":"'Челябинская обл.'!$C$44","v":1142.9000000000001},{"$f":"'Челябинская обл.'!$C$45","v":1066.98},{"$f":"'Челябинская обл.'!$C$46","v":0},{"$f":"'Челябинская обл.'!$C$47","v":0},{"$f":"'Челябинская обл.'!$C$48","v":0},{"$f":"'Челябинская обл.'!$C$50","v":1081.3599999999999},{"$f":"'Челябинская обл.'!$C$51","v":1328.18},{"$f":"'Челябинская обл.'!$C$52","v":0},{"$f":"'Челябинская обл.'!$C$53","v":0},{"$f":"'Челябинская обл.'!$C$54","v":0},{"$f":"'Челябинская обл.'!$C$55","v":0},{"$f":"'Челябинская обл.'!$C$56","v":243.71}]
["3","ООО \"Златсеть\"",null,{"$f":"'Челябинская обл.'!$C$7","v":"13,23"},{"$f":"'Челябинская обл.'!$C$10","v":1005.74},{"$f":"'Челябинская обл.'!$C$11","v":0},{"$f":"'Челябинская обл.'!$C$12","v":0},{"$f":"'Челябинская обл.'!$C$13","v":0},{"$f":"'Челябинская обл.'!$C$14","v":0},{"$f":"'Челябинская обл.'!$C$17","v":1987.75},{"$f":"'Челябинская обл.'!$C$18","v":0},{"$f":"'Челябинская обл.'!$C$19","v":0},{"$f":"'Челябинская обл.'!$C$20","v":0},{"$f":"'Челябинская обл.'!$C$21","v":0},{"$f":"'Челябинская обл.'!$C$23","v":1493.77},{"$f":"'Челябинская обл.'!$C$24","v":0},{"$f":"'Челябинская обл.'!$C$25","v":0},{"$f":"'Челябинская обл.'!$C$26","v":0},{"$f":"'Челябинская обл.'!$C$27","v":0},{"$f":"'Челябинская обл.'!$C$28","v":0},{"$f":"'Челябинская обл.'!$C$29","v":377.24},{"$f":"'Челябинская обл.'!$C$34","v":13.23},{"$f":"'Челябинская обл.'!$C$37","v":352.76},{"$f":"'Челябинская обл.'!$C$38","v":825.59},{"$f":"'Челябинская обл.'!$C$39","v":0},{"$f":"'Челябинская обл.'!$C$40","v":0},{"$f":"'Челябинская обл.'!$C$41","v":0},{"$f":"'Челябинская обл.'!$C$44","v":1142.9000000000001},{"$f":"'Челябинская обл.'!$C$45","v":1066.98},{"$f":"'Челябинская обл.'!$C$46","v":0},{"$f":"'Челябинская обл.'!$C$47","v":0},{"$f":"'Челябинская обл.'!$C$48","v":0},{"$f":"'Челябинская обл.'!$C$50","v":1081.3599999999999},{"$f":"'Челябинская обл.'!$C$51","v":1328.18},{"$f":"'Челябинская обл.'!$C$52","v":0},{"$f":"'Челябинская обл.'!$C$53","v":0},{"$f":"'Челябинская обл.'!$C$54","v":0},{"$f":"'Челябинская обл.'!$C$55","v":0},{"$f":"'Челябинская обл.'!$C$56","v":243.71}]
["4","ООО \"ЗЭМЗ-Энерго\"",null,{"$f":"'Челябинская обл.'!$C$7","v":"13,23"},{"$f":"'Челябинская обл.'!$C$10","v":1005.74},{"$f":"'Челябинская обл.'!$C$11","v":0},{"$f":"'Челябинская обл.'!$C$12","v":0},{"$f":"'Челябинская обл.'!$C$13","v":0},{"$f":"'Челябинская обл.'!$C$14","v":0},{"$f":"'Челябинская обл.'!$C$17","v":1987.75},{"$f":"'Челябинская обл.'!$C$18","v":0},{"$f":"'Челябинская обл.'!$C$19","v":0},{"$f":"'Челябинская обл.'!$C$20","v":0},{"$f":"'Челябинская обл.'!$C$21","v":0},{"$f":"'Челябинская обл.'!$C$23","v":1493.77},{"$f":"'Челябинская обл.'!$C$24","v":0},{"$f":"'Челябинская обл.'!$C$25","v":0},{"$f":"'Челябинская обл.'!$C$26","v":0},{"$f":"'Челябинская обл.'!$C$27","v":0},{"$f":"'Челябинская обл.'!$C$28","v":0},{"$f":"'Челябинская обл.'!$C$29","v":377.24},{"$f":"'Челябинская обл.'!$C$34","v":13.23},{"$f":"'Челябинская обл.'!$C$37","v":352.76},{"$f":"'Челябинская обл.'!$C$38","v":825.59},{"$f":"'Челябинская обл.'!$C$39","v":0},{"$f":"'Челябинская обл.'!$C$40","v":0},{"$f":"'Челябинская обл.'!$C$41","v":0},{"$f":"'Челябинская обл.'!$C$44","v":1142.9000000000001},{"$f":"'Челябинская обл.'!$C$45","v":1066.98},{"$f":"'Челябинская обл.'!$C$46","v":0},{"$f":"'Челябинская обл.'!$C$47","v":0},{"$f":"'Челябинская обл.'!$C$48","v":0},{"$f":"'Челябинская обл.'!$C$50","v":1081.3599999999999},{"$f":"'Челябинская обл.'!$C$51","v":1328.18},{"$f":"'Челябинская обл.'!$C$52","v":0},{"$f":"'Челябинская обл.'!$C$53","v":0},{"$f":"'Челябинская обл.'!$C$54","v":0},{"$f":"'Челябинская обл.'!$C$55","v":0},{"$f":"'Челябинская обл.'!$C$56","v":243.71}]
["5","ООО \"НПП \"ТехМикс\"",null,{"$f":"'Челябинская обл.'!$C$7","v":"13,23"},{"$f":"'Челябинская обл.'!$C$10","v":1005.74},{"$f":"'Челябинская обл.'!$C$11","v":0},{"$f":"'Челябинская обл.'!$C$12","v":0},{"$f":"'Челябинская обл.'!$C$13","v":0},{"$f":"'Челябинская обл.'!$C$14","v":0},{"$f":"'Челябинская обл.'!$C$17","v":1987.75},{"$f":"'Челябинская обл.'!$C$18","v":0},{"$f":"'Челябинская обл.'!$C$19","v":0},{"$f":"'Челябинская обл.'!$C$20","v":0},{"$f":"'Челябинская обл.'!$C$21","v":0},{"$f":"'Челябинская обл.'!$C$23","v":1493.77},{"$f":"'Челябинская обл.'!$C$24","v":0},{"$f":"'Челябинская обл.'!$C$25","v":0},{"$f":"'Челябинская обл.'!$C$26","v":0},{"$f":"'Челябинская обл.'!$C$27","v":0},{"$f":"'Челябинская обл.'!$C$28","v":0},{"$f":"'Челябинская обл.'!$C$29","v":377.24},{"$f":"'Челябинская обл.'!$C$34","v":13.23},{"$f":"'Челябинская обл.'!$C$37","v":352.76},{"$f":"'Челябинская обл.'!$C$38","v":825.59},{"$f":"'Челябинская обл.'!$C$39","v":0},{"$f":"'Челябинская обл.'!$C$40","v":0},{"$f":"'Челябинская обл.'!$C$41","v":0},{"$f":"'Челябинская обл.'!$C$44","v":1142.9000000000001},{"$f":"'Челябинская обл.'!$C$45","v":1066.98},{"$f":"'Челябинская обл.'!$C$46","v":0},{"$f":"'Челябинская обл.'!$C$47","v":0},{"$f":"'Челябинская обл.'!$C$48","v":0},{"$f":"'Челябинская обл.'!$C$50","v":1081.3599999999999},{"$f":"'Челябинская обл.'!$C$51","v":1328.18},{"$f":"'Челябинская обл.'!$C$52","v":0},{"$f":"'Челябинская обл.'!$C$53","v":0},{"$f":"'Челябинская обл.'!$C$54","v":0},{"$f":"'Челябинская обл.'!$C$55","v":0},{"$f":"'Челябинская обл.'!$C$56","v":243.71}]
["6","ООО \"Тепловик\"",null,{"$f":"'Челябинская обл.'!$C$7","v":"13,23"},{"$f":"'Челябинская обл.'!$C$10","v":1005.74},{"$f":"'Челябинская обл.'!$C$11","v":0},{"$f":"'Челябинская обл.'!$C$12","v":0},{"$f":"'Челябинская обл.'!$C$13","v":0},{"$f":"'Челябинская обл.'!$C$14","v":0},{"$f":"'Челябинская обл.'!$C$17","v":1987.75},{"$f":"'Челябинская обл.'!$C$18","v":0},{"$f":"'Челябинская обл.'!$C$19","v":0},{"$f":"'Челябинская обл.'!$C$20","v":0},{"$f":"'Челябинская обл.'!$C$21","v":0},{"$f":"'Челябинская обл.'!$C$23","v":1493.77},{"$f":"'Челябинская обл.'!$C$24","v":0},{"$f":"'Челябинская обл.'!$C$25","v":0},{"$f":"'Челябинская обл.'!$C$26","v":0},{"$f":"'Челябинская обл.'!$C$27","v":0},{"$f":"'Челябинская обл.'!$C$28","v":0},{"$f":"'Челябинская обл.'!$C$29","v":377.24},{"$f":"'Челябинская обл.'!$C$34","v":13.23},{"$f":"'Челябинская обл.'!$C$37","v":352.76},{"$f":"'Челябинская обл.'!$C$38","v":825.59},{"$f":"'Челябинская обл.'!$C$39","v":0},{"$f":"'Челябинская обл.'!$C$40","v":0},{"$f":"'Челябинская обл.'!$C$41","v":0},{"$f":"'Челябинская обл.'!$C$44","v":1142.9000000000001},{"$f":"'Челябинская обл.'!$C$45","v":1066.98},{"$f":"'Челябинская обл.'!$C$46","v":0},{"$f":"'Челябинская обл.'!$C$47","v":0},{"$f":"'Челябинская обл.'!$C$48","v":0},{"$f":"'Челябинская обл.'!$C$50","v":1081.3599999999999},{"$f":"'Челябинская обл.'!$C$51","v":1328.18},{"$f":"'Челябинская обл.'!$C$52","v":0},{"$f":"'Челябинская обл.'!$C$53","v":0},{"$f":"'Челябинская обл.'!$C$54","v":0},{"$f":"'Челябинская обл.'!$C$55","v":0},{"$f":"'Челябинская обл.'!$C$56","v":243.71}]
["7","ООО \"Теплоэнергетик\"",null,{"$f":"'Челябинская обл.'!$C$7","v":"13,23"},{"$f":"'Челябинская обл.'!$C$10","v":1005.74},{"$f":"'Челябинская обл.'!$C$11","v":0},{"$f":"'Челябинская обл.'!$C$12","v":0},{"$f":"'Челябинская обл.'!$C$13","v":0},{"$f":"'Челябинская обл.'!$C$14","v":0},{"$f":"'Челябинская обл.'!$C$17","v":1987.75},{"$f":"'Челябинская обл.'!$C$18","v":0},{"$f":"'Челябинская обл.'!$C$19","v":0},{"$f":"'Челябинская обл.'!$C$20","v":0},{"$f":"'Челябинская обл.'!$C$21","v":0},{"$f":"'Челябинская обл.'!$C$23","v":1493.77},{"$f":"'Челябинская обл.'!$C$24","v":0},{"$f":"'Челябинская обл.'!$C$25","v":0},{"$f":"'Челябинская обл.'!$C$26","v":0},{"$f":"'Челябинская обл.'!$C$27","v":0},{"$f":"'Челябинская обл.'!$C$28","v":0},{"$f":"'Челябинская обл.'!$C$29","v":377.24},{"$f":"'Челябинская обл.'!$C$34","v":13.23},{"$f":"'Челябинская обл.'!$C$37","v":352.76},{"$f":"'Челябинская обл.'!$C$38","v":825.59},{"$f":"'Челябинская обл.'!$C$39","v":0},{"$f":"'Челябинская обл.'!$C$40","v":0},{"$f":"'Челябинская обл.'!$C$41","v":0},{"$f":"'Челябинская обл.'!$C$44","v":1142.9000000000001},{"$f":"'Челябинская обл.'!$C$45","v":1066.98},{"$f":"'Челябинская обл.'!$C$46","v":0},{"$f":"'Челябинская обл.'!$C$47","v":0},{"$f":"'Челябинская обл.'!$C$48","v":0},{"$f":"'Челябинская обл.'!$C$50","v":1081.3599999999999},{"$f":"'Челябинская обл.'!$C$51","v":1328.18},{"$f":"'Челябинская обл.'!$C$52","v":0},{"$f":"'Челябинская обл.'!$C$53","v":0},{"$f":"'Челябинская обл.'!$C$54","v":0},{"$f":"'Челябинская обл.'!$C$55","v":0},{"$f":"'Челябинская обл.'!$C$56","v":243.71}]
["8","ООО \"Управляющая компания Комитет городского хозяйства\"",null,{"$f":"'Челябинская обл.'!$C$7","v":"13,23"},{"$f":"'Челябинская обл.'!$C$10","v":1005.74},{"$f":"'Челябинская обл.'!$C$11","v":0},{"$f":"'Челябинская обл.'!$C$12","v":0},{"$f":"'Челябинская обл.'!$C$13","v":0},{"$f":"'Челябинская обл.'!$C$14","v":0},{"$f":"'Челябинская обл.'!$C$17","v":1987.75},{"$f":"'Челябинская обл.'!$C$18","v":0},{"$f":"'Челябинская обл.'!$C$19","v":0},{"$f":"'Челябинская обл.'!$C$20","v":0},{"$f":"'Челябинская обл.'!$C$21","v":0},{"$f":"'Челябинская обл.'!$C$23","v":1493.77},{"$f":"'Челябинская обл.'!$C$24","v":0},{"$f":"'Челябинская обл.'!$C$25","v":0},{"$f":"'Челябинская обл.'!$C$26","v":0},{"$f":"'Челябинская обл.'!$C$27","v":0},{"$f":"'Челябинская обл.'!$C$28","v":0},{"$f":"'Челябинская обл.'!$C$29","v":377.24},{"$f":"'Челябинская обл.'!$C$34","v":13.23},{"$f":"'Челябинская обл.'!$C$37","v":352.76},{"$f":"'Челябинская обл.'!$C$38","v":825.59},{"$f":"'Челябинская обл.'!$C$39","v":0},{"$f":"'Челябинская обл.'!$C$40","v":0},{"$f":"'Челябинская обл.'!$C$41","v":0},{"$f":"'Челябинская обл.'!$C$44","v":1142.9000000000001},{"$f":"'Челябинская обл.'!$C$45","v":1066.98},{"$f":"'Челябинская обл.'!$C$46","v":0},{"$f":"'Челябинская обл.'!$C$47","v":0},{"$f":"'Челябинская обл.'!$C$48","v":0},{"$f":"'Челябинская обл.'!$C$50","v":1081.3599999999999},{"$f":"'Челябинская обл.'!$C$51","v":1328.18},{"$f":"'Челябинская обл.'!$C$52","v":0},{"$f":"'Челябинская обл.'!$C$53","v":0},{"$f":"'Челябинская обл.'!$C$54","v":0},{"$f":"'Челябинская обл.'!$C$55","v":0},{"$f":"'Челябинская обл.'!$C$56","v":243.71}]
["9","Путевая машинная станция № 173 Южно-Уральской дирекции по ремонту пути - структурного подразделения Центральной дирекции по ремонту пути - филиала ОАО \"РЖД\"",null,{"$f":"'Челябинская обл.'!$C$7","v":"13,23"},{"$f":"'Челябинская обл.'!$C$10","v":1005.74},{"$f":"'Челябинская обл.'!$C$11","v":0},{"$f":"'Челябинская обл.'!$C$12","v":0},{"$f":"'Челябинская обл.'!$C$13","v":0},{"$f":"'Челябинская обл.'!$C$14","v":0},{"$f":"'Челябинская обл.'!$C$17","v":1987.75},{"$f":"'Челябинская обл.'!$C$18","v":0},{"$f":"'Челябинская обл.'!$C$19","v":0},{"$f":"'Челябинская обл.'!$C$20","v":0},{"$f":"'Челябинская обл.'!$C$21","v":0},{"$f":"'Челябинская обл.'!$C$23","v":1493.77},{"$f":"'Челябинская обл.'!$C$24","v":0},{"$f":"'Челябинская обл.'!$C$25","v":0},{"$f":"'Челябинская обл.'!$C$26","v":0},{"$f":"'Челябинская обл.'!$C$27","v":0},{"$f":"'Челябинская обл.'!$C$28","v":0},{"$f":"'Челябинская обл.'!$C$29","v":377.24},{"$f":"'Челябинская обл.'!$C$34","v":13.23},{"$f":"'Челябинская обл.'!$C$37","v":352.76},{"$f":"'Челябинская обл.'!$C$38","v":825.59},{"$f":"'Челябинская обл.'!$C$39","v":0},{"$f":"'Челябинская обл.'!$C$40","v":0},{"$f":"'Челябинская обл.'!$C$41","v":0},{"$f":"'Челябинская обл.'!$C$44","v":1142.9000000000001},{"$f":"'Челябинская обл.'!$C$45","v":1066.98},{"$f":"'Челябинская обл.'!$C$46","v":0},{"$f":"'Челябинская обл.'!$C$47","v":0},{"$f":"'Челябинская обл.'!$C$48","v":0},{"$f":"'Челябинская обл.'!$C$50","v":1081.3599999999999},{"$f":"'Челябинская обл.'!$C$51","v":1328.18},{"$f":"'Челябинская обл.'!$C$52","v":0},{"$f":"'Челябинская обл.'!$C$53","v":0},{"$f":"'Челябинская обл.'!$C$54","v":0},{"$f":"'Челябинская обл.'!$C$55","v":0},{"$f":"'Челябинская обл.'!$C$56","v":243.71}]
["10","филиал ОАО \"Росспиртпром\" \"Златоустовский ликероводочный завод\" (переименован от филиал ФГУП \"Росспиртпром\" \"Златоустовский ликероводочный завод\")",null,{"$f":"'Челябинская обл.'!$C$7","v":"13,23"},{"$f":"'Челябинская обл.'!$C$10","v":1005.74},{"$f":"'Челябинская обл.'!$C$11","v":0},{"$f":"'Челябинская обл.'!$C$12","v":0},{"$f":"'Челябинская обл.'!$C$13","v":0},{"$f":"'Челябинская обл.'!$C$14","v":0},{"$f":"'Челябинская обл.'!$C$17","v":1987.75},{"$f":"'Челябинская обл.'!$C$18","v":0},{"$f":"'Челябинская обл.'!$C$19","v":0},{"$f":"'Челябинская обл.'!$C$20","v":0},{"$f":"'Челябинская обл.'!$C$21","v":0},{"$f":"'Челябинская обл.'!$C$23","v":1493.77},{"$f":"'Челябинская обл.'!$C$24","v":0},{"$f":"'Челябинская обл.'!$C$25","v":0},{"$f":"'Челябинская обл.'!$C$26","v":0},{"$f":"'Челябинская обл.'!$C$27","v":0},{"$f":"'Челябинская обл.'!$C$28","v":0},{"$f":"'Челябинская обл.'!$C$29","v":377.24},{"$f":"'Челябинская обл.'!$C$34","v":13.23},{"$f":"'Челябинская обл.'!$C$37","v":352.76},{"$f":"'Челябинская обл.'!$C$38","v":825.59},{"$f":"'Челябинская обл.'!$C$39","v":0},{"$f":"'Челябинская обл.'!$C$40","v":0},{"$f":"'Челябинская обл.'!$C$41","v":0},{"$f":"'Челябинская обл.'!$C$44","v":1142.9000000000001},{"$f":"'Челябинская обл.'!$C$45","v":1066.98},{"$f":"'Челябинская обл.'!$C$46","v":0},{"$f":"'Челябинская обл.'!$C$47","v":0},{"$f":"'Челябинская обл.'!$C$48","v":0},{"$f":"'Челябинская обл.'!$C$50","v":1081.3599999999999},{"$f":"'Челябинская обл.'!$C$51","v":1328.18},{"$f":"'Челябинская обл.'!$C$52","v":0},{"$f":"'Челябинская обл.'!$C$53","v":0},{"$f":"'Челябинская обл.'!$C$54","v":0},{"$f":"'Челябинская обл.'!$C$55","v":0},{"$f":"'Челябинская обл.'!$C$56","v":243.71}]
[11,"Южно-Уральская дирекция по тепловодоснабжению - структурное подразделение Центральной дирекции по тепловодоснабжению - филиала ОАО \"РЖД\" (Златоустовский г.о.)",null,{"$f":"'Челябинская обл.'!$C$7","v":"13,23"},{"$f":"'Челябинская обл.'!$C$10","v":1005.74},{"$f":"'Челябинская обл.'!$C$11","v":0},{"$f":"'Челябинская обл.'!$C$12","v":0},{"$f":"'Челябинская обл.'!$C$13","v":0},{"$f":"'Челябинская обл.'!$C$14","v":0},{"$f":"'Челябинская обл.'!$C$17","v":1987.75},{"$f":"'Челябинская обл.'!$C$18","v":0},{"$f":"'Челябинская обл.'!$C$19","v":0},{"$f":"'Челябинская обл.'!$C$20","v":0},{"$f":"'Челябинская обл.'!$C$21","v":0},{"$f":"'Челябинская обл.'!$C$23","v":1493.77},{"$f":"'Челябинская обл.'!$C$24","v":0},{"$f":"'Челябинская обл.'!$C$25","v":0},{"$f":"'Челябинская обл.'!$C$26","v":0},{"$f":"'Челябинская обл.'!$C$27","v":0},{"$f":"'Челябинская обл.'!$C$28","v":0},{"$f":"'Челябинская обл.'!$C$29","v":377.24},{"$f":"'Челябинская обл.'!$C$34","v":13.23},{"$f":"'Челябинская обл.'!$C$37","v":352.76},{"$f":"'Челябинская обл.'!$C$38","v":825.59},{"$f":"'Челябинская обл.'!$C$39","v":0},{"$f":"'Челябинская обл.'!$C$40","v":0},{"$f":"'Челябинская обл.'!$C$41","v":0},{"$f":"'Челябинская обл.'!$C$44","v":1142.9000000000001},{"$f":"'Челябинская обл.'!$C$45","v":1066.98},{"$f":"'Челябинская обл.'!$C$46","v":0},{"$f":"'Челябинская обл.'!$C$47","v":0},{"$f":"'Челябинская обл.'!$C$48","v":0},{"$f":"'Челябинская обл.'!$C$50","v":1081.3599999999999},{"$f":"'Челябинская обл.'!$C$51","v":1328.18},{"$f":"'Челябинская обл.'!$C$52","v":0},{"$f":"'Челябинская обл.'!$C$53","v":0},{"$f":"'Челябинская обл.'!$C$54","v":0},{"$f":"'Челябинская обл.'!$C$55","v":0},{"$f":"'Челябинская обл.'!$C$56","v":243.71}]
["3","Карабашский городской округ"]
["1","АО \"ГУ ЖКХ\" (Карабашский г.о.)",null,{"$f":"'Челябинская обл.'!$C$7","v":"13,23"},{"$f":"'Челябинская обл.'!$C$10","v":1005.74},{"$f":"'Челябинская обл.'!$C$11","v":0},{"$f":"'Челябинская обл.'!$C$12","v":0},{"$f":"'Челябинская обл.'!$C$13","v":0},{"$f":"'Челябинская обл.'!$C$14","v":0},{"$f":"'Челябинская обл.'!$C$17","v":1987.75},{"$f":"'Челябинская обл.'!$C$18","v":0},{"$f":"'Челябинская обл.'!$C$19","v":0},{"$f":"'Челябинская обл.'!$C$20","v":0},{"$f":"'Челябинская обл.'!$C$21","v":0},{"$f":"'Челябинская обл.'!$C$23","v":1493.77},{"$f":"'Челябинская обл.'!$C$24","v":0},{"$f":"'Челябинская обл.'!$C$25","v":0},{"$f":"'Челябинская обл.'!$C$26","v":0},{"$f":"'Челябинская обл.'!$C$27","v":0},{"$f":"'Челябинская обл.'!$C$28","v":0},{"$f":"'Челябинская обл.'!$C$29","v":377.24},{"$f":"'Челябинская обл.'!$C$34","v":13.23},{"$f":"'Челябинская обл.'!$C$37","v":352.76},{"$f":"'Челябинская обл.'!$C$38","v":825.59},{"$f":"'Челябинская обл.'!$C$39","v":0},{"$f":"'Челябинская обл.'!$C$40","v":0},{"$f":"'Челябинская обл.'!$C$41","v":0},{"$f":"'Челябинская обл.'!$C$44","v":1142.9000000000001},{"$f":"'Челябинская обл.'!$C$45","v":1066.98},{"$f":"'Челябинская обл.'!$C$46","v":0},{"$f":"'Челябинская обл.'!$C$47","v":0},{"$f":"'Челябинская обл.'!$C$48","v":0},{"$f":"'Челябинская обл.'!$C$50","v":1081.3599999999999},{"$f":"'Челябинская обл.'!$C$51","v":1328.18},{"$f":"'Челябинская обл.'!$C$52","v":0},{"$f":"'Челябинская обл.'!$C$53","v":0},{"$f":"'Челябинская обл.'!$C$54","v":0},{"$f":"'Челябинская обл.'!$C$55","v":0},{"$f":"'Челябинская обл.'!$C$56","v":243.71}]
["2","ЗАО \"Карабашмедь\"",null,{"$f":"'Челябинская обл.'!$C$7","v":"13,23"},{"$f":"'Челябинская обл.'!$C$10","v":1005.74},{"$f":"'Челябинская обл.'!$C$11","v":0},{"$f":"'Челябинская обл.'!$C$12","v":0},{"$f":"'Челябинская обл.'!$C$13","v":0},{"$f":"'Челябинская обл.'!$C$14","v":0},{"$f":"'Челябинская обл.'!$C$17","v":1987.75},{"$f":"'Челябинская обл.'!$C$18","v":0},{"$f":"'Челябинская обл.'!$C$19","v":0},{"$f":"'Челябинская обл.'!$C$20","v":0},{"$f":"'Челябинская обл.'!$C$21","v":0},{"$f":"'Челябинская обл.'!$C$23","v":1493.77},{"$f":"'Челябинская обл.'!$C$24","v":0},{"$f":"'Челябинская обл.'!$C$25","v":0},{"$f":"'Челябинская обл.'!$C$26","v":0},{"$f":"'Челябинская обл.'!$C$27","v":0},{"$f":"'Челябинская обл.'!$C$28","v":0},{"$f":"'Челябинская обл.'!$C$29","v":377.24},{"$f":"'Челябинская обл.'!$C$34","v":13.23},{"$f":"'Челябинская обл.'!$C$37","v":352.76},{"$f":"'Челябинская обл.'!$C$38","v":825.59},{"$f":"'Челябинская обл.'!$C$39","v":0},{"$f":"'Челябинская обл.'!$C$40","v":0},{"$f":"'Челябинская обл.'!$C$41","v":0},{"$f":"'Челябинская обл.'!$C$44","v":1142.9000000000001},{"$f":"'Челябинская обл.'!$C$45","v":1066.98},{"$f":"'Челябинская обл.'!$C$46","v":0},{"$f":"'Челябинская обл.'!$C$47","v":0},{"$f":"'Челябинская обл.'!$C$48","v":0},{"$f":"'Челябинская обл.'!$C$50","v":1081.3599999999999},{"$f":"'Челябинская обл.'!$C$51","v":1328.18},{"$f":"'Челябинская обл.'!$C$52","v":0},{"$f":"'Челябинская обл.'!$C$53","v":0},{"$f":"'Челябинская обл.'!$C$54","v":0},{"$f":"'Челябинская обл.'!$C$55","v":0},{"$f":"'Челябинская обл.'!$C$56","v":243.71}]
["3","МУП \"Карабашское коммунальное предприятие\"",null,{"$f":"'Челябинская обл.'!$C$7","v":"13,23"},{"$f":"'Челябинская обл.'!$C$10","v":1005.74},{"$f":"'Челябинская обл.'!$C$11","v":0},{"$f":"'Челябинская обл.'!$C$12","v":0},{"$f":"'Челябинская обл.'!$C$13","v":0},{"$f":"'Челябинская обл.'!$C$14","v":0},{"$f":"'Челябинская обл.'!$C$17","v":1987.75},{"$f":"'Челябинская обл.'!$C$18","v":0},{"$f":"'Челябинская обл.'!$C$19","v":0},{"$f":"'Челябинская обл.'!$C$20","v":0},{"$f":"'Челябинская обл.'!$C$21","v":0},{"$f":"'Челябинская обл.'!$C$23","v":1493.77},{"$f":"'Челябинская обл.'!$C$24","v":0},{"$f":"'Челябинская обл.'!$C$25","v":0},{"$f":"'Челябинская обл.'!$C$26","v":0},{"$f":"'Челябинская обл.'!$C$27","v":0},{"$f":"'Челябинская обл.'!$C$28","v":0},{"$f":"'Челябинская обл.'!$C$29","v":377.24},{"$f":"'Челябинская обл.'!$C$34","v":13.23},{"$f":"'Челябинская обл.'!$C$37","v":352.76},{"$f":"'Челябинская обл.'!$C$38","v":825.59},{"$f":"'Челябинская обл.'!$C$39","v":0},{"$f":"'Челябинская обл.'!$C$40","v":0},{"$f":"'Челябинская обл.'!$C$41","v":0},{"$f":"'Челябинская обл.'!$C$44","v":1142.9000000000001},{"$f":"'Челябинская обл.'!$C$45","v":1066.98},{"$f":"'Челябинская обл.'!$C$46","v":0},{"$f":"'Челябинская обл.'!$C$47","v":0},{"$f":"'Челябинская обл.'!$C$48","v":0},{"$f":"'Челябинская обл.'!$C$50","v":1081.3599999999999},{"$f":"'Челябинская обл.'!$C$51","v":1328.18},{"$f":"'Челябинская обл.'!$C$52","v":0},{"$f":"'Челябинская обл.'!$C$53","v":0},{"$f":"'Челябинская обл.'!$C$54","v":0},{"$f":"'Челябинская обл.'!$C$55","v":0},{"$f":"'Челябинская обл.'!$C$56","v":243.71}]
["4","ООО \"Котельная Красный Камень\"",null,{"$f":"'Челябинская обл.'!$C$7","v":"13,23"},{"$f":"'Челябинская обл.'!$C$10","v":1005.74},{"$f":"'Челябинская обл.'!$C$11","v":0},{"$f":"'Челябинская обл.'!$C$12","v":0},{"$f":"'Челябинская обл.'!$C$13","v":0},{"$f":"'Челябинская обл.'!$C$14","v":0},{"$f":"'Челябинская обл.'!$C$17","v":1987.75},{"$f":"'Челябинская обл.'!$C$18","v":0},{"$f":"'Челябинская обл.'!$C$19","v":0},{"$f":"'Челябинская обл.'!$C$20","v":0},{"$f":"'Челябинская обл.'!$C$21","v":0},{"$f":"'Челябинская обл.'!$C$23","v":1493.77},{"$f":"'Челябинская обл.'!$C$24","v":0},{"$f":"'Челябинская обл.'!$C$25","v":0},{"$f":"'Челябинская обл.'!$C$26","v":0},{"$f":"'Челябинская обл.'!$C$27","v":0},{"$f":"'Челябинская обл.'!$C$28","v":0},{"$f":"'Челябинская обл.'!$C$29","v":377.24},{"$f":"'Челябинская обл.'!$C$34","v":13.23},{"$f":"'Челябинская обл.'!$C$37","v":352.76},{"$f":"'Челябинская обл.'!$C$38","v":825.59},{"$f":"'Челябинская обл.'!$C$39","v":0},{"$f":"'Челябинская обл.'!$C$40","v":0},{"$f":"'Челябинская обл.'!$C$41","v":0},{"$f":"'Челябинская обл.'!$C$44","v":1142.9000000000001},{"$f":"'Челябинская обл.'!$C$45","v":1066.98},{"$f":"'Челябинская обл.'!$C$46","v":0},{"$f":"'Челябинская обл.'!$C$47","v":0},{"$f":"'Челябинская обл.'!$C$48","v":0},{"$f":"'Челябинская обл.'!$C$50","v":1081.3599999999999},{"$f":"'Челябинская обл.'!$C$51","v":1328.18},{"$f":"'Челябинская обл.'!$C$52","v":0},{"$f":"'Челябинская обл.'!$C$53","v":0},{"$f":"'Челябинская обл.'!$C$54","v":0},{"$f":"'Челябинская обл.'!$C$55","v":0},{"$f":"'Челябинская обл.'!$C$56","v":243.71}]
["5","ООО \"Фортуна Плюс\"",null,{"$f":"'Челябинская обл.'!$C$7","v":"13,23"},{"$f":"'Челябинская обл.'!$C$10","v":1005.74},{"$f":"'Челябинская обл.'!$C$11","v":0},{"$f":"'Челябинская обл.'!$C$12","v":0},{"$f":"'Челябинская обл.'!$C$13","v":0},{"$f":"'Челябинская обл.'!$C$14","v":0},{"$f":"'Челябинская обл.'!$C$17","v":1987.75},{"$f":"'Челябинская обл.'!$C$18","v":0},{"$f":"'Челябинская обл.'!$C$19","v":0},{"$f":"'Челябинская обл.'!$C$20","v":0},{"$f":"'Челябинская обл.'!$C$21","v":0},{"$f":"'Челябинская обл.'!$C$23","v":1493.77},{"$f":"'Челябинская обл.'!$C$24","v":0},{"$f":"'Челябинская обл.'!$C$25","v":0},{"$f":"'Челябинская обл.'!$C$26","v":0},{"$f":"'Челябинская обл.'!$C$27","v":0},{"$f":"'Челябинская обл.'!$C$28","v":0},{"$f":"'Челябинская обл.'!$C$29","v":377.24},{"$f":"'Челябинская обл.'!$C$34","v":13.23},{"$f":"'Челябинская обл.'!$C$37","v":352.76},{"$f":"'Челябинская обл.'!$C$38","v":825.59},{"$f":"'Челябинская обл.'!$C$39","v":0},{"$f":"'Челябинская обл.'!$C$40","v":0},{"$f":"'Челябинская обл.'!$C$41","v":0},{"$f":"'Челябинская обл.'!$C$44","v":1142.9000000000001},{"$f":"'Челябинская обл.'!$C$45","v":1066.98},{"$f":"'Челябинская обл.'!$C$46","v":0},{"$f":"'Челябинская обл.'!$C$47","v":0},{"$f":"'Челябинская обл.'!$C$48","v":0},{"$f":"'Челябинская обл.'!$C$50","v":1081.3599999999999},{"$f":"'Челябинская обл.'!$C$51","v":1328.18},{"$f":"'Челябинская обл.'!$C$52","v":0},{"$f":"'Челябинская обл.'!$C$53","v":0},{"$f":"'Челябинская обл.'!$C$54","v":0},{"$f":"'Челябинская обл.'!$C$55","v":0},{"$f":"'Челябинская обл.'!$C$56","v":243.71}]
["6","ООО «Перспектива» (Карабашский г.о.)",null,{"$f":"'Челябинская обл.'!$C$7","v":"13,23"},{"$f":"'Челябинская обл.'!$C$10","v":1005.74},{"$f":"'Челябинская обл.'!$C$11","v":0},{"$f":"'Челябинская обл.'!$C$12","v":0},{"$f":"'Челябинская обл.'!$C$13","v":0},{"$f":"'Челябинская обл.'!$C$14","v":0},{"$f":"'Челябинская обл.'!$C$17","v":1987.75},{"$f":"'Челябинская обл.'!$C$18","v":0},{"$f":"'Челябинская обл.'!$C$19","v":0},{"$f":"'Челябинская обл.'!$C$20","v":0},{"$f":"'Челябинская обл.'!$C$21","v":0},{"$f":"'Челябинская обл.'!$C$23","v":1493.77},{"$f":"'Челябинская обл.'!$C$24","v":0},{"$f":"'Челябинская обл.'!$C$25","v":0},{"$f":"'Челябинская обл.'!$C$26","v":0},{"$f":"'Челябинская обл.'!$C$27","v":0},{"$f":"'Челябинская обл.'!$C$28","v":0},{"$f":"'Челябинская обл.'!$C$29","v":377.24},{"$f":"'Челябинская обл.'!$C$34","v":13.23},{"$f":"'Челябинская обл.'!$C$37","v":352.76},{"$f":"'Челябинская обл.'!$C$38","v":825.59},{"$f":"'Челябинская обл.'!$C$39","v":0},{"$f":"'Челябинская обл.'!$C$40","v":0},{"$f":"'Челябинская обл.'!$C$41","v":0},{"$f":"'Челябинская обл.'!$C$44","v":1142.9000000000001},{"$f":"'Челябинская обл.'!$C$45","v":1066.98},{"$f":"'Челябинская обл.'!$C$46","v":0},{"$f":"'Челябинская обл.'!$C$47","v":0},{"$f":"'Челябинская обл.'!$C$48","v":0},{"$f":"'Челябинская обл.'!$C$50","v":1081.3599999999999},{"$f":"'Челябинская обл.'!$C$51","v":1328.18},{"$f":"'Челябинская обл.'!$C$52","v":0},{"$f":"'Челябинская обл.'!$C$53","v":0},{"$f":"'Челябинская обл.'!$C$54","v":0},{"$f":"'Челябинская обл.'!$C$55","v":0},{"$f":"'Челябинская обл.'!$C$56","v":243.71}]
["7","ФГБУ \"ЦЖКУ\" МИНОБОРОНЫ РОССИИ (по ЦВО) (Карабашский г.о.)",null,{"$f":"'Челябинская обл.'!$C$7","v":"13,23"},{"$f":"'Челябинская обл.'!$C$10","v":1005.74},{"$f":"'Челябинская обл.'!$C$11","v":0},{"$f":"'Челябинская обл.'!$C$12","v":0},{"$f":"'Челябинская обл.'!$C$13","v":0},{"$f":"'Челябинская обл.'!$C$14","v":0},{"$f":"'Челябинская обл.'!$C$17","v":1987.75},{"$f":"'Челябинская обл.'!$C$18","v":0},{"$f":"'Челябинская обл.'!$C$19","v":0},{"$f":"'Челябинская обл.'!$C$20","v":0},{"$f":"'Челябинская обл.'!$C$21","v":0},{"$f":"'Челябинская обл.'!$C$23","v":1493.77},{"$f":"'Челябинская обл.'!$C$24","v":0},{"$f":"'Челябинская обл.'!$C$25","v":0},{"$f":"'Челябинская обл.'!$C$26","v":0},{"$f":"'Челябинская обл.'!$C$27","v":0},{"$f":"'Челябинская обл.'!$C$28","v":0},{"$f":"'Челябинская обл.'!$C$29","v":377.24},{"$f":"'Челябинская обл.'!$C$34","v":13.23},{"$f":"'Челябинская обл.'!$C$37","v":352.76},{"$f":"'Челябинская обл.'!$C$38","v":825.59},{"$f":"'Челябинская обл.'!$C$39","v":0},{"$f":"'Челябинская обл.'!$C$40","v":0},{"$f":"'Челябинская обл.'!$C$41","v":0},{"$f":"'Челябинская обл.'!$C$44","v":1142.9000000000001},{"$f":"'Челябинская обл.'!$C$45","v":1066.98},{"$f":"'Челябинская обл.'!$C$46","v":0},{"$f":"'Челябинская обл.'!$C$47","v":0},{"$f":"'Челябинская обл.'!$C$48","v":0},{"$f":"'Челябинская обл.'!$C$50","v":1081.3599999999999},{"$f":"'Челябинская обл.'!$C$51","v":1328.18},{"$f":"'Челябинская обл.'!$C$52","v":0},{"$f":"'Челябинская обл.'!$C$53","v":0},{"$f":"'Челябинская обл.'!$C$54","v":0},{"$f":"'Челябинская обл.'!$C$55","v":0},{"$f":"'Челябинская обл.'!$C$56","v":243.71}]
["4"," Копейский городской округ"]
["1","ООО \"ИРМИ ЖКХ\" (Копейский г.о.)",null,{"$f":"'Челябинская обл.'!$C$7","v":"13,23"},{"$f":"'Челябинская обл.'!$C$10","v":1005.74},{"$f":"'Челябинская обл.'!$C$11","v":0},{"$f":"'Челябинская обл.'!$C$12","v":0},{"$f":"'Челябинская обл.'!$C$13","v":0},{"$f":"'Челябинская обл.'!$C$14","v":0},{"$f":"'Челябинская обл.'!$C$17","v":1987.75},{"$f":"'Челябинская обл.'!$C$18","v":0},{"$f":"'Челябинская обл.'!$C$19","v":0},{"$f":"'Челябинская обл.'!$C$20","v":0},{"$f":"'Челябинская обл.'!$C$21","v":0},{"$f":"'Челябинская обл.'!$C$23","v":1493.77},{"$f":"'Челябинская обл.'!$C$24","v":0},{"$f":"'Челябинская обл.'!$C$25","v":0},{"$f":"'Челябинская обл.'!$C$26","v":0},{"$f":"'Челябинская обл.'!$C$27","v":0},{"$f":"'Челябинская обл.'!$C$28","v":0},{"$f":"'Челябинская обл.'!$C$29","v":377.24},{"$f":"'Челябинская обл.'!$C$34","v":13.23},{"$f":"'Челябинская обл.'!$C$37","v":352.76},{"$f":"'Челябинская обл.'!$C$38","v":825.59},{"$f":"'Челябинская обл.'!$C$39","v":0},{"$f":"'Челябинская обл.'!$C$40","v":0},{"$f":"'Челябинская обл.'!$C$41","v":0},{"$f":"'Челябинская обл.'!$C$44","v":1142.9000000000001},{"$f":"'Челябинская обл.'!$C$45","v":1066.98},{"$f":"'Челябинская обл.'!$C$46","v":0},{"$f":"'Челябинская обл.'!$C$47","v":0},{"$f":"'Челябинская обл.'!$C$48","v":0},{"$f":"'Челябинская обл.'!$C$50","v":1081.3599999999999},{"$f":"'Челябинская обл.'!$C$51","v":1328.18},{"$f":"'Челябинская обл.'!$C$52","v":0},{"$f":"'Челябинская обл.'!$C$53","v":0},{"$f":"'Челябинская обл.'!$C$54","v":0},{"$f":"'Челябинская обл.'!$C$55","v":0},{"$f":"'Челябинская обл.'!$C$56","v":243.71}]
["2","АО \"Челябоблкоммунэнерго\" (Копейский городской округ)",null,{"$f":"'ОАО \"ЧОКЭ\"'!$C$10","v":"13,23"},{"$f":"'ОАО \"ЧОКЭ\"'!$C$13","v":0},{"$f":"'ОАО \"ЧОКЭ\"'!$C$14","v":0},{"$f":"'ОАО \"ЧОКЭ\"'!$C$15","v":0},{"$f":"'ОАО \"ЧОКЭ\"'!$C$16","v":0},{"$f":"'ОАО \"ЧОКЭ\"'!$C$17","v":0},{"$f":"'ОАО \"ЧОКЭ\"'!$C$20","v":538.73},{"$f":"'ОАО \"ЧОКЭ\"'!$C$21","v":315.27999999999997},{"$f":"'ОАО \"ЧОКЭ\"'!$C$22","v":0},{"$f":"'ОАО \"ЧОКЭ\"'!$C$23","v":0},{"$f":"'ОАО \"ЧОКЭ\"'!$C$24","v":0},{"$f":"'ОАО \"ЧОКЭ\"'!$C$26","v":0},{"$f":"'ОАО \"ЧОКЭ\"'!$C$27","v":0},{"$f":"'ОАО \"ЧОКЭ\"'!$C$28","v":0},{"$f":"'ОАО \"ЧОКЭ\"'!$C$29","v":0},{"$f":"'ОАО \"ЧОКЭ\"'!$C$30","v":0},{"$f":"'ОАО \"ЧОКЭ\"'!$C$31","v":0},{"$f":"'ОАО \"ЧОКЭ\"'!$C$32","v":127.21},{"$f":"'ОАО \"ЧОКЭ\"'!$C$36","v":13.23},{"$f":"'ОАО \"ЧОКЭ\"'!$C$39","v":0},{"$f":"'ОАО \"ЧОКЭ\"'!$C$40","v":0},{"$f":"'ОАО \"ЧОКЭ\"'!$C$41","v":0},{"$f":"'ОАО \"ЧОКЭ\"'!$C$42","v":0},{"$f":"'ОАО \"ЧОКЭ\"'!$C$43","v":0},{"$f":"'ОАО \"ЧОКЭ\"'!$C$46","v":330.22},{"$f":"'ОАО \"ЧОКЭ\"'!$C$47","v":476.66},{"$f":"'ОАО \"ЧОКЭ\"'!$C$48","v":0},{"$f":"'ОАО \"ЧОКЭ\"'!$C$49","v":0},{"$f":"'ОАО \"ЧОКЭ\"'!$C$50","v":0},{"$f":"'ОАО \"ЧОКЭ\"'!$C$52","v":0},{"$f":"'ОАО \"ЧОКЭ\"'!$C$53","v":0},{"$f":"'ОАО \"ЧОКЭ\"'!$C$54","v":0},{"$f":"'ОАО \"ЧОКЭ\"'!$C$55","v":0},{"$f":"'ОАО \"ЧОКЭ\"'!$C$56","v":0},{"$f":"'ОАО \"ЧОКЭ\"'!$C$57","v":0},{"$f":"'ОАО \"ЧОКЭ\"'!$C$58","v":107.05}]
["3","АО Завод Пластмасс",null,{"$f":"'Челябинская обл.'!$C$7","v":"13,23"},{"$f":"'Челябинская обл.'!$C$10","v":1005.74},{"$f":"'Челябинская обл.'!$C$11","v":0},{"$f":"'Челябинская обл.'!$C$12","v":0},{"$f":"'Челябинская обл.'!$C$13","v":0},{"$f":"'Челябинская обл.'!$C$14","v":0},{"$f":"'Челябинская обл.'!$C$17","v":1987.75},{"$f":"'Челябинская обл.'!$C$18","v":0},{"$f":"'Челябинская обл.'!$C$19","v":0},{"$f":"'Челябинская обл.'!$C$20","v":0},{"$f":"'Челябинская обл.'!$C$21","v":0},{"$f":"'Челябинская обл.'!$C$23","v":1493.77},{"$f":"'Челябинская обл.'!$C$24","v":0},{"$f":"'Челябинская обл.'!$C$25","v":0},{"$f":"'Челябинская обл.'!$C$26","v":0},{"$f":"'Челябинская обл.'!$C$27","v":0},{"$f":"'Челябинская обл.'!$C$28","v":0},{"$f":"'Челябинская обл.'!$C$29","v":377.24},{"$f":"'Челябинская обл.'!$C$34","v":13.23},{"$f":"'Челябинская обл.'!$C$37","v":352.76},{"$f":"'Челябинская обл.'!$C$38","v":825.59},{"$f":"'Челябинская обл.'!$C$39","v":0},{"$f":"'Челябинская обл.'!$C$40","v":0},{"$f":"'Челябинская обл.'!$C$41","v":0},{"$f":"'Челябинская обл.'!$C$44","v":1142.9000000000001},{"$f":"'Челябинская обл.'!$C$45","v":1066.98},{"$f":"'Челябинская обл.'!$C$46","v":0},{"$f":"'Челябинская обл.'!$C$47","v":0},{"$f":"'Челябинская обл.'!$C$48","v":0},{"$f":"'Челябинская обл.'!$C$50","v":1081.3599999999999},{"$f":"'Челябинская обл.'!$C$51","v":1328.18},{"$f":"'Челябинская обл.'!$C$52","v":0},{"$f":"'Челябинская обл.'!$C$53","v":0},{"$f":"'Челябинская обл.'!$C$54","v":0},{"$f":"'Челябинская обл.'!$C$55","v":0},{"$f":"'Челябинская обл.'!$C$56","v":243.71}]
["4","МУП \"Многофункциональный комплекс\"",null,{"$f":"'Челябинская обл.'!$C$7","v":"13,23"},{"$f":"'Челябинская обл.'!$C$10","v":1005.74},{"$f":"'Челябинская обл.'!$C$11","v":0},{"$f":"'Челябинская обл.'!$C$12","v":0},{"$f":"'Челябинская обл.'!$C$13","v":0},{"$f":"'Челябинская обл.'!$C$14","v":0},{"$f":"'Челябинская обл.'!$C$17","v":1987.75},{"$f":"'Челябинская обл.'!$C$18","v":0},{"$f":"'Челябинская обл.'!$C$19","v":0},{"$f":"'Челябинская обл.'!$C$20","v":0},{"$f":"'Челябинская обл.'!$C$21","v":0},{"$f":"'Челябинская обл.'!$C$23","v":1493.77},{"$f":"'Челябинская обл.'!$C$24","v":0},{"$f":"'Челябинская обл.'!$C$25","v":0},{"$f":"'Челябинская обл.'!$C$26","v":0},{"$f":"'Челябинская обл.'!$C$27","v":0},{"$f":"'Челябинская обл.'!$C$28","v":0},{"$f":"'Челябинская обл.'!$C$29","v":377.24},{"$f":"'Челябинская обл.'!$C$34","v":13.23},{"$f":"'Челябинская обл.'!$C$37","v":352.76},{"$f":"'Челябинская обл.'!$C$38","v":825.59},{"$f":"'Челябинская обл.'!$C$39","v":0},{"$f":"'Челябинская обл.'!$C$40","v":0},{"$f":"'Челябинская обл.'!$C$41","v":0},{"$f":"'Челябинская обл.'!$C$44","v":1142.9000000000001},{"$f":"'Челябинская обл.'!$C$45","v":1066.98},{"$f":"'Челябинская обл.'!$C$46","v":0},{"$f":"'Челябинская обл.'!$C$47","v":0},{"$f":"'Челябинская обл.'!$C$48","v":0},{"$f":"'Челябинская обл.'!$C$50","v":1081.3599999999999},{"$f":"'Челябинская обл.'!$C$51","v":1328.18},{"$f":"'Челябинская обл.'!$C$52","v":0},{"$f":"'Челябинская обл.'!$C$53","v":0},{"$f":"'Челябинская обл.'!$C$54","v":0},{"$f":"'Челябинская обл.'!$C$55","v":0},{"$f":"'Челябинская обл.'!$C$56","v":243.71}]
["5","ОАО \"Челябкоммунэнерго\" (Копейский г.о.)",null,{"$f":"'Челябинская обл.'!$C$7","v":"13,23"},{"$f":"'Челябинская обл.'!$C$10","v":1005.74},{"$f":"'Челябинская обл.'!$C$11","v":0},{"$f":"'Челябинская обл.'!$C$12","v":0},{"$f":"'Челябинская обл.'!$C$13","v":0},{"$f":"'Челябинская обл.'!$C$14","v":0},{"$f":"'Челябинская обл.'!$C$17","v":1987.75},{"$f":"'Челябинская обл.'!$C$18","v":0},{"$f":"'Челябинская обл.'!$C$19","v":0},{"$f":"'Челябинская обл.'!$C$20","v":0},{"$f":"'Челябинская обл.'!$C$21","v":0},{"$f":"'Челябинская обл.'!$C$23","v":1493.77},{"$f":"'Челябинская обл.'!$C$24","v":0},{"$f":"'Челябинская обл.'!$C$25","v":0},{"$f":"'Челябинская обл.'!$C$26","v":0},{"$f":"'Челябинская обл.'!$C$27","v":0},{"$f":"'Челябинская обл.'!$C$28","v":0},{"$f":"'Челябинская обл.'!$C$29","v":377.24},{"$f":"'Челябинская обл.'!$C$34","v":13.23},{"$f":"'Челябинская обл.'!$C$37","v":352.76},{"$f":"'Челябинская обл.'!$C$38","v":825.59},{"$f":"'Челябинская обл.'!$C$39","v":0},{"$f":"'Челябинская обл.'!$C$40","v":0},{"$f":"'Челябинская обл.'!$C$41","v":0},{"$f":"'Челябинская обл.'!$C$44","v":1142.9000000000001},{"$f":"'Челябинская обл.'!$C$45","v":1066.98},{"$f":"'Челябинская обл.'!$C$46","v":0},{"$f":"'Челябинская обл.'!$C$47","v":0},{"$f":"'Челябинская обл.'!$C$48","v":0},{"$f":"'Челябинская обл.'!$C$50","v":1081.3599999999999},{"$f":"'Челябинская обл.'!$C$51","v":1328.18},{"$f":"'Челябинская обл.'!$C$52","v":0},{"$f":"'Челябинская обл.'!$C$53","v":0},{"$f":"'Челябинская обл.'!$C$54","v":0},{"$f":"'Челябинская обл.'!$C$55","v":0},{"$f":"'Челябинская обл.'!$C$56","v":243.71}]
["6","ООО \"Коркинский экскаваторо-вагоноремонтный завод\"",null,{"$f":"'Челябинская обл.'!$C$7","v":"13,23"},{"$f":"'Челябинская обл.'!$C$10","v":1005.74},{"$f":"'Челябинская обл.'!$C$11","v":0},{"$f":"'Челябинская обл.'!$C$12","v":0},{"$f":"'Челябинская обл.'!$C$13","v":0},{"$f":"'Челябинская обл.'!$C$14","v":0},{"$f":"'Челябинская обл.'!$C$17","v":1987.75},{"$f":"'Челябинская обл.'!$C$18","v":0},{"$f":"'Челябинская обл.'!$C$19","v":0},{"$f":"'Челябинская обл.'!$C$20","v":0},{"$f":"'Челябинская обл.'!$C$21","v":0},{"$f":"'Челябинская обл.'!$C$23","v":1493.77},{"$f":"'Челябинская обл.'!$C$24","v":0},{"$f":"'Челябинская обл.'!$C$25","v":0},{"$f":"'Челябинская обл.'!$C$26","v":0},{"$f":"'Челябинская обл.'!$C$27","v":0},{"$f":"'Челябинская обл.'!$C$28","v":0},{"$f":"'Челябинская обл.'!$C$29","v":377.24},{"$f":"'Челябинская обл.'!$C$34","v":13.23},{"$f":"'Челябинская обл.'!$C$37","v":352.76},{"$f":"'Челябинская обл.'!$C$38","v":825.59},{"$f":"'Челябинская обл.'!$C$39","v":0},{"$f":"'Челябинская обл.'!$C$40","v":0},{"$f":"'Челябинская обл.'!$C$41","v":0},{"$f":"'Челябинская обл.'!$C$44","v":1142.9000000000001},{"$f":"'Челябинская обл.'!$C$45","v":1066.98},{"$f":"'Челябинская обл.'!$C$46","v":0},{"$f":"'Челябинская обл.'!$C$47","v":0},{"$f":"'Челябинская обл.'!$C$48","v":0},{"$f":"'Челябинская обл.'!$C$50","v":1081.3599999999999},{"$f":"'Челябинская обл.'!$C$51","v":1328.18},{"$f":"'Челябинская обл.'!$C$52","v":0},{"$f":"'Челябинская обл.'!$C$53","v":0},{"$f":"'Челябинская обл.'!$C$54","v":0},{"$f":"'Челябинская обл.'!$C$55","v":0},{"$f":"'Челябинская обл.'!$C$56","v":243.71}]
["7","ООО \"Производственное коммерческое предприятие Синергия\"",null,{"$f":"'Челябинская обл.'!$C$7","v":"13,23"},{"$f":"'Челябинская обл.'!$C$10","v":1005.74},{"$f":"'Челябинская обл.'!$C$11","v":0},{"$f":"'Челябинская обл.'!$C$12","v":0},{"$f":"'Челябинская обл.'!$C$13","v":0},{"$f":"'Челябинская обл.'!$C$14","v":0},{"$f":"'Челябинская обл.'!$C$17","v":1987.75},{"$f":"'Челябинская обл.'!$C$18","v":0},{"$f":"'Челябинская обл.'!$C$19","v":0},{"$f":"'Челябинская обл.'!$C$20","v":0},{"$f":"'Челябинская обл.'!$C$21","v":0},{"$f":"'Челябинская обл.'!$C$23","v":1493.77},{"$f":"'Челябинская обл.'!$C$24","v":0},{"$f":"'Челябинская обл.'!$C$25","v":0},{"$f":"'Челябинская обл.'!$C$26","v":0},{"$f":"'Челябинская обл.'!$C$27","v":0},{"$f":"'Челябинская обл.'!$C$28","v":0},{"$f":"'Челябинская обл.'!$C$29","v":377.24},{"$f":"'Челябинская обл.'!$C$34","v":13.23},{"$f":"'Челябинская обл.'!$C$37","v":352.76},{"$f":"'Челябинская обл.'!$C$38","v":825.59},{"$f":"'Челябинская обл.'!$C$39","v":0},{"$f":"'Челябинская обл.'!$C$40","v":0},{"$f":"'Челябинская обл.'!$C$41","v":0},{"$f":"'Челябинская обл.'!$C$44","v":1142.9000000000001},{"$f":"'Челябинская обл.'!$C$45","v":1066.98},{"$f":"'Челябинская обл.'!$C$46","v":0},{"$f":"'Челябинская обл.'!$C$47","v":0},{"$f":"'Челябинская обл.'!$C$48","v":0},{"$f":"'Челябинская обл.'!$C$50","v":1081.3599999999999},{"$f":"'Челябинская обл.'!$C$51","v":1328.18},{"$f":"'Челябинская обл.'!$C$52","v":0},{"$f":"'Челябинская обл.'!$C$53","v":0},{"$f":"'Челябинская обл.'!$C$54","v":0},{"$f":"'Челябинская обл.'!$C$55","v":0},{"$f":"'Челябинская обл.'!$C$56","v":243.71}]
["8","ООО \"Тепло и Сервис\" (Копейский г.о.)",null,{"$f":"'Челябинская обл.'!$C$7","v":"13,23"},{"$f":"'Челябинская обл.'!$C$10","v":1005.74},{"$f":"'Челябинская обл.'!$C$11","v":0},{"$f":"'Челябинская обл.'!$C$12","v":0},{"$f":"'Челябинская обл.'!$C$13","v":0},{"$f":"'Челябинская обл.'!$C$14","v":0},{"$f":"'Челябинская обл.'!$C$17","v":1987.75},{"$f":"'Челябинская обл.'!$C$18","v":0},{"$f":"'Челябинская обл.'!$C$19","v":0},{"$f":"'Челябинская обл.'!$C$20","v":0},{"$f":"'Челябинская обл.'!$C$21","v":0},{"$f":"'Челябинская обл.'!$C$23","v":1493.77},{"$f":"'Челябинская обл.'!$C$24","v":0},{"$f":"'Челябинская обл.'!$C$25","v":0},{"$f":"'Челябинская обл.'!$C$26","v":0},{"$f":"'Челябинская обл.'!$C$27","v":0},{"$f":"'Челябинская обл.'!$C$28","v":0},{"$f":"'Челябинская обл.'!$C$29","v":377.24},{"$f":"'Челябинская обл.'!$C$34","v":13.23},{"$f":"'Челябинская обл.'!$C$37","v":352.76},{"$f":"'Челябинская обл.'!$C$38","v":825.59},{"$f":"'Челябинская обл.'!$C$39","v":0},{"$f":"'Челябинская обл.'!$C$40","v":0},{"$f":"'Челябинская обл.'!$C$41","v":0},{"$f":"'Челябинская обл.'!$C$44","v":1142.9000000000001},{"$f":"'Челябинская обл.'!$C$45","v":1066.98},{"$f":"'Челябинская обл.'!$C$46","v":0},{"$f":"'Челябинская обл.'!$C$47","v":0},{"$f":"'Челябинская обл.'!$C$48","v":0},{"$f":"'Челябинская обл.'!$C$50","v":1081.3599999999999},{"$f":"'Челябинская обл.'!$C$51","v":1328.18},{"$f":"'Челябинская обл.'!$C$52","v":0},{"$f":"'Челябинская обл.'!$C$53","v":0},{"$f":"'Челябинская обл.'!$C$54","v":0},{"$f":"'Челябинская обл.'!$C$55","v":0},{"$f":"'Челябинская обл.'!$C$56","v":243.71}]
["9","ООО \"Тепловые электрические сети и системы\" (Копейский г.о.)",null,{"$f":"'Челябинская обл.'!$C$7","v":"13,23"},{"$f":"'Челябинская обл.'!$C$10","v":1005.74},{"$f":"'Челябинская обл.'!$C$11","v":0},{"$f":"'Челябинская обл.'!$C$12","v":0},{"$f":"'Челябинская обл.'!$C$13","v":0},{"$f":"'Челябинская обл.'!$C$14","v":0},{"$f":"'Челябинская обл.'!$C$17","v":1987.75},{"$f":"'Челябинская обл.'!$C$18","v":0},{"$f":"'Челябинская обл.'!$C$19","v":0},{"$f":"'Челябинская обл.'!$C$20","v":0},{"$f":"'Челябинская обл.'!$C$21","v":0},{"$f":"'Челябинская обл.'!$C$23","v":1493.77},{"$f":"'Челябинская обл.'!$C$24","v":0},{"$f":"'Челябинская обл.'!$C$25","v":0},{"$f":"'Челябинская обл.'!$C$26","v":0},{"$f":"'Челябинская обл.'!$C$27","v":0},{"$f":"'Челябинская обл.'!$C$28","v":0},{"$f":"'Челябинская обл.'!$C$29","v":377.24},{"$f":"'Челябинская обл.'!$C$34","v":13.23},{"$f":"'Челябинская обл.'!$C$37","v":352.76},{"$f":"'Челябинская обл.'!$C$38","v":825.59},{"$f":"'Челябинская обл.'!$C$39","v":0},{"$f":"'Челябинская обл.'!$C$40","v":0},{"$f":"'Челябинская обл.'!$C$41","v":0},{"$f":"'Челябинская обл.'!$C$44","v":1142.9000000000001},{"$f":"'Челябинская обл.'!$C$45","v":1066.98},{"$f":"'Челябинская обл.'!$C$46","v":0},{"$f":"'Челябинская обл.'!$C$47","v":0},{"$f":"'Челябинская обл.'!$C$48","v":0},{"$f":"'Челябинская обл.'!$C$50","v":1081.3599999999999},{"$f":"'Челябинская обл.'!$C$51","v":1328.18},{"$f":"'Челябинская обл.'!$C$52","v":0},{"$f":"'Челябинская обл.'!$C$53","v":0},{"$f":"'Челябинская обл.'!$C$54","v":0},{"$f":"'Челябинская обл.'!$C$55","v":0},{"$f":"'Челябинская обл.'!$C$56","v":243.71}]
["10","ООО \"Энергостандарт\"",null,{"$f":"'Челябинская обл.'!$C$7","v":"13,23"},{"$f":"'Челябинская обл.'!$C$10","v":1005.74},{"$f":"'Челябинская обл.'!$C$11","v":0},{"$f":"'Челябинская обл.'!$C$12","v":0},{"$f":"'Челябинская обл.'!$C$13","v":0},{"$f":"'Челябинская обл.'!$C$14","v":0},{"$f":"'Челябинская обл.'!$C$17","v":1987.75},{"$f":"'Челябинская обл.'!$C$18","v":0},{"$f":"'Челябинская обл.'!$C$19","v":0},{"$f":"'Челябинская обл.'!$C$20","v":0},{"$f":"'Челябинская обл.'!$C$21","v":0},{"$f":"'Челябинская обл.'!$C$23","v":1493.77},{"$f":"'Челябинская обл.'!$C$24","v":0},{"$f":"'Челябинская обл.'!$C$25","v":0},{"$f":"'Челябинская обл.'!$C$26","v":0},{"$f":"'Челябинская обл.'!$C$27","v":0},{"$f":"'Челябинская обл.'!$C$28","v":0},{"$f":"'Челябинская обл.'!$C$29","v":377.24},{"$f":"'Челябинская обл.'!$C$34","v":13.23},{"$f":"'Челябинская обл.'!$C$37","v":352.76},{"$f":"'Челябинская обл.'!$C$38","v":825.59},{"$f":"'Челябинская обл.'!$C$39","v":0},{"$f":"'Челябинская обл.'!$C$40","v":0},{"$f":"'Челябинская обл.'!$C$41","v":0},{"$f":"'Челябинская обл.'!$C$44","v":1142.9000000000001},{"$f":"'Челябинская обл.'!$C$45","v":1066.98},{"$f":"'Челябинская обл.'!$C$46","v":0},{"$f":"'Челябинская обл.'!$C$47","v":0},{"$f":"'Челябинская обл.'!$C$48","v":0},{"$f":"'Челябинская обл.'!$C$50","v":1081.3599999999999},{"$f":"'Челябинская обл.'!$C$51","v":1328.18},{"$f":"'Челябинская обл.'!$C$52","v":0},{"$f":"'Челябинская обл.'!$C$53","v":0},{"$f":"'Челябинская обл.'!$C$54","v":0},{"$f":"'Челябинская обл.'!$C$55","v":0},{"$f":"'Челябинская обл.'!$C$56","v":243.71}]
["11","ООО «Перспектива» (Копейский г.о.)",null,{"$f":"'Челябинская обл.'!$C$7","v":"13,23"},{"$f":"'Челябинская обл.'!$C$10","v":1005.74},{"$f":"'Челябинская обл.'!$C$11","v":0},{"$f":"'Челябинская обл.'!$C$12","v":0},{"$f":"'Челябинская обл.'!$C$13","v":0},{"$f":"'Челябинская обл.'!$C$14","v":0},{"$f":"'Челябинская обл.'!$C$17","v":1987.75},{"$f":"'Челябинская обл.'!$C$18","v":0},{"$f":"'Челябинская обл.'!$C$19","v":0},{"$f":"'Челябинская обл.'!$C$20","v":0},{"$f":"'Челябинская обл.'!$C$21","v":0},{"$f":"'Челябинская обл.'!$C$23","v":1493.77},{"$f":"'Челябинская обл.'!$C$24","v":0},{"$f":"'Челябинская обл.'!$C$25","v":0},{"$f":"'Челябинская обл.'!$C$26","v":0},{"$f":"'Челябинская обл.'!$C$27","v":0},{"$f":"'Челябинская обл.'!$C$28","v":0},{"$f":"'Челябинская обл.'!$C$29","v":377.24},{"$f":"'Челябинская обл.'!$C$34","v":13.23},{"$f":"'Челябинская обл.'!$C$37","v":352.76},{"$f":"'Челябинская обл.'!$C$38","v":825.59},{"$f":"'Челябинская обл.'!$C$39","v":0},{"$f":"'Челябинская обл.'!$C$40","v":0},{"$f":"'Челябинская обл.'!$C$41","v":0},{"$f":"'Челябинская обл.'!$C$44","v":1142.9000000000001},{"$f":"'Челябинская обл.'!$C$45","v":1066.98},{"$f":"'Челябинская обл.'!$C$46","v":0},{"$f":"'Челябинская обл.'!$C$47","v":0},{"$f":"'Челябинская обл.'!$C$48","v":0},{"$f":"'Челябинская обл.'!$C$50","v":1081.3599999999999},{"$f":"'Челябинская обл.'!$C$51","v":1328.18},{"$f":"'Челябинская обл.'!$C$52","v":0},{"$f":"'Челябинская обл.'!$C$53","v":0},{"$f":"'Челябинская обл.'!$C$54","v":0},{"$f":"'Челябинская обл.'!$C$55","v":0},{"$f":"'Челябинская обл.'!$C$56","v":243.71}]
["12","ФКУ ИК-1 ГУФСИН России по Челябинской области (Копейский г.о.)",null,{"$f":"'Челябинская обл.'!$C$7","v":"13,23"},{"$f":"'Челябинская обл.'!$C$10","v":1005.74},{"$f":"'Челябинская обл.'!$C$11","v":0},{"$f":"'Челябинская обл.'!$C$12","v":0},{"$f":"'Челябинская обл.'!$C$13","v":0},{"$f":"'Челябинская обл.'!$C$14","v":0},{"$f":"'Челябинская обл.'!$C$17","v":1987.75},{"$f":"'Челябинская обл.'!$C$18","v":0},{"$f":"'Челябинская обл.'!$C$19","v":0},{"$f":"'Челябинская обл.'!$C$20","v":0},{"$f":"'Челябинская обл.'!$C$21","v":0},{"$f":"'Челябинская обл.'!$C$23","v":1493.77},{"$f":"'Челябинская обл.'!$C$24","v":0},{"$f":"'Челябинская обл.'!$C$25","v":0},{"$f":"'Челябинская обл.'!$C$26","v":0},{"$f":"'Челябинская обл.'!$C$27","v":0},{"$f":"'Челябинская обл.'!$C$28","v":0},{"$f":"'Челябинская обл.'!$C$29","v":377.24},{"$f":"'Челябинская обл.'!$C$34","v":13.23},{"$f":"'Челябинская обл.'!$C$37","v":352.76},{"$f":"'Челябинская обл.'!$C$38","v":825.59},{"$f":"'Челябинская обл.'!$C$39","v":0},{"$f":"'Челябинская обл.'!$C$40","v":0},{"$f":"'Челябинская обл.'!$C$41","v":0},{"$f":"'Челябинская обл.'!$C$44","v":1142.9000000000001},{"$f":"'Челябинская обл.'!$C$45","v":1066.98},{"$f":"'Челябинская обл.'!$C$46","v":0},{"$f":"'Челябинская обл.'!$C$47","v":0},{"$f":"'Челябинская обл.'!$C$48","v":0},{"$f":"'Челябинская обл.'!$C$50","v":1081.3599999999999},{"$f":"'Челябинская обл.'!$C$51","v":1328.18},{"$f":"'Челябинская обл.'!$C$52","v":0},{"$f":"'Челябинская обл.'!$C$53","v":0},{"$f":"'Челябинская обл.'!$C$54","v":0},{"$f":"'Челябинская обл.'!$C$55","v":0},{"$f":"'Челябинская обл.'!$C$56","v":243.71}]
["5","Кыштымский городской округ"]
["1","ФКУЗ \"Санаторий \"Лесное озеро\" МВД России\"",null,{"$f":"'Челябинская обл.'!$C$7","v":"13,23"},{"$f":"'Челябинская обл.'!$C$10","v":1005.74},{"$f":"'Челябинская обл.'!$C$11","v":0},{"$f":"'Челябинская обл.'!$C$12","v":0},{"$f":"'Челябинская обл.'!$C$13","v":0},{"$f":"'Челябинская обл.'!$C$14","v":0},{"$f":"'Челябинская обл.'!$C$17","v":1987.75},{"$f":"'Челябинская обл.'!$C$18","v":0},{"$f":"'Челябинская обл.'!$C$19","v":0},{"$f":"'Челябинская обл.'!$C$20","v":0},{"$f":"'Челябинская обл.'!$C$21","v":0},{"$f":"'Челябинская обл.'!$C$23","v":1493.77},{"$f":"'Челябинская обл.'!$C$24","v":0},{"$f":"'Челябинская обл.'!$C$25","v":0},{"$f":"'Челябинская обл.'!$C$26","v":0},{"$f":"'Челябинская обл.'!$C$27","v":0},{"$f":"'Челябинская обл.'!$C$28","v":0},{"$f":"'Челябинская обл.'!$C$29","v":377.24},{"$f":"'Челябинская обл.'!$C$34","v":13.23},{"$f":"'Челябинская обл.'!$C$37","v":352.76},{"$f":"'Челябинская обл.'!$C$38","v":825.59},{"$f":"'Челябинская обл.'!$C$39","v":0},{"$f":"'Челябинская обл.'!$C$40","v":0},{"$f":"'Челябинская обл.'!$C$41","v":0},{"$f":"'Челябинская обл.'!$C$44","v":1142.9000000000001},{"$f":"'Челябинская обл.'!$C$45","v":1066.98},{"$f":"'Челябинская обл.'!$C$46","v":0},{"$f":"'Челябинская обл.'!$C$47","v":0},{"$f":"'Челябинская обл.'!$C$48","v":0},{"$f":"'Челябинская обл.'!$C$50","v":1081.3599999999999},{"$f":"'Челябинская обл.'!$C$51","v":1328.18},{"$f":"'Челябинская обл.'!$C$52","v":0},{"$f":"'Челябинская обл.'!$C$53","v":0},{"$f":"'Челябинская обл.'!$C$54","v":0},{"$f":"'Челябинская обл.'!$C$55","v":0},{"$f":"'Челябинская обл.'!$C$56","v":243.71}]
["2","ООО \"ЮжУралСпец МВ\"",null,{"$f":"'Челябинская обл.'!$C$7","v":"13,23"},{"$f":"'Челябинская обл.'!$C$10","v":1005.74},{"$f":"'Челябинская обл.'!$C$11","v":0},{"$f":"'Челябинская обл.'!$C$12","v":0},{"$f":"'Челябинская обл.'!$C$13","v":0},{"$f":"'Челябинская обл.'!$C$14","v":0},{"$f":"'Челябинская обл.'!$C$17","v":1987.75},{"$f":"'Челябинская обл.'!$C$18","v":0},{"$f":"'Челябинская обл.'!$C$19","v":0},{"$f":"'Челябинская обл.'!$C$20","v":0},{"$f":"'Челябинская обл.'!$C$21","v":0},{"$f":"'Челябинская обл.'!$C$23","v":1493.77},{"$f":"'Челябинская обл.'!$C$24","v":0},{"$f":"'Челябинская обл.'!$C$25","v":0},{"$f":"'Челябинская обл.'!$C$26","v":0},{"$f":"'Челябинская обл.'!$C$27","v":0},{"$f":"'Челябинская обл.'!$C$28","v":0},{"$f":"'Челябинская обл.'!$C$29","v":377.24},{"$f":"'Челябинская обл.'!$C$34","v":13.23},{"$f":"'Челябинская обл.'!$C$37","v":352.76},{"$f":"'Челябинская обл.'!$C$38","v":825.59},{"$f":"'Челябинская обл.'!$C$39","v":0},{"$f":"'Челябинская обл.'!$C$40","v":0},{"$f":"'Челябинская обл.'!$C$41","v":0},{"$f":"'Челябинская обл.'!$C$44","v":1142.9000000000001},{"$f":"'Челябинская обл.'!$C$45","v":1066.98},{"$f":"'Челябинская обл.'!$C$46","v":0},{"$f":"'Челябинская обл.'!$C$47","v":0},{"$f":"'Челябинская обл.'!$C$48","v":0},{"$f":"'Челябинская обл.'!$C$50","v":1081.3599999999999},{"$f":"'Челябинская обл.'!$C$51","v":1328.18},{"$f":"'Челябинская обл.'!$C$52","v":0},{"$f":"'Челябинская обл.'!$C$53","v":0},{"$f":"'Челябинская обл.'!$C$54","v":0},{"$f":"'Челябинская обл.'!$C$55","v":0},{"$f":"'Челябинская обл.'!$C$56","v":243.71}]
["3","ООО \"Тепловые электрические сети и системы\" (Кыштымский г.о.)",null,{"$f":"'Челябинская обл.'!$C$7","v":"13,23"},{"$f":"'Челябинская обл.'!$C$10","v":1005.74},{"$f":"'Челябинская обл.'!$C$11","v":0},{"$f":"'Челябинская обл.'!$C$12","v":0},{"$f":"'Челябинская обл.'!$C$13","v":0},{"$f":"'Челябинская обл.'!$C$14","v":0},{"$f":"'Челябинская обл.'!$C$17","v":1987.75},{"$f":"'Челябинская обл.'!$C$18","v":0},{"$f":"'Челябинская обл.'!$C$19","v":0},{"$f":"'Челябинская обл.'!$C$20","v":0},{"$f":"'Челябинская обл.'!$C$21","v":0},{"$f":"'Челябинская обл.'!$C$23","v":1493.77},{"$f":"'Челябинская обл.'!$C$24","v":0},{"$f":"'Челябинская обл.'!$C$25","v":0},{"$f":"'Челябинская обл.'!$C$26","v":0},{"$f":"'Челябинская обл.'!$C$27","v":0},{"$f":"'Челябинская обл.'!$C$28","v":0},{"$f":"'Челябинская обл.'!$C$29","v":377.24},{"$f":"'Челябинская обл.'!$C$34","v":13.23},{"$f":"'Челябинская обл.'!$C$37","v":352.76},{"$f":"'Челябинская обл.'!$C$38","v":825.59},{"$f":"'Челябинская обл.'!$C$39","v":0},{"$f":"'Челябинская обл.'!$C$40","v":0},{"$f":"'Челябинская обл.'!$C$41","v":0},{"$f":"'Челябинская обл.'!$C$44","v":1142.9000000000001},{"$f":"'Челябинская обл.'!$C$45","v":1066.98},{"$f":"'Челябинская обл.'!$C$46","v":0},{"$f":"'Челябинская обл.'!$C$47","v":0},{"$f":"'Челябинская обл.'!$C$48","v":0},{"$f":"'Челябинская обл.'!$C$50","v":1081.3599999999999},{"$f":"'Челябинская обл.'!$C$51","v":1328.18},{"$f":"'Челябинская обл.'!$C$52","v":0},{"$f":"'Челябинская обл.'!$C$53","v":0},{"$f":"'Челябинская обл.'!$C$54","v":0},{"$f":"'Челябинская обл.'!$C$55","v":0},{"$f":"'Челябинская обл.'!$C$56","v":243.71}]
["4","ООО \"Сетевое Теплоэнергетическое Предприятие\" (Кыштымский г.о.)",null,{"$f":"'Челябинская обл.'!$C$7","v":"13,23"},{"$f":"'Челябинская обл.'!$C$10","v":1005.74},{"$f":"'Челябинская обл.'!$C$11","v":0},{"$f":"'Челябинская обл.'!$C$12","v":0},{"$f":"'Челябинская обл.'!$C$13","v":0},{"$f":"'Челябинская обл.'!$C$14","v":0},{"$f":"'Челябинская обл.'!$C$17","v":1987.75},{"$f":"'Челябинская обл.'!$C$18","v":0},{"$f":"'Челябинская обл.'!$C$19","v":0},{"$f":"'Челябинская обл.'!$C$20","v":0},{"$f":"'Челябинская обл.'!$C$21","v":0},{"$f":"'Челябинская обл.'!$C$23","v":1493.77},{"$f":"'Челябинская обл.'!$C$24","v":0},{"$f":"'Челябинская обл.'!$C$25","v":0},{"$f":"'Челябинская обл.'!$C$26","v":0},{"$f":"'Челябинская обл.'!$C$27","v":0},{"$f":"'Челябинская обл.'!$C$28","v":0},{"$f":"'Челябинская обл.'!$C$29","v":377.24},{"$f":"'Челябинская обл.'!$C$34","v":13.23},{"$f":"'Челябинская обл.'!$C$37","v":352.76},{"$f":"'Челябинская обл.'!$C$38","v":825.59},{"$f":"'Челябинская обл.'!$C$39","v":0},{"$f":"'Челябинская обл.'!$C$40","v":0},{"$f":"'Челябинская обл.'!$C$41","v":0},{"$f":"'Челябинская обл.'!$C$44","v":1142.9000000000001},{"$f":"'Челябинская обл.'!$C$45","v":1066.98},{"$f":"'Челябинская обл.'!$C$46","v":0},{"$f":"'Челябинская обл.'!$C$47","v":0},{"$f":"'Челябинская обл.'!$C$48","v":0},{"$f":"'Челябинская обл.'!$C$50","v":1081.3599999999999},{"$f":"'Челябинская обл.'!$C$51","v":1328.18},{"$f":"'Челябинская обл.'!$C$52","v":0},{"$f":"'Челябинская обл.'!$C$53","v":0},{"$f":"'Челябинская обл.'!$C$54","v":0},{"$f":"'Челябинская обл.'!$C$55","v":0},{"$f":"'Челябинская обл.'!$C$56","v":243.71}]
["5","ООО \"Кыштымский лес\"",null,{"$f":"'Челябинская обл.'!$C$7","v":"13,23"},{"$f":"'Челябинская обл.'!$C$10","v":1005.74},{"$f":"'Челябинская обл.'!$C$11","v":0},{"$f":"'Челябинская обл.'!$C$12","v":0},{"$f":"'Челябинская обл.'!$C$13","v":0},{"$f":"'Челябинская обл.'!$C$14","v":0},{"$f":"'Челябинская обл.'!$C$17","v":1987.75},{"$f":"'Челябинская обл.'!$C$18","v":0},{"$f":"'Челябинская обл.'!$C$19","v":0},{"$f":"'Челябинская обл.'!$C$20","v":0},{"$f":"'Челябинская обл.'!$C$21","v":0},{"$f":"'Челябинская обл.'!$C$23","v":1493.77},{"$f":"'Челябинская обл.'!$C$24","v":0},{"$f":"'Челябинская обл.'!$C$25","v":0},{"$f":"'Челябинская обл.'!$C$26","v":0},{"$f":"'Челябинская обл.'!$C$27","v":0},{"$f":"'Челябинская обл.'!$C$28","v":0},{"$f":"'Челябинская обл.'!$C$29","v":377.24},{"$f":"'Челябинская обл.'!$C$34","v":13.23},{"$f":"'Челябинская обл.'!$C$37","v":352.76},{"$f":"'Челябинская обл.'!$C$38","v":825.59},{"$f":"'Челябинская обл.'!$C$39","v":0},{"$f":"'Челябинская обл.'!$C$40","v":0},{"$f":"'Челябинская обл.'!$C$41","v":0},{"$f":"'Челябинская обл.'!$C$44","v":1142.9000000000001},{"$f":"'Челябинская обл.'!$C$45","v":1066.98},{"$f":"'Челябинская обл.'!$C$46","v":0},{"$f":"'Челябинская обл.'!$C$47","v":0},{"$f":"'Челябинская обл.'!$C$48","v":0},{"$f":"'Челябинская обл.'!$C$50","v":1081.3599999999999},{"$f":"'Челябинская обл.'!$C$51","v":1328.18},{"$f":"'Челябинская обл.'!$C$52","v":0},{"$f":"'Челябинская обл.'!$C$53","v":0},{"$f":"'Челябинская обл.'!$C$54","v":0},{"$f":"'Челябинская обл.'!$C$55","v":0},{"$f":"'Челябинская обл.'!$C$56","v":243.71}]
["6","ОАО \"Челябкоммунэнерго\" (Кыштымский г.о.)",null,{"$f":"'Челябинская обл.'!$C$7","v":"13,23"},{"$f":"'Челябинская обл.'!$C$10","v":1005.74},{"$f":"'Челябинская обл.'!$C$11","v":0},{"$f":"'Челябинская обл.'!$C$12","v":0},{"$f":"'Челябинская обл.'!$C$13","v":0},{"$f":"'Челябинская обл.'!$C$14","v":0},{"$f":"'Челябинская обл.'!$C$17","v":1987.75},{"$f":"'Челябинская обл.'!$C$18","v":0},{"$f":"'Челябинская обл.'!$C$19","v":0},{"$f":"'Челябинская обл.'!$C$20","v":0},{"$f":"'Челябинская обл.'!$C$21","v":0},{"$f":"'Челябинская обл.'!$C$23","v":1493.77},{"$f":"'Челябинская обл.'!$C$24","v":0},{"$f":"'Челябинская обл.'!$C$25","v":0},{"$f":"'Челябинская обл.'!$C$26","v":0},{"$f":"'Челябинская обл.'!$C$27","v":0},{"$f":"'Челябинская обл.'!$C$28","v":0},{"$f":"'Челябинская обл.'!$C$29","v":377.24},{"$f":"'Челябинская обл.'!$C$34","v":13.23},{"$f":"'Челябинская обл.'!$C$37","v":352.76},{"$f":"'Челябинская обл.'!$C$38","v":825.59},{"$f":"'Челябинская обл.'!$C$39","v":0},{"$f":"'Челябинская обл.'!$C$40","v":0},{"$f":"'Челябинская обл.'!$C$41","v":0},{"$f":"'Челябинская обл.'!$C$44","v":1142.9000000000001},{"$f":"'Челябинская обл.'!$C$45","v":1066.98},{"$f":"'Челябинская обл.'!$C$46","v":0},{"$f":"'Челябинская обл.'!$C$47","v":0},{"$f":"'Челябинская обл.'!$C$48","v":0},{"$f":"'Челябинская обл.'!$C$50","v":1081.3599999999999},{"$f":"'Челябинская обл.'!$C$51","v":1328.18},{"$f":"'Челябинская обл.'!$C$52","v":0},{"$f":"'Челябинская обл.'!$C$53","v":0},{"$f":"'Челябинская обл.'!$C$54","v":0},{"$f":"'Челябинская обл.'!$C$55","v":0},{"$f":"'Челябинская обл.'!$C$56","v":243.71}]
["7","МУП \"Санаторий \"Дальняя Дача\"",null,{"$f":"'Челябинская обл.'!$C$7","v":"13,23"},{"$f":"'Челябинская обл.'!$C$10","v":1005.74},{"$f":"'Челябинская обл.'!$C$11","v":0},{"$f":"'Челябинская обл.'!$C$12","v":0},{"$f":"'Челябинская обл.'!$C$13","v":0},{"$f":"'Челябинская обл.'!$C$14","v":0},{"$f":"'Челябинская обл.'!$C$17","v":1987.75},{"$f":"'Челябинская обл.'!$C$18","v":0},{"$f":"'Челябинская обл.'!$C$19","v":0},{"$f":"'Челябинская обл.'!$C$20","v":0},{"$f":"'Челябинская обл.'!$C$21","v":0},{"$f":"'Челябинская обл.'!$C$23","v":1493.77},{"$f":"'Челябинская обл.'!$C$24","v":0},{"$f":"'Челябинская обл.'!$C$25","v":0},{"$f":"'Челябинская обл.'!$C$26","v":0},{"$f":"'Челябинская обл.'!$C$27","v":0},{"$f":"'Челябинская обл.'!$C$28","v":0},{"$f":"'Челябинская обл.'!$C$29","v":377.24},{"$f":"'Челябинская обл.'!$C$34","v":13.23},{"$f":"'Челябинская обл.'!$C$37","v":352.76},{"$f":"'Челябинская обл.'!$C$38","v":825.59},{"$f":"'Челябинская обл.'!$C$39","v":0},{"$f":"'Челябинская обл.'!$C$40","v":0},{"$f":"'Челябинская обл.'!$C$41","v":0},{"$f":"'Челябинская обл.'!$C$44","v":1142.9000000000001},{"$f":"'Челябинская обл.'!$C$45","v":1066.98},{"$f":"'Челябинская обл.'!$C$46","v":0},{"$f":"'Челябинская обл.'!$C$47","v":0},{"$f":"'Челябинская обл.'!$C$48","v":0},{"$f":"'Челябинская обл.'!$C$50","v":1081.3599999999999},{"$f":"'Челябинская обл.'!$C$51","v":1328.18},{"$f":"'Челябинская обл.'!$C$52","v":0},{"$f":"'Челябинская обл.'!$C$53","v":0},{"$f":"'Челябинская обл.'!$C$54","v":0},{"$f":"'Челябинская обл.'!$C$55","v":0},{"$f":"'Челябинская обл.'!$C$56","v":243.71}]
["8","Муниципальное предприятие Кыштымского городского округа \"Многопрофильное предприятие\"",null,{"$f":"'Челябинская обл.'!$C$7","v":"13,23"},{"$f":"'Челябинская обл.'!$C$10","v":1005.74},{"$f":"'Челябинская обл.'!$C$11","v":0},{"$f":"'Челябинская обл.'!$C$12","v":0},{"$f":"'Челябинская обл.'!$C$13","v":0},{"$f":"'Челябинская обл.'!$C$14","v":0},{"$f":"'Челябинская обл.'!$C$17","v":1987.75},{"$f":"'Челябинская обл.'!$C$18","v":0},{"$f":"'Челябинская обл.'!$C$19","v":0},{"$f":"'Челябинская обл.'!$C$20","v":0},{"$f":"'Челябинская обл.'!$C$21","v":0},{"$f":"'Челябинская обл.'!$C$23","v":1493.77},{"$f":"'Челябинская обл.'!$C$24","v":0},{"$f":"'Челябинская обл.'!$C$25","v":0},{"$f":"'Челябинская обл.'!$C$26","v":0},{"$f":"'Челябинская обл.'!$C$27","v":0},{"$f":"'Челябинская обл.'!$C$28","v":0},{"$f":"'Челябинская обл.'!$C$29","v":377.24},{"$f":"'Челябинская обл.'!$C$34","v":13.23},{"$f":"'Челябинская обл.'!$C$37","v":352.76},{"$f":"'Челябинская обл.'!$C$38","v":825.59},{"$f":"'Челябинская обл.'!$C$39","v":0},{"$f":"'Челябинская обл.'!$C$40","v":0},{"$f":"'Челябинская обл.'!$C$41","v":0},{"$f":"'Челябинская обл.'!$C$44","v":1142.9000000000001},{"$f":"'Челябинская обл.'!$C$45","v":1066.98},{"$f":"'Челябинская обл.'!$C$46","v":0},{"$f":"'Челябинская обл.'!$C$47","v":0},{"$f":"'Челябинская обл.'!$C$48","v":0},{"$f":"'Челябинская обл.'!$C$50","v":1081.3599999999999},{"$f":"'Челябинская обл.'!$C$51","v":1328.18},{"$f":"'Челябинская обл.'!$C$52","v":0},{"$f":"'Челябинская обл.'!$C$53","v":0},{"$f":"'Челябинская обл.'!$C$54","v":0},{"$f":"'Челябинская обл.'!$C$55","v":0},{"$f":"'Челябинская обл.'!$C$56","v":243.71}]
["6","Локомотивный  городской округ"]
[1,"ООО \"ПромЭкоГрупп\"",null,{"$f":"'Челябинская обл.'!$C$7","v":"13,23"},{"$f":"'Челябинская обл.'!$C$10","v":1005.74},{"$f":"'Челябинская обл.'!$C$11","v":0},{"$f":"'Челябинская обл.'!$C$12","v":0},{"$f":"'Челябинская обл.'!$C$13","v":0},{"$f":"'Челябинская обл.'!$C$14","v":0},{"$f":"'Челябинская обл.'!$C$17","v":1987.75},{"$f":"'Челябинская обл.'!$C$18","v":0},{"$f":"'Челябинская обл.'!$C$19","v":0},{"$f":"'Челябинская обл.'!$C$20","v":0},{"$f":"'Челябинская обл.'!$C$21","v":0},{"$f":"'Челябинская обл.'!$C$23","v":1493.77},{"$f":"'Челябинская обл.'!$C$24","v":0},{"$f":"'Челябинская обл.'!$C$25","v":0},{"$f":"'Челябинская обл.'!$C$26","v":0},{"$f":"'Челябинская обл.'!$C$27","v":0},{"$f":"'Челябинская обл.'!$C$28","v":0},{"$f":"'Челябинская обл.'!$C$29","v":377.24},{"$f":"'Челябинская обл.'!$C$34","v":13.23},{"$f":"'Челябинская обл.'!$C$37","v":352.76},{"$f":"'Челябинская обл.'!$C$38","v":825.59},{"$f":"'Челябинская обл.'!$C$39","v":0},{"$f":"'Челябинская обл.'!$C$40","v":0},{"$f":"'Челябинская обл.'!$C$41","v":0},{"$f":"'Челябинская обл.'!$C$44","v":1142.9000000000001},{"$f":"'Челябинская обл.'!$C$45","v":1066.98},{"$f":"'Челябинская обл.'!$C$46","v":0},{"$f":"'Челябинская обл.'!$C$47","v":0},{"$f":"'Челябинская обл.'!$C$48","v":0},{"$f":"'Челябинская обл.'!$C$50","v":1081.3599999999999},{"$f":"'Челябинская обл.'!$C$51","v":1328.18},{"$f":"'Челябинская обл.'!$C$52","v":0},{"$f":"'Челябинская обл.'!$C$53","v":0},{"$f":"'Челябинская обл.'!$C$54","v":0},{"$f":"'Челябинская обл.'!$C$55","v":0},{"$f":"'Челябинская обл.'!$C$56","v":243.71}]
["7","Магнитогорский городской округ"]
["1","АО \"ГУ ЖКХ\" (Магнитогорский г.о.)",null,{"$f":"'Челябинская обл.'!$C$7","v":"13,23"},{"$f":"'Челябинская обл.'!$C$10","v":1005.74},{"$f":"'Челябинская обл.'!$C$11","v":0},{"$f":"'Челябинская обл.'!$C$12","v":0},{"$f":"'Челябинская обл.'!$C$13","v":0},{"$f":"'Челябинская обл.'!$C$14","v":0},{"$f":"'Челябинская обл.'!$C$17","v":1987.75},{"$f":"'Челябинская обл.'!$C$18","v":0},{"$f":"'Челябинская обл.'!$C$19","v":0},{"$f":"'Челябинская обл.'!$C$20","v":0},{"$f":"'Челябинская обл.'!$C$21","v":0},{"$f":"'Челябинская обл.'!$C$23","v":1493.77},{"$f":"'Челябинская обл.'!$C$24","v":0},{"$f":"'Челябинская обл.'!$C$25","v":0},{"$f":"'Челябинская обл.'!$C$26","v":0},{"$f":"'Челябинская обл.'!$C$27","v":0},{"$f":"'Челябинская обл.'!$C$28","v":0},{"$f":"'Челябинская обл.'!$C$29","v":377.24},{"$f":"'Челябинская обл.'!$C$34","v":13.23},{"$f":"'Челябинская обл.'!$C$37","v":352.76},{"$f":"'Челябинская обл.'!$C$38","v":825.59},{"$f":"'Челябинская обл.'!$C$39","v":0},{"$f":"'Челябинская обл.'!$C$40","v":0},{"$f":"'Челябинская обл.'!$C$41","v":0},{"$f":"'Челябинская обл.'!$C$44","v":1142.9000000000001},{"$f":"'Челябинская обл.'!$C$45","v":1066.98},{"$f":"'Челябинская обл.'!$C$46","v":0},{"$f":"'Челябинская обл.'!$C$47","v":0},{"$f":"'Челябинская обл.'!$C$48","v":0},{"$f":"'Челябинская обл.'!$C$50","v":1081.3599999999999},{"$f":"'Челябинская обл.'!$C$51","v":1328.18},{"$f":"'Челябинская обл.'!$C$52","v":0},{"$f":"'Челябинская обл.'!$C$53","v":0},{"$f":"'Челябинская обл.'!$C$54","v":0},{"$f":"'Челябинская обл.'!$C$55","v":0},{"$f":"'Челябинская обл.'!$C$56","v":243.71}]
["2","АО \"Международный аэропорт Магнитогорск\"",null,{"$f":"'Челябинская обл.'!$C$7","v":"13,23"},{"$f":"'Челябинская обл.'!$C$10","v":1005.74},{"$f":"'Челябинская обл.'!$C$11","v":0},{"$f":"'Челябинская обл.'!$C$12","v":0},{"$f":"'Челябинская обл.'!$C$13","v":0},{"$f":"'Челябинская обл.'!$C$14","v":0},{"$f":"'Челябинская обл.'!$C$17","v":1987.75},{"$f":"'Челябинская обл.'!$C$18","v":0},{"$f":"'Челябинская обл.'!$C$19","v":0},{"$f":"'Челябинская обл.'!$C$20","v":0},{"$f":"'Челябинская обл.'!$C$21","v":0},{"$f":"'Челябинская обл.'!$C$23","v":1493.77},{"$f":"'Челябинская обл.'!$C$24","v":0},{"$f":"'Челябинская обл.'!$C$25","v":0},{"$f":"'Челябинская обл.'!$C$26","v":0},{"$f":"'Челябинская обл.'!$C$27","v":0},{"$f":"'Челябинская обл.'!$C$28","v":0},{"$f":"'Челябинская обл.'!$C$29","v":377.24},{"$f":"'Челябинская обл.'!$C$34","v":13.23},{"$f":"'Челябинская обл.'!$C$37","v":352.76},{"$f":"'Челябинская обл.'!$C$38","v":825.59},{"$f":"'Челябинская обл.'!$C$39","v":0},{"$f":"'Челябинская обл.'!$C$40","v":0},{"$f":"'Челябинская обл.'!$C$41","v":0},{"$f":"'Челябинская обл.'!$C$44","v":1142.9000000000001},{"$f":"'Челябинская обл.'!$C$45","v":1066.98},{"$f":"'Челябинская обл.'!$C$46","v":0},{"$f":"'Челябинская обл.'!$C$47","v":0},{"$f":"'Челябинская обл.'!$C$48","v":0},{"$f":"'Челябинская обл.'!$C$50","v":1081.3599999999999},{"$f":"'Челябинская обл.'!$C$51","v":1328.18},{"$f":"'Челябинская обл.'!$C$52","v":0},{"$f":"'Челябинская обл.'!$C$53","v":0},{"$f":"'Челябинская обл.'!$C$54","v":0},{"$f":"'Челябинская обл.'!$C$55","v":0},{"$f":"'Челябинская обл.'!$C$56","v":243.71}]
["3","АО \"Челябоблкоммунэнерго\" (Челябинская область)",null,{"$f":"'Челябинская обл.'!$C$7","v":"13,23"},{"$f":"'Челябинская обл.'!$C$10","v":1005.74},{"$f":"'Челябинская обл.'!$C$11","v":0},{"$f":"'Челябинская обл.'!$C$12","v":0},{"$f":"'Челябинская обл.'!$C$13","v":0},{"$f":"'Челябинская обл.'!$C$14","v":0},{"$f":"'Челябинская обл.'!$C$17","v":1987.75},{"$f":"'Челябинская обл.'!$C$18","v":0},{"$f":"'Челябинская обл.'!$C$19","v":0},{"$f":"'Челябинская обл.'!$C$20","v":0},{"$f":"'Челябинская обл.'!$C$21","v":0},{"$f":"'Челябинская обл.'!$C$23","v":1493.77},{"$f":"'Челябинская обл.'!$C$24","v":0},{"$f":"'Челябинская обл.'!$C$25","v":0},{"$f":"'Челябинская обл.'!$C$26","v":0},{"$f":"'Челябинская обл.'!$C$27","v":0},{"$f":"'Челябинская обл.'!$C$28","v":0},{"$f":"'Челябинская обл.'!$C$29","v":377.24},{"$f":"'Челябинская обл.'!$C$34","v":13.23},{"$f":"'Челябинская обл.'!$C$37","v":352.76},{"$f":"'Челябинская обл.'!$C$38","v":825.59},{"$f":"'Челябинская обл.'!$C$39","v":0},{"$f":"'Челябинская обл.'!$C$40","v":0},{"$f":"'Челябинская обл.'!$C$41","v":0},{"$f":"'Челябинская обл.'!$C$44","v":1142.9000000000001},{"$f":"'Челябинская обл.'!$C$45","v":1066.98},{"$f":"'Челябинская обл.'!$C$46","v":0},{"$f":"'Челябинская обл.'!$C$47","v":0},{"$f":"'Челябинская обл.'!$C$48","v":0},{"$f":"'Челябинская обл.'!$C$50","v":1081.3599999999999},{"$f":"'Челябинская обл.'!$C$51","v":1328.18},{"$f":"'Челябинская обл.'!$C$52","v":0},{"$f":"'Челябинская обл.'!$C$53","v":0},{"$f":"'Челябинская обл.'!$C$54","v":0},{"$f":"'Челябинская обл.'!$C$55","v":0},{"$f":"'Челябинская обл.'!$C$56","v":243.71}]
["4","Вагонное рамонтное депо Магнитогорск - обособленное структурное подразделение Самарского филиала ОАО  \"Вагонная ремонтная компания - 1\"",null,{"$f":"'Челябинская обл.'!$C$7","v":"13,23"},{"$f":"'Челябинская обл.'!$C$10","v":1005.74},{"$f":"'Челябинская обл.'!$C$11","v":0},{"$f":"'Челябинская обл.'!$C$12","v":0},{"$f":"'Челябинская обл.'!$C$13","v":0},{"$f":"'Челябинская обл.'!$C$14","v":0},{"$f":"'Челябинская обл.'!$C$17","v":1987.75},{"$f":"'Челябинская обл.'!$C$18","v":0},{"$f":"'Челябинская обл.'!$C$19","v":0},{"$f":"'Челябинская обл.'!$C$20","v":0},{"$f":"'Челябинская обл.'!$C$21","v":0},{"$f":"'Челябинская обл.'!$C$23","v":1493.77},{"$f":"'Челябинская обл.'!$C$24","v":0},{"$f":"'Челябинская обл.'!$C$25","v":0},{"$f":"'Челябинская обл.'!$C$26","v":0},{"$f":"'Челябинская обл.'!$C$27","v":0},{"$f":"'Челябинская обл.'!$C$28","v":0},{"$f":"'Челябинская обл.'!$C$29","v":377.24},{"$f":"'Челябинская обл.'!$C$34","v":13.23},{"$f":"'Челябинская обл.'!$C$37","v":352.76},{"$f":"'Челябинская обл.'!$C$38","v":825.59},{"$f":"'Челябинская обл.'!$C$39","v":0},{"$f":"'Челябинская обл.'!$C$40","v":0},{"$f":"'Челябинская обл.'!$C$41","v":0},{"$f":"'Челябинская обл.'!$C$44","v":1142.9000000000001},{"$f":"'Челябинская обл.'!$C$45","v":1066.98},{"$f":"'Челябинская обл.'!$C$46","v":0},{"$f":"'Челябинская обл.'!$C$47","v":0},{"$f":"'Челябинская обл.'!$C$48","v":0},{"$f":"'Челябинская обл.'!$C$50","v":1081.3599999999999},{"$f":"'Челябинская обл.'!$C$51","v":1328.18},{"$f":"'Челябинская обл.'!$C$52","v":0},{"$f":"'Челябинская обл.'!$C$53","v":0},{"$f":"'Челябинская обл.'!$C$54","v":0},{"$f":"'Челябинская обл.'!$C$55","v":0},{"$f":"'Челябинская обл.'!$C$56","v":243.71}]
["5","ЗАО \"Магнитогорский комбинат хлебопродуктов \"Ситно\"",null,{"$f":"'Челябинская обл.'!$C$7","v":"13,23"},{"$f":"'Челябинская обл.'!$C$10","v":1005.74},{"$f":"'Челябинская обл.'!$C$11","v":0},{"$f":"'Челябинская обл.'!$C$12","v":0},{"$f":"'Челябинская обл.'!$C$13","v":0},{"$f":"'Челябинская обл.'!$C$14","v":0},{"$f":"'Челябинская обл.'!$C$17","v":1987.75},{"$f":"'Челябинская обл.'!$C$18","v":0},{"$f":"'Челябинская обл.'!$C$19","v":0},{"$f":"'Челябинская обл.'!$C$20","v":0},{"$f":"'Челябинская обл.'!$C$21","v":0},{"$f":"'Челябинская обл.'!$C$23","v":1493.77},{"$f":"'Челябинская обл.'!$C$24","v":0},{"$f":"'Челябинская обл.'!$C$25","v":0},{"$f":"'Челябинская обл.'!$C$26","v":0},{"$f":"'Челябинская обл.'!$C$27","v":0},{"$f":"'Челябинская обл.'!$C$28","v":0},{"$f":"'Челябинская обл.'!$C$29","v":377.24},{"$f":"'Челябинская обл.'!$C$34","v":13.23},{"$f":"'Челябинская обл.'!$C$37","v":352.76},{"$f":"'Челябинская обл.'!$C$38","v":825.59},{"$f":"'Челябинская обл.'!$C$39","v":0},{"$f":"'Челябинская обл.'!$C$40","v":0},{"$f":"'Челябинская обл.'!$C$41","v":0},{"$f":"'Челябинская обл.'!$C$44","v":1142.9000000000001},{"$f":"'Челябинская обл.'!$C$45","v":1066.98},{"$f":"'Челябинская обл.'!$C$46","v":0},{"$f":"'Челябинская обл.'!$C$47","v":0},{"$f":"'Челябинская обл.'!$C$48","v":0},{"$f":"'Челябинская обл.'!$C$50","v":1081.3599999999999},{"$f":"'Челябинская обл.'!$C$51","v":1328.18},{"$f":"'Челябинская обл.'!$C$52","v":0},{"$f":"'Челябинская обл.'!$C$53","v":0},{"$f":"'Челябинская обл.'!$C$54","v":0},{"$f":"'Челябинская обл.'!$C$55","v":0},{"$f":"'Челябинская обл.'!$C$56","v":243.71}]
["6","МП трест \"Теплофикация\" (Магнитогорский г.о.)",null,{"$f":"'МП трест «Теплофикация»'!$C$7","v":"13,23"},{"$f":"'МП трест «Теплофикация»'!$C$10","v":1005.74},{"$f":"'МП трест «Теплофикация»'!$C$11","v":0},{"$f":"'МП трест «Теплофикация»'!$C$12","v":0},{"$f":"'МП трест «Теплофикация»'!$C$13","v":0},{"$f":"'МП трест «Теплофикация»'!$C$14","v":0},{"$f":"'МП трест «Теплофикация»'!$C$17","v":1987.75},{"$f":"'МП трест «Теплофикация»'!$C$18","v":0},{"$f":"'МП трест «Теплофикация»'!$C$19","v":0},{"$f":"'МП трест «Теплофикация»'!$C$20","v":0},{"$f":"'МП трест «Теплофикация»'!$C$21","v":2222.92},{"$f":"'МП трест «Теплофикация»'!$C$23","v":1493.77},{"$f":"'МП трест «Теплофикация»'!$C$24","v":0},{"$f":"'МП трест «Теплофикация»'!$C$25","v":0},{"$f":"'МП трест «Теплофикация»'!$C$26","v":0},{"$f":"'МП трест «Теплофикация»'!$C$27","v":0},{"$f":"'МП трест «Теплофикация»'!$C$28","v":0},{"$f":"'МП трест «Теплофикация»'!$C$29","v":466.37},{"$f":"'МП трест «Теплофикация»'!$C$33","v":13.23},{"$f":"'МП трест «Теплофикация»'!$C$36","v":352.76},{"$f":"'МП трест «Теплофикация»'!$C$37","v":825.59},{"$f":"'МП трест «Теплофикация»'!$C$38","v":0},{"$f":"'МП трест «Теплофикация»'!$C$39","v":0},{"$f":"'МП трест «Теплофикация»'!$C$40","v":0},{"$f":"'МП трест «Теплофикация»'!$C$43","v":1142.9000000000001},{"$f":"'МП трест «Теплофикация»'!$C$44","v":1066.98},{"$f":"'МП трест «Теплофикация»'!$C$45","v":0},{"$f":"'МП трест «Теплофикация»'!$C$46","v":0},{"$f":"'МП трест «Теплофикация»'!$C$47","v":2222.92},{"$f":"'МП трест «Теплофикация»'!$C$49","v":1081.3599999999999},{"$f":"'МП трест «Теплофикация»'!$C$50","v":1328.18},{"$f":"'МП трест «Теплофикация»'!$C$51","v":0},{"$f":"'МП трест «Теплофикация»'!$C$52","v":0},{"$f":"'МП трест «Теплофикация»'!$C$53","v":0},{"$f":"'МП трест «Теплофикация»'!$C$54","v":0},{"$f":"'МП трест «Теплофикация»'!$C$55","v":401.71}]
["7","ОАО \"Магнитогорский метизно-калибровочный завод \"ММК-Метиз\"",null,{"$f":"'Челябинская обл.'!$C$7","v":"13,23"},{"$f":"'Челябинская обл.'!$C$10","v":1005.74},{"$f":"'Челябинская обл.'!$C$11","v":0},{"$f":"'Челябинская обл.'!$C$12","v":0},{"$f":"'Челябинская обл.'!$C$13","v":0},{"$f":"'Челябинская обл.'!$C$14","v":0},{"$f":"'Челябинская обл.'!$C$17","v":1987.75},{"$f":"'Челябинская обл.'!$C$18","v":0},{"$f":"'Челябинская обл.'!$C$19","v":0},{"$f":"'Челябинская обл.'!$C$20","v":0},{"$f":"'Челябинская обл.'!$C$21","v":0},{"$f":"'Челябинская обл.'!$C$23","v":1493.77},{"$f":"'Челябинская обл.'!$C$24","v":0},{"$f":"'Челябинская обл.'!$C$25","v":0},{"$f":"'Челябинская обл.'!$C$26","v":0},{"$f":"'Челябинская обл.'!$C$27","v":0},{"$f":"'Челябинская обл.'!$C$28","v":0},{"$f":"'Челябинская обл.'!$C$29","v":377.24},{"$f":"'Челябинская обл.'!$C$34","v":13.23},{"$f":"'Челябинская обл.'!$C$37","v":352.76},{"$f":"'Челябинская обл.'!$C$38","v":825.59},{"$f":"'Челябинская обл.'!$C$39","v":0},{"$f":"'Челябинская обл.'!$C$40","v":0},{"$f":"'Челябинская обл.'!$C$41","v":0},{"$f":"'Челябинская обл.'!$C$44","v":1142.9000000000001},{"$f":"'Челябинская обл.'!$C$45","v":1066.98},{"$f":"'Челябинская обл.'!$C$46","v":0},{"$f":"'Челябинская обл.'!$C$47","v":0},{"$f":"'Челябинская обл.'!$C$48","v":0},{"$f":"'Челябинская обл.'!$C$50","v":1081.3599999999999},{"$f":"'Челябинская обл.'!$C$51","v":1328.18},{"$f":"'Челябинская обл.'!$C$52","v":0},{"$f":"'Челябинская обл.'!$C$53","v":0},{"$f":"'Челябинская обл.'!$C$54","v":0},{"$f":"'Челябинская обл.'!$C$55","v":0},{"$f":"'Челябинская обл.'!$C$56","v":243.71}]
["8","ООО \"Магнитогорский завод пиво-безалкогольных напитков\"",null,{"$f":"'Челябинская обл.'!$C$7","v":"13,23"},{"$f":"'Челябинская обл.'!$C$10","v":1005.74},{"$f":"'Челябинская обл.'!$C$11","v":0},{"$f":"'Челябинская обл.'!$C$12","v":0},{"$f":"'Челябинская обл.'!$C$13","v":0},{"$f":"'Челябинская обл.'!$C$14","v":0},{"$f":"'Челябинская обл.'!$C$17","v":1987.75},{"$f":"'Челябинская обл.'!$C$18","v":0},{"$f":"'Челябинская обл.'!$C$19","v":0},{"$f":"'Челябинская обл.'!$C$20","v":0},{"$f":"'Челябинская обл.'!$C$21","v":0},{"$f":"'Челябинская обл.'!$C$23","v":1493.77},{"$f":"'Челябинская обл.'!$C$24","v":0},{"$f":"'Челябинская обл.'!$C$25","v":0},{"$f":"'Челябинская обл.'!$C$26","v":0},{"$f":"'Челябинская обл.'!$C$27","v":0},{"$f":"'Челябинская обл.'!$C$28","v":0},{"$f":"'Челябинская обл.'!$C$29","v":377.24},{"$f":"'Челябинская обл.'!$C$34","v":13.23},{"$f":"'Челябинская обл.'!$C$37","v":352.76},{"$f":"'Челябинская обл.'!$C$38","v":825.59},{"$f":"'Челябинская обл.'!$C$39","v":0},{"$f":"'Челябинская обл.'!$C$40","v":0},{"$f":"'Челябинская обл.'!$C$41","v":0},{"$f":"'Челябинская обл.'!$C$44","v":1142.9000000000001},{"$f":"'Челябинская обл.'!$C$45","v":1066.98},{"$f":"'Челябинская обл.'!$C$46","v":0},{"$f":"'Челябинская обл.'!$C$47","v":0},{"$f":"'Челябинская обл.'!$C$48","v":0},{"$f":"'Челябинская обл.'!$C$50","v":1081.3599999999999},{"$f":"'Челябинская обл.'!$C$51","v":1328.18},{"$f":"'Челябинская обл.'!$C$52","v":0},{"$f":"'Челябинская обл.'!$C$53","v":0},{"$f":"'Челябинская обл.'!$C$54","v":0},{"$f":"'Челябинская обл.'!$C$55","v":0},{"$f":"'Челябинская обл.'!$C$56","v":243.71}]
["9","ООО \"МагХолод\"",null,{"$f":"'Челябинская обл.'!$C$7","v":"13,23"},{"$f":"'Челябинская обл.'!$C$10","v":1005.74},{"$f":"'Челябинская обл.'!$C$11","v":0},{"$f":"'Челябинская обл.'!$C$12","v":0},{"$f":"'Челябинская обл.'!$C$13","v":0},{"$f":"'Челябинская обл.'!$C$14","v":0},{"$f":"'Челябинская обл.'!$C$17","v":1987.75},{"$f":"'Челябинская обл.'!$C$18","v":0},{"$f":"'Челябинская обл.'!$C$19","v":0},{"$f":"'Челябинская обл.'!$C$20","v":0},{"$f":"'Челябинская обл.'!$C$21","v":0},{"$f":"'Челябинская обл.'!$C$23","v":1493.77},{"$f":"'Челябинская обл.'!$C$24","v":0},{"$f":"'Челябинская обл.'!$C$25","v":0},{"$f":"'Челябинская обл.'!$C$26","v":0},{"$f":"'Челябинская обл.'!$C$27","v":0},{"$f":"'Челябинская обл.'!$C$28","v":0},{"$f":"'Челябинская обл.'!$C$29","v":377.24},{"$f":"'Челябинская обл.'!$C$34","v":13.23},{"$f":"'Челябинская обл.'!$C$37","v":352.76},{"$f":"'Челябинская обл.'!$C$38","v":825.59},{"$f":"'Челябинская обл.'!$C$39","v":0},{"$f":"'Челябинская обл.'!$C$40","v":0},{"$f":"'Челябинская обл.'!$C$41","v":0},{"$f":"'Челябинская обл.'!$C$44","v":1142.9000000000001},{"$f":"'Челябинская обл.'!$C$45","v":1066.98},{"$f":"'Челябинская обл.'!$C$46","v":0},{"$f":"'Челябинская обл.'!$C$47","v":0},{"$f":"'Челябинская обл.'!$C$48","v":0},{"$f":"'Челябинская обл.'!$C$50","v":1081.3599999999999},{"$f":"'Челябинская обл.'!$C$51","v":1328.18},{"$f":"'Челябинская обл.'!$C$52","v":0},{"$f":"'Челябинская обл.'!$C$53","v":0},{"$f":"'Челябинская обл.'!$C$54","v":0},{"$f":"'Челябинская обл.'!$C$55","v":0},{"$f":"'Челябинская обл.'!$C$56","v":243.71}]
["10","ООО \"Производственная компания \"Макинтош\"",null,{"$f":"'Челябинская обл.'!$C$7","v":"13,23"},{"$f":"'Челябинская обл.'!$C$10","v":1005.74},{"$f":"'Челябинская обл.'!$C$11","v":0},{"$f":"'Челябинская обл.'!$C$12","v":0},{"$f":"'Челябинская обл.'!$C$13","v":0},{"$f":"'Челябинская обл.'!$C$14","v":0},{"$f":"'Челябинская обл.'!$C$17","v":1987.75},{"$f":"'Челябинская обл.'!$C$18","v":0},{"$f":"'Челябинская обл.'!$C$19","v":0},{"$f":"'Челябинская обл.'!$C$20","v":0},{"$f":"'Челябинская обл.'!$C$21","v":0},{"$f":"'Челябинская обл.'!$C$23","v":1493.77},{"$f":"'Челябинская обл.'!$C$24","v":0},{"$f":"'Челябинская обл.'!$C$25","v":0},{"$f":"'Челябинская обл.'!$C$26","v":0},{"$f":"'Челябинская обл.'!$C$27","v":0},{"$f":"'Челябинская обл.'!$C$28","v":0},{"$f":"'Челябинская обл.'!$C$29","v":377.24},{"$f":"'Челябинская обл.'!$C$34","v":13.23},{"$f":"'Челябинская обл.'!$C$37","v":352.76},{"$f":"'Челябинская обл.'!$C$38","v":825.59},{"$f":"'Челябинская обл.'!$C$39","v":0},{"$f":"'Челябинская обл.'!$C$40","v":0},{"$f":"'Челябинская обл.'!$C$41","v":0},{"$f":"'Челябинская обл.'!$C$44","v":1142.9000000000001},{"$f":"'Челябинская обл.'!$C$45","v":1066.98},{"$f":"'Челябинская обл.'!$C$46","v":0},{"$f":"'Челябинская обл.'!$C$47","v":0},{"$f":"'Челябинская обл.'!$C$48","v":0},{"$f":"'Челябинская обл.'!$C$50","v":1081.3599999999999},{"$f":"'Челябинская обл.'!$C$51","v":1328.18},{"$f":"'Челябинская обл.'!$C$52","v":0},{"$f":"'Челябинская обл.'!$C$53","v":0},{"$f":"'Челябинская обл.'!$C$54","v":0},{"$f":"'Челябинская обл.'!$C$55","v":0},{"$f":"'Челябинская обл.'!$C$56","v":243.71}]
["11","ООО \"Трест Магнитострой\"",null,{"$f":"'Челябинская обл.'!$C$7","v":"13,23"},{"$f":"'Челябинская обл.'!$C$10","v":1005.74},{"$f":"'Челябинская обл.'!$C$11","v":0},{"$f":"'Челябинская обл.'!$C$12","v":0},{"$f":"'Челябинская обл.'!$C$13","v":0},{"$f":"'Челябинская обл.'!$C$14","v":0},{"$f":"'Челябинская обл.'!$C$17","v":1987.75},{"$f":"'Челябинская обл.'!$C$18","v":0},{"$f":"'Челябинская обл.'!$C$19","v":0},{"$f":"'Челябинская обл.'!$C$20","v":0},{"$f":"'Челябинская обл.'!$C$21","v":0},{"$f":"'Челябинская обл.'!$C$23","v":1493.77},{"$f":"'Челябинская обл.'!$C$24","v":0},{"$f":"'Челябинская обл.'!$C$25","v":0},{"$f":"'Челябинская обл.'!$C$26","v":0},{"$f":"'Челябинская обл.'!$C$27","v":0},{"$f":"'Челябинская обл.'!$C$28","v":0},{"$f":"'Челябинская обл.'!$C$29","v":377.24},{"$f":"'Челябинская обл.'!$C$34","v":13.23},{"$f":"'Челябинская обл.'!$C$37","v":352.76},{"$f":"'Челябинская обл.'!$C$38","v":825.59},{"$f":"'Челябинская обл.'!$C$39","v":0},{"$f":"'Челябинская обл.'!$C$40","v":0},{"$f":"'Челябинская обл.'!$C$41","v":0},{"$f":"'Челябинская обл.'!$C$44","v":1142.9000000000001},{"$f":"'Челябинская обл.'!$C$45","v":1066.98},{"$f":"'Челябинская обл.'!$C$46","v":0},{"$f":"'Челябинская обл.'!$C$47","v":0},{"$f":"'Челябинская обл.'!$C$48","v":0},{"$f":"'Челябинская обл.'!$C$50","v":1081.3599999999999},{"$f":"'Челябинская обл.'!$C$51","v":1328.18},{"$f":"'Челябинская обл.'!$C$52","v":0},{"$f":"'Челябинская обл.'!$C$53","v":0},{"$f":"'Челябинская обл.'!$C$54","v":0},{"$f":"'Челябинская обл.'!$C$55","v":0},{"$f":"'Челябинская обл.'!$C$56","v":243.71}]
["12","ООО \"Тургеневский\"",null,{"$f":"'Челябинская обл.'!$C$7","v":"13,23"},{"$f":"'Челябинская обл.'!$C$10","v":1005.74},{"$f":"'Челябинская обл.'!$C$11","v":0},{"$f":"'Челябинская обл.'!$C$12","v":0},{"$f":"'Челябинская обл.'!$C$13","v":0},{"$f":"'Челябинская обл.'!$C$14","v":0},{"$f":"'Челябинская обл.'!$C$17","v":1987.75},{"$f":"'Челябинская обл.'!$C$18","v":0},{"$f":"'Челябинская обл.'!$C$19","v":0},{"$f":"'Челябинская обл.'!$C$20","v":0},{"$f":"'Челябинская обл.'!$C$21","v":0},{"$f":"'Челябинская обл.'!$C$23","v":1493.77},{"$f":"'Челябинская обл.'!$C$24","v":0},{"$f":"'Челябинская обл.'!$C$25","v":0},{"$f":"'Челябинская обл.'!$C$26","v":0},{"$f":"'Челябинская обл.'!$C$27","v":0},{"$f":"'Челябинская обл.'!$C$28","v":0},{"$f":"'Челябинская обл.'!$C$29","v":377.24},{"$f":"'Челябинская обл.'!$C$34","v":13.23},{"$f":"'Челябинская обл.'!$C$37","v":352.76},{"$f":"'Челябинская обл.'!$C$38","v":825.59},{"$f":"'Челябинская обл.'!$C$39","v":0},{"$f":"'Челябинская обл.'!$C$40","v":0},{"$f":"'Челябинская обл.'!$C$41","v":0},{"$f":"'Челябинская обл.'!$C$44","v":1142.9000000000001},{"$f":"'Челябинская обл.'!$C$45","v":1066.98},{"$f":"'Челябинская обл.'!$C$46","v":0},{"$f":"'Челябинская обл.'!$C$47","v":0},{"$f":"'Челябинская обл.'!$C$48","v":0},{"$f":"'Челябинская обл.'!$C$50","v":1081.3599999999999},{"$f":"'Челябинская обл.'!$C$51","v":1328.18},{"$f":"'Челябинская обл.'!$C$52","v":0},{"$f":"'Челябинская обл.'!$C$53","v":0},{"$f":"'Челябинская обл.'!$C$54","v":0},{"$f":"'Челябинская обл.'!$C$55","v":0},{"$f":"'Челябинская обл.'!$C$56","v":243.71}]
["13","ООО \"Фабрика кухонной мебели\"",null,{"$f":"'Челябинская обл.'!$C$7","v":"13,23"},{"$f":"'Челябинская обл.'!$C$10","v":1005.74},{"$f":"'Челябинская обл.'!$C$11","v":0},{"$f":"'Челябинская обл.'!$C$12","v":0},{"$f":"'Челябинская обл.'!$C$13","v":0},{"$f":"'Челябинская обл.'!$C$14","v":0},{"$f":"'Челябинская обл.'!$C$17","v":1987.75},{"$f":"'Челябинская обл.'!$C$18","v":0},{"$f":"'Челябинская обл.'!$C$19","v":0},{"$f":"'Челябинская обл.'!$C$20","v":0},{"$f":"'Челябинская обл.'!$C$21","v":0},{"$f":"'Челябинская обл.'!$C$23","v":1493.77},{"$f":"'Челябинская обл.'!$C$24","v":0},{"$f":"'Челябинская обл.'!$C$25","v":0},{"$f":"'Челябинская обл.'!$C$26","v":0},{"$f":"'Челябинская обл.'!$C$27","v":0},{"$f":"'Челябинская обл.'!$C$28","v":0},{"$f":"'Челябинская обл.'!$C$29","v":377.24},{"$f":"'Челябинская обл.'!$C$34","v":13.23},{"$f":"'Челябинская обл.'!$C$37","v":352.76},{"$f":"'Челябинская обл.'!$C$38","v":825.59},{"$f":"'Челябинская обл.'!$C$39","v":0},{"$f":"'Челябинская обл.'!$C$40","v":0},{"$f":"'Челябинская обл.'!$C$41","v":0},{"$f":"'Челябинская обл.'!$C$44","v":1142.9000000000001},{"$f":"'Челябинская обл.'!$C$45","v":1066.98},{"$f":"'Челябинская обл.'!$C$46","v":0},{"$f":"'Челябинская обл.'!$C$47","v":0},{"$f":"'Челябинская обл.'!$C$48","v":0},{"$f":"'Челябинская обл.'!$C$50","v":1081.3599999999999},{"$f":"'Челябинская обл.'!$C$51","v":1328.18},{"$f":"'Челябинская обл.'!$C$52","v":0},{"$f":"'Челябинская обл.'!$C$53","v":0},{"$f":"'Челябинская обл.'!$C$54","v":0},{"$f":"'Челябинская обл.'!$C$55","v":0},{"$f":"'Челябинская обл.'!$C$56","v":243.71}]
["14","ПАО \"Магнитогорский металлургический комбинат\"",null,{"$f":"'Челябинская обл.'!$C$7","v":"13,23"},{"$f":"'Челябинская обл.'!$C$10","v":1005.74},{"$f":"'Челябинская обл.'!$C$11","v":0},{"$f":"'Челябинская обл.'!$C$12","v":0},{"$f":"'Челябинская обл.'!$C$13","v":0},{"$f":"'Челябинская обл.'!$C$14","v":0},{"$f":"'Челябинская обл.'!$C$17","v":1987.75},{"$f":"'Челябинская обл.'!$C$18","v":0},{"$f":"'Челябинская обл.'!$C$19","v":0},{"$f":"'Челябинская обл.'!$C$20","v":0},{"$f":"'Челябинская обл.'!$C$21","v":0},{"$f":"'Челябинская обл.'!$C$23","v":1493.77},{"$f":"'Челябинская обл.'!$C$24","v":0},{"$f":"'Челябинская обл.'!$C$25","v":0},{"$f":"'Челябинская обл.'!$C$26","v":0},{"$f":"'Челябинская обл.'!$C$27","v":0},{"$f":"'Челябинская обл.'!$C$28","v":0},{"$f":"'Челябинская обл.'!$C$29","v":377.24},{"$f":"'Челябинская обл.'!$C$34","v":13.23},{"$f":"'Челябинская обл.'!$C$37","v":352.76},{"$f":"'Челябинская обл.'!$C$38","v":825.59},{"$f":"'Челябинская обл.'!$C$39","v":0},{"$f":"'Челябинская обл.'!$C$40","v":0},{"$f":"'Челябинская обл.'!$C$41","v":0},{"$f":"'Челябинская обл.'!$C$44","v":1142.9000000000001},{"$f":"'Челябинская обл.'!$C$45","v":1066.98},{"$f":"'Челябинская обл.'!$C$46","v":0},{"$f":"'Челябинская обл.'!$C$47","v":0},{"$f":"'Челябинская обл.'!$C$48","v":0},{"$f":"'Челябинская обл.'!$C$50","v":1081.3599999999999},{"$f":"'Челябинская обл.'!$C$51","v":1328.18},{"$f":"'Челябинская обл.'!$C$52","v":0},{"$f":"'Челябинская обл.'!$C$53","v":0},{"$f":"'Челябинская обл.'!$C$54","v":0},{"$f":"'Челябинская обл.'!$C$55","v":0},{"$f":"'Челябинская обл.'!$C$56","v":243.71}]
["15","ФГУП \"Магнитогорское  авиапредприятие\"",null,{"$f":"'Челябинская обл.'!$C$7","v":"13,23"},{"$f":"'Челябинская обл.'!$C$10","v":1005.74},{"$f":"'Челябинская обл.'!$C$11","v":0},{"$f":"'Челябинская обл.'!$C$12","v":0},{"$f":"'Челябинская обл.'!$C$13","v":0},{"$f":"'Челябинская обл.'!$C$14","v":0},{"$f":"'Челябинская обл.'!$C$17","v":1987.75},{"$f":"'Челябинская обл.'!$C$18","v":0},{"$f":"'Челябинская обл.'!$C$19","v":0},{"$f":"'Челябинская обл.'!$C$20","v":0},{"$f":"'Челябинская обл.'!$C$21","v":0},{"$f":"'Челябинская обл.'!$C$23","v":1493.77},{"$f":"'Челябинская обл.'!$C$24","v":0},{"$f":"'Челябинская обл.'!$C$25","v":0},{"$f":"'Челябинская обл.'!$C$26","v":0},{"$f":"'Челябинская обл.'!$C$27","v":0},{"$f":"'Челябинская обл.'!$C$28","v":0},{"$f":"'Челябинская обл.'!$C$29","v":377.24},{"$f":"'Челябинская обл.'!$C$34","v":13.23},{"$f":"'Челябинская обл.'!$C$37","v":352.76},{"$f":"'Челябинская обл.'!$C$38","v":825.59},{"$f":"'Челябинская обл.'!$C$39","v":0},{"$f":"'Челябинская обл.'!$C$40","v":0},{"$f":"'Челябинская обл.'!$C$41","v":0},{"$f":"'Челябинская обл.'!$C$44","v":1142.9000000000001},{"$f":"'Челябинская обл.'!$C$45","v":1066.98},{"$f":"'Челябинская обл.'!$C$46","v":0},{"$f":"'Челябинская обл.'!$C$47","v":0},{"$f":"'Челябинская обл.'!$C$48","v":0},{"$f":"'Челябинская обл.'!$C$50","v":1081.3599999999999},{"$f":"'Челябинская обл.'!$C$51","v":1328.18},{"$f":"'Челябинская обл.'!$C$52","v":0},{"$f":"'Челябинская обл.'!$C$53","v":0},{"$f":"'Челябинская обл.'!$C$54","v":0},{"$f":"'Челябинская обл.'!$C$55","v":0},{"$f":"'Челябинская обл.'!$C$56","v":243.71}]
[16,"ФКУ ИК-18 ГУФСИН России по Челябинской области (Магнитогорский г.о.)",null,{"$f":"'Челябинская обл.'!$C$7","v":"13,23"},{"$f":"'Челябинская обл.'!$C$10","v":1005.74},{"$f":"'Челябинская обл.'!$C$11","v":0},{"$f":"'Челябинская обл.'!$C$12","v":0},{"$f":"'Челябинская обл.'!$C$13","v":0},{"$f":"'Челябинская обл.'!$C$14","v":0},{"$f":"'Челябинская обл.'!$C$17","v":1987.75},{"$f":"'Челябинская обл.'!$C$18","v":0},{"$f":"'Челябинская обл.'!$C$19","v":0},{"$f":"'Челябинская обл.'!$C$20","v":0},{"$f":"'Челябинская обл.'!$C$21","v":0},{"$f":"'Челябинская обл.'!$C$23","v":1493.77},{"$f":"'Челябинская обл.'!$C$24","v":0},{"$f":"'Челябинская обл.'!$C$25","v":0},{"$f":"'Челябинская обл.'!$C$26","v":0},{"$f":"'Челябинская обл.'!$C$27","v":0},{"$f":"'Челябинская обл.'!$C$28","v":0},{"$f":"'Челябинская обл.'!$C$29","v":377.24},{"$f":"'Челябинская обл.'!$C$34","v":13.23},{"$f":"'Челябинская обл.'!$C$37","v":352.76},{"$f":"'Челябинская обл.'!$C$38","v":825.59},{"$f":"'Челябинская обл.'!$C$39","v":0},{"$f":"'Челябинская обл.'!$C$40","v":0},{"$f":"'Челябинская обл.'!$C$41","v":0},{"$f":"'Челябинская обл.'!$C$44","v":1142.9000000000001},{"$f":"'Челябинская обл.'!$C$45","v":1066.98},{"$f":"'Челябинская обл.'!$C$46","v":0},{"$f":"'Челябинская обл.'!$C$47","v":0},{"$f":"'Челябинская обл.'!$C$48","v":0},{"$f":"'Челябинская обл.'!$C$50","v":1081.3599999999999},{"$f":"'Челябинская обл.'!$C$51","v":1328.18},{"$f":"'Челябинская обл.'!$C$52","v":0},{"$f":"'Челябинская обл.'!$C$53","v":0},{"$f":"'Челябинская обл.'!$C$54","v":0},{"$f":"'Челябинская обл.'!$C$55","v":0},{"$f":"'Челябинская обл.'!$C$56","v":243.71}]
["8","Миасский городской округ"]
["1","АО \"Миасский машиностроительный завод\"",null,{"$f":"'Челябинская обл.'!$C$7","v":"13,23"},{"$f":"'Челябинская обл.'!$C$10","v":1005.74},{"$f":"'Челябинская обл.'!$C$11","v":0},{"$f":"'Челябинская обл.'!$C$12","v":0},{"$f":"'Челябинская обл.'!$C$13","v":0},{"$f":"'Челябинская обл.'!$C$14","v":0},{"$f":"'Челябинская обл.'!$C$17","v":1987.75},{"$f":"'Челябинская обл.'!$C$18","v":0},{"$f":"'Челябинская обл.'!$C$19","v":0},{"$f":"'Челябинская обл.'!$C$20","v":0},{"$f":"'Челябинская обл.'!$C$21","v":0},{"$f":"'Челябинская обл.'!$C$23","v":1493.77},{"$f":"'Челябинская обл.'!$C$24","v":0},{"$f":"'Челябинская обл.'!$C$25","v":0},{"$f":"'Челябинская обл.'!$C$26","v":0},{"$f":"'Челябинская обл.'!$C$27","v":0},{"$f":"'Челябинская обл.'!$C$28","v":0},{"$f":"'Челябинская обл.'!$C$29","v":377.24},{"$f":"'Челябинская обл.'!$C$34","v":13.23},{"$f":"'Челябинская обл.'!$C$37","v":352.76},{"$f":"'Челябинская обл.'!$C$38","v":825.59},{"$f":"'Челябинская обл.'!$C$39","v":0},{"$f":"'Челябинская обл.'!$C$40","v":0},{"$f":"'Челябинская обл.'!$C$41","v":0},{"$f":"'Челябинская обл.'!$C$44","v":1142.9000000000001},{"$f":"'Челябинская обл.'!$C$45","v":1066.98},{"$f":"'Челябинская обл.'!$C$46","v":0},{"$f":"'Челябинская обл.'!$C$47","v":0},{"$f":"'Челябинская обл.'!$C$48","v":0},{"$f":"'Челябинская обл.'!$C$50","v":1081.3599999999999},{"$f":"'Челябинская обл.'!$C$51","v":1328.18},{"$f":"'Челябинская обл.'!$C$52","v":0},{"$f":"'Челябинская обл.'!$C$53","v":0},{"$f":"'Челябинская обл.'!$C$54","v":0},{"$f":"'Челябинская обл.'!$C$55","v":0},{"$f":"'Челябинская обл.'!$C$56","v":243.71}]
["2","АО \"ЭнСер\"",null,{"$f":"'Челябинская обл.'!$C$7","v":"13,23"},{"$f":"'Челябинская обл.'!$C$10","v":1005.74},{"$f":"'Челябинская обл.'!$C$11","v":0},{"$f":"'Челябинская обл.'!$C$12","v":0},{"$f":"'Челябинская обл.'!$C$13","v":0},{"$f":"'Челябинская обл.'!$C$14","v":0},{"$f":"'Челябинская обл.'!$C$17","v":1987.75},{"$f":"'Челябинская обл.'!$C$18","v":0},{"$f":"'Челябинская обл.'!$C$19","v":0},{"$f":"'Челябинская обл.'!$C$20","v":0},{"$f":"'Челябинская обл.'!$C$21","v":0},{"$f":"'Челябинская обл.'!$C$23","v":1493.77},{"$f":"'Челябинская обл.'!$C$24","v":0},{"$f":"'Челябинская обл.'!$C$25","v":0},{"$f":"'Челябинская обл.'!$C$26","v":0},{"$f":"'Челябинская обл.'!$C$27","v":0},{"$f":"'Челябинская обл.'!$C$28","v":0},{"$f":"'Челябинская обл.'!$C$29","v":377.24},{"$f":"'Челябинская обл.'!$C$34","v":13.23},{"$f":"'Челябинская обл.'!$C$37","v":352.76},{"$f":"'Челябинская обл.'!$C$38","v":825.59},{"$f":"'Челябинская обл.'!$C$39","v":0},{"$f":"'Челябинская обл.'!$C$40","v":0},{"$f":"'Челябинская обл.'!$C$41","v":0},{"$f":"'Челябинская обл.'!$C$44","v":1142.9000000000001},{"$f":"'Челябинская обл.'!$C$45","v":1066.98},{"$f":"'Челябинская обл.'!$C$46","v":0},{"$f":"'Челябинская обл.'!$C$47","v":0},{"$f":"'Челябинская обл.'!$C$48","v":0},{"$f":"'Челябинская обл.'!$C$50","v":1081.3599999999999},{"$f":"'Челябинская обл.'!$C$51","v":1328.18},{"$f":"'Челябинская обл.'!$C$52","v":0},{"$f":"'Челябинская обл.'!$C$53","v":0},{"$f":"'Челябинская обл.'!$C$54","v":0},{"$f":"'Челябинская обл.'!$C$55","v":0},{"$f":"'Челябинская обл.'!$C$56","v":243.71}]
["3","Гохран России (филиал  \"Объект \"Урал\")",null,{"$f":"'Челябинская обл.'!$C$7","v":"13,23"},{"$f":"'Челябинская обл.'!$C$10","v":1005.74},{"$f":"'Челябинская обл.'!$C$11","v":0},{"$f":"'Челябинская обл.'!$C$12","v":0},{"$f":"'Челябинская обл.'!$C$13","v":0},{"$f":"'Челябинская обл.'!$C$14","v":0},{"$f":"'Челябинская обл.'!$C$17","v":1987.75},{"$f":"'Челябинская обл.'!$C$18","v":0},{"$f":"'Челябинская обл.'!$C$19","v":0},{"$f":"'Челябинская обл.'!$C$20","v":0},{"$f":"'Челябинская обл.'!$C$21","v":0},{"$f":"'Челябинская обл.'!$C$23","v":1493.77},{"$f":"'Челябинская обл.'!$C$24","v":0},{"$f":"'Челябинская обл.'!$C$25","v":0},{"$f":"'Челябинская обл.'!$C$26","v":0},{"$f":"'Челябинская обл.'!$C$27","v":0},{"$f":"'Челябинская обл.'!$C$28","v":0},{"$f":"'Челябинская обл.'!$C$29","v":377.24},{"$f":"'Челябинская обл.'!$C$34","v":13.23},{"$f":"'Челябинская обл.'!$C$37","v":352.76},{"$f":"'Челябинская обл.'!$C$38","v":825.59},{"$f":"'Челябинская обл.'!$C$39","v":0},{"$f":"'Челябинская обл.'!$C$40","v":0},{"$f":"'Челябинская обл.'!$C$41","v":0},{"$f":"'Челябинская обл.'!$C$44","v":1142.9000000000001},{"$f":"'Челябинская обл.'!$C$45","v":1066.98},{"$f":"'Челябинская обл.'!$C$46","v":0},{"$f":"'Челябинская обл.'!$C$47","v":0},{"$f":"'Челябинская обл.'!$C$48","v":0},{"$f":"'Челябинская обл.'!$C$50","v":1081.3599999999999},{"$f":"'Челябинская обл.'!$C$51","v":1328.18},{"$f":"'Челябинская обл.'!$C$52","v":0},{"$f":"'Челябинская обл.'!$C$53","v":0},{"$f":"'Челябинская обл.'!$C$54","v":0},{"$f":"'Челябинская обл.'!$C$55","v":0},{"$f":"'Челябинская обл.'!$C$56","v":243.71}]
["4","ЗАО \"Миассмебель\"",null,{"$f":"'Челябинская обл.'!$C$7","v":"13,23"},{"$f":"'Челябинская обл.'!$C$10","v":1005.74},{"$f":"'Челябинская обл.'!$C$11","v":0},{"$f":"'Челябинская обл.'!$C$12","v":0},{"$f":"'Челябинская обл.'!$C$13","v":0},{"$f":"'Челябинская обл.'!$C$14","v":0},{"$f":"'Челябинская обл.'!$C$17","v":1987.75},{"$f":"'Челябинская обл.'!$C$18","v":0},{"$f":"'Челябинская обл.'!$C$19","v":0},{"$f":"'Челябинская обл.'!$C$20","v":0},{"$f":"'Челябинская обл.'!$C$21","v":0},{"$f":"'Челябинская обл.'!$C$23","v":1493.77},{"$f":"'Челябинская обл.'!$C$24","v":0},{"$f":"'Челябинская обл.'!$C$25","v":0},{"$f":"'Челябинская обл.'!$C$26","v":0},{"$f":"'Челябинская обл.'!$C$27","v":0},{"$f":"'Челябинская обл.'!$C$28","v":0},{"$f":"'Челябинская обл.'!$C$29","v":377.24},{"$f":"'Челябинская обл.'!$C$34","v":13.23},{"$f":"'Челябинская обл.'!$C$37","v":352.76},{"$f":"'Челябинская обл.'!$C$38","v":825.59},{"$f":"'Челябинская обл.'!$C$39","v":0},{"$f":"'Челябинская обл.'!$C$40","v":0},{"$f":"'Челябинская обл.'!$C$41","v":0},{"$f":"'Челябинская обл.'!$C$44","v":1142.9000000000001},{"$f":"'Челябинская обл.'!$C$45","v":1066.98},{"$f":"'Челябинская обл.'!$C$46","v":0},{"$f":"'Челябинская обл.'!$C$47","v":0},{"$f":"'Челябинская обл.'!$C$48","v":0},{"$f":"'Челябинская обл.'!$C$50","v":1081.3599999999999},{"$f":"'Челябинская обл.'!$C$51","v":1328.18},{"$f":"'Челябинская обл.'!$C$52","v":0},{"$f":"'Челябинская обл.'!$C$53","v":0},{"$f":"'Челябинская обл.'!$C$54","v":0},{"$f":"'Челябинская обл.'!$C$55","v":0},{"$f":"'Челябинская обл.'!$C$56","v":243.71}]
["5","ИП Валиев Вагиз Ахунзянович",null,{"$f":"'Челябинская обл.'!$C$7","v":"13,23"},{"$f":"'Челябинская обл.'!$C$10","v":1005.74},{"$f":"'Челябинская обл.'!$C$11","v":0},{"$f":"'Челябинская обл.'!$C$12","v":0},{"$f":"'Челябинская обл.'!$C$13","v":0},{"$f":"'Челябинская обл.'!$C$14","v":0},{"$f":"'Челябинская обл.'!$C$17","v":1987.75},{"$f":"'Челябинская обл.'!$C$18","v":0},{"$f":"'Челябинская обл.'!$C$19","v":0},{"$f":"'Челябинская обл.'!$C$20","v":0},{"$f":"'Челябинская обл.'!$C$21","v":0},{"$f":"'Челябинская обл.'!$C$23","v":1493.77},{"$f":"'Челябинская обл.'!$C$24","v":0},{"$f":"'Челябинская обл.'!$C$25","v":0},{"$f":"'Челябинская обл.'!$C$26","v":0},{"$f":"'Челябинская обл.'!$C$27","v":0},{"$f":"'Челябинская обл.'!$C$28","v":0},{"$f":"'Челябинская обл.'!$C$29","v":377.24},{"$f":"'Челябинская обл.'!$C$34","v":13.23},{"$f":"'Челябинская обл.'!$C$37","v":352.76},{"$f":"'Челябинская обл.'!$C$38","v":825.59},{"$f":"'Челябинская обл.'!$C$39","v":0},{"$f":"'Челябинская обл.'!$C$40","v":0},{"$f":"'Челябинская обл.'!$C$41","v":0},{"$f":"'Челябинская обл.'!$C$44","v":1142.9000000000001},{"$f":"'Челябинская обл.'!$C$45","v":1066.98},{"$f":"'Челябинская обл.'!$C$46","v":0},{"$f":"'Челябинская обл.'!$C$47","v":0},{"$f":"'Челябинская обл.'!$C$48","v":0},{"$f":"'Челябинская обл.'!$C$50","v":1081.3599999999999},{"$f":"'Челябинская обл.'!$C$51","v":1328.18},{"$f":"'Челябинская обл.'!$C$52","v":0},{"$f":"'Челябинская обл.'!$C$53","v":0},{"$f":"'Челябинская обл.'!$C$54","v":0},{"$f":"'Челябинская обл.'!$C$55","v":0},{"$f":"'Челябинская обл.'!$C$56","v":243.71}]
["6","МУП МГО \"Городское хозяйство\"",null,{"$f":"'Челябинская обл.'!$C$7","v":"13,23"},{"$f":"'Челябинская обл.'!$C$10","v":1005.74},{"$f":"'Челябинская обл.'!$C$11","v":0},{"$f":"'Челябинская обл.'!$C$12","v":0},{"$f":"'Челябинская обл.'!$C$13","v":0},{"$f":"'Челябинская обл.'!$C$14","v":0},{"$f":"'Челябинская обл.'!$C$17","v":1987.75},{"$f":"'Челябинская обл.'!$C$18","v":0},{"$f":"'Челябинская обл.'!$C$19","v":0},{"$f":"'Челябинская обл.'!$C$20","v":0},{"$f":"'Челябинская обл.'!$C$21","v":0},{"$f":"'Челябинская обл.'!$C$23","v":1493.77},{"$f":"'Челябинская обл.'!$C$24","v":0},{"$f":"'Челябинская обл.'!$C$25","v":0},{"$f":"'Челябинская обл.'!$C$26","v":0},{"$f":"'Челябинская обл.'!$C$27","v":0},{"$f":"'Челябинская обл.'!$C$28","v":0},{"$f":"'Челябинская обл.'!$C$29","v":377.24},{"$f":"'Челябинская обл.'!$C$34","v":13.23},{"$f":"'Челябинская обл.'!$C$37","v":352.76},{"$f":"'Челябинская обл.'!$C$38","v":825.59},{"$f":"'Челябинская обл.'!$C$39","v":0},{"$f":"'Челябинская обл.'!$C$40","v":0},{"$f":"'Челябинская обл.'!$C$41","v":0},{"$f":"'Челябинская обл.'!$C$44","v":1142.9000000000001},{"$f":"'Челябинская обл.'!$C$45","v":1066.98},{"$f":"'Челябинская обл.'!$C$46","v":0},{"$f":"'Челябинская обл.'!$C$47","v":0},{"$f":"'Челябинская обл.'!$C$48","v":0},{"$f":"'Челябинская обл.'!$C$50","v":1081.3599999999999},{"$f":"'Челябинская обл.'!$C$51","v":1328.18},{"$f":"'Челябинская обл.'!$C$52","v":0},{"$f":"'Челябинская обл.'!$C$53","v":0},{"$f":"'Челябинская обл.'!$C$54","v":0},{"$f":"'Челябинская обл.'!$C$55","v":0},{"$f":"'Челябинская обл.'!$C$56","v":243.71}]
["7","ООО \"Золотой пляж\"",null,{"$f":"'Челябинская обл.'!$C$7","v":"13,23"},{"$f":"'Челябинская обл.'!$C$10","v":1005.74},{"$f":"'Челябинская обл.'!$C$11","v":0},{"$f":"'Челябинская обл.'!$C$12","v":0},{"$f":"'Челябинская обл.'!$C$13","v":0},{"$f":"'Челябинская обл.'!$C$14","v":0},{"$f":"'Челябинская обл.'!$C$17","v":1987.75},{"$f":"'Челябинская обл.'!$C$18","v":0},{"$f":"'Челябинская обл.'!$C$19","v":0},{"$f":"'Челябинская обл.'!$C$20","v":0},{"$f":"'Челябинская обл.'!$C$21","v":0},{"$f":"'Челябинская обл.'!$C$23","v":1493.77},{"$f":"'Челябинская обл.'!$C$24","v":0},{"$f":"'Челябинская обл.'!$C$25","v":0},{"$f":"'Челябинская обл.'!$C$26","v":0},{"$f":"'Челябинская обл.'!$C$27","v":0},{"$f":"'Челябинская обл.'!$C$28","v":0},{"$f":"'Челябинская обл.'!$C$29","v":377.24},{"$f":"'Челябинская обл.'!$C$34","v":13.23},{"$f":"'Челябинская обл.'!$C$37","v":352.76},{"$f":"'Челябинская обл.'!$C$38","v":825.59},{"$f":"'Челябинская обл.'!$C$39","v":0},{"$f":"'Челябинская обл.'!$C$40","v":0},{"$f":"'Челябинская обл.'!$C$41","v":0},{"$f":"'Челябинская обл.'!$C$44","v":1142.9000000000001},{"$f":"'Челябинская обл.'!$C$45","v":1066.98},{"$f":"'Челябинская обл.'!$C$46","v":0},{"$f":"'Челябинская обл.'!$C$47","v":0},{"$f":"'Челябинская обл.'!$C$48","v":0},{"$f":"'Челябинская обл.'!$C$50","v":1081.3599999999999},{"$f":"'Челябинская обл.'!$C$51","v":1328.18},{"$f":"'Челябинская обл.'!$C$52","v":0},{"$f":"'Челябинская обл.'!$C$53","v":0},{"$f":"'Челябинская обл.'!$C$54","v":0},{"$f":"'Челябинская обл.'!$C$55","v":0},{"$f":"'Челябинская обл.'!$C$56","v":243.71}]
["8","ООО \"ИБК-Энерго\"",null,{"$f":"'Челябинская обл.'!$C$7","v":"13,23"},{"$f":"'Челябинская обл.'!$C$10","v":1005.74},{"$f":"'Челябинская обл.'!$C$11","v":0},{"$f":"'Челябинская обл.'!$C$12","v":0},{"$f":"'Челябинская обл.'!$C$13","v":0},{"$f":"'Челябинская обл.'!$C$14","v":0},{"$f":"'Челябинская обл.'!$C$17","v":1987.75},{"$f":"'Челябинская обл.'!$C$18","v":0},{"$f":"'Челябинская обл.'!$C$19","v":0},{"$f":"'Челябинская обл.'!$C$20","v":0},{"$f":"'Челябинская обл.'!$C$21","v":0},{"$f":"'Челябинская обл.'!$C$23","v":1493.77},{"$f":"'Челябинская обл.'!$C$24","v":0},{"$f":"'Челябинская обл.'!$C$25","v":0},{"$f":"'Челябинская обл.'!$C$26","v":0},{"$f":"'Челябинская обл.'!$C$27","v":0},{"$f":"'Челябинская обл.'!$C$28","v":0},{"$f":"'Челябинская обл.'!$C$29","v":377.24},{"$f":"'Челябинская обл.'!$C$34","v":13.23},{"$f":"'Челябинская обл.'!$C$37","v":352.76},{"$f":"'Челябинская обл.'!$C$38","v":825.59},{"$f":"'Челябинская обл.'!$C$39","v":0},{"$f":"'Челябинская обл.'!$C$40","v":0},{"$f":"'Челябинская обл.'!$C$41","v":0},{"$f":"'Челябинская обл.'!$C$44","v":1142.9000000000001},{"$f":"'Челябинская обл.'!$C$45","v":1066.98},{"$f":"'Челябинская обл.'!$C$46","v":0},{"$f":"'Челябинская обл.'!$C$47","v":0},{"$f":"'Челябинская обл.'!$C$48","v":0},{"$f":"'Челябинская обл.'!$C$50","v":1081.3599999999999},{"$f":"'Челябинская обл.'!$C$51","v":1328.18},{"$f":"'Челябинская обл.'!$C$52","v":0},{"$f":"'Челябинская обл.'!$C$53","v":0},{"$f":"'Челябинская обл.'!$C$54","v":0},{"$f":"'Челябинская обл.'!$C$55","v":0},{"$f":"'Челябинская обл.'!$C$56","v":243.71}]
["9","ООО \"Служба заказчика\"",null,{"$f":"'Челябинская обл.'!$C$7","v":"13,23"},{"$f":"'Челябинская обл.'!$C$10","v":1005.74},{"$f":"'Челябинская обл.'!$C$11","v":0},{"$f":"'Челябинская обл.'!$C$12","v":0},{"$f":"'Челябинская обл.'!$C$13","v":0},{"$f":"'Челябинская обл.'!$C$14","v":0},{"$f":"'Челябинская обл.'!$C$17","v":1987.75},{"$f":"'Челябинская обл.'!$C$18","v":0},{"$f":"'Челябинская обл.'!$C$19","v":0},{"$f":"'Челябинская обл.'!$C$20","v":0},{"$f":"'Челябинская обл.'!$C$21","v":0},{"$f":"'Челябинская обл.'!$C$23","v":1493.77},{"$f":"'Челябинская обл.'!$C$24","v":0},{"$f":"'Челябинская обл.'!$C$25","v":0},{"$f":"'Челябинская обл.'!$C$26","v":0},{"$f":"'Челябинская обл.'!$C$27","v":0},{"$f":"'Челябинская обл.'!$C$28","v":0},{"$f":"'Челябинская обл.'!$C$29","v":377.24},{"$f":"'Челябинская обл.'!$C$34","v":13.23},{"$f":"'Челябинская обл.'!$C$37","v":352.76},{"$f":"'Челябинская обл.'!$C$38","v":825.59},{"$f":"'Челябинская обл.'!$C$39","v":0},{"$f":"'Челябинская обл.'!$C$40","v":0},{"$f":"'Челябинская обл.'!$C$41","v":0},{"$f":"'Челябинская обл.'!$C$44","v":1142.9000000000001},{"$f":"'Челябинская обл.'!$C$45","v":1066.98},{"$f":"'Челябинская обл.'!$C$46","v":0},{"$f":"'Челябинская обл.'!$C$47","v":0},{"$f":"'Челябинская обл.'!$C$48","v":0},{"$f":"'Челябинская обл.'!$C$50","v":1081.3599999999999},{"$f":"'Челябинская обл.'!$C$51","v":1328.18},{"$f":"'Челябинская обл.'!$C$52","v":0},{"$f":"'Челябинская обл.'!$C$53","v":0},{"$f":"'Челябинская обл.'!$C$54","v":0},{"$f":"'Челябинская обл.'!$C$55","v":0},{"$f":"'Челябинская обл.'!$C$56","v":243.71}]
["10","ООО \"ТеплоСтройСервис\"",null,{"$f":"'Челябинская обл.'!$C$7","v":"13,23"},{"$f":"'Челябинская обл.'!$C$10","v":1005.74},{"$f":"'Челябинская обл.'!$C$11","v":0},{"$f":"'Челябинская обл.'!$C$12","v":0},{"$f":"'Челябинская обл.'!$C$13","v":0},{"$f":"'Челябинская обл.'!$C$14","v":0},{"$f":"'Челябинская обл.'!$C$17","v":1987.75},{"$f":"'Челябинская обл.'!$C$18","v":0},{"$f":"'Челябинская обл.'!$C$19","v":0},{"$f":"'Челябинская обл.'!$C$20","v":0},{"$f":"'Челябинская обл.'!$C$21","v":0},{"$f":"'Челябинская обл.'!$C$23","v":1493.77},{"$f":"'Челябинская обл.'!$C$24","v":0},{"$f":"'Челябинская обл.'!$C$25","v":0},{"$f":"'Челябинская обл.'!$C$26","v":0},{"$f":"'Челябинская обл.'!$C$27","v":0},{"$f":"'Челябинская обл.'!$C$28","v":0},{"$f":"'Челябинская обл.'!$C$29","v":377.24},{"$f":"'Челябинская обл.'!$C$34","v":13.23},{"$f":"'Челябинская обл.'!$C$37","v":352.76},{"$f":"'Челябинская обл.'!$C$38","v":825.59},{"$f":"'Челябинская обл.'!$C$39","v":0},{"$f":"'Челябинская обл.'!$C$40","v":0},{"$f":"'Челябинская обл.'!$C$41","v":0},{"$f":"'Челябинская обл.'!$C$44","v":1142.9000000000001},{"$f":"'Челябинская обл.'!$C$45","v":1066.98},{"$f":"'Челябинская обл.'!$C$46","v":0},{"$f":"'Челябинская обл.'!$C$47","v":0},{"$f":"'Челябинская обл.'!$C$48","v":0},{"$f":"'Челябинская обл.'!$C$50","v":1081.3599999999999},{"$f":"'Челябинская обл.'!$C$51","v":1328.18},{"$f":"'Челябинская обл.'!$C$52","v":0},{"$f":"'Челябинская обл.'!$C$53","v":0},{"$f":"'Челябинская обл.'!$C$54","v":0},{"$f":"'Челябинская обл.'!$C$55","v":0},{"$f":"'Челябинская обл.'!$C$56","v":243.71}]
["11","ООО \"Теплотех-Сервис\"",null,{"$f":"'Челябинская обл.'!$C$7","v":"13,23"},{"$f":"'Челябинская обл.'!$C$10","v":1005.74},{"$f":"'Челябинская обл.'!$C$11","v":0},{"$f":"'Челябинская обл.'!$C$12","v":0},{"$f":"'Челябинская обл.'!$C$13","v":0},{"$f":"'Челябинская обл.'!$C$14","v":0},{"$f":"'Челябинская обл.'!$C$17","v":1987.75},{"$f":"'Челябинская обл.'!$C$18","v":0},{"$f":"'Челябинская обл.'!$C$19","v":0},{"$f":"'Челябинская обл.'!$C$20","v":0},{"$f":"'Челябинская обл.'!$C$21","v":0},{"$f":"'Челябинская обл.'!$C$23","v":1493.77},{"$f":"'Челябинская обл.'!$C$24","v":0},{"$f":"'Челябинская обл.'!$C$25","v":0},{"$f":"'Челябинская обл.'!$C$26","v":0},{"$f":"'Челябинская обл.'!$C$27","v":0},{"$f":"'Челябинская обл.'!$C$28","v":0},{"$f":"'Челябинская обл.'!$C$29","v":377.24},{"$f":"'Челябинская обл.'!$C$34","v":13.23},{"$f":"'Челябинская обл.'!$C$37","v":352.76},{"$f":"'Челябинская обл.'!$C$38","v":825.59},{"$f":"'Челябинская обл.'!$C$39","v":0},{"$f":"'Челябинская обл.'!$C$40","v":0},{"$f":"'Челябинская обл.'!$C$41","v":0},{"$f":"'Челябинская обл.'!$C$44","v":1142.9000000000001},{"$f":"'Челябинская обл.'!$C$45","v":1066.98},{"$f":"'Челябинская обл.'!$C$46","v":0},{"$f":"'Челябинская обл.'!$C$47","v":0},{"$f":"'Челябинская обл.'!$C$48","v":0},{"$f":"'Челябинская обл.'!$C$50","v":1081.3599999999999},{"$f":"'Челябинская обл.'!$C$51","v":1328.18},{"$f":"'Челябинская обл.'!$C$52","v":0},{"$f":"'Челябинская обл.'!$C$53","v":0},{"$f":"'Челябинская обл.'!$C$54","v":0},{"$f":"'Челябинская обл.'!$C$55","v":0},{"$f":"'Челябинская обл.'!$C$56","v":243.71}]
["12","ООО \"Уралспецмаш\"",null,{"$f":"'Челябинская обл.'!$C$7","v":"13,23"},{"$f":"'Челябинская обл.'!$C$10","v":1005.74},{"$f":"'Челябинская обл.'!$C$11","v":0},{"$f":"'Челябинская обл.'!$C$12","v":0},{"$f":"'Челябинская обл.'!$C$13","v":0},{"$f":"'Челябинская обл.'!$C$14","v":0},{"$f":"'Челябинская обл.'!$C$17","v":1987.75},{"$f":"'Челябинская обл.'!$C$18","v":0},{"$f":"'Челябинская обл.'!$C$19","v":0},{"$f":"'Челябинская обл.'!$C$20","v":0},{"$f":"'Челябинская обл.'!$C$21","v":0},{"$f":"'Челябинская обл.'!$C$23","v":1493.77},{"$f":"'Челябинская обл.'!$C$24","v":0},{"$f":"'Челябинская обл.'!$C$25","v":0},{"$f":"'Челябинская обл.'!$C$26","v":0},{"$f":"'Челябинская обл.'!$C$27","v":0},{"$f":"'Челябинская обл.'!$C$28","v":0},{"$f":"'Челябинская обл.'!$C$29","v":377.24},{"$f":"'Челябинская обл.'!$C$34","v":13.23},{"$f":"'Челябинская обл.'!$C$37","v":352.76},{"$f":"'Челябинская обл.'!$C$38","v":825.59},{"$f":"'Челябинская обл.'!$C$39","v":0},{"$f":"'Челябинская обл.'!$C$40","v":0},{"$f":"'Челябинская обл.'!$C$41","v":0},{"$f":"'Челябинская обл.'!$C$44","v":1142.9000000000001},{"$f":"'Челябинская обл.'!$C$45","v":1066.98},{"$f":"'Челябинская обл.'!$C$46","v":0},{"$f":"'Челябинская обл.'!$C$47","v":0},{"$f":"'Челябинская обл.'!$C$48","v":0},{"$f":"'Челябинская обл.'!$C$50","v":1081.3599999999999},{"$f":"'Челябинская обл.'!$C$51","v":1328.18},{"$f":"'Челябинская обл.'!$C$52","v":0},{"$f":"'Челябинская обл.'!$C$53","v":0},{"$f":"'Челябинская обл.'!$C$54","v":0},{"$f":"'Челябинская обл.'!$C$55","v":0},{"$f":"'Челябинская обл.'!$C$56","v":243.71}]
["13","ООО \"УралТеплоСтрой\"",null,{"$f":"'Челябинская обл.'!$C$7","v":"13,23"},{"$f":"'Челябинская обл.'!$C$10","v":1005.74},{"$f":"'Челябинская обл.'!$C$11","v":0},{"$f":"'Челябинская обл.'!$C$12","v":0},{"$f":"'Челябинская обл.'!$C$13","v":0},{"$f":"'Челябинская обл.'!$C$14","v":0},{"$f":"'Челябинская обл.'!$C$17","v":1987.75},{"$f":"'Челябинская обл.'!$C$18","v":0},{"$f":"'Челябинская обл.'!$C$19","v":0},{"$f":"'Челябинская обл.'!$C$20","v":0},{"$f":"'Челябинская обл.'!$C$21","v":0},{"$f":"'Челябинская обл.'!$C$23","v":1493.77},{"$f":"'Челябинская обл.'!$C$24","v":0},{"$f":"'Челябинская обл.'!$C$25","v":0},{"$f":"'Челябинская обл.'!$C$26","v":0},{"$f":"'Челябинская обл.'!$C$27","v":0},{"$f":"'Челябинская обл.'!$C$28","v":0},{"$f":"'Челябинская обл.'!$C$29","v":377.24},{"$f":"'Челябинская обл.'!$C$34","v":13.23},{"$f":"'Челябинская обл.'!$C$37","v":352.76},{"$f":"'Челябинская обл.'!$C$38","v":825.59},{"$f":"'Челябинская обл.'!$C$39","v":0},{"$f":"'Челябинская обл.'!$C$40","v":0},{"$f":"'Челябинская обл.'!$C$41","v":0},{"$f":"'Челябинская обл.'!$C$44","v":1142.9000000000001},{"$f":"'Челябинская обл.'!$C$45","v":1066.98},{"$f":"'Челябинская обл.'!$C$46","v":0},{"$f":"'Челябинская обл.'!$C$47","v":0},{"$f":"'Челябинская обл.'!$C$48","v":0},{"$f":"'Челябинская обл.'!$C$50","v":1081.3599999999999},{"$f":"'Челябинская обл.'!$C$51","v":1328.18},{"$f":"'Челябинская обл.'!$C$52","v":0},{"$f":"'Челябинская обл.'!$C$53","v":0},{"$f":"'Челябинская обл.'!$C$54","v":0},{"$f":"'Челябинская обл.'!$C$55","v":0},{"$f":"'Челябинская обл.'!$C$56","v":243.71}]
["14","ООО \"Южный ТеплоЭнергетический комплекс\"",null,{"$f":"'Челябинская обл.'!$C$7","v":"13,23"},{"$f":"'Челябинская обл.'!$C$10","v":1005.74},{"$f":"'Челябинская обл.'!$C$11","v":0},{"$f":"'Челябинская обл.'!$C$12","v":0},{"$f":"'Челябинская обл.'!$C$13","v":0},{"$f":"'Челябинская обл.'!$C$14","v":0},{"$f":"'Челябинская обл.'!$C$17","v":1987.75},{"$f":"'Челябинская обл.'!$C$18","v":0},{"$f":"'Челябинская обл.'!$C$19","v":0},{"$f":"'Челябинская обл.'!$C$20","v":0},{"$f":"'Челябинская обл.'!$C$21","v":0},{"$f":"'Челябинская обл.'!$C$23","v":1493.77},{"$f":"'Челябинская обл.'!$C$24","v":0},{"$f":"'Челябинская обл.'!$C$25","v":0},{"$f":"'Челябинская обл.'!$C$26","v":0},{"$f":"'Челябинская обл.'!$C$27","v":0},{"$f":"'Челябинская обл.'!$C$28","v":0},{"$f":"'Челябинская обл.'!$C$29","v":377.24},{"$f":"'Челябинская обл.'!$C$34","v":13.23},{"$f":"'Челябинская обл.'!$C$37","v":352.76},{"$f":"'Челябинская обл.'!$C$38","v":825.59},{"$f":"'Челябинская обл.'!$C$39","v":0},{"$f":"'Челябинская обл.'!$C$40","v":0},{"$f":"'Челябинская обл.'!$C$41","v":0},{"$f":"'Челябинская обл.'!$C$44","v":1142.9000000000001},{"$f":"'Челябинская обл.'!$C$45","v":1066.98},{"$f":"'Челябинская обл.'!$C$46","v":0},{"$f":"'Челябинская обл.'!$C$47","v":0},{"$f":"'Челябинская обл.'!$C$48","v":0},{"$f":"'Челябинская обл.'!$C$50","v":1081.3599999999999},{"$f":"'Челябинская обл.'!$C$51","v":1328.18},{"$f":"'Челябинская обл.'!$C$52","v":0},{"$f":"'Челябинская обл.'!$C$53","v":0},{"$f":"'Челябинская обл.'!$C$54","v":0},{"$f":"'Челябинская обл.'!$C$55","v":0},{"$f":"'Челябинская обл.'!$C$56","v":243.71}]
["15","ООО компания \"ФинПромСтрой\"",null,{"$f":"'Челябинская обл.'!$C$7","v":"13,23"},{"$f":"'Челябинская обл.'!$C$10","v":1005.74},{"$f":"'Челябинская обл.'!$C$11","v":0},{"$f":"'Челябинская обл.'!$C$12","v":0},{"$f":"'Челябинская обл.'!$C$13","v":0},{"$f":"'Челябинская обл.'!$C$14","v":0},{"$f":"'Челябинская обл.'!$C$17","v":1987.75},{"$f":"'Челябинская обл.'!$C$18","v":0},{"$f":"'Челябинская обл.'!$C$19","v":0},{"$f":"'Челябинская обл.'!$C$20","v":0},{"$f":"'Челябинская обл.'!$C$21","v":0},{"$f":"'Челябинская обл.'!$C$23","v":1493.77},{"$f":"'Челябинская обл.'!$C$24","v":0},{"$f":"'Челябинская обл.'!$C$25","v":0},{"$f":"'Челябинская обл.'!$C$26","v":0},{"$f":"'Челябинская обл.'!$C$27","v":0},{"$f":"'Челябинская обл.'!$C$28","v":0},{"$f":"'Челябинская обл.'!$C$29","v":377.24},{"$f":"'Челябинская обл.'!$C$34","v":13.23},{"$f":"'Челябинская обл.'!$C$37","v":352.76},{"$f":"'Челябинская обл.'!$C$38","v":825.59},{"$f":"'Челябинская обл.'!$C$39","v":0},{"$f":"'Челябинская обл.'!$C$40","v":0},{"$f":"'Челябинская обл.'!$C$41","v":0},{"$f":"'Челябинская обл.'!$C$44","v":1142.9000000000001},{"$f":"'Челябинская обл.'!$C$45","v":1066.98},{"$f":"'Челябинская обл.'!$C$46","v":0},{"$f":"'Челябинская обл.'!$C$47","v":0},{"$f":"'Челябинская обл.'!$C$48","v":0},{"$f":"'Челябинская обл.'!$C$50","v":1081.3599999999999},{"$f":"'Челябинская обл.'!$C$51","v":1328.18},{"$f":"'Челябинская обл.'!$C$52","v":0},{"$f":"'Челябинская обл.'!$C$53","v":0},{"$f":"'Челябинская обл.'!$C$54","v":0},{"$f":"'Челябинская обл.'!$C$55","v":0},{"$f":"'Челябинская обл.'!$C$56","v":243.71}]
["16","Частное учреждение \"Детский оздоровительный лагерь \"Еланчик\" ОАО \"ЧТПЗ\"",null,{"$f":"'Челябинская обл.'!$C$7","v":"13,23"},{"$f":"'Челябинская обл.'!$C$10","v":1005.74},{"$f":"'Челябинская обл.'!$C$11","v":0},{"$f":"'Челябинская обл.'!$C$12","v":0},{"$f":"'Челябинская обл.'!$C$13","v":0},{"$f":"'Челябинская обл.'!$C$14","v":0},{"$f":"'Челябинская обл.'!$C$17","v":1987.75},{"$f":"'Челябинская обл.'!$C$18","v":0},{"$f":"'Челябинская обл.'!$C$19","v":0},{"$f":"'Челябинская обл.'!$C$20","v":0},{"$f":"'Челябинская обл.'!$C$21","v":0},{"$f":"'Челябинская обл.'!$C$23","v":1493.77},{"$f":"'Челябинская обл.'!$C$24","v":0},{"$f":"'Челябинская обл.'!$C$25","v":0},{"$f":"'Челябинская обл.'!$C$26","v":0},{"$f":"'Челябинская обл.'!$C$27","v":0},{"$f":"'Челябинская обл.'!$C$28","v":0},{"$f":"'Челябинская обл.'!$C$29","v":377.24},{"$f":"'Челябинская обл.'!$C$34","v":13.23},{"$f":"'Челябинская обл.'!$C$37","v":352.76},{"$f":"'Челябинская обл.'!$C$38","v":825.59},{"$f":"'Челябинская обл.'!$C$39","v":0},{"$f":"'Челябинская обл.'!$C$40","v":0},{"$f":"'Челябинская обл.'!$C$41","v":0},{"$f":"'Челябинская обл.'!$C$44","v":1142.9000000000001},{"$f":"'Челябинская обл.'!$C$45","v":1066.98},{"$f":"'Челябинская обл.'!$C$46","v":0},{"$f":"'Челябинская обл.'!$C$47","v":0},{"$f":"'Челябинская обл.'!$C$48","v":0},{"$f":"'Челябинская обл.'!$C$50","v":1081.3599999999999},{"$f":"'Челябинская обл.'!$C$51","v":1328.18},{"$f":"'Челябинская обл.'!$C$52","v":0},{"$f":"'Челябинская обл.'!$C$53","v":0},{"$f":"'Челябинская обл.'!$C$54","v":0},{"$f":"'Челябинская обл.'!$C$55","v":0},{"$f":"'Челябинская обл.'!$C$56","v":243.71}]
[17,"Южно-Уральская дирекция по тепловодоснабжению - структурное подразделение Центральной дирекции по тепловодоснабжению - филиала ОАО \"РЖД\" (Миасский г.о.)",null,{"$f":"'Челябинская обл.'!$C$7","v":"13,23"},{"$f":"'Челябинская обл.'!$C$10","v":1005.74},{"$f":"'Челябинская обл.'!$C$11","v":0},{"$f":"'Челябинская обл.'!$C$12","v":0},{"$f":"'Челябинская обл.'!$C$13","v":0},{"$f":"'Челябинская обл.'!$C$14","v":0},{"$f":"'Челябинская обл.'!$C$17","v":1987.75},{"$f":"'Челябинская обл.'!$C$18","v":0},{"$f":"'Челябинская обл.'!$C$19","v":0},{"$f":"'Челябинская обл.'!$C$20","v":0},{"$f":"'Челябинская обл.'!$C$21","v":0},{"$f":"'Челябинская обл.'!$C$23","v":1493.77},{"$f":"'Челябинская обл.'!$C$24","v":0},{"$f":"'Челябинская обл.'!$C$25","v":0},{"$f":"'Челябинская обл.'!$C$26","v":0},{"$f":"'Челябинская обл.'!$C$27","v":0},{"$f":"'Челябинская обл.'!$C$28","v":0},{"$f":"'Челябинская обл.'!$C$29","v":377.24},{"$f":"'Челябинская обл.'!$C$34","v":13.23},{"$f":"'Челябинская обл.'!$C$37","v":352.76},{"$f":"'Челябинская обл.'!$C$38","v":825.59},{"$f":"'Челябинская обл.'!$C$39","v":0},{"$f":"'Челябинская обл.'!$C$40","v":0},{"$f":"'Челябинская обл.'!$C$41","v":0},{"$f":"'Челябинская обл.'!$C$44","v":1142.9000000000001},{"$f":"'Челябинская обл.'!$C$45","v":1066.98},{"$f":"'Челябинская обл.'!$C$46","v":0},{"$f":"'Челябинская обл.'!$C$47","v":0},{"$f":"'Челябинская обл.'!$C$48","v":0},{"$f":"'Челябинская обл.'!$C$50","v":1081.3599999999999},{"$f":"'Челябинская обл.'!$C$51","v":1328.18},{"$f":"'Челябинская обл.'!$C$52","v":0},{"$f":"'Челябинская обл.'!$C$53","v":0},{"$f":"'Челябинская обл.'!$C$54","v":0},{"$f":"'Челябинская обл.'!$C$55","v":0},{"$f":"'Челябинская обл.'!$C$56","v":243.71}]
["9","Озерский городской округ"]
["1","ММПКХ",null,{"$f":"'Челябинская обл.'!$C$7","v":"13,23"},{"$f":"'Челябинская обл.'!$C$10","v":1005.74},{"$f":"'Челябинская обл.'!$C$11","v":0},{"$f":"'Челябинская обл.'!$C$12","v":0},{"$f":"'Челябинская обл.'!$C$13","v":0},{"$f":"'Челябинская обл.'!$C$14","v":0},{"$f":"'Челябинская обл.'!$C$17","v":1987.75},{"$f":"'Челябинская обл.'!$C$18","v":0},{"$f":"'Челябинская обл.'!$C$19","v":0},{"$f":"'Челябинская обл.'!$C$20","v":0},{"$f":"'Челябинская обл.'!$C$21","v":0},{"$f":"'Челябинская обл.'!$C$23","v":1493.77},{"$f":"'Челябинская обл.'!$C$24","v":0},{"$f":"'Челябинская обл.'!$C$25","v":0},{"$f":"'Челябинская обл.'!$C$26","v":0},{"$f":"'Челябинская обл.'!$C$27","v":0},{"$f":"'Челябинская обл.'!$C$28","v":0},{"$f":"'Челябинская обл.'!$C$29","v":377.24},{"$f":"'Челябинская обл.'!$C$34","v":13.23},{"$f":"'Челябинская обл.'!$C$37","v":352.76},{"$f":"'Челябинская обл.'!$C$38","v":825.59},{"$f":"'Челябинская обл.'!$C$39","v":0},{"$f":"'Челябинская обл.'!$C$40","v":0},{"$f":"'Челябинская обл.'!$C$41","v":0},{"$f":"'Челябинская обл.'!$C$44","v":1142.9000000000001},{"$f":"'Челябинская обл.'!$C$45","v":1066.98},{"$f":"'Челябинская обл.'!$C$46","v":0},{"$f":"'Челябинская обл.'!$C$47","v":0},{"$f":"'Челябинская обл.'!$C$48","v":0},{"$f":"'Челябинская обл.'!$C$50","v":1081.3599999999999},{"$f":"'Челябинская обл.'!$C$51","v":1328.18},{"$f":"'Челябинская обл.'!$C$52","v":0},{"$f":"'Челябинская обл.'!$C$53","v":0},{"$f":"'Челябинская обл.'!$C$54","v":0},{"$f":"'Челябинская обл.'!$C$55","v":0},{"$f":"'Челябинская обл.'!$C$56","v":243.71}]
["2","ММУП ЖКХ пос. Новогорный",null,{"$f":"'Челябинская обл.'!$C$7","v":"13,23"},{"$f":"'Челябинская обл.'!$C$10","v":1005.74},{"$f":"'Челябинская обл.'!$C$11","v":0},{"$f":"'Челябинская обл.'!$C$12","v":0},{"$f":"'Челябинская обл.'!$C$13","v":0},{"$f":"'Челябинская обл.'!$C$14","v":0},{"$f":"'Челябинская обл.'!$C$17","v":1987.75},{"$f":"'Челябинская обл.'!$C$18","v":0},{"$f":"'Челябинская обл.'!$C$19","v":0},{"$f":"'Челябинская обл.'!$C$20","v":0},{"$f":"'Челябинская обл.'!$C$21","v":0},{"$f":"'Челябинская обл.'!$C$23","v":1493.77},{"$f":"'Челябинская обл.'!$C$24","v":0},{"$f":"'Челябинская обл.'!$C$25","v":0},{"$f":"'Челябинская обл.'!$C$26","v":0},{"$f":"'Челябинская обл.'!$C$27","v":0},{"$f":"'Челябинская обл.'!$C$28","v":0},{"$f":"'Челябинская обл.'!$C$29","v":377.24},{"$f":"'Челябинская обл.'!$C$34","v":13.23},{"$f":"'Челябинская обл.'!$C$37","v":352.76},{"$f":"'Челябинская обл.'!$C$38","v":825.59},{"$f":"'Челябинская обл.'!$C$39","v":0},{"$f":"'Челябинская обл.'!$C$40","v":0},{"$f":"'Челябинская обл.'!$C$41","v":0},{"$f":"'Челябинская обл.'!$C$44","v":1142.9000000000001},{"$f":"'Челябинская обл.'!$C$45","v":1066.98},{"$f":"'Челябинская обл.'!$C$46","v":0},{"$f":"'Челябинская обл.'!$C$47","v":0},{"$f":"'Челябинская обл.'!$C$48","v":0},{"$f":"'Челябинская обл.'!$C$50","v":1081.3599999999999},{"$f":"'Челябинская обл.'!$C$51","v":1328.18},{"$f":"'Челябинская обл.'!$C$52","v":0},{"$f":"'Челябинская обл.'!$C$53","v":0},{"$f":"'Челябинская обл.'!$C$54","v":0},{"$f":"'Челябинская обл.'!$C$55","v":0},{"$f":"'Челябинская обл.'!$C$56","v":243.71}]
["3","ООО \"Сервисный Центр\"",null,{"$f":"'Челябинская обл.'!$C$7","v":"13,23"},{"$f":"'Челябинская обл.'!$C$10","v":1005.74},{"$f":"'Челябинская обл.'!$C$11","v":0},{"$f":"'Челябинская обл.'!$C$12","v":0},{"$f":"'Челябинская обл.'!$C$13","v":0},{"$f":"'Челябинская обл.'!$C$14","v":0},{"$f":"'Челябинская обл.'!$C$17","v":1987.75},{"$f":"'Челябинская обл.'!$C$18","v":0},{"$f":"'Челябинская обл.'!$C$19","v":0},{"$f":"'Челябинская обл.'!$C$20","v":0},{"$f":"'Челябинская обл.'!$C$21","v":0},{"$f":"'Челябинская обл.'!$C$23","v":1493.77},{"$f":"'Челябинская обл.'!$C$24","v":0},{"$f":"'Челябинская обл.'!$C$25","v":0},{"$f":"'Челябинская обл.'!$C$26","v":0},{"$f":"'Челябинская обл.'!$C$27","v":0},{"$f":"'Челябинская обл.'!$C$28","v":0},{"$f":"'Челябинская обл.'!$C$29","v":377.24},{"$f":"'Челябинская обл.'!$C$34","v":13.23},{"$f":"'Челябинская обл.'!$C$37","v":352.76},{"$f":"'Челябинская обл.'!$C$38","v":825.59},{"$f":"'Челябинская обл.'!$C$39","v":0},{"$f":"'Челябинская обл.'!$C$40","v":0},{"$f":"'Челябинская обл.'!$C$41","v":0},{"$f":"'Челябинская обл.'!$C$44","v":1142.9000000000001},{"$f":"'Челябинская обл.'!$C$45","v":1066.98},{"$f":"'Челябинская обл.'!$C$46","v":0},{"$f":"'Челябинская обл.'!$C$47","v":0},{"$f":"'Челябинская обл.'!$C$48","v":0},{"$f":"'Челябинская обл.'!$C$50","v":1081.3599999999999},{"$f":"'Челябинская обл.'!$C$51","v":1328.18},{"$f":"'Челябинская обл.'!$C$52","v":0},{"$f":"'Челябинская обл.'!$C$53","v":0},{"$f":"'Челябинская обл.'!$C$54","v":0},{"$f":"'Челябинская обл.'!$C$55","v":0},{"$f":"'Челябинская обл.'!$C$56","v":243.71}]
["4","ПАО \"Фортум\" (Озерский г.о.)",null,{"$f":"'Челябинская обл.'!$C$7","v":"13,23"},{"$f":"'Челябинская обл.'!$C$10","v":1005.74},{"$f":"'Челябинская обл.'!$C$11","v":0},{"$f":"'Челябинская обл.'!$C$12","v":0},{"$f":"'Челябинская обл.'!$C$13","v":0},{"$f":"'Челябинская обл.'!$C$14","v":0},{"$f":"'Челябинская обл.'!$C$17","v":1987.75},{"$f":"'Челябинская обл.'!$C$18","v":0},{"$f":"'Челябинская обл.'!$C$19","v":0},{"$f":"'Челябинская обл.'!$C$20","v":0},{"$f":"'Челябинская обл.'!$C$21","v":0},{"$f":"'Челябинская обл.'!$C$23","v":1493.77},{"$f":"'Челябинская обл.'!$C$24","v":0},{"$f":"'Челябинская обл.'!$C$25","v":0},{"$f":"'Челябинская обл.'!$C$26","v":0},{"$f":"'Челябинская обл.'!$C$27","v":0},{"$f":"'Челябинская обл.'!$C$28","v":0},{"$f":"'Челябинская обл.'!$C$29","v":377.24},{"$f":"'Челябинская обл.'!$C$34","v":13.23},{"$f":"'Челябинская обл.'!$C$37","v":352.76},{"$f":"'Челябинская обл.'!$C$38","v":825.59},{"$f":"'Челябинская обл.'!$C$39","v":0},{"$f":"'Челябинская обл.'!$C$40","v":0},{"$f":"'Челябинская обл.'!$C$41","v":0},{"$f":"'Челябинская обл.'!$C$44","v":1142.9000000000001},{"$f":"'Челябинская обл.'!$C$45","v":1066.98},{"$f":"'Челябинская обл.'!$C$46","v":0},{"$f":"'Челябинская обл.'!$C$47","v":0},{"$f":"'Челябинская обл.'!$C$48","v":0},{"$f":"'Челябинская обл.'!$C$50","v":1081.3599999999999},{"$f":"'Челябинская обл.'!$C$51","v":1328.18},{"$f":"'Челябинская обл.'!$C$52","v":0},{"$f":"'Челябинская обл.'!$C$53","v":0},{"$f":"'Челябинская обл.'!$C$54","v":0},{"$f":"'Челябинская обл.'!$C$55","v":0},{"$f":"'Челябинская обл.'!$C$56","v":243.71}]
["5","ФГУП \"ПО \"Маяк\"",null,{"$f":"'Челябинская обл.'!$C$7","v":"13,23"},{"$f":"'Челябинская обл.'!$C$10","v":1005.74},{"$f":"'Челябинская обл.'!$C$11","v":0},{"$f":"'Челябинская обл.'!$C$12","v":0},{"$f":"'Челябинская обл.'!$C$13","v":0},{"$f":"'Челябинская обл.'!$C$14","v":0},{"$f":"'Челябинская обл.'!$C$17","v":1987.75},{"$f":"'Челябинская обл.'!$C$18","v":0},{"$f":"'Челябинская обл.'!$C$19","v":0},{"$f":"'Челябинская обл.'!$C$20","v":0},{"$f":"'Челябинская обл.'!$C$21","v":0},{"$f":"'Челябинская обл.'!$C$23","v":1493.77},{"$f":"'Челябинская обл.'!$C$24","v":0},{"$f":"'Челябинская обл.'!$C$25","v":0},{"$f":"'Челябинская обл.'!$C$26","v":0},{"$f":"'Челябинская обл.'!$C$27","v":0},{"$f":"'Челябинская обл.'!$C$28","v":0},{"$f":"'Челябинская обл.'!$C$29","v":377.24},{"$f":"'Челябинская обл.'!$C$34","v":13.23},{"$f":"'Челябинская обл.'!$C$37","v":352.76},{"$f":"'Челябинская обл.'!$C$38","v":825.59},{"$f":"'Челябинская обл.'!$C$39","v":0},{"$f":"'Челябинская обл.'!$C$40","v":0},{"$f":"'Челябинская обл.'!$C$41","v":0},{"$f":"'Челябинская обл.'!$C$44","v":1142.9000000000001},{"$f":"'Челябинская обл.'!$C$45","v":1066.98},{"$f":"'Челябинская обл.'!$C$46","v":0},{"$f":"'Челябинская обл.'!$C$47","v":0},{"$f":"'Челябинская обл.'!$C$48","v":0},{"$f":"'Челябинская обл.'!$C$50","v":1081.3599999999999},{"$f":"'Челябинская обл.'!$C$51","v":1328.18},{"$f":"'Челябинская обл.'!$C$52","v":0},{"$f":"'Челябинская обл.'!$C$53","v":0},{"$f":"'Челябинская обл.'!$C$54","v":0},{"$f":"'Челябинская обл.'!$C$55","v":0},{"$f":"'Челябинская обл.'!$C$56","v":243.71}]
["10","Снежинский городской округ"]
["1","АО \"Трансэнерго\"",null,{"$f":"'Челябинская обл.'!$C$7","v":"13,23"},{"$f":"'Челябинская обл.'!$C$10","v":1005.74},{"$f":"'Челябинская обл.'!$C$11","v":0},{"$f":"'Челябинская обл.'!$C$12","v":0},{"$f":"'Челябинская обл.'!$C$13","v":0},{"$f":"'Челябинская обл.'!$C$14","v":0},{"$f":"'Челябинская обл.'!$C$17","v":1987.75},{"$f":"'Челябинская обл.'!$C$18","v":0},{"$f":"'Челябинская обл.'!$C$19","v":0},{"$f":"'Челябинская обл.'!$C$20","v":0},{"$f":"'Челябинская обл.'!$C$21","v":0},{"$f":"'Челябинская обл.'!$C$23","v":1493.77},{"$f":"'Челябинская обл.'!$C$24","v":0},{"$f":"'Челябинская обл.'!$C$25","v":0},{"$f":"'Челябинская обл.'!$C$26","v":0},{"$f":"'Челябинская обл.'!$C$27","v":0},{"$f":"'Челябинская обл.'!$C$28","v":0},{"$f":"'Челябинская обл.'!$C$29","v":377.24},{"$f":"'Челябинская обл.'!$C$34","v":13.23},{"$f":"'Челябинская обл.'!$C$37","v":352.76},{"$f":"'Челябинская обл.'!$C$38","v":825.59},{"$f":"'Челябинская обл.'!$C$39","v":0},{"$f":"'Челябинская обл.'!$C$40","v":0},{"$f":"'Челябинская обл.'!$C$41","v":0},{"$f":"'Челябинская обл.'!$C$44","v":1142.9000000000001},{"$f":"'Челябинская обл.'!$C$45","v":1066.98},{"$f":"'Челябинская обл.'!$C$46","v":0},{"$f":"'Челябинская обл.'!$C$47","v":0},{"$f":"'Челябинская обл.'!$C$48","v":0},{"$f":"'Челябинская обл.'!$C$50","v":1081.3599999999999},{"$f":"'Челябинская обл.'!$C$51","v":1328.18},{"$f":"'Челябинская обл.'!$C$52","v":0},{"$f":"'Челябинская обл.'!$C$53","v":0},{"$f":"'Челябинская обл.'!$C$54","v":0},{"$f":"'Челябинская обл.'!$C$55","v":0},{"$f":"'Челябинская обл.'!$C$56","v":243.71}]
["2","МКП \"Энергетик\"",null,{"$f":"'Челябинская обл.'!$C$7","v":"13,23"},{"$f":"'Челябинская обл.'!$C$10","v":1005.74},{"$f":"'Челябинская обл.'!$C$11","v":0},{"$f":"'Челябинская обл.'!$C$12","v":0},{"$f":"'Челябинская обл.'!$C$13","v":0},{"$f":"'Челябинская обл.'!$C$14","v":0},{"$f":"'Челябинская обл.'!$C$17","v":1987.75},{"$f":"'Челябинская обл.'!$C$18","v":0},{"$f":"'Челябинская обл.'!$C$19","v":0},{"$f":"'Челябинская обл.'!$C$20","v":0},{"$f":"'Челябинская обл.'!$C$21","v":0},{"$f":"'Челябинская обл.'!$C$23","v":1493.77},{"$f":"'Челябинская обл.'!$C$24","v":0},{"$f":"'Челябинская обл.'!$C$25","v":0},{"$f":"'Челябинская обл.'!$C$26","v":0},{"$f":"'Челябинская обл.'!$C$27","v":0},{"$f":"'Челябинская обл.'!$C$28","v":0},{"$f":"'Челябинская обл.'!$C$29","v":377.24},{"$f":"'Челябинская обл.'!$C$34","v":13.23},{"$f":"'Челябинская обл.'!$C$37","v":352.76},{"$f":"'Челябинская обл.'!$C$38","v":825.59},{"$f":"'Челябинская обл.'!$C$39","v":0},{"$f":"'Челябинская обл.'!$C$40","v":0},{"$f":"'Челябинская обл.'!$C$41","v":0},{"$f":"'Челябинская обл.'!$C$44","v":1142.9000000000001},{"$f":"'Челябинская обл.'!$C$45","v":1066.98},{"$f":"'Челябинская обл.'!$C$46","v":0},{"$f":"'Челябинская обл.'!$C$47","v":0},{"$f":"'Челябинская обл.'!$C$48","v":0},{"$f":"'Челябинская обл.'!$C$50","v":1081.3599999999999},{"$f":"'Челябинская обл.'!$C$51","v":1328.18},{"$f":"'Челябинская обл.'!$C$52","v":0},{"$f":"'Челябинская обл.'!$C$53","v":0},{"$f":"'Челябинская обл.'!$C$54","v":0},{"$f":"'Челябинская обл.'!$C$55","v":0},{"$f":"'Челябинская обл.'!$C$56","v":243.71}]
["3","ООО \"Дом\"",null,{"$f":"'Челябинская обл.'!$C$7","v":"13,23"},{"$f":"'Челябинская обл.'!$C$10","v":1005.74},{"$f":"'Челябинская обл.'!$C$11","v":0},{"$f":"'Челябинская обл.'!$C$12","v":0},{"$f":"'Челябинская обл.'!$C$13","v":0},{"$f":"'Челябинская обл.'!$C$14","v":0},{"$f":"'Челябинская обл.'!$C$17","v":1987.75},{"$f":"'Челябинская обл.'!$C$18","v":0},{"$f":"'Челябинская обл.'!$C$19","v":0},{"$f":"'Челябинская обл.'!$C$20","v":0},{"$f":"'Челябинская обл.'!$C$21","v":0},{"$f":"'Челябинская обл.'!$C$23","v":1493.77},{"$f":"'Челябинская обл.'!$C$24","v":0},{"$f":"'Челябинская обл.'!$C$25","v":0},{"$f":"'Челябинская обл.'!$C$26","v":0},{"$f":"'Челябинская обл.'!$C$27","v":0},{"$f":"'Челябинская обл.'!$C$28","v":0},{"$f":"'Челябинская обл.'!$C$29","v":377.24},{"$f":"'Челябинская обл.'!$C$34","v":13.23},{"$f":"'Челябинская обл.'!$C$37","v":352.76},{"$f":"'Челябинская обл.'!$C$38","v":825.59},{"$f":"'Челябинская обл.'!$C$39","v":0},{"$f":"'Челябинская обл.'!$C$40","v":0},{"$f":"'Челябинская обл.'!$C$41","v":0},{"$f":"'Челябинская обл.'!$C$44","v":1142.9000000000001},{"$f":"'Челябинская обл.'!$C$45","v":1066.98},{"$f":"'Челябинская обл.'!$C$46","v":0},{"$f":"'Челябинская обл.'!$C$47","v":0},{"$f":"'Челябинская обл.'!$C$48","v":0},{"$f":"'Челябинская обл.'!$C$50","v":1081.3599999999999},{"$f":"'Челябинская обл.'!$C$51","v":1328.18},{"$f":"'Челябинская обл.'!$C$52","v":0},{"$f":"'Челябинская обл.'!$C$53","v":0},{"$f":"'Челябинская обл.'!$C$54","v":0},{"$f":"'Челябинская обл.'!$C$55","v":0},{"$f":"'Челябинская обл.'!$C$56","v":243.71}]
["11"," Трехгорный городской округ "]
["1","АО \"ГУ ЖКХ\" (Трехгорный г.о.)",null,{"$f":"'Челябинская обл.'!$C$7","v":"13,23"},{"$f":"'Челябинская обл.'!$C$10","v":1005.74},{"$f":"'Челябинская обл.'!$C$11","v":0},{"$f":"'Челябинская обл.'!$C$12","v":0},{"$f":"'Челябинская обл.'!$C$13","v":0},{"$f":"'Челябинская обл.'!$C$14","v":0},{"$f":"'Челябинская обл.'!$C$17","v":1987.75},{"$f":"'Челябинская обл.'!$C$18","v":0},{"$f":"'Челябинская обл.'!$C$19","v":0},{"$f":"'Челябинская обл.'!$C$20","v":0},{"$f":"'Челябинская обл.'!$C$21","v":0},{"$f":"'Челябинская обл.'!$C$23","v":1493.77},{"$f":"'Челябинская обл.'!$C$24","v":0},{"$f":"'Челябинская обл.'!$C$25","v":0},{"$f":"'Челябинская обл.'!$C$26","v":0},{"$f":"'Челябинская обл.'!$C$27","v":0},{"$f":"'Челябинская обл.'!$C$28","v":0},{"$f":"'Челябинская обл.'!$C$29","v":377.24},{"$f":"'Челябинская обл.'!$C$34","v":13.23},{"$f":"'Челябинская обл.'!$C$37","v":352.76},{"$f":"'Челябинская обл.'!$C$38","v":825.59},{"$f":"'Челябинская обл.'!$C$39","v":0},{"$f":"'Челябинская обл.'!$C$40","v":0},{"$f":"'Челябинская обл.'!$C$41","v":0},{"$f":"'Челябинская обл.'!$C$44","v":1142.9000000000001},{"$f":"'Челябинская обл.'!$C$45","v":1066.98},{"$f":"'Челябинская обл.'!$C$46","v":0},{"$f":"'Челябинская обл.'!$C$47","v":0},{"$f":"'Челябинская обл.'!$C$48","v":0},{"$f":"'Челябинская обл.'!$C$50","v":1081.3599999999999},{"$f":"'Челябинская обл.'!$C$51","v":1328.18},{"$f":"'Челябинская обл.'!$C$52","v":0},{"$f":"'Челябинская обл.'!$C$53","v":0},{"$f":"'Челябинская обл.'!$C$54","v":0},{"$f":"'Челябинская обл.'!$C$55","v":0},{"$f":"'Челябинская обл.'!$C$56","v":243.71}]
["2","МУП \"Многоотраслевое производственное объединение энергосетей\"",null,{"$f":"'Челябинская обл.'!$C$7","v":"13,23"},{"$f":"'Челябинская обл.'!$C$10","v":1005.74},{"$f":"'Челябинская обл.'!$C$11","v":0},{"$f":"'Челябинская обл.'!$C$12","v":0},{"$f":"'Челябинская обл.'!$C$13","v":0},{"$f":"'Челябинская обл.'!$C$14","v":0},{"$f":"'Челябинская обл.'!$C$17","v":1987.75},{"$f":"'Челябинская обл.'!$C$18","v":0},{"$f":"'Челябинская обл.'!$C$19","v":0},{"$f":"'Челябинская обл.'!$C$20","v":0},{"$f":"'Челябинская обл.'!$C$21","v":0},{"$f":"'Челябинская обл.'!$C$23","v":1493.77},{"$f":"'Челябинская обл.'!$C$24","v":0},{"$f":"'Челябинская обл.'!$C$25","v":0},{"$f":"'Челябинская обл.'!$C$26","v":0},{"$f":"'Челябинская обл.'!$C$27","v":0},{"$f":"'Челябинская обл.'!$C$28","v":0},{"$f":"'Челябинская обл.'!$C$29","v":377.24},{"$f":"'Челябинская обл.'!$C$34","v":13.23},{"$f":"'Челябинская обл.'!$C$37","v":352.76},{"$f":"'Челябинская обл.'!$C$38","v":825.59},{"$f":"'Челябинская обл.'!$C$39","v":0},{"$f":"'Челябинская обл.'!$C$40","v":0},{"$f":"'Челябинская обл.'!$C$41","v":0},{"$f":"'Челябинская обл.'!$C$44","v":1142.9000000000001},{"$f":"'Челябинская обл.'!$C$45","v":1066.98},{"$f":"'Челябинская обл.'!$C$46","v":0},{"$f":"'Челябинская обл.'!$C$47","v":0},{"$f":"'Челябинская обл.'!$C$48","v":0},{"$f":"'Челябинская обл.'!$C$50","v":1081.3599999999999},{"$f":"'Челябинская обл.'!$C$51","v":1328.18},{"$f":"'Челябинская обл.'!$C$52","v":0},{"$f":"'Челябинская обл.'!$C$53","v":0},{"$f":"'Челябинская обл.'!$C$54","v":0},{"$f":"'Челябинская обл.'!$C$55","v":0},{"$f":"'Челябинская обл.'!$C$56","v":243.71}]
["3","ФГУП  \"Приборостроительный завод\"",null,{"$f":"'Челябинская обл.'!$C$7","v":"13,23"},{"$f":"'Челябинская обл.'!$C$10","v":1005.74},{"$f":"'Челябинская обл.'!$C$11","v":0},{"$f":"'Челябинская обл.'!$C$12","v":0},{"$f":"'Челябинская обл.'!$C$13","v":0},{"$f":"'Челябинская обл.'!$C$14","v":0},{"$f":"'Челябинская обл.'!$C$17","v":1987.75},{"$f":"'Челябинская обл.'!$C$18","v":0},{"$f":"'Челябинская обл.'!$C$19","v":0},{"$f":"'Челябинская обл.'!$C$20","v":0},{"$f":"'Челябинская обл.'!$C$21","v":0},{"$f":"'Челябинская обл.'!$C$23","v":1493.77},{"$f":"'Челябинская обл.'!$C$24","v":0},{"$f":"'Челябинская обл.'!$C$25","v":0},{"$f":"'Челябинская обл.'!$C$26","v":0},{"$f":"'Челябинская обл.'!$C$27","v":0},{"$f":"'Челябинская обл.'!$C$28","v":0},{"$f":"'Челябинская обл.'!$C$29","v":377.24},{"$f":"'Челябинская обл.'!$C$34","v":13.23},{"$f":"'Челябинская обл.'!$C$37","v":352.76},{"$f":"'Челябинская обл.'!$C$38","v":825.59},{"$f":"'Челябинская обл.'!$C$39","v":0},{"$f":"'Челябинская обл.'!$C$40","v":0},{"$f":"'Челябинская обл.'!$C$41","v":0},{"$f":"'Челябинская обл.'!$C$44","v":1142.9000000000001},{"$f":"'Челябинская обл.'!$C$45","v":1066.98},{"$f":"'Челябинская обл.'!$C$46","v":0},{"$f":"'Челябинская обл.'!$C$47","v":0},{"$f":"'Челябинская обл.'!$C$48","v":0},{"$f":"'Челябинская обл.'!$C$50","v":1081.3599999999999},{"$f":"'Челябинская обл.'!$C$51","v":1328.18},{"$f":"'Челябинская обл.'!$C$52","v":0},{"$f":"'Челябинская обл.'!$C$53","v":0},{"$f":"'Челябинская обл.'!$C$54","v":0},{"$f":"'Челябинская обл.'!$C$55","v":0},{"$f":"'Челябинская обл.'!$C$56","v":243.71}]
["12","Троицкий городской округ"]
["1","АО \"ГУ ЖКХ\" (Троицкий г.о.)",null,{"$f":"'Челябинская обл.'!$C$7","v":"13,23"},{"$f":"'Челябинская обл.'!$C$10","v":1005.74},{"$f":"'Челябинская обл.'!$C$11","v":0},{"$f":"'Челябинская обл.'!$C$12","v":0},{"$f":"'Челябинская обл.'!$C$13","v":0},{"$f":"'Челябинская обл.'!$C$14","v":0},{"$f":"'Челябинская обл.'!$C$17","v":1987.75},{"$f":"'Челябинская обл.'!$C$18","v":0},{"$f":"'Челябинская обл.'!$C$19","v":0},{"$f":"'Челябинская обл.'!$C$20","v":0},{"$f":"'Челябинская обл.'!$C$21","v":0},{"$f":"'Челябинская обл.'!$C$23","v":1493.77},{"$f":"'Челябинская обл.'!$C$24","v":0},{"$f":"'Челябинская обл.'!$C$25","v":0},{"$f":"'Челябинская обл.'!$C$26","v":0},{"$f":"'Челябинская обл.'!$C$27","v":0},{"$f":"'Челябинская обл.'!$C$28","v":0},{"$f":"'Челябинская обл.'!$C$29","v":377.24},{"$f":"'Челябинская обл.'!$C$34","v":13.23},{"$f":"'Челябинская обл.'!$C$37","v":352.76},{"$f":"'Челябинская обл.'!$C$38","v":825.59},{"$f":"'Челябинская обл.'!$C$39","v":0},{"$f":"'Челябинская обл.'!$C$40","v":0},{"$f":"'Челябинская обл.'!$C$41","v":0},{"$f":"'Челябинская обл.'!$C$44","v":1142.9000000000001},{"$f":"'Челябинская обл.'!$C$45","v":1066.98},{"$f":"'Челябинская обл.'!$C$46","v":0},{"$f":"'Челябинская обл.'!$C$47","v":0},{"$f":"'Челябинская обл.'!$C$48","v":0},{"$f":"'Челябинская обл.'!$C$50","v":1081.3599999999999},{"$f":"'Челябинская обл.'!$C$51","v":1328.18},{"$f":"'Челябинская обл.'!$C$52","v":0},{"$f":"'Челябинская обл.'!$C$53","v":0},{"$f":"'Челябинская обл.'!$C$54","v":0},{"$f":"'Челябинская обл.'!$C$55","v":0},{"$f":"'Челябинская обл.'!$C$56","v":243.71}]
["2","АО \"Челябоблкоммунэнерго\" (Челябинская область)",null,{"$f":"'Челябинская обл.'!$C$7","v":"13,23"},{"$f":"'Челябинская обл.'!$C$10","v":1005.74},{"$f":"'Челябинская обл.'!$C$11","v":0},{"$f":"'Челябинская обл.'!$C$12","v":0},{"$f":"'Челябинская обл.'!$C$13","v":0},{"$f":"'Челябинская обл.'!$C$14","v":0},{"$f":"'Челябинская обл.'!$C$17","v":1987.75},{"$f":"'Челябинская обл.'!$C$18","v":0},{"$f":"'Челябинская обл.'!$C$19","v":0},{"$f":"'Челябинская обл.'!$C$20","v":0},{"$f":"'Челябинская обл.'!$C$21","v":0},{"$f":"'Челябинская обл.'!$C$23","v":1493.77},{"$f":"'Челябинская обл.'!$C$24","v":0},{"$f":"'Челябинская обл.'!$C$25","v":0},{"$f":"'Челябинская обл.'!$C$26","v":0},{"$f":"'Челябинская обл.'!$C$27","v":0},{"$f":"'Челябинская обл.'!$C$28","v":0},{"$f":"'Челябинская обл.'!$C$29","v":377.24},{"$f":"'Челябинская обл.'!$C$34","v":13.23},{"$f":"'Челябинская обл.'!$C$37","v":352.76},{"$f":"'Челябинская обл.'!$C$38","v":825.59},{"$f":"'Челябинская обл.'!$C$39","v":0},{"$f":"'Челябинская обл.'!$C$40","v":0},{"$f":"'Челябинская обл.'!$C$41","v":0},{"$f":"'Челябинская обл.'!$C$44","v":1142.9000000000001},{"$f":"'Челябинская обл.'!$C$45","v":1066.98},{"$f":"'Челябинская обл.'!$C$46","v":0},{"$f":"'Челябинская обл.'!$C$47","v":0},{"$f":"'Челябинская обл.'!$C$48","v":0},{"$f":"'Челябинская обл.'!$C$50","v":1081.3599999999999},{"$f":"'Челябинская обл.'!$C$51","v":1328.18},{"$f":"'Челябинская обл.'!$C$52","v":0},{"$f":"'Челябинская обл.'!$C$53","v":0},{"$f":"'Челябинская обл.'!$C$54","v":0},{"$f":"'Челябинская обл.'!$C$55","v":0},{"$f":"'Челябинская обл.'!$C$56","v":243.71}]
["3","ГУЗ \"Областная туберкулезная больница № 13\"",null,{"$f":"'Челябинская обл.'!$C$7","v":"13,23"},{"$f":"'Челябинская обл.'!$C$10","v":1005.74},{"$f":"'Челябинская обл.'!$C$11","v":0},{"$f":"'Челябинская обл.'!$C$12","v":0},{"$f":"'Челябинская обл.'!$C$13","v":0},{"$f":"'Челябинская обл.'!$C$14","v":0},{"$f":"'Челябинская обл.'!$C$17","v":1987.75},{"$f":"'Челябинская обл.'!$C$18","v":0},{"$f":"'Челябинская обл.'!$C$19","v":0},{"$f":"'Челябинская обл.'!$C$20","v":0},{"$f":"'Челябинская обл.'!$C$21","v":0},{"$f":"'Челябинская обл.'!$C$23","v":1493.77},{"$f":"'Челябинская обл.'!$C$24","v":0},{"$f":"'Челябинская обл.'!$C$25","v":0},{"$f":"'Челябинская обл.'!$C$26","v":0},{"$f":"'Челябинская обл.'!$C$27","v":0},{"$f":"'Челябинская обл.'!$C$28","v":0},{"$f":"'Челябинская обл.'!$C$29","v":377.24},{"$f":"'Челябинская обл.'!$C$34","v":13.23},{"$f":"'Челябинская обл.'!$C$37","v":352.76},{"$f":"'Челябинская обл.'!$C$38","v":825.59},{"$f":"'Челябинская обл.'!$C$39","v":0},{"$f":"'Челябинская обл.'!$C$40","v":0},{"$f":"'Челябинская обл.'!$C$41","v":0},{"$f":"'Челябинская обл.'!$C$44","v":1142.9000000000001},{"$f":"'Челябинская обл.'!$C$45","v":1066.98},{"$f":"'Челябинская обл.'!$C$46","v":0},{"$f":"'Челябинская обл.'!$C$47","v":0},{"$f":"'Челябинская обл.'!$C$48","v":0},{"$f":"'Челябинская обл.'!$C$50","v":1081.3599999999999},{"$f":"'Челябинская обл.'!$C$51","v":1328.18},{"$f":"'Челябинская обл.'!$C$52","v":0},{"$f":"'Челябинская обл.'!$C$53","v":0},{"$f":"'Челябинская обл.'!$C$54","v":0},{"$f":"'Челябинская обл.'!$C$55","v":0},{"$f":"'Челябинская обл.'!$C$56","v":243.71}]
["4","ЗАО \"Троицкая энергетическая компания\"(Троицкий г.о.)",null,{"$f":"'Челябинская обл.'!$C$7","v":"13,23"},{"$f":"'Челябинская обл.'!$C$10","v":1005.74},{"$f":"'Челябинская обл.'!$C$11","v":0},{"$f":"'Челябинская обл.'!$C$12","v":0},{"$f":"'Челябинская обл.'!$C$13","v":0},{"$f":"'Челябинская обл.'!$C$14","v":0},{"$f":"'Челябинская обл.'!$C$17","v":1987.75},{"$f":"'Челябинская обл.'!$C$18","v":0},{"$f":"'Челябинская обл.'!$C$19","v":0},{"$f":"'Челябинская обл.'!$C$20","v":0},{"$f":"'Челябинская обл.'!$C$21","v":0},{"$f":"'Челябинская обл.'!$C$23","v":1493.77},{"$f":"'Челябинская обл.'!$C$24","v":0},{"$f":"'Челябинская обл.'!$C$25","v":0},{"$f":"'Челябинская обл.'!$C$26","v":0},{"$f":"'Челябинская обл.'!$C$27","v":0},{"$f":"'Челябинская обл.'!$C$28","v":0},{"$f":"'Челябинская обл.'!$C$29","v":377.24},{"$f":"'Челябинская обл.'!$C$34","v":13.23},{"$f":"'Челябинская обл.'!$C$37","v":352.76},{"$f":"'Челябинская обл.'!$C$38","v":825.59},{"$f":"'Челябинская обл.'!$C$39","v":0},{"$f":"'Челябинская обл.'!$C$40","v":0},{"$f":"'Челябинская обл.'!$C$41","v":0},{"$f":"'Челябинская обл.'!$C$44","v":1142.9000000000001},{"$f":"'Челябинская обл.'!$C$45","v":1066.98},{"$f":"'Челябинская обл.'!$C$46","v":0},{"$f":"'Челябинская обл.'!$C$47","v":0},{"$f":"'Челябинская обл.'!$C$48","v":0},{"$f":"'Челябинская обл.'!$C$50","v":1081.3599999999999},{"$f":"'Челябинская обл.'!$C$51","v":1328.18},{"$f":"'Челябинская обл.'!$C$52","v":0},{"$f":"'Челябинская обл.'!$C$53","v":0},{"$f":"'Челябинская обл.'!$C$54","v":0},{"$f":"'Челябинская обл.'!$C$55","v":0},{"$f":"'Челябинская обл.'!$C$56","v":243.71}]
["5","МУП \"Электротепловые сети\"",null,{"$f":"'Челябинская обл.'!$C$7","v":"13,23"},{"$f":"'Челябинская обл.'!$C$10","v":1005.74},{"$f":"'Челябинская обл.'!$C$11","v":0},{"$f":"'Челябинская обл.'!$C$12","v":0},{"$f":"'Челябинская обл.'!$C$13","v":0},{"$f":"'Челябинская обл.'!$C$14","v":0},{"$f":"'Челябинская обл.'!$C$17","v":1987.75},{"$f":"'Челябинская обл.'!$C$18","v":0},{"$f":"'Челябинская обл.'!$C$19","v":0},{"$f":"'Челябинская обл.'!$C$20","v":0},{"$f":"'Челябинская обл.'!$C$21","v":0},{"$f":"'Челябинская обл.'!$C$23","v":1493.77},{"$f":"'Челябинская обл.'!$C$24","v":0},{"$f":"'Челябинская обл.'!$C$25","v":0},{"$f":"'Челябинская обл.'!$C$26","v":0},{"$f":"'Челябинская обл.'!$C$27","v":0},{"$f":"'Челябинская обл.'!$C$28","v":0},{"$f":"'Челябинская обл.'!$C$29","v":377.24},{"$f":"'Челябинская обл.'!$C$34","v":13.23},{"$f":"'Челябинская обл.'!$C$37","v":352.76},{"$f":"'Челябинская обл.'!$C$38","v":825.59},{"$f":"'Челябинская обл.'!$C$39","v":0},{"$f":"'Челябинская обл.'!$C$40","v":0},{"$f":"'Челябинская обл.'!$C$41","v":0},{"$f":"'Челябинская обл.'!$C$44","v":1142.9000000000001},{"$f":"'Челябинская обл.'!$C$45","v":1066.98},{"$f":"'Челябинская обл.'!$C$46","v":0},{"$f":"'Челябинская обл.'!$C$47","v":0},{"$f":"'Челябинская обл.'!$C$48","v":0},{"$f":"'Челябинская обл.'!$C$50","v":1081.3599999999999},{"$f":"'Челябинская обл.'!$C$51","v":1328.18},{"$f":"'Челябинская обл.'!$C$52","v":0},{"$f":"'Челябинская обл.'!$C$53","v":0},{"$f":"'Челябинская обл.'!$C$54","v":0},{"$f":"'Челябинская обл.'!$C$55","v":0},{"$f":"'Челябинская обл.'!$C$56","v":243.71}]
["6","ОАО \"Троицкий комбинат хлебопродуктов\"",null,{"$f":"'Челябинская обл.'!$C$7","v":"13,23"},{"$f":"'Челябинская обл.'!$C$10","v":1005.74},{"$f":"'Челябинская обл.'!$C$11","v":0},{"$f":"'Челябинская обл.'!$C$12","v":0},{"$f":"'Челябинская обл.'!$C$13","v":0},{"$f":"'Челябинская обл.'!$C$14","v":0},{"$f":"'Челябинская обл.'!$C$17","v":1987.75},{"$f":"'Челябинская обл.'!$C$18","v":0},{"$f":"'Челябинская обл.'!$C$19","v":0},{"$f":"'Челябинская обл.'!$C$20","v":0},{"$f":"'Челябинская обл.'!$C$21","v":0},{"$f":"'Челябинская обл.'!$C$23","v":1493.77},{"$f":"'Челябинская обл.'!$C$24","v":0},{"$f":"'Челябинская обл.'!$C$25","v":0},{"$f":"'Челябинская обл.'!$C$26","v":0},{"$f":"'Челябинская обл.'!$C$27","v":0},{"$f":"'Челябинская обл.'!$C$28","v":0},{"$f":"'Челябинская обл.'!$C$29","v":377.24},{"$f":"'Челябинская обл.'!$C$34","v":13.23},{"$f":"'Челябинская обл.'!$C$37","v":352.76},{"$f":"'Челябинская обл.'!$C$38","v":825.59},{"$f":"'Челябинская обл.'!$C$39","v":0},{"$f":"'Челябинская обл.'!$C$40","v":0},{"$f":"'Челябинская обл.'!$C$41","v":0},{"$f":"'Челябинская обл.'!$C$44","v":1142.9000000000001},{"$f":"'Челябинская обл.'!$C$45","v":1066.98},{"$f":"'Челябинская обл.'!$C$46","v":0},{"$f":"'Челябинская обл.'!$C$47","v":0},{"$f":"'Челябинская обл.'!$C$48","v":0},{"$f":"'Челябинская обл.'!$C$50","v":1081.3599999999999},{"$f":"'Челябинская обл.'!$C$51","v":1328.18},{"$f":"'Челябинская обл.'!$C$52","v":0},{"$f":"'Челябинская обл.'!$C$53","v":0},{"$f":"'Челябинская обл.'!$C$54","v":0},{"$f":"'Челябинская обл.'!$C$55","v":0},{"$f":"'Челябинская обл.'!$C$56","v":243.71}]
["7","ООО \"Районные Тепловые Сети\" (Троицкий г.о.)",null,{"$f":"'Челябинская обл.'!$C$7","v":"13,23"},{"$f":"'Челябинская обл.'!$C$10","v":1005.74},{"$f":"'Челябинская обл.'!$C$11","v":0},{"$f":"'Челябинская обл.'!$C$12","v":0},{"$f":"'Челябинская обл.'!$C$13","v":0},{"$f":"'Челябинская обл.'!$C$14","v":0},{"$f":"'Челябинская обл.'!$C$17","v":1987.75},{"$f":"'Челябинская обл.'!$C$18","v":0},{"$f":"'Челябинская обл.'!$C$19","v":0},{"$f":"'Челябинская обл.'!$C$20","v":0},{"$f":"'Челябинская обл.'!$C$21","v":0},{"$f":"'Челябинская обл.'!$C$23","v":1493.77},{"$f":"'Челябинская обл.'!$C$24","v":0},{"$f":"'Челябинская обл.'!$C$25","v":0},{"$f":"'Челябинская обл.'!$C$26","v":0},{"$f":"'Челябинская обл.'!$C$27","v":0},{"$f":"'Челябинская обл.'!$C$28","v":0},{"$f":"'Челябинская обл.'!$C$29","v":377.24},{"$f":"'Челябинская обл.'!$C$34","v":13.23},{"$f":"'Челябинская обл.'!$C$37","v":352.76},{"$f":"'Челябинская обл.'!$C$38","v":825.59},{"$f":"'Челябинская обл.'!$C$39","v":0},{"$f":"'Челябинская обл.'!$C$40","v":0},{"$f":"'Челябинская обл.'!$C$41","v":0},{"$f":"'Челябинская обл.'!$C$44","v":1142.9000000000001},{"$f":"'Челябинская обл.'!$C$45","v":1066.98},{"$f":"'Челябинская обл.'!$C$46","v":0},{"$f":"'Челябинская обл.'!$C$47","v":0},{"$f":"'Челябинская обл.'!$C$48","v":0},{"$f":"'Челябинская обл.'!$C$50","v":1081.3599999999999},{"$f":"'Челябинская обл.'!$C$51","v":1328.18},{"$f":"'Челябинская обл.'!$C$52","v":0},{"$f":"'Челябинская обл.'!$C$53","v":0},{"$f":"'Челябинская обл.'!$C$54","v":0},{"$f":"'Челябинская обл.'!$C$55","v":0},{"$f":"'Челябинская обл.'!$C$56","v":243.71}]
["8","ООО \"Эффективная теплоэнергетика\" (Троицкий г.о.)",null,{"$f":"'Челябинская обл.'!$C$7","v":"13,23"},{"$f":"'Челябинская обл.'!$C$10","v":1005.74},{"$f":"'Челябинская обл.'!$C$11","v":0},{"$f":"'Челябинская обл.'!$C$12","v":0},{"$f":"'Челябинская обл.'!$C$13","v":0},{"$f":"'Челябинская обл.'!$C$14","v":0},{"$f":"'Челябинская обл.'!$C$17","v":1987.75},{"$f":"'Челябинская обл.'!$C$18","v":0},{"$f":"'Челябинская обл.'!$C$19","v":0},{"$f":"'Челябинская обл.'!$C$20","v":0},{"$f":"'Челябинская обл.'!$C$21","v":0},{"$f":"'Челябинская обл.'!$C$23","v":1493.77},{"$f":"'Челябинская обл.'!$C$24","v":0},{"$f":"'Челябинская обл.'!$C$25","v":0},{"$f":"'Челябинская обл.'!$C$26","v":0},{"$f":"'Челябинская обл.'!$C$27","v":0},{"$f":"'Челябинская обл.'!$C$28","v":0},{"$f":"'Челябинская обл.'!$C$29","v":377.24},{"$f":"'Челябинская обл.'!$C$34","v":13.23},{"$f":"'Челябинская обл.'!$C$37","v":352.76},{"$f":"'Челябинская обл.'!$C$38","v":825.59},{"$f":"'Челябинская обл.'!$C$39","v":0},{"$f":"'Челябинская обл.'!$C$40","v":0},{"$f":"'Челябинская обл.'!$C$41","v":0},{"$f":"'Челябинская обл.'!$C$44","v":1142.9000000000001},{"$f":"'Челябинская обл.'!$C$45","v":1066.98},{"$f":"'Челябинская обл.'!$C$46","v":0},{"$f":"'Челябинская обл.'!$C$47","v":0},{"$f":"'Челябинская обл.'!$C$48","v":0},{"$f":"'Челябинская обл.'!$C$50","v":1081.3599999999999},{"$f":"'Челябинская обл.'!$C$51","v":1328.18},{"$f":"'Челябинская обл.'!$C$52","v":0},{"$f":"'Челябинская обл.'!$C$53","v":0},{"$f":"'Челябинская обл.'!$C$54","v":0},{"$f":"'Челябинская обл.'!$C$55","v":0},{"$f":"'Челябинская обл.'!$C$56","v":243.71}]
["9","ООО «Перспектива» (Троицкий г.о.)",null,{"$f":"'Челябинская обл.'!$C$7","v":"13,23"},{"$f":"'Челябинская обл.'!$C$10","v":1005.74},{"$f":"'Челябинская обл.'!$C$11","v":0},{"$f":"'Челябинская обл.'!$C$12","v":0},{"$f":"'Челябинская обл.'!$C$13","v":0},{"$f":"'Челябинская обл.'!$C$14","v":0},{"$f":"'Челябинская обл.'!$C$17","v":1987.75},{"$f":"'Челябинская обл.'!$C$18","v":0},{"$f":"'Челябинская обл.'!$C$19","v":0},{"$f":"'Челябинская обл.'!$C$20","v":0},{"$f":"'Челябинская обл.'!$C$21","v":0},{"$f":"'Челябинская обл.'!$C$23","v":1493.77},{"$f":"'Челябинская обл.'!$C$24","v":0},{"$f":"'Челябинская обл.'!$C$25","v":0},{"$f":"'Челябинская обл.'!$C$26","v":0},{"$f":"'Челябинская обл.'!$C$27","v":0},{"$f":"'Челябинская обл.'!$C$28","v":0},{"$f":"'Челябинская обл.'!$C$29","v":377.24},{"$f":"'Челябинская обл.'!$C$34","v":13.23},{"$f":"'Челябинская обл.'!$C$37","v":352.76},{"$f":"'Челябинская обл.'!$C$38","v":825.59},{"$f":"'Челябинская обл.'!$C$39","v":0},{"$f":"'Челябинская обл.'!$C$40","v":0},{"$f":"'Челябинская обл.'!$C$41","v":0},{"$f":"'Челябинская обл.'!$C$44","v":1142.9000000000001},{"$f":"'Челябинская обл.'!$C$45","v":1066.98},{"$f":"'Челябинская обл.'!$C$46","v":0},{"$f":"'Челябинская обл.'!$C$47","v":0},{"$f":"'Челябинская обл.'!$C$48","v":0},{"$f":"'Челябинская обл.'!$C$50","v":1081.3599999999999},{"$f":"'Челябинская обл.'!$C$51","v":1328.18},{"$f":"'Челябинская обл.'!$C$52","v":0},{"$f":"'Челябинская обл.'!$C$53","v":0},{"$f":"'Челябинская обл.'!$C$54","v":0},{"$f":"'Челябинская обл.'!$C$55","v":0},{"$f":"'Челябинская обл.'!$C$56","v":243.71}]
["10","Троицкая ГРЭС филиал ПАО \"ОГК-2\"",null,{"$f":"'Челябинская обл.'!$C$7","v":"13,23"},{"$f":"'Челябинская обл.'!$C$10","v":1005.74},{"$f":"'Челябинская обл.'!$C$11","v":0},{"$f":"'Челябинская обл.'!$C$12","v":0},{"$f":"'Челябинская обл.'!$C$13","v":0},{"$f":"'Челябинская обл.'!$C$14","v":0},{"$f":"'Челябинская обл.'!$C$17","v":1987.75},{"$f":"'Челябинская обл.'!$C$18","v":0},{"$f":"'Челябинская обл.'!$C$19","v":0},{"$f":"'Челябинская обл.'!$C$20","v":0},{"$f":"'Челябинская обл.'!$C$21","v":0},{"$f":"'Челябинская обл.'!$C$23","v":1493.77},{"$f":"'Челябинская обл.'!$C$24","v":0},{"$f":"'Челябинская обл.'!$C$25","v":0},{"$f":"'Челябинская обл.'!$C$26","v":0},{"$f":"'Челябинская обл.'!$C$27","v":0},{"$f":"'Челябинская обл.'!$C$28","v":0},{"$f":"'Челябинская обл.'!$C$29","v":377.24},{"$f":"'Челябинская обл.'!$C$34","v":13.23},{"$f":"'Челябинская обл.'!$C$37","v":352.76},{"$f":"'Челябинская обл.'!$C$38","v":825.59},{"$f":"'Челябинская обл.'!$C$39","v":0},{"$f":"'Челябинская обл.'!$C$40","v":0},{"$f":"'Челябинская обл.'!$C$41","v":0},{"$f":"'Челябинская обл.'!$C$44","v":1142.9000000000001},{"$f":"'Челябинская обл.'!$C$45","v":1066.98},{"$f":"'Челябинская обл.'!$C$46","v":0},{"$f":"'Челябинская обл.'!$C$47","v":0},{"$f":"'Челябинская обл.'!$C$48","v":0},{"$f":"'Челябинская обл.'!$C$50","v":1081.3599999999999},{"$f":"'Челябинская обл.'!$C$51","v":1328.18},{"$f":"'Челябинская обл.'!$C$52","v":0},{"$f":"'Челябинская обл.'!$C$53","v":0},{"$f":"'Челябинская обл.'!$C$54","v":0},{"$f":"'Челябинская обл.'!$C$55","v":0},{"$f":"'Челябинская обл.'!$C$56","v":243.71}]
["11","ФГБУ \"ЦЖКУ\" МИНОБОРОНЫ РОССИИ (по ЦВО) (Троицкий г.о.)",null,{"$f":"'Челябинская обл.'!$C$7","v":"13,23"},{"$f":"'Челябинская обл.'!$C$10","v":1005.74},{"$f":"'Челябинская обл.'!$C$11","v":0},{"$f":"'Челябинская обл.'!$C$12","v":0},{"$f":"'Челябинская обл.'!$C$13","v":0},{"$f":"'Челябинская обл.'!$C$14","v":0},{"$f":"'Челябинская обл.'!$C$17","v":1987.75},{"$f":"'Челябинская обл.'!$C$18","v":0},{"$f":"'Челябинская обл.'!$C$19","v":0},{"$f":"'Челябинская обл.'!$C$20","v":0},{"$f":"'Челябинская обл.'!$C$21","v":0},{"$f":"'Челябинская обл.'!$C$23","v":1493.77},{"$f":"'Челябинская обл.'!$C$24","v":0},{"$f":"'Челябинская обл.'!$C$25","v":0},{"$f":"'Челябинская обл.'!$C$26","v":0},{"$f":"'Челябинская обл.'!$C$27","v":0},{"$f":"'Челябинская обл.'!$C$28","v":0},{"$f":"'Челябинская обл.'!$C$29","v":377.24},{"$f":"'Челябинская обл.'!$C$34","v":13.23},{"$f":"'Челябинская обл.'!$C$37","v":352.76},{"$f":"'Челябинская обл.'!$C$38","v":825.59},{"$f":"'Челябинская обл.'!$C$39","v":0},{"$f":"'Челябинская обл.'!$C$40","v":0},{"$f":"'Челябинская обл.'!$C$41","v":0},{"$f":"'Челябинская обл.'!$C$44","v":1142.9000000000001},{"$f":"'Челябинская обл.'!$C$45","v":1066.98},{"$f":"'Челябинская обл.'!$C$46","v":0},{"$f":"'Челябинская обл.'!$C$47","v":0},{"$f":"'Челябинская обл.'!$C$48","v":0},{"$f":"'Челябинская обл.'!$C$50","v":1081.3599999999999},{"$f":"'Челябинская обл.'!$C$51","v":1328.18},{"$f":"'Челябинская обл.'!$C$52","v":0},{"$f":"'Челябинская обл.'!$C$53","v":0},{"$f":"'Челябинская обл.'!$C$54","v":0},{"$f":"'Челябинская обл.'!$C$55","v":0},{"$f":"'Челябинская обл.'!$C$56","v":243.71}]
["12","Федеральное государственное казенное учреждение  \"Пограничное управление ФСБ России по Челябинской области\" (Троицкий г.о.)",null,{"$f":"'Челябинская обл.'!$C$7","v":"13,23"},{"$f":"'Челябинская обл.'!$C$10","v":1005.74},{"$f":"'Челябинская обл.'!$C$11","v":0},{"$f":"'Челябинская обл.'!$C$12","v":0},{"$f":"'Челябинская обл.'!$C$13","v":0},{"$f":"'Челябинская обл.'!$C$14","v":0},{"$f":"'Челябинская обл.'!$C$17","v":1987.75},{"$f":"'Челябинская обл.'!$C$18","v":0},{"$f":"'Челябинская обл.'!$C$19","v":0},{"$f":"'Челябинская обл.'!$C$20","v":0},{"$f":"'Челябинская обл.'!$C$21","v":0},{"$f":"'Челябинская обл.'!$C$23","v":1493.77},{"$f":"'Челябинская обл.'!$C$24","v":0},{"$f":"'Челябинская обл.'!$C$25","v":0},{"$f":"'Челябинская обл.'!$C$26","v":0},{"$f":"'Челябинская обл.'!$C$27","v":0},{"$f":"'Челябинская обл.'!$C$28","v":0},{"$f":"'Челябинская обл.'!$C$29","v":377.24},{"$f":"'Челябинская обл.'!$C$34","v":13.23},{"$f":"'Челябинская обл.'!$C$37","v":352.76},{"$f":"'Челябинская обл.'!$C$38","v":825.59},{"$f":"'Челябинская обл.'!$C$39","v":0},{"$f":"'Челябинская обл.'!$C$40","v":0},{"$f":"'Челябинская обл.'!$C$41","v":0},{"$f":"'Челябинская обл.'!$C$44","v":1142.9000000000001},{"$f":"'Челябинская обл.'!$C$45","v":1066.98},{"$f":"'Челябинская обл.'!$C$46","v":0},{"$f":"'Челябинская обл.'!$C$47","v":0},{"$f":"'Челябинская обл.'!$C$48","v":0},{"$f":"'Челябинская обл.'!$C$50","v":1081.3599999999999},{"$f":"'Челябинская обл.'!$C$51","v":1328.18},{"$f":"'Челябинская обл.'!$C$52","v":0},{"$f":"'Челябинская обл.'!$C$53","v":0},{"$f":"'Челябинская обл.'!$C$54","v":0},{"$f":"'Челябинская обл.'!$C$55","v":0},{"$f":"'Челябинская обл.'!$C$56","v":243.71}]
[13,"Южно-Уральская дирекция по тепловодоснабжению - структурное подразделение Центральной дирекции по тепловодоснабжению - филиала ОАО \"РЖД\" (Троицкий г.о.)",null,{"$f":"'Челябинская обл.'!$C$7","v":"13,23"},{"$f":"'Челябинская обл.'!$C$10","v":1005.74},{"$f":"'Челябинская обл.'!$C$11","v":0},{"$f":"'Челябинская обл.'!$C$12","v":0},{"$f":"'Челябинская обл.'!$C$13","v":0},{"$f":"'Челябинская обл.'!$C$14","v":0},{"$f":"'Челябинская обл.'!$C$17","v":1987.75},{"$f":"'Челябинская обл.'!$C$18","v":0},{"$f":"'Челябинская обл.'!$C$19","v":0},{"$f":"'Челябинская обл.'!$C$20","v":0},{"$f":"'Челябинская обл.'!$C$21","v":0},{"$f":"'Челябинская обл.'!$C$23","v":1493.77},{"$f":"'Челябинская обл.'!$C$24","v":0},{"$f":"'Челябинская обл.'!$C$25","v":0},{"$f":"'Челябинская обл.'!$C$26","v":0},{"$f":"'Челябинская обл.'!$C$27","v":0},{"$f":"'Челябинская обл.'!$C$28","v":0},{"$f":"'Челябинская обл.'!$C$29","v":377.24},{"$f":"'Челябинская обл.'!$C$34","v":13.23},{"$f":"'Челябинская обл.'!$C$37","v":352.76},{"$f":"'Челябинская обл.'!$C$38","v":825.59},{"$f":"'Челябинская обл.'!$C$39","v":0},{"$f":"'Челябинская обл.'!$C$40","v":0},{"$f":"'Челябинская обл.'!$C$41","v":0},{"$f":"'Челябинская обл.'!$C$44","v":1142.9000000000001},{"$f":"'Челябинская обл.'!$C$45","v":1066.98},{"$f":"'Челябинская обл.'!$C$46","v":0},{"$f":"'Челябинская обл.'!$C$47","v":0},{"$f":"'Челябинская обл.'!$C$48","v":0},{"$f":"'Челябинская обл.'!$C$50","v":1081.3599999999999},{"$f":"'Челябинская обл.'!$C$51","v":1328.18},{"$f":"'Челябинская обл.'!$C$52","v":0},{"$f":"'Челябинская обл.'!$C$53","v":0},{"$f":"'Челябинская обл.'!$C$54","v":0},{"$f":"'Челябинская обл.'!$C$55","v":0},{"$f":"'Челябинская обл.'!$C$56","v":243.71}]
["13","Усть-Катавский городской округ"]
["1","ООО \"Коммунальные системы\"",null,{"$f":"'Челябинская обл.'!$C$7","v":"13,23"},{"$f":"'Челябинская обл.'!$C$10","v":1005.74},{"$f":"'Челябинская обл.'!$C$11","v":0},{"$f":"'Челябинская обл.'!$C$12","v":0},{"$f":"'Челябинская обл.'!$C$13","v":0},{"$f":"'Челябинская обл.'!$C$14","v":0},{"$f":"'Челябинская обл.'!$C$17","v":1987.75},{"$f":"'Челябинская обл.'!$C$18","v":0},{"$f":"'Челябинская обл.'!$C$19","v":0},{"$f":"'Челябинская обл.'!$C$20","v":0},{"$f":"'Челябинская обл.'!$C$21","v":0},{"$f":"'Челябинская обл.'!$C$23","v":1493.77},{"$f":"'Челябинская обл.'!$C$24","v":0},{"$f":"'Челябинская обл.'!$C$25","v":0},{"$f":"'Челябинская обл.'!$C$26","v":0},{"$f":"'Челябинская обл.'!$C$27","v":0},{"$f":"'Челябинская обл.'!$C$28","v":0},{"$f":"'Челябинская обл.'!$C$29","v":377.24},{"$f":"'Челябинская обл.'!$C$34","v":13.23},{"$f":"'Челябинская обл.'!$C$37","v":352.76},{"$f":"'Челябинская обл.'!$C$38","v":825.59},{"$f":"'Челябинская обл.'!$C$39","v":0},{"$f":"'Челябинская обл.'!$C$40","v":0},{"$f":"'Челябинская обл.'!$C$41","v":0},{"$f":"'Челябинская обл.'!$C$44","v":1142.9000000000001},{"$f":"'Челябинская обл.'!$C$45","v":1066.98},{"$f":"'Челябинская обл.'!$C$46","v":0},{"$f":"'Челябинская обл.'!$C$47","v":0},{"$f":"'Челябинская обл.'!$C$48","v":0},{"$f":"'Челябинская обл.'!$C$50","v":1081.3599999999999},{"$f":"'Челябинская обл.'!$C$51","v":1328.18},{"$f":"'Челябинская обл.'!$C$52","v":0},{"$f":"'Челябинская обл.'!$C$53","v":0},{"$f":"'Челябинская обл.'!$C$54","v":0},{"$f":"'Челябинская обл.'!$C$55","v":0},{"$f":"'Челябинская обл.'!$C$56","v":243.71}]
["2","ООО \"Теплоэнергетика\" (Усть-Катавский г.о.)",null,{"$f":"'Челябинская обл.'!$C$7","v":"13,23"},{"$f":"'Челябинская обл.'!$C$10","v":1005.74},{"$f":"'Челябинская обл.'!$C$11","v":0},{"$f":"'Челябинская обл.'!$C$12","v":0},{"$f":"'Челябинская обл.'!$C$13","v":0},{"$f":"'Челябинская обл.'!$C$14","v":0},{"$f":"'Челябинская обл.'!$C$17","v":1987.75},{"$f":"'Челябинская обл.'!$C$18","v":0},{"$f":"'Челябинская обл.'!$C$19","v":0},{"$f":"'Челябинская обл.'!$C$20","v":0},{"$f":"'Челябинская обл.'!$C$21","v":0},{"$f":"'Челябинская обл.'!$C$23","v":1493.77},{"$f":"'Челябинская обл.'!$C$24","v":0},{"$f":"'Челябинская обл.'!$C$25","v":0},{"$f":"'Челябинская обл.'!$C$26","v":0},{"$f":"'Челябинская обл.'!$C$27","v":0},{"$f":"'Челябинская обл.'!$C$28","v":0},{"$f":"'Челябинская обл.'!$C$29","v":377.24},{"$f":"'Челябинская обл.'!$C$34","v":13.23},{"$f":"'Челябинская обл.'!$C$37","v":352.76},{"$f":"'Челябинская обл.'!$C$38","v":825.59},{"$f":"'Челябинская обл.'!$C$39","v":0},{"$f":"'Челябинская обл.'!$C$40","v":0},{"$f":"'Челябинская обл.'!$C$41","v":0},{"$f":"'Челябинская обл.'!$C$44","v":1142.9000000000001},{"$f":"'Челябинская обл.'!$C$45","v":1066.98},{"$f":"'Челябинская обл.'!$C$46","v":0},{"$f":"'Челябинская обл.'!$C$47","v":0},{"$f":"'Челябинская обл.'!$C$48","v":0},{"$f":"'Челябинская обл.'!$C$50","v":1081.3599999999999},{"$f":"'Челябинская обл.'!$C$51","v":1328.18},{"$f":"'Челябинская обл.'!$C$52","v":0},{"$f":"'Челябинская обл.'!$C$53","v":0},{"$f":"'Челябинская обл.'!$C$54","v":0},{"$f":"'Челябинская обл.'!$C$55","v":0},{"$f":"'Челябинская обл.'!$C$56","v":243.71}]
["3","Управляющая компания \"Коммунальный центр\"",null,{"$f":"'Челябинская обл.'!$C$7","v":"13,23"},{"$f":"'Челябинская обл.'!$C$10","v":1005.74},{"$f":"'Челябинская обл.'!$C$11","v":0},{"$f":"'Челябинская обл.'!$C$12","v":0},{"$f":"'Челябинская обл.'!$C$13","v":0},{"$f":"'Челябинская обл.'!$C$14","v":0},{"$f":"'Челябинская обл.'!$C$17","v":1987.75},{"$f":"'Челябинская обл.'!$C$18","v":0},{"$f":"'Челябинская обл.'!$C$19","v":0},{"$f":"'Челябинская обл.'!$C$20","v":0},{"$f":"'Челябинская обл.'!$C$21","v":0},{"$f":"'Челябинская обл.'!$C$23","v":1493.77},{"$f":"'Челябинская обл.'!$C$24","v":0},{"$f":"'Челябинская обл.'!$C$25","v":0},{"$f":"'Челябинская обл.'!$C$26","v":0},{"$f":"'Челябинская обл.'!$C$27","v":0},{"$f":"'Челябинская обл.'!$C$28","v":0},{"$f":"'Челябинская обл.'!$C$29","v":377.24},{"$f":"'Челябинская обл.'!$C$34","v":13.23},{"$f":"'Челябинская обл.'!$C$37","v":352.76},{"$f":"'Челябинская обл.'!$C$38","v":825.59},{"$f":"'Челябинская обл.'!$C$39","v":0},{"$f":"'Челябинская обл.'!$C$40","v":0},{"$f":"'Челябинская обл.'!$C$41","v":0},{"$f":"'Челябинская обл.'!$C$44","v":1142.9000000000001},{"$f":"'Челябинская обл.'!$C$45","v":1066.98},{"$f":"'Челябинская обл.'!$C$46","v":0},{"$f":"'Челябинская обл.'!$C$47","v":0},{"$f":"'Челябинская обл.'!$C$48","v":0},{"$f":"'Челябинская обл.'!$C$50","v":1081.3599999999999},{"$f":"'Челябинская обл.'!$C$51","v":1328.18},{"$f":"'Челябинская обл.'!$C$52","v":0},{"$f":"'Челябинская обл.'!$C$53","v":0},{"$f":"'Челябинская обл.'!$C$54","v":0},{"$f":"'Челябинская обл.'!$C$55","v":0},{"$f":"'Челябинская обл.'!$C$56","v":243.71}]
["14","Чебаркульский городской округ"]
["1","АО \"ГУ ЖКХ\" (Чебаркульский г.о.)",null,{"$f":"'Челябинская обл.'!$C$7","v":"13,23"},{"$f":"'Челябинская обл.'!$C$10","v":1005.74},{"$f":"'Челябинская обл.'!$C$11","v":0},{"$f":"'Челябинская обл.'!$C$12","v":0},{"$f":"'Челябинская обл.'!$C$13","v":0},{"$f":"'Челябинская обл.'!$C$14","v":0},{"$f":"'Челябинская обл.'!$C$17","v":1987.75},{"$f":"'Челябинская обл.'!$C$18","v":0},{"$f":"'Челябинская обл.'!$C$19","v":0},{"$f":"'Челябинская обл.'!$C$20","v":0},{"$f":"'Челябинская обл.'!$C$21","v":0},{"$f":"'Челябинская обл.'!$C$23","v":1493.77},{"$f":"'Челябинская обл.'!$C$24","v":0},{"$f":"'Челябинская обл.'!$C$25","v":0},{"$f":"'Челябинская обл.'!$C$26","v":0},{"$f":"'Челябинская обл.'!$C$27","v":0},{"$f":"'Челябинская обл.'!$C$28","v":0},{"$f":"'Челябинская обл.'!$C$29","v":377.24},{"$f":"'Челябинская обл.'!$C$34","v":13.23},{"$f":"'Челябинская обл.'!$C$37","v":352.76},{"$f":"'Челябинская обл.'!$C$38","v":825.59},{"$f":"'Челябинская обл.'!$C$39","v":0},{"$f":"'Челябинская обл.'!$C$40","v":0},{"$f":"'Челябинская обл.'!$C$41","v":0},{"$f":"'Челябинская обл.'!$C$44","v":1142.9000000000001},{"$f":"'Челябинская обл.'!$C$45","v":1066.98},{"$f":"'Челябинская обл.'!$C$46","v":0},{"$f":"'Челябинская обл.'!$C$47","v":0},{"$f":"'Челябинская обл.'!$C$48","v":0},{"$f":"'Челябинская обл.'!$C$50","v":1081.3599999999999},{"$f":"'Челябинская обл.'!$C$51","v":1328.18},{"$f":"'Челябинская обл.'!$C$52","v":0},{"$f":"'Челябинская обл.'!$C$53","v":0},{"$f":"'Челябинская обл.'!$C$54","v":0},{"$f":"'Челябинская обл.'!$C$55","v":0},{"$f":"'Челябинская обл.'!$C$56","v":243.71}]
["2","ГУП Санаторий \"Сосновая горка\"",null,{"$f":"'Челябинская обл.'!$C$7","v":"13,23"},{"$f":"'Челябинская обл.'!$C$10","v":1005.74},{"$f":"'Челябинская обл.'!$C$11","v":0},{"$f":"'Челябинская обл.'!$C$12","v":0},{"$f":"'Челябинская обл.'!$C$13","v":0},{"$f":"'Челябинская обл.'!$C$14","v":0},{"$f":"'Челябинская обл.'!$C$17","v":1987.75},{"$f":"'Челябинская обл.'!$C$18","v":0},{"$f":"'Челябинская обл.'!$C$19","v":0},{"$f":"'Челябинская обл.'!$C$20","v":0},{"$f":"'Челябинская обл.'!$C$21","v":0},{"$f":"'Челябинская обл.'!$C$23","v":1493.77},{"$f":"'Челябинская обл.'!$C$24","v":0},{"$f":"'Челябинская обл.'!$C$25","v":0},{"$f":"'Челябинская обл.'!$C$26","v":0},{"$f":"'Челябинская обл.'!$C$27","v":0},{"$f":"'Челябинская обл.'!$C$28","v":0},{"$f":"'Челябинская обл.'!$C$29","v":377.24},{"$f":"'Челябинская обл.'!$C$34","v":13.23},{"$f":"'Челябинская обл.'!$C$37","v":352.76},{"$f":"'Челябинская обл.'!$C$38","v":825.59},{"$f":"'Челябинская обл.'!$C$39","v":0},{"$f":"'Челябинская обл.'!$C$40","v":0},{"$f":"'Челябинская обл.'!$C$41","v":0},{"$f":"'Челябинская обл.'!$C$44","v":1142.9000000000001},{"$f":"'Челябинская обл.'!$C$45","v":1066.98},{"$f":"'Челябинская обл.'!$C$46","v":0},{"$f":"'Челябинская обл.'!$C$47","v":0},{"$f":"'Челябинская обл.'!$C$48","v":0},{"$f":"'Челябинская обл.'!$C$50","v":1081.3599999999999},{"$f":"'Челябинская обл.'!$C$51","v":1328.18},{"$f":"'Челябинская обл.'!$C$52","v":0},{"$f":"'Челябинская обл.'!$C$53","v":0},{"$f":"'Челябинская обл.'!$C$54","v":0},{"$f":"'Челябинская обл.'!$C$55","v":0},{"$f":"'Челябинская обл.'!$C$56","v":243.71}]
["3","МУП \"Теплоком\"",null,{"$f":"'Челябинская обл.'!$C$7","v":"13,23"},{"$f":"'Челябинская обл.'!$C$10","v":1005.74},{"$f":"'Челябинская обл.'!$C$11","v":0},{"$f":"'Челябинская обл.'!$C$12","v":0},{"$f":"'Челябинская обл.'!$C$13","v":0},{"$f":"'Челябинская обл.'!$C$14","v":0},{"$f":"'Челябинская обл.'!$C$17","v":1987.75},{"$f":"'Челябинская обл.'!$C$18","v":0},{"$f":"'Челябинская обл.'!$C$19","v":0},{"$f":"'Челябинская обл.'!$C$20","v":0},{"$f":"'Челябинская обл.'!$C$21","v":0},{"$f":"'Челябинская обл.'!$C$23","v":1493.77},{"$f":"'Челябинская обл.'!$C$24","v":0},{"$f":"'Челябинская обл.'!$C$25","v":0},{"$f":"'Челябинская обл.'!$C$26","v":0},{"$f":"'Челябинская обл.'!$C$27","v":0},{"$f":"'Челябинская обл.'!$C$28","v":0},{"$f":"'Челябинская обл.'!$C$29","v":377.24},{"$f":"'Челябинская обл.'!$C$34","v":13.23},{"$f":"'Челябинская обл.'!$C$37","v":352.76},{"$f":"'Челябинская обл.'!$C$38","v":825.59},{"$f":"'Челябинская обл.'!$C$39","v":0},{"$f":"'Челябинская обл.'!$C$40","v":0},{"$f":"'Челябинская обл.'!$C$41","v":0},{"$f":"'Челябинская обл.'!$C$44","v":1142.9000000000001},{"$f":"'Челябинская обл.'!$C$45","v":1066.98},{"$f":"'Челябинская обл.'!$C$46","v":0},{"$f":"'Челябинская обл.'!$C$47","v":0},{"$f":"'Челябинская обл.'!$C$48","v":0},{"$f":"'Челябинская обл.'!$C$50","v":1081.3599999999999},{"$f":"'Челябинская обл.'!$C$51","v":1328.18},{"$f":"'Челябинская обл.'!$C$52","v":0},{"$f":"'Челябинская обл.'!$C$53","v":0},{"$f":"'Челябинская обл.'!$C$54","v":0},{"$f":"'Челябинская обл.'!$C$55","v":0},{"$f":"'Челябинская обл.'!$C$56","v":243.71}]
["4","ООО \"Санаторий \"Кисегач\"",null,{"$f":"'Челябинская обл.'!$C$7","v":"13,23"},{"$f":"'Челябинская обл.'!$C$10","v":1005.74},{"$f":"'Челябинская обл.'!$C$11","v":0},{"$f":"'Челябинская обл.'!$C$12","v":0},{"$f":"'Челябинская обл.'!$C$13","v":0},{"$f":"'Челябинская обл.'!$C$14","v":0},{"$f":"'Челябинская обл.'!$C$17","v":1987.75},{"$f":"'Челябинская обл.'!$C$18","v":0},{"$f":"'Челябинская обл.'!$C$19","v":0},{"$f":"'Челябинская обл.'!$C$20","v":0},{"$f":"'Челябинская обл.'!$C$21","v":0},{"$f":"'Челябинская обл.'!$C$23","v":1493.77},{"$f":"'Челябинская обл.'!$C$24","v":0},{"$f":"'Челябинская обл.'!$C$25","v":0},{"$f":"'Челябинская обл.'!$C$26","v":0},{"$f":"'Челябинская обл.'!$C$27","v":0},{"$f":"'Челябинская обл.'!$C$28","v":0},{"$f":"'Челябинская обл.'!$C$29","v":377.24},{"$f":"'Челябинская обл.'!$C$34","v":13.23},{"$f":"'Челябинская обл.'!$C$37","v":352.76},{"$f":"'Челябинская обл.'!$C$38","v":825.59},{"$f":"'Челябинская обл.'!$C$39","v":0},{"$f":"'Челябинская обл.'!$C$40","v":0},{"$f":"'Челябинская обл.'!$C$41","v":0},{"$f":"'Челябинская обл.'!$C$44","v":1142.9000000000001},{"$f":"'Челябинская обл.'!$C$45","v":1066.98},{"$f":"'Челябинская обл.'!$C$46","v":0},{"$f":"'Челябинская обл.'!$C$47","v":0},{"$f":"'Челябинская обл.'!$C$48","v":0},{"$f":"'Челябинская обл.'!$C$50","v":1081.3599999999999},{"$f":"'Челябинская обл.'!$C$51","v":1328.18},{"$f":"'Челябинская обл.'!$C$52","v":0},{"$f":"'Челябинская обл.'!$C$53","v":0},{"$f":"'Челябинская обл.'!$C$54","v":0},{"$f":"'Челябинская обл.'!$C$55","v":0},{"$f":"'Челябинская обл.'!$C$56","v":243.71}]
["5","ООО \"ТеплоРесурс\"",null,{"$f":"'Челябинская обл.'!$C$7","v":"13,23"},{"$f":"'Челябинская обл.'!$C$10","v":1005.74},{"$f":"'Челябинская обл.'!$C$11","v":0},{"$f":"'Челябинская обл.'!$C$12","v":0},{"$f":"'Челябинская обл.'!$C$13","v":0},{"$f":"'Челябинская обл.'!$C$14","v":0},{"$f":"'Челябинская обл.'!$C$17","v":1987.75},{"$f":"'Челябинская обл.'!$C$18","v":0},{"$f":"'Челябинская обл.'!$C$19","v":0},{"$f":"'Челябинская обл.'!$C$20","v":0},{"$f":"'Челябинская обл.'!$C$21","v":0},{"$f":"'Челябинская обл.'!$C$23","v":1493.77},{"$f":"'Челябинская обл.'!$C$24","v":0},{"$f":"'Челябинская обл.'!$C$25","v":0},{"$f":"'Челябинская обл.'!$C$26","v":0},{"$f":"'Челябинская обл.'!$C$27","v":0},{"$f":"'Челябинская обл.'!$C$28","v":0},{"$f":"'Челябинская обл.'!$C$29","v":377.24},{"$f":"'Челябинская обл.'!$C$34","v":13.23},{"$f":"'Челябинская обл.'!$C$37","v":352.76},{"$f":"'Челябинская обл.'!$C$38","v":825.59},{"$f":"'Челябинская обл.'!$C$39","v":0},{"$f":"'Челябинская обл.'!$C$40","v":0},{"$f":"'Челябинская обл.'!$C$41","v":0},{"$f":"'Челябинская обл.'!$C$44","v":1142.9000000000001},{"$f":"'Челябинская обл.'!$C$45","v":1066.98},{"$f":"'Челябинская обл.'!$C$46","v":0},{"$f":"'Челябинская обл.'!$C$47","v":0},{"$f":"'Челябинская обл.'!$C$48","v":0},{"$f":"'Челябинская обл.'!$C$50","v":1081.3599999999999},{"$f":"'Челябинская обл.'!$C$51","v":1328.18},{"$f":"'Челябинская обл.'!$C$52","v":0},{"$f":"'Челябинская обл.'!$C$53","v":0},{"$f":"'Челябинская обл.'!$C$54","v":0},{"$f":"'Челябинская обл.'!$C$55","v":0},{"$f":"'Челябинская обл.'!$C$56","v":243.71}]
["6","Производственный отдел челябинского филиала ООО \"МЕЧЕЛ-ЭНЕРГО\" (Чебаркульский г.о.)",null,{"$f":"'Челябинская обл.'!$C$7","v":"13,23"},{"$f":"'Челябинская обл.'!$C$10","v":1005.74},{"$f":"'Челябинская обл.'!$C$11","v":0},{"$f":"'Челябинская обл.'!$C$12","v":0},{"$f":"'Челябинская обл.'!$C$13","v":0},{"$f":"'Челябинская обл.'!$C$14","v":0},{"$f":"'Челябинская обл.'!$C$17","v":1987.75},{"$f":"'Челябинская обл.'!$C$18","v":0},{"$f":"'Челябинская обл.'!$C$19","v":0},{"$f":"'Челябинская обл.'!$C$20","v":0},{"$f":"'Челябинская обл.'!$C$21","v":0},{"$f":"'Челябинская обл.'!$C$23","v":1493.77},{"$f":"'Челябинская обл.'!$C$24","v":0},{"$f":"'Челябинская обл.'!$C$25","v":0},{"$f":"'Челябинская обл.'!$C$26","v":0},{"$f":"'Челябинская обл.'!$C$27","v":0},{"$f":"'Челябинская обл.'!$C$28","v":0},{"$f":"'Челябинская обл.'!$C$29","v":377.24},{"$f":"'Челябинская обл.'!$C$34","v":13.23},{"$f":"'Челябинская обл.'!$C$37","v":352.76},{"$f":"'Челябинская обл.'!$C$38","v":825.59},{"$f":"'Челябинская обл.'!$C$39","v":0},{"$f":"'Челябинская обл.'!$C$40","v":0},{"$f":"'Челябинская обл.'!$C$41","v":0},{"$f":"'Челябинская обл.'!$C$44","v":1142.9000000000001},{"$f":"'Челябинская обл.'!$C$45","v":1066.98},{"$f":"'Челябинская обл.'!$C$46","v":0},{"$f":"'Челябинская обл.'!$C$47","v":0},{"$f":"'Челябинская обл.'!$C$48","v":0},{"$f":"'Челябинская обл.'!$C$50","v":1081.3599999999999},{"$f":"'Челябинская обл.'!$C$51","v":1328.18},{"$f":"'Челябинская обл.'!$C$52","v":0},{"$f":"'Челябинская обл.'!$C$53","v":0},{"$f":"'Челябинская обл.'!$C$54","v":0},{"$f":"'Челябинская обл.'!$C$55","v":0},{"$f":"'Челябинская обл.'!$C$56","v":243.71}]
[7,"ФГБУ \"ЦЖКУ\" МИНОБОРОНЫ РОССИИ (по ЦВО) (Чебаркульский г.о.)",null,{"$f":"'Челябинская обл.'!$C$7","v":"13,23"},{"$f":"'Челябинская обл.'!$C$10","v":1005.74},{"$f":"'Челябинская обл.'!$C$11","v":0},{"$f":"'Челябинская обл.'!$C$12","v":0},{"$f":"'Челябинская обл.'!$C$13","v":0},{"$f":"'Челябинская обл.'!$C$14","v":0},{"$f":"'Челябинская обл.'!$C$17","v":1987.75},{"$f":"'Челябинская обл.'!$C$18","v":0},{"$f":"'Челябинская обл.'!$C$19","v":0},{"$f":"'Челябинская обл.'!$C$20","v":0},{"$f":"'Челябинская обл.'!$C$21","v":0},{"$f":"'Челябинская обл.'!$C$23","v":1493.77},{"$f":"'Челябинская обл.'!$C$24","v":0},{"$f":"'Челябинская обл.'!$C$25","v":0},{"$f":"'Челябинская обл.'!$C$26","v":0},{"$f":"'Челябинская обл.'!$C$27","v":0},{"$f":"'Челябинская обл.'!$C$28","v":0},{"$f":"'Челябинская обл.'!$C$29","v":377.24},{"$f":"'Челябинская обл.'!$C$34","v":13.23},{"$f":"'Челябинская обл.'!$C$37","v":352.76},{"$f":"'Челябинская обл.'!$C$38","v":825.59},{"$f":"'Челябинская обл.'!$C$39","v":0},{"$f":"'Челябинская обл.'!$C$40","v":0},{"$f":"'Челябинская обл.'!$C$41","v":0},{"$f":"'Челябинская обл.'!$C$44","v":1142.9000000000001},{"$f":"'Челябинская обл.'!$C$45","v":1066.98},{"$f":"'Челябинская обл.'!$C$46","v":0},{"$f":"'Челябинская обл.'!$C$47","v":0},{"$f":"'Челябинская обл.'!$C$48","v":0},{"$f":"'Челябинская обл.'!$C$50","v":1081.3599999999999},{"$f":"'Челябинская обл.'!$C$51","v":1328.18},{"$f":"'Челябинская обл.'!$C$52","v":0},{"$f":"'Челябинская обл.'!$C$53","v":0},{"$f":"'Челябинская обл.'!$C$54","v":0},{"$f":"'Челябинская обл.'!$C$55","v":0},{"$f":"'Челябинская обл.'!$C$56","v":243.71}]
["15","Челябинский городской округ"]
["1","Дирекция по эксплуатации и ремонту путевых машин ОАО \"РЖД\" (Челябинский городской округ)",null,{"$f":"'Челябинский г.о.'!$C$7","v":"13,23"},{"$f":"'Челябинский г.о.'!$C$10","v":0},{"$f":"'Челябинский г.о.'!$C$11","v":0},{"$f":"'Челябинский г.о.'!$C$12","v":0},{"$f":"'Челябинский г.о.'!$C$13","v":0},{"$f":"'Челябинский г.о.'!$C$14","v":0},{"$f":"'Челябинский г.о.'!$C$17","v":2376.37},{"$f":"'Челябинский г.о.'!$C$18","v":2243.6799999999998},{"$f":"'Челябинский г.о.'!$C$19","v":0},{"$f":"'Челябинский г.о.'!$C$20","v":0},{"$f":"'Челябинский г.о.'!$C$21","v":0},{"$f":"'Челябинский г.о.'!$C$23","v":0},{"$f":"'Челябинский г.о.'!$C$24","v":0},{"$f":"'Челябинский г.о.'!$C$25","v":0},{"$f":"'Челябинский г.о.'!$C$26","v":0},{"$f":"'Челябинский г.о.'!$C$27","v":0},{"$f":"'Челябинский г.о.'!$C$28","v":0},{"$f":"'Челябинский г.о.'!$C$29","v":577.51},{"$f":"'Челябинский г.о.'!$C$34","v":13.23},{"$f":"'Челябинский г.о.'!$C$37","v":0},{"$f":"'Челябинский г.о.'!$C$38","v":0},{"$f":"'Челябинский г.о.'!$C$39","v":0},{"$f":"'Челябинский г.о.'!$C$40","v":0},{"$f":"'Челябинский г.о.'!$C$41","v":0},{"$f":"'Челябинский г.о.'!$C$44","v":2177.34},{"$f":"'Челябинский г.о.'!$C$45","v":2149.19},{"$f":"'Челябинский г.о.'!$C$46","v":0},{"$f":"'Челябинский г.о.'!$C$47","v":0},{"$f":"'Челябинский г.о.'!$C$48","v":0},{"$f":"'Челябинский г.о.'!$C$50","v":0},{"$f":"'Челябинский г.о.'!$C$51","v":0},{"$f":"'Челябинский г.о.'!$C$52","v":0},{"$f":"'Челябинский г.о.'!$C$53","v":0},{"$f":"'Челябинский г.о.'!$C$54","v":0},{"$f":"'Челябинский г.о.'!$C$55","v":0},{"$f":"'Челябинский г.о.'!$C$56","v":545.82000000000005}]
["2","\"Инженерные сети\"",null,{"$f":"'Челябинский г.о.'!$C$7","v":"13,23"},{"$f":"'Челябинский г.о.'!$C$10","v":0},{"$f":"'Челябинский г.о.'!$C$11","v":0},{"$f":"'Челябинский г.о.'!$C$12","v":0},{"$f":"'Челябинский г.о.'!$C$13","v":0},{"$f":"'Челябинский г.о.'!$C$14","v":0},{"$f":"'Челябинский г.о.'!$C$17","v":2376.37},{"$f":"'Челябинский г.о.'!$C$18","v":2243.6799999999998},{"$f":"'Челябинский г.о.'!$C$19","v":0},{"$f":"'Челябинский г.о.'!$C$20","v":0},{"$f":"'Челябинский г.о.'!$C$21","v":0},{"$f":"'Челябинский г.о.'!$C$23","v":0},{"$f":"'Челябинский г.о.'!$C$24","v":0},{"$f":"'Челябинский г.о.'!$C$25","v":0},{"$f":"'Челябинский г.о.'!$C$26","v":0},{"$f":"'Челябинский г.о.'!$C$27","v":0},{"$f":"'Челябинский г.о.'!$C$28","v":0},{"$f":"'Челябинский г.о.'!$C$29","v":577.51},{"$f":"'Челябинский г.о.'!$C$34","v":13.23},{"$f":"'Челябинский г.о.'!$C$37","v":0},{"$f":"'Челябинский г.о.'!$C$38","v":0},{"$f":"'Челябинский г.о.'!$C$39","v":0},{"$f":"'Челябинский г.о.'!$C$40","v":0},{"$f":"'Челябинский г.о.'!$C$41","v":0},{"$f":"'Челябинский г.о.'!$C$44","v":2177.34},{"$f":"'Челябинский г.о.'!$C$45","v":2149.19},{"$f":"'Челябинский г.о.'!$C$46","v":0},{"$f":"'Челябинский г.о.'!$C$47","v":0},{"$f":"'Челябинский г.о.'!$C$48","v":0},{"$f":"'Челябинский г.о.'!$C$50","v":0},{"$f":"'Челябинский г.о.'!$C$51","v":0},{"$f":"'Челябинский г.о.'!$C$52","v":0},{"$f":"'Челябинский г.о.'!$C$53","v":0},{"$f":"'Челябинский г.о.'!$C$54","v":0},{"$f":"'Челябинский г.о.'!$C$55","v":0},{"$f":"'Челябинский г.о.'!$C$56","v":545.82000000000005}]
["3","АО \"ГУ ЖКХ\" (Челябинский городской округ)",null,{"$f":"'Челябинский г.о.'!$C$7","v":"13,23"},{"$f":"'Челябинский г.о.'!$C$10","v":0},{"$f":"'Челябинский г.о.'!$C$11","v":0},{"$f":"'Челябинский г.о.'!$C$12","v":0},{"$f":"'Челябинский г.о.'!$C$13","v":0},{"$f":"'Челябинский г.о.'!$C$14","v":0},{"$f":"'Челябинский г.о.'!$C$17","v":2376.37},{"$f":"'Челябинский г.о.'!$C$18","v":2243.6799999999998},{"$f":"'Челябинский г.о.'!$C$19","v":0},{"$f":"'Челябинский г.о.'!$C$20","v":0},{"$f":"'Челябинский г.о.'!$C$21","v":0},{"$f":"'Челябинский г.о.'!$C$23","v":0},{"$f":"'Челябинский г.о.'!$C$24","v":0},{"$f":"'Челябинский г.о.'!$C$25","v":0},{"$f":"'Челябинский г.о.'!$C$26","v":0},{"$f":"'Челябинский г.о.'!$C$27","v":0},{"$f":"'Челябинский г.о.'!$C$28","v":0},{"$f":"'Челябинский г.о.'!$C$29","v":577.51},{"$f":"'Челябинский г.о.'!$C$34","v":13.23},{"$f":"'Челябинский г.о.'!$C$37","v":0},{"$f":"'Челябинский г.о.'!$C$38","v":0},{"$f":"'Челябинский г.о.'!$C$39","v":0},{"$f":"'Челябинский г.о.'!$C$40","v":0},{"$f":"'Челябинский г.о.'!$C$41","v":0},{"$f":"'Челябинский г.о.'!$C$44","v":2177.34},{"$f":"'Челябинский г.о.'!$C$45","v":2149.19},{"$f":"'Челябинский г.о.'!$C$46","v":0},{"$f":"'Челябинский г.о.'!$C$47","v":0},{"$f":"'Челябинский г.о.'!$C$48","v":0},{"$f":"'Челябинский г.о.'!$C$50","v":0},{"$f":"'Челябинский г.о.'!$C$51","v":0},{"$f":"'Челябинский г.о.'!$C$52","v":0},{"$f":"'Челябинский г.о.'!$C$53","v":0},{"$f":"'Челябинский г.о.'!$C$54","v":0},{"$f":"'Челябинский г.о.'!$C$55","v":0},{"$f":"'Челябинский г.о.'!$C$56","v":545.82000000000005}]
["4","АО \"Макфа\"",null,{"$f":"'Челябинский г.о.'!$C$7","v":"13,23"},{"$f":"'Челябинский г.о.'!$C$10","v":0},{"$f":"'Челябинский г.о.'!$C$11","v":0},{"$f":"'Челябинский г.о.'!$C$12","v":0},{"$f":"'Челябинский г.о.'!$C$13","v":0},{"$f":"'Челябинский г.о.'!$C$14","v":0},{"$f":"'Челябинский г.о.'!$C$17","v":2376.37},{"$f":"'Челябинский г.о.'!$C$18","v":2243.6799999999998},{"$f":"'Челябинский г.о.'!$C$19","v":0},{"$f":"'Челябинский г.о.'!$C$20","v":0},{"$f":"'Челябинский г.о.'!$C$21","v":0},{"$f":"'Челябинский г.о.'!$C$23","v":0},{"$f":"'Челябинский г.о.'!$C$24","v":0},{"$f":"'Челябинский г.о.'!$C$25","v":0},{"$f":"'Челябинский г.о.'!$C$26","v":0},{"$f":"'Челябинский г.о.'!$C$27","v":0},{"$f":"'Челябинский г.о.'!$C$28","v":0},{"$f":"'Челябинский г.о.'!$C$29","v":577.51},{"$f":"'Челябинский г.о.'!$C$34","v":13.23},{"$f":"'Челябинский г.о.'!$C$37","v":0},{"$f":"'Челябинский г.о.'!$C$38","v":0},{"$f":"'Челябинский г.о.'!$C$39","v":0},{"$f":"'Челябинский г.о.'!$C$40","v":0},{"$f":"'Челябинский г.о.'!$C$41","v":0},{"$f":"'Челябинский г.о.'!$C$44","v":2177.34},{"$f":"'Челябинский г.о.'!$C$45","v":2149.19},{"$f":"'Челябинский г.о.'!$C$46","v":0},{"$f":"'Челябинский г.о.'!$C$47","v":0},{"$f":"'Челябинский г.о.'!$C$48","v":0},{"$f":"'Челябинский г.о.'!$C$50","v":0},{"$f":"'Челябинский г.о.'!$C$51","v":0},{"$f":"'Челябинский г.о.'!$C$52","v":0},{"$f":"'Челябинский г.о.'!$C$53","v":0},{"$f":"'Челябинский г.о.'!$C$54","v":0},{"$f":"'Челябинский г.о.'!$C$55","v":0},{"$f":"'Челябинский г.о.'!$C$56","v":545.82000000000005}]
["5","АО \"Сигнал\"",null,{"$f":"'Челябинский г.о.'!$C$7","v":"13,23"},{"$f":"'Челябинский г.о.'!$C$10","v":0},{"$f":"'Челябинский г.о.'!$C$11","v":0},{"$f":"'Челябинский г.о.'!$C$12","v":0},{"$f":"'Челябинский г.о.'!$C$13","v":0},{"$f":"'Челябинский г.о.'!$C$14","v":0},{"$f":"'Челябинский г.о.'!$C$17","v":2376.37},{"$f":"'Челябинский г.о.'!$C$18","v":2243.6799999999998},{"$f":"'Челябинский г.о.'!$C$19","v":0},{"$f":"'Челябинский г.о.'!$C$20","v":0},{"$f":"'Челябинский г.о.'!$C$21","v":0},{"$f":"'Челябинский г.о.'!$C$23","v":0},{"$f":"'Челябинский г.о.'!$C$24","v":0},{"$f":"'Челябинский г.о.'!$C$25","v":0},{"$f":"'Челябинский г.о.'!$C$26","v":0},{"$f":"'Челябинский г.о.'!$C$27","v":0},{"$f":"'Челябинский г.о.'!$C$28","v":0},{"$f":"'Челябинский г.о.'!$C$29","v":577.51},{"$f":"'Челябинский г.о.'!$C$34","v":13.23},{"$f":"'Челябинский г.о.'!$C$37","v":0},{"$f":"'Челябинский г.о.'!$C$38","v":0},{"$f":"'Челябинский г.о.'!$C$39","v":0},{"$f":"'Челябинский г.о.'!$C$40","v":0},{"$f":"'Челябинский г.о.'!$C$41","v":0},{"$f":"'Челябинский г.о.'!$C$44","v":2177.34},{"$f":"'Челябинский г.о.'!$C$45","v":2149.19},{"$f":"'Челябинский г.о.'!$C$46","v":0},{"$f":"'Челябинский г.о.'!$C$47","v":0},{"$f":"'Челябинский г.о.'!$C$48","v":0},{"$f":"'Челябинский г.о.'!$C$50","v":0},{"$f":"'Челябинский г.о.'!$C$51","v":0},{"$f":"'Челябинский г.о.'!$C$52","v":0},{"$f":"'Челябинский г.о.'!$C$53","v":0},{"$f":"'Челябинский г.о.'!$C$54","v":0},{"$f":"'Челябинский г.о.'!$C$55","v":0},{"$f":"'Челябинский г.о.'!$C$56","v":545.82000000000005}]
["6","АО \"Уральская теплосетевая компания\" (Челябинский г.о.)",null,{"$f":"УТСК!$C$7","v":"13,72"},{"$f":"УТСК!$C$10","v":0},{"$f":"УТСК!$C$11","v":0},{"$f":"УТСК!$C$12","v":0},{"$f":"УТСК!$C$13","v":0},{"$f":"УТСК!$C$14","v":0},{"$f":"УТСК!$C$17","v":3881.72},{"$f":"УТСК!$C$18","v":"607,58"},{"$f":"УТСК!$C$19","v":0},{"$f":"УТСК!$C$20","v":0},{"$f":"УТСК!$C$21","v":"234,81"},{"$f":"УТСК!$C$23","v":0},{"$f":"УТСК!$C$24","v":0},{"$f":"УТСК!$C$25","v":0},{"$f":"УТСК!$C$26","v":0},{"$f":"УТСК!$C$27","v":0},{"$f":"УТСК!$C$28","v":"81,72"},{"$f":"УТСК!$C$29","v":"615,57"},{"$f":"УТСК!$C$33","v":"13,72"},{"$f":"УТСК!$C$36","v":0},{"$f":"УТСК!$C$37","v":0},{"$f":"УТСК!$C$38","v":0},{"$f":"УТСК!$C$39","v":0},{"$f":"УТСК!$C$40","v":0},{"$f":"УТСК!$C$43","v":3881.72},{"$f":"УТСК!$C$44","v":0},{"$f":"УТСК!$C$45","v":0},{"$f":"УТСК!$C$46","v":0},{"$f":"УТСК!$C$47","v":"234,81"},{"$f":"УТСК!$C$49","v":0},{"$f":"УТСК!$C$50","v":0},{"$f":"УТСК!$C$51","v":0},{"$f":"УТСК!$C$52","v":0},{"$f":"УТСК!$C$53","v":0},{"$f":"УТСК!$C$54","v":"81,72"},{"$f":"УТСК!$C$55","v":700.23}]
["7","АО \"Челябинскгоргаз\"",null,{"$f":"'Челябинский г.о.'!$C$7","v":"13,23"},{"$f":"'Челябинский г.о.'!$C$10","v":0},{"$f":"'Челябинский г.о.'!$C$11","v":0},{"$f":"'Челябинский г.о.'!$C$12","v":0},{"$f":"'Челябинский г.о.'!$C$13","v":0},{"$f":"'Челябинский г.о.'!$C$14","v":0},{"$f":"'Челябинский г.о.'!$C$17","v":2376.37},{"$f":"'Челябинский г.о.'!$C$18","v":2243.6799999999998},{"$f":"'Челябинский г.о.'!$C$19","v":0},{"$f":"'Челябинский г.о.'!$C$20","v":0},{"$f":"'Челябинский г.о.'!$C$21","v":0},{"$f":"'Челябинский г.о.'!$C$23","v":0},{"$f":"'Челябинский г.о.'!$C$24","v":0},{"$f":"'Челябинский г.о.'!$C$25","v":0},{"$f":"'Челябинский г.о.'!$C$26","v":0},{"$f":"'Челябинский г.о.'!$C$27","v":0},{"$f":"'Челябинский г.о.'!$C$28","v":0},{"$f":"'Челябинский г.о.'!$C$29","v":577.51},{"$f":"'Челябинский г.о.'!$C$34","v":13.23},{"$f":"'Челябинский г.о.'!$C$37","v":0},{"$f":"'Челябинский г.о.'!$C$38","v":0},{"$f":"'Челябинский г.о.'!$C$39","v":0},{"$f":"'Челябинский г.о.'!$C$40","v":0},{"$f":"'Челябинский г.о.'!$C$41","v":0},{"$f":"'Челябинский г.о.'!$C$44","v":2177.34},{"$f":"'Челябинский г.о.'!$C$45","v":2149.19},{"$f":"'Челябинский г.о.'!$C$46","v":0},{"$f":"'Челябинский г.о.'!$C$47","v":0},{"$f":"'Челябинский г.о.'!$C$48","v":0},{"$f":"'Челябинский г.о.'!$C$50","v":0},{"$f":"'Челябинский г.о.'!$C$51","v":0},{"$f":"'Челябинский г.о.'!$C$52","v":0},{"$f":"'Челябинский г.о.'!$C$53","v":0},{"$f":"'Челябинский г.о.'!$C$54","v":0},{"$f":"'Челябинский г.о.'!$C$55","v":0},{"$f":"'Челябинский г.о.'!$C$56","v":545.82000000000005}]
["8","АО \"Челябинское авиапредприятие\"",null,{"$f":"'Челябинский г.о.'!$C$7","v":"13,23"},{"$f":"'Челябинский г.о.'!$C$10","v":0},{"$f":"'Челябинский г.о.'!$C$11","v":0},{"$f":"'Челябинский г.о.'!$C$12","v":0},{"$f":"'Челябинский г.о.'!$C$13","v":0},{"$f":"'Челябинский г.о.'!$C$14","v":0},{"$f":"'Челябинский г.о.'!$C$17","v":2376.37},{"$f":"'Челябинский г.о.'!$C$18","v":2243.6799999999998},{"$f":"'Челябинский г.о.'!$C$19","v":0},{"$f":"'Челябинский г.о.'!$C$20","v":0},{"$f":"'Челябинский г.о.'!$C$21","v":0},{"$f":"'Челябинский г.о.'!$C$23","v":0},{"$f":"'Челябинский г.о.'!$C$24","v":0},{"$f":"'Челябинский г.о.'!$C$25","v":0},{"$f":"'Челябинский г.о.'!$C$26","v":0},{"$f":"'Челябинский г.о.'!$C$27","v":0},{"$f":"'Челябинский г.о.'!$C$28","v":0},{"$f":"'Челябинский г.о.'!$C$29","v":577.51},{"$f":"'Челябинский г.о.'!$C$34","v":13.23},{"$f":"'Челябинский г.о.'!$C$37","v":0},{"$f":"'Челябинский г.о.'!$C$38","v":0},{"$f":"'Челябинский г.о.'!$C$39","v":0},{"$f":"'Челябинский г.о.'!$C$40","v":0},{"$f":"'Челябинский г.о.'!$C$41","v":0},{"$f":"'Челябинский г.о.'!$C$44","v":2177.34},{"$f":"'Челябинский г.о.'!$C$45","v":2149.19},{"$f":"'Челябинский г.о.'!$C$46","v":0},{"$f":"'Челябинский г.о.'!$C$47","v":0},{"$f":"'Челябинский г.о.'!$C$48","v":0},{"$f":"'Челябинский г.о.'!$C$50","v":0},{"$f":"'Челябинский г.о.'!$C$51","v":0},{"$f":"'Челябинский г.о.'!$C$52","v":0},{"$f":"'Челябинский г.о.'!$C$53","v":0},{"$f":"'Челябинский г.о.'!$C$54","v":0},{"$f":"'Челябинский г.о.'!$C$55","v":0},{"$f":"'Челябинский г.о.'!$C$56","v":545.82000000000005}]
["9","АО \"Челябоблкоммунэнерго\" (Челябинский городской округ)",null,{"$f":"'Челябинский г.о.'!$C$7","v":"13,23"},{"$f":"'Челябинский г.о.'!$C$10","v":0},{"$f":"'Челябинский г.о.'!$C$11","v":0},{"$f":"'Челябинский г.о.'!$C$12","v":0},{"$f":"'Челябинский г.о.'!$C$13","v":0},{"$f":"'Челябинский г.о.'!$C$14","v":0},{"$f":"'Челябинский г.о.'!$C$17","v":2376.37},{"$f":"'Челябинский г.о.'!$C$18","v":2243.6799999999998},{"$f":"'Челябинский г.о.'!$C$19","v":0},{"$f":"'Челябинский г.о.'!$C$20","v":0},{"$f":"'Челябинский г.о.'!$C$21","v":0},{"$f":"'Челябинский г.о.'!$C$23","v":0},{"$f":"'Челябинский г.о.'!$C$24","v":0},{"$f":"'Челябинский г.о.'!$C$25","v":0},{"$f":"'Челябинский г.о.'!$C$26","v":0},{"$f":"'Челябинский г.о.'!$C$27","v":0},{"$f":"'Челябинский г.о.'!$C$28","v":0},{"$f":"'Челябинский г.о.'!$C$29","v":577.51},{"$f":"'Челябинский г.о.'!$C$34","v":13.23},{"$f":"'Челябинский г.о.'!$C$37","v":0},{"$f":"'Челябинский г.о.'!$C$38","v":0},{"$f":"'Челябинский г.о.'!$C$39","v":0},{"$f":"'Челябинский г.о.'!$C$40","v":0},{"$f":"'Челябинский г.о.'!$C$41","v":0},{"$f":"'Челябинский г.о.'!$C$44","v":2177.34},{"$f":"'Челябинский г.о.'!$C$45","v":2149.19},{"$f":"'Челябинский г.о.'!$C$46","v":0},{"$f":"'Челябинский г.о.'!$C$47","v":0},{"$f":"'Челябинский г.о.'!$C$48","v":0},{"$f":"'Челябинский г.о.'!$C$50","v":0},{"$f":"'Челябинский г.о.'!$C$51","v":0},{"$f":"'Челябинский г.о.'!$C$52","v":0},{"$f":"'Челябинский г.о.'!$C$53","v":0},{"$f":"'Челябинский г.о.'!$C$54","v":0},{"$f":"'Челябинский г.о.'!$C$55","v":0},{"$f":"'Челябинский г.о.'!$C$56","v":545.82000000000005}]
["10","АО \"ЭСК ЧТПЗ\"",null,{"$f":"'Челябинский г.о.'!$C$7","v":"13,23"},{"$f":"'Челябинский г.о.'!$C$10","v":0},{"$f":"'Челябинский г.о.'!$C$11","v":0},{"$f":"'Челябинский г.о.'!$C$12","v":0},{"$f":"'Челябинский г.о.'!$C$13","v":0},{"$f":"'Челябинский г.о.'!$C$14","v":0},{"$f":"'Челябинский г.о.'!$C$17","v":2376.37},{"$f":"'Челябинский г.о.'!$C$18","v":2243.6799999999998},{"$f":"'Челябинский г.о.'!$C$19","v":0},{"$f":"'Челябинский г.о.'!$C$20","v":0},{"$f":"'Челябинский г.о.'!$C$21","v":0},{"$f":"'Челябинский г.о.'!$C$23","v":0},{"$f":"'Челябинский г.о.'!$C$24","v":0},{"$f":"'Челябинский г.о.'!$C$25","v":0},{"$f":"'Челябинский г.о.'!$C$26","v":0},{"$f":"'Челябинский г.о.'!$C$27","v":0},{"$f":"'Челябинский г.о.'!$C$28","v":0},{"$f":"'Челябинский г.о.'!$C$29","v":577.51},{"$f":"'Челябинский г.о.'!$C$34","v":13.23},{"$f":"'Челябинский г.о.'!$C$37","v":0},{"$f":"'Челябинский г.о.'!$C$38","v":0},{"$f":"'Челябинский г.о.'!$C$39","v":0},{"$f":"'Челябинский г.о.'!$C$40","v":0},{"$f":"'Челябинский г.о.'!$C$41","v":0},{"$f":"'Челябинский г.о.'!$C$44","v":2177.34},{"$f":"'Челябинский г.о.'!$C$45","v":2149.19},{"$f":"'Челябинский г.о.'!$C$46","v":0},{"$f":"'Челябинский г.о.'!$C$47","v":0},{"$f":"'Челябинский г.о.'!$C$48","v":0},{"$f":"'Челябинский г.о.'!$C$50","v":0},{"$f":"'Челябинский г.о.'!$C$51","v":0},{"$f":"'Челябинский г.о.'!$C$52","v":0},{"$f":"'Челябинский г.о.'!$C$53","v":0},{"$f":"'Челябинский г.о.'!$C$54","v":0},{"$f":"'Челябинский г.о.'!$C$55","v":0},{"$f":"'Челябинский г.о.'!$C$56","v":545.82000000000005}]
["11","Вагонное ремонтное депо Челябинск - обособленное структурное подразделение ОАО \"\"Вагонная ремонтная компания-2 ",null,{"$f":"'Челябинский г.о.'!$C$7","v":"13,23"},{"$f":"'Челябинский г.о.'!$C$10","v":0},{"$f":"'Челябинский г.о.'!$C$11","v":0},{"$f":"'Челябинский г.о.'!$C$12","v":0},{"$f":"'Челябинский г.о.'!$C$13","v":0},{"$f":"'Челябинский г.о.'!$C$14","v":0},{"$f":"'Челябинский г.о.'!$C$17","v":2376.37},{"$f":"'Челябинский г.о.'!$C$18","v":2243.6799999999998},{"$f":"'Челябинский г.о.'!$C$19","v":0},{"$f":"'Челябинский г.о.'!$C$20","v":0},{"$f":"'Челябинский г.о.'!$C$21","v":0},{"$f":"'Челябинский г.о.'!$C$23","v":0},{"$f":"'Челябинский г.о.'!$C$24","v":0},{"$f":"'Челябинский г.о.'!$C$25","v":0},{"$f":"'Челябинский г.о.'!$C$26","v":0},{"$f":"'Челябинский г.о.'!$C$27","v":0},{"$f":"'Челябинский г.о.'!$C$28","v":0},{"$f":"'Челябинский г.о.'!$C$29","v":577.51},{"$f":"'Челябинский г.о.'!$C$34","v":13.23},{"$f":"'Челябинский г.о.'!$C$37","v":0},{"$f":"'Челябинский г.о.'!$C$38","v":0},{"$f":"'Челябинский г.о.'!$C$39","v":0},{"$f":"'Челябинский г.о.'!$C$40","v":0},{"$f":"'Челябинский г.о.'!$C$41","v":0},{"$f":"'Челябинский г.о.'!$C$44","v":2177.34},{"$f":"'Челябинский г.о.'!$C$45","v":2149.19},{"$f":"'Челябинский г.о.'!$C$46","v":0},{"$f":"'Челябинский г.о.'!$C$47","v":0},{"$f":"'Челябинский г.о.'!$C$48","v":0},{"$f":"'Челябинский г.о.'!$C$50","v":0},{"$f":"'Челябинский г.о.'!$C$51","v":0},{"$f":"'Челябинский г.о.'!$C$52","v":0},{"$f":"'Челябинский г.о.'!$C$53","v":0},{"$f":"'Челябинский г.о.'!$C$54","v":0},{"$f":"'Челябинский г.о.'!$C$55","v":0},{"$f":"'Челябинский г.о.'!$C$56","v":545.82000000000005}]
["12","ЗАО \"ЖБИ-2\"",null,{"$f":"'Челябинский г.о.'!$C$7","v":"13,23"},{"$f":"'Челябинский г.о.'!$C$10","v":0},{"$f":"'Челябинский г.о.'!$C$11","v":0},{"$f":"'Челябинский г.о.'!$C$12","v":0},{"$f":"'Челябинский г.о.'!$C$13","v":0},{"$f":"'Челябинский г.о.'!$C$14","v":0},{"$f":"'Челябинский г.о.'!$C$17","v":2376.37},{"$f":"'Челябинский г.о.'!$C$18","v":2243.6799999999998},{"$f":"'Челябинский г.о.'!$C$19","v":0},{"$f":"'Челябинский г.о.'!$C$20","v":0},{"$f":"'Челябинский г.о.'!$C$21","v":0},{"$f":"'Челябинский г.о.'!$C$23","v":0},{"$f":"'Челябинский г.о.'!$C$24","v":0},{"$f":"'Челябинский г.о.'!$C$25","v":0},{"$f":"'Челябинский г.о.'!$C$26","v":0},{"$f":"'Челябинский г.о.'!$C$27","v":0},{"$f":"'Челябинский г.о.'!$C$28","v":0},{"$f":"'Челябинский г.о.'!$C$29","v":577.51},{"$f":"'Челябинский г.о.'!$C$34","v":13.23},{"$f":"'Челябинский г.о.'!$C$37","v":0},{"$f":"'Челябинский г.о.'!$C$38","v":0},{"$f":"'Челябинский г.о.'!$C$39","v":0},{"$f":"'Челябинский г.о.'!$C$40","v":0},{"$f":"'Челябинский г.о.'!$C$41","v":0},{"$f":"'Челябинский г.о.'!$C$44","v":2177.34},{"$f":"'Челябинский г.о.'!$C$45","v":2149.19},{"$f":"'Челябинский г.о.'!$C$46","v":0},{"$f":"'Челябинский г.о.'!$C$47","v":0},{"$f":"'Челябинский г.о.'!$C$48","v":0},{"$f":"'Челябинский г.о.'!$C$50","v":0},{"$f":"'Челябинский г.о.'!$C$51","v":0},{"$f":"'Челябинский г.о.'!$C$52","v":0},{"$f":"'Челябинский г.о.'!$C$53","v":0},{"$f":"'Челябинский г.о.'!$C$54","v":0},{"$f":"'Челябинский г.о.'!$C$55","v":0},{"$f":"'Челябинский г.о.'!$C$56","v":545.82000000000005}]
["13","ЗАО \"Торговый дом \"БОВИД\"",null,{"$f":"'Челябинский г.о.'!$C$7","v":"13,23"},{"$f":"'Челябинский г.о.'!$C$10","v":0},{"$f":"'Челябинский г.о.'!$C$11","v":0},{"$f":"'Челябинский г.о.'!$C$12","v":0},{"$f":"'Челябинский г.о.'!$C$13","v":0},{"$f":"'Челябинский г.о.'!$C$14","v":0},{"$f":"'Челябинский г.о.'!$C$17","v":2376.37},{"$f":"'Челябинский г.о.'!$C$18","v":2243.6799999999998},{"$f":"'Челябинский г.о.'!$C$19","v":0},{"$f":"'Челябинский г.о.'!$C$20","v":0},{"$f":"'Челябинский г.о.'!$C$21","v":0},{"$f":"'Челябинский г.о.'!$C$23","v":0},{"$f":"'Челябинский г.о.'!$C$24","v":0},{"$f":"'Челябинский г.о.'!$C$25","v":0},{"$f":"'Челябинский г.о.'!$C$26","v":0},{"$f":"'Челябинский г.о.'!$C$27","v":0},{"$f":"'Челябинский г.о.'!$C$28","v":0},{"$f":"'Челябинский г.о.'!$C$29","v":577.51},{"$f":"'Челябинский г.о.'!$C$34","v":13.23},{"$f":"'Челябинский г.о.'!$C$37","v":0},{"$f":"'Челябинский г.о.'!$C$38","v":0},{"$f":"'Челябинский г.о.'!$C$39","v":0},{"$f":"'Челябинский г.о.'!$C$40","v":0},{"$f":"'Челябинский г.о.'!$C$41","v":0},{"$f":"'Челябинский г.о.'!$C$44","v":2177.34},{"$f":"'Челябинский г.о.'!$C$45","v":2149.19},{"$f":"'Челябинский г.о.'!$C$46","v":0},{"$f":"'Челябинский г.о.'!$C$47","v":0},{"$f":"'Челябинский г.о.'!$C$48","v":0},{"$f":"'Челябинский г.о.'!$C$50","v":0},{"$f":"'Челябинский г.о.'!$C$51","v":0},{"$f":"'Челябинский г.о.'!$C$52","v":0},{"$f":"'Челябинский г.о.'!$C$53","v":0},{"$f":"'Челябинский г.о.'!$C$54","v":0},{"$f":"'Челябинский г.о.'!$C$55","v":0},{"$f":"'Челябинский г.о.'!$C$56","v":545.82000000000005}]
["14","МУП \"Производственное объединение водоснабжения и водоотведения\"",null,{"$f":"'Челябинский г.о.'!$C$7","v":"13,23"},{"$f":"'Челябинский г.о.'!$C$10","v":0},{"$f":"'Челябинский г.о.'!$C$11","v":0},{"$f":"'Челябинский г.о.'!$C$12","v":0},{"$f":"'Челябинский г.о.'!$C$13","v":0},{"$f":"'Челябинский г.о.'!$C$14","v":0},{"$f":"'Челябинский г.о.'!$C$17","v":2376.37},{"$f":"'Челябинский г.о.'!$C$18","v":2243.6799999999998},{"$f":"'Челябинский г.о.'!$C$19","v":0},{"$f":"'Челябинский г.о.'!$C$20","v":0},{"$f":"'Челябинский г.о.'!$C$21","v":0},{"$f":"'Челябинский г.о.'!$C$23","v":0},{"$f":"'Челябинский г.о.'!$C$24","v":0},{"$f":"'Челябинский г.о.'!$C$25","v":0},{"$f":"'Челябинский г.о.'!$C$26","v":0},{"$f":"'Челябинский г.о.'!$C$27","v":0},{"$f":"'Челябинский г.о.'!$C$28","v":0},{"$f":"'Челябинский г.о.'!$C$29","v":577.51},{"$f":"'Челябинский г.о.'!$C$34","v":13.23},{"$f":"'Челябинский г.о.'!$C$37","v":0},{"$f":"'Челябинский г.о.'!$C$38","v":0},{"$f":"'Челябинский г.о.'!$C$39","v":0},{"$f":"'Челябинский г.о.'!$C$40","v":0},{"$f":"'Челябинский г.о.'!$C$41","v":0},{"$f":"'Челябинский г.о.'!$C$44","v":2177.34},{"$f":"'Челябинский г.о.'!$C$45","v":2149.19},{"$f":"'Челябинский г.о.'!$C$46","v":0},{"$f":"'Челябинский г.о.'!$C$47","v":0},{"$f":"'Челябинский г.о.'!$C$48","v":0},{"$f":"'Челябинский г.о.'!$C$50","v":0},{"$f":"'Челябинский г.о.'!$C$51","v":0},{"$f":"'Челябинский г.о.'!$C$52","v":0},{"$f":"'Челябинский г.о.'!$C$53","v":0},{"$f":"'Челябинский г.о.'!$C$54","v":0},{"$f":"'Челябинский г.о.'!$C$55","v":0},{"$f":"'Челябинский г.о.'!$C$56","v":545.82000000000005}]
["15","МУП \"Челябинские коммунальные тепловые сети\"",null,{"$f":"'Челябинский г.о.'!$C$7","v":"13,23"},{"$f":"'Челябинский г.о.'!$C$10","v":0},{"$f":"'Челябинский г.о.'!$C$11","v":0},{"$f":"'Челябинский г.о.'!$C$12","v":0},{"$f":"'Челябинский г.о.'!$C$13","v":0},{"$f":"'Челябинский г.о.'!$C$14","v":0},{"$f":"'Челябинский г.о.'!$C$17","v":2376.37},{"$f":"'Челябинский г.о.'!$C$18","v":2243.6799999999998},{"$f":"'Челябинский г.о.'!$C$19","v":0},{"$f":"'Челябинский г.о.'!$C$20","v":0},{"$f":"'Челябинский г.о.'!$C$21","v":0},{"$f":"'Челябинский г.о.'!$C$23","v":0},{"$f":"'Челябинский г.о.'!$C$24","v":0},{"$f":"'Челябинский г.о.'!$C$25","v":0},{"$f":"'Челябинский г.о.'!$C$26","v":0},{"$f":"'Челябинский г.о.'!$C$27","v":0},{"$f":"'Челябинский г.о.'!$C$28","v":0},{"$f":"'Челябинский г.о.'!$C$29","v":577.51},{"$f":"'Челябинский г.о.'!$C$34","v":13.23},{"$f":"'Челябинский г.о.'!$C$37","v":0},{"$f":"'Челябинский г.о.'!$C$38","v":0},{"$f":"'Челябинский г.о.'!$C$39","v":0},{"$f":"'Челябинский г.о.'!$C$40","v":0},{"$f":"'Челябинский г.о.'!$C$41","v":0},{"$f":"'Челябинский г.о.'!$C$44","v":2177.34},{"$f":"'Челябинский г.о.'!$C$45","v":2149.19},{"$f":"'Челябинский г.о.'!$C$46","v":0},{"$f":"'Челябинский г.о.'!$C$47","v":0},{"$f":"'Челябинский г.о.'!$C$48","v":0},{"$f":"'Челябинский г.о.'!$C$50","v":0},{"$f":"'Челябинский г.о.'!$C$51","v":0},{"$f":"'Челябинский г.о.'!$C$52","v":0},{"$f":"'Челябинский г.о.'!$C$53","v":0},{"$f":"'Челябинский г.о.'!$C$54","v":0},{"$f":"'Челябинский г.о.'!$C$55","v":0},{"$f":"'Челябинский г.о.'!$C$56","v":545.82000000000005}]
["16","МУП Дворец спорта \"Юность\"",null,{"$f":"'Челябинский г.о.'!$C$7","v":"13,23"},{"$f":"'Челябинский г.о.'!$C$10","v":0},{"$f":"'Челябинский г.о.'!$C$11","v":0},{"$f":"'Челябинский г.о.'!$C$12","v":0},{"$f":"'Челябинский г.о.'!$C$13","v":0},{"$f":"'Челябинский г.о.'!$C$14","v":0},{"$f":"'Челябинский г.о.'!$C$17","v":2376.37},{"$f":"'Челябинский г.о.'!$C$18","v":2243.6799999999998},{"$f":"'Челябинский г.о.'!$C$19","v":0},{"$f":"'Челябинский г.о.'!$C$20","v":0},{"$f":"'Челябинский г.о.'!$C$21","v":0},{"$f":"'Челябинский г.о.'!$C$23","v":0},{"$f":"'Челябинский г.о.'!$C$24","v":0},{"$f":"'Челябинский г.о.'!$C$25","v":0},{"$f":"'Челябинский г.о.'!$C$26","v":0},{"$f":"'Челябинский г.о.'!$C$27","v":0},{"$f":"'Челябинский г.о.'!$C$28","v":0},{"$f":"'Челябинский г.о.'!$C$29","v":577.51},{"$f":"'Челябинский г.о.'!$C$34","v":13.23},{"$f":"'Челябинский г.о.'!$C$37","v":0},{"$f":"'Челябинский г.о.'!$C$38","v":0},{"$f":"'Челябинский г.о.'!$C$39","v":0},{"$f":"'Челябинский г.о.'!$C$40","v":0},{"$f":"'Челябинский г.о.'!$C$41","v":0},{"$f":"'Челябинский г.о.'!$C$44","v":2177.34},{"$f":"'Челябинский г.о.'!$C$45","v":2149.19},{"$f":"'Челябинский г.о.'!$C$46","v":0},{"$f":"'Челябинский г.о.'!$C$47","v":0},{"$f":"'Челябинский г.о.'!$C$48","v":0},{"$f":"'Челябинский г.о.'!$C$50","v":0},{"$f":"'Челябинский г.о.'!$C$51","v":0},{"$f":"'Челябинский г.о.'!$C$52","v":0},{"$f":"'Челябинский г.о.'!$C$53","v":0},{"$f":"'Челябинский г.о.'!$C$54","v":0},{"$f":"'Челябинский г.о.'!$C$55","v":0},{"$f":"'Челябинский г.о.'!$C$56","v":545.82000000000005}]
["17","ОАО \"БетЭлТранс\"",null,{"$f":"'Челябинский г.о.'!$C$7","v":"13,23"},{"$f":"'Челябинский г.о.'!$C$10","v":0},{"$f":"'Челябинский г.о.'!$C$11","v":0},{"$f":"'Челябинский г.о.'!$C$12","v":0},{"$f":"'Челябинский г.о.'!$C$13","v":0},{"$f":"'Челябинский г.о.'!$C$14","v":0},{"$f":"'Челябинский г.о.'!$C$17","v":2376.37},{"$f":"'Челябинский г.о.'!$C$18","v":2243.6799999999998},{"$f":"'Челябинский г.о.'!$C$19","v":0},{"$f":"'Челябинский г.о.'!$C$20","v":0},{"$f":"'Челябинский г.о.'!$C$21","v":0},{"$f":"'Челябинский г.о.'!$C$23","v":0},{"$f":"'Челябинский г.о.'!$C$24","v":0},{"$f":"'Челябинский г.о.'!$C$25","v":0},{"$f":"'Челябинский г.о.'!$C$26","v":0},{"$f":"'Челябинский г.о.'!$C$27","v":0},{"$f":"'Челябинский г.о.'!$C$28","v":0},{"$f":"'Челябинский г.о.'!$C$29","v":577.51},{"$f":"'Челябинский г.о.'!$C$34","v":13.23},{"$f":"'Челябинский г.о.'!$C$37","v":0},{"$f":"'Челябинский г.о.'!$C$38","v":0},{"$f":"'Челябинский г.о.'!$C$39","v":0},{"$f":"'Челябинский г.о.'!$C$40","v":0},{"$f":"'Челябинский г.о.'!$C$41","v":0},{"$f":"'Челябинский г.о.'!$C$44","v":2177.34},{"$f":"'Челябинский г.о.'!$C$45","v":2149.19},{"$f":"'Челябинский г.о.'!$C$46","v":0},{"$f":"'Челябинский г.о.'!$C$47","v":0},{"$f":"'Челябинский г.о.'!$C$48","v":0},{"$f":"'Челябинский г.о.'!$C$50","v":0},{"$f":"'Челябинский г.о.'!$C$51","v":0},{"$f":"'Челябинский г.о.'!$C$52","v":0},{"$f":"'Челябинский г.о.'!$C$53","v":0},{"$f":"'Челябинский г.о.'!$C$54","v":0},{"$f":"'Челябинский г.о.'!$C$55","v":0},{"$f":"'Челябинский г.о.'!$C$56","v":545.82000000000005}]
["18","ОАО \"Росжелдорстрой\" - филиал Завод ЖБК и СД СМТ \"Стройиндустрия\"",null,{"$f":"'Челябинский г.о.'!$C$7","v":"13,23"},{"$f":"'Челябинский г.о.'!$C$10","v":0},{"$f":"'Челябинский г.о.'!$C$11","v":0},{"$f":"'Челябинский г.о.'!$C$12","v":0},{"$f":"'Челябинский г.о.'!$C$13","v":0},{"$f":"'Челябинский г.о.'!$C$14","v":0},{"$f":"'Челябинский г.о.'!$C$17","v":2376.37},{"$f":"'Челябинский г.о.'!$C$18","v":2243.6799999999998},{"$f":"'Челябинский г.о.'!$C$19","v":0},{"$f":"'Челябинский г.о.'!$C$20","v":0},{"$f":"'Челябинский г.о.'!$C$21","v":0},{"$f":"'Челябинский г.о.'!$C$23","v":0},{"$f":"'Челябинский г.о.'!$C$24","v":0},{"$f":"'Челябинский г.о.'!$C$25","v":0},{"$f":"'Челябинский г.о.'!$C$26","v":0},{"$f":"'Челябинский г.о.'!$C$27","v":0},{"$f":"'Челябинский г.о.'!$C$28","v":0},{"$f":"'Челябинский г.о.'!$C$29","v":577.51},{"$f":"'Челябинский г.о.'!$C$34","v":13.23},{"$f":"'Челябинский г.о.'!$C$37","v":0},{"$f":"'Челябинский г.о.'!$C$38","v":0},{"$f":"'Челябинский г.о.'!$C$39","v":0},{"$f":"'Челябинский г.о.'!$C$40","v":0},{"$f":"'Челябинский г.о.'!$C$41","v":0},{"$f":"'Челябинский г.о.'!$C$44","v":2177.34},{"$f":"'Челябинский г.о.'!$C$45","v":2149.19},{"$f":"'Челябинский г.о.'!$C$46","v":0},{"$f":"'Челябинский г.о.'!$C$47","v":0},{"$f":"'Челябинский г.о.'!$C$48","v":0},{"$f":"'Челябинский г.о.'!$C$50","v":0},{"$f":"'Челябинский г.о.'!$C$51","v":0},{"$f":"'Челябинский г.о.'!$C$52","v":0},{"$f":"'Челябинский г.о.'!$C$53","v":0},{"$f":"'Челябинский г.о.'!$C$54","v":0},{"$f":"'Челябинский г.о.'!$C$55","v":0},{"$f":"'Челябинский г.о.'!$C$56","v":545.82000000000005}]
["19","ОАО \"Трубодеталь\"",null,{"$f":"'Челябинский г.о.'!$C$7","v":"13,23"},{"$f":"'Челябинский г.о.'!$C$10","v":0},{"$f":"'Челябинский г.о.'!$C$11","v":0},{"$f":"'Челябинский г.о.'!$C$12","v":0},{"$f":"'Челябинский г.о.'!$C$13","v":0},{"$f":"'Челябинский г.о.'!$C$14","v":0},{"$f":"'Челябинский г.о.'!$C$17","v":2376.37},{"$f":"'Челябинский г.о.'!$C$18","v":2243.6799999999998},{"$f":"'Челябинский г.о.'!$C$19","v":0},{"$f":"'Челябинский г.о.'!$C$20","v":0},{"$f":"'Челябинский г.о.'!$C$21","v":0},{"$f":"'Челябинский г.о.'!$C$23","v":0},{"$f":"'Челябинский г.о.'!$C$24","v":0},{"$f":"'Челябинский г.о.'!$C$25","v":0},{"$f":"'Челябинский г.о.'!$C$26","v":0},{"$f":"'Челябинский г.о.'!$C$27","v":0},{"$f":"'Челябинский г.о.'!$C$28","v":0},{"$f":"'Челябинский г.о.'!$C$29","v":577.51},{"$f":"'Челябинский г.о.'!$C$34","v":13.23},{"$f":"'Челябинский г.о.'!$C$37","v":0},{"$f":"'Челябинский г.о.'!$C$38","v":0},{"$f":"'Челябинский г.о.'!$C$39","v":0},{"$f":"'Челябинский г.о.'!$C$40","v":0},{"$f":"'Челябинский г.о.'!$C$41","v":0},{"$f":"'Челябинский г.о.'!$C$44","v":2177.34},{"$f":"'Челябинский г.о.'!$C$45","v":2149.19},{"$f":"'Челябинский г.о.'!$C$46","v":0},{"$f":"'Челябинский г.о.'!$C$47","v":0},{"$f":"'Челябинский г.о.'!$C$48","v":0},{"$f":"'Челябинский г.о.'!$C$50","v":0},{"$f":"'Челябинский г.о.'!$C$51","v":0},{"$f":"'Челябинский г.о.'!$C$52","v":0},{"$f":"'Челябинский г.о.'!$C$53","v":0},{"$f":"'Челябинский г.о.'!$C$54","v":0},{"$f":"'Челябинский г.о.'!$C$55","v":0},{"$f":"'Челябинский г.о.'!$C$56","v":545.82000000000005}]
["20","ОАО \"Уральский электродный институт\"",null,{"$f":"'Челябинский г.о.'!$C$7","v":"13,23"},{"$f":"'Челябинский г.о.'!$C$10","v":0},{"$f":"'Челябинский г.о.'!$C$11","v":0},{"$f":"'Челябинский г.о.'!$C$12","v":0},{"$f":"'Челябинский г.о.'!$C$13","v":0},{"$f":"'Челябинский г.о.'!$C$14","v":0},{"$f":"'Челябинский г.о.'!$C$17","v":2376.37},{"$f":"'Челябинский г.о.'!$C$18","v":2243.6799999999998},{"$f":"'Челябинский г.о.'!$C$19","v":0},{"$f":"'Челябинский г.о.'!$C$20","v":0},{"$f":"'Челябинский г.о.'!$C$21","v":0},{"$f":"'Челябинский г.о.'!$C$23","v":0},{"$f":"'Челябинский г.о.'!$C$24","v":0},{"$f":"'Челябинский г.о.'!$C$25","v":0},{"$f":"'Челябинский г.о.'!$C$26","v":0},{"$f":"'Челябинский г.о.'!$C$27","v":0},{"$f":"'Челябинский г.о.'!$C$28","v":0},{"$f":"'Челябинский г.о.'!$C$29","v":577.51},{"$f":"'Челябинский г.о.'!$C$34","v":13.23},{"$f":"'Челябинский г.о.'!$C$37","v":0},{"$f":"'Челябинский г.о.'!$C$38","v":0},{"$f":"'Челябинский г.о.'!$C$39","v":0},{"$f":"'Челябинский г.о.'!$C$40","v":0},{"$f":"'Челябинский г.о.'!$C$41","v":0},{"$f":"'Челябинский г.о.'!$C$44","v":2177.34},{"$f":"'Челябинский г.о.'!$C$45","v":2149.19},{"$f":"'Челябинский г.о.'!$C$46","v":0},{"$f":"'Челябинский г.о.'!$C$47","v":0},{"$f":"'Челябинский г.о.'!$C$48","v":0},{"$f":"'Челябинский г.о.'!$C$50","v":0},{"$f":"'Челябинский г.о.'!$C$51","v":0},{"$f":"'Челябинский г.о.'!$C$52","v":0},{"$f":"'Челябинский г.о.'!$C$53","v":0},{"$f":"'Челябинский г.о.'!$C$54","v":0},{"$f":"'Челябинский г.о.'!$C$55","v":0},{"$f":"'Челябинский г.о.'!$C$56","v":545.82000000000005}]
["21","ОАО \"Челябгипромез-недвижимость\"",null,{"$f":"'Челябинский г.о.'!$C$7","v":"13,23"},{"$f":"'Челябинский г.о.'!$C$10","v":0},{"$f":"'Челябинский г.о.'!$C$11","v":0},{"$f":"'Челябинский г.о.'!$C$12","v":0},{"$f":"'Челябинский г.о.'!$C$13","v":0},{"$f":"'Челябинский г.о.'!$C$14","v":0},{"$f":"'Челябинский г.о.'!$C$17","v":2376.37},{"$f":"'Челябинский г.о.'!$C$18","v":2243.6799999999998},{"$f":"'Челябинский г.о.'!$C$19","v":0},{"$f":"'Челябинский г.о.'!$C$20","v":0},{"$f":"'Челябинский г.о.'!$C$21","v":0},{"$f":"'Челябинский г.о.'!$C$23","v":0},{"$f":"'Челябинский г.о.'!$C$24","v":0},{"$f":"'Челябинский г.о.'!$C$25","v":0},{"$f":"'Челябинский г.о.'!$C$26","v":0},{"$f":"'Челябинский г.о.'!$C$27","v":0},{"$f":"'Челябинский г.о.'!$C$28","v":0},{"$f":"'Челябинский г.о.'!$C$29","v":577.51},{"$f":"'Челябинский г.о.'!$C$34","v":13.23},{"$f":"'Челябинский г.о.'!$C$37","v":0},{"$f":"'Челябинский г.о.'!$C$38","v":0},{"$f":"'Челябинский г.о.'!$C$39","v":0},{"$f":"'Челябинский г.о.'!$C$40","v":0},{"$f":"'Челябинский г.о.'!$C$41","v":0},{"$f":"'Челябинский г.о.'!$C$44","v":2177.34},{"$f":"'Челябинский г.о.'!$C$45","v":2149.19},{"$f":"'Челябинский г.о.'!$C$46","v":0},{"$f":"'Челябинский г.о.'!$C$47","v":0},{"$f":"'Челябинский г.о.'!$C$48","v":0},{"$f":"'Челябинский г.о.'!$C$50","v":0},{"$f":"'Челябинский г.о.'!$C$51","v":0},{"$f":"'Челябинский г.о.'!$C$52","v":0},{"$f":"'Челябинский г.о.'!$C$53","v":0},{"$f":"'Челябинский г.о.'!$C$54","v":0},{"$f":"'Челябинский г.о.'!$C$55","v":0},{"$f":"'Челябинский г.о.'!$C$56","v":545.82000000000005}]
["22","ОАО \"Челябкоммунэнерго\" (Челябинский городской округ)",null,{"$f":"'Челябинский г.о.'!$C$7","v":"13,23"},{"$f":"'Челябинский г.о.'!$C$10","v":0},{"$f":"'Челябинский г.о.'!$C$11","v":0},{"$f":"'Челябинский г.о.'!$C$12","v":0},{"$f":"'Челябинский г.о.'!$C$13","v":0},{"$f":"'Челябинский г.о.'!$C$14","v":0},{"$f":"'Челябинский г.о.'!$C$17","v":2376.37},{"$f":"'Челябинский г.о.'!$C$18","v":2243.6799999999998},{"$f":"'Челябинский г.о.'!$C$19","v":0},{"$f":"'Челябинский г.о.'!$C$20","v":0},{"$f":"'Челябинский г.о.'!$C$21","v":0},{"$f":"'Челябинский г.о.'!$C$23","v":0},{"$f":"'Челябинский г.о.'!$C$24","v":0},{"$f":"'Челябинский г.о.'!$C$25","v":0},{"$f":"'Челябинский г.о.'!$C$26","v":0},{"$f":"'Челябинский г.о.'!$C$27","v":0},{"$f":"'Челябинский г.о.'!$C$28","v":0},{"$f":"'Челябинский г.о.'!$C$29","v":577.51},{"$f":"'Челябинский г.о.'!$C$34","v":13.23},{"$f":"'Челябинский г.о.'!$C$37","v":0},{"$f":"'Челябинский г.о.'!$C$38","v":0},{"$f":"'Челябинский г.о.'!$C$39","v":0},{"$f":"'Челябинский г.о.'!$C$40","v":0},{"$f":"'Челябинский г.о.'!$C$41","v":0},{"$f":"'Челябинский г.о.'!$C$44","v":2177.34},{"$f":"'Челябинский г.о.'!$C$45","v":2149.19},{"$f":"'Челябинский г.о.'!$C$46","v":0},{"$f":"'Челябинский г.о.'!$C$47","v":0},{"$f":"'Челябинский г.о.'!$C$48","v":0},{"$f":"'Челябинский г.о.'!$C$50","v":0},{"$f":"'Челябинский г.о.'!$C$51","v":0},{"$f":"'Челябинский г.о.'!$C$52","v":0},{"$f":"'Челябинский г.о.'!$C$53","v":0},{"$f":"'Челябинский г.о.'!$C$54","v":0},{"$f":"'Челябинский г.о.'!$C$55","v":0},{"$f":"'Челябинский г.о.'!$C$56","v":545.82000000000005}]
["23","ОАО \"Электромашина\"",null,{"$f":"'Челябинский г.о.'!$C$7","v":"13,23"},{"$f":"'Челябинский г.о.'!$C$10","v":0},{"$f":"'Челябинский г.о.'!$C$11","v":0},{"$f":"'Челябинский г.о.'!$C$12","v":0},{"$f":"'Челябинский г.о.'!$C$13","v":0},{"$f":"'Челябинский г.о.'!$C$14","v":0},{"$f":"'Челябинский г.о.'!$C$17","v":2376.37},{"$f":"'Челябинский г.о.'!$C$18","v":2243.6799999999998},{"$f":"'Челябинский г.о.'!$C$19","v":0},{"$f":"'Челябинский г.о.'!$C$20","v":0},{"$f":"'Челябинский г.о.'!$C$21","v":0},{"$f":"'Челябинский г.о.'!$C$23","v":0},{"$f":"'Челябинский г.о.'!$C$24","v":0},{"$f":"'Челябинский г.о.'!$C$25","v":0},{"$f":"'Челябинский г.о.'!$C$26","v":0},{"$f":"'Челябинский г.о.'!$C$27","v":0},{"$f":"'Челябинский г.о.'!$C$28","v":0},{"$f":"'Челябинский г.о.'!$C$29","v":577.51},{"$f":"'Челябинский г.о.'!$C$34","v":13.23},{"$f":"'Челябинский г.о.'!$C$37","v":0},{"$f":"'Челябинский г.о.'!$C$38","v":0},{"$f":"'Челябинский г.о.'!$C$39","v":0},{"$f":"'Челябинский г.о.'!$C$40","v":0},{"$f":"'Челябинский г.о.'!$C$41","v":0},{"$f":"'Челябинский г.о.'!$C$44","v":2177.34},{"$f":"'Челябинский г.о.'!$C$45","v":2149.19},{"$f":"'Челябинский г.о.'!$C$46","v":0},{"$f":"'Челябинский г.о.'!$C$47","v":0},{"$f":"'Челябинский г.о.'!$C$48","v":0},{"$f":"'Челябинский г.о.'!$C$50","v":0},{"$f":"'Челябинский г.о.'!$C$51","v":0},{"$f":"'Челябинский г.о.'!$C$52","v":0},{"$f":"'Челябинский г.о.'!$C$53","v":0},{"$f":"'Челябинский г.о.'!$C$54","v":0},{"$f":"'Челябинский г.о.'!$C$55","v":0},{"$f":"'Челябинский г.о.'!$C$56","v":545.82000000000005}]
["24","ОАО \"Энергопром-Челябинский Электродный завод\"",null,{"$f":"'Челябинский г.о.'!$C$7","v":"13,23"},{"$f":"'Челябинский г.о.'!$C$10","v":0},{"$f":"'Челябинский г.о.'!$C$11","v":0},{"$f":"'Челябинский г.о.'!$C$12","v":0},{"$f":"'Челябинский г.о.'!$C$13","v":0},{"$f":"'Челябинский г.о.'!$C$14","v":0},{"$f":"'Челябинский г.о.'!$C$17","v":2376.37},{"$f":"'Челябинский г.о.'!$C$18","v":2243.6799999999998},{"$f":"'Челябинский г.о.'!$C$19","v":0},{"$f":"'Челябинский г.о.'!$C$20","v":0},{"$f":"'Челябинский г.о.'!$C$21","v":0},{"$f":"'Челябинский г.о.'!$C$23","v":0},{"$f":"'Челябинский г.о.'!$C$24","v":0},{"$f":"'Челябинский г.о.'!$C$25","v":0},{"$f":"'Челябинский г.о.'!$C$26","v":0},{"$f":"'Челябинский г.о.'!$C$27","v":0},{"$f":"'Челябинский г.о.'!$C$28","v":0},{"$f":"'Челябинский г.о.'!$C$29","v":577.51},{"$f":"'Челябинский г.о.'!$C$34","v":13.23},{"$f":"'Челябинский г.о.'!$C$37","v":0},{"$f":"'Челябинский г.о.'!$C$38","v":0},{"$f":"'Челябинский г.о.'!$C$39","v":0},{"$f":"'Челябинский г.о.'!$C$40","v":0},{"$f":"'Челябинский г.о.'!$C$41","v":0},{"$f":"'Челябинский г.о.'!$C$44","v":2177.34},{"$f":"'Челябинский г.о.'!$C$45","v":2149.19},{"$f":"'Челябинский г.о.'!$C$46","v":0},{"$f":"'Челябинский г.о.'!$C$47","v":0},{"$f":"'Челябинский г.о.'!$C$48","v":0},{"$f":"'Челябинский г.о.'!$C$50","v":0},{"$f":"'Челябинский г.о.'!$C$51","v":0},{"$f":"'Челябинский г.о.'!$C$52","v":0},{"$f":"'Челябинский г.о.'!$C$53","v":0},{"$f":"'Челябинский г.о.'!$C$54","v":0},{"$f":"'Челябинский г.о.'!$C$55","v":0},{"$f":"'Челябинский г.о.'!$C$56","v":545.82000000000005}]
["25","ОАО \"Южуралкондитер\"",null,{"$f":"'Челябинский г.о.'!$C$7","v":"13,23"},{"$f":"'Челябинский г.о.'!$C$10","v":0},{"$f":"'Челябинский г.о.'!$C$11","v":0},{"$f":"'Челябинский г.о.'!$C$12","v":0},{"$f":"'Челябинский г.о.'!$C$13","v":0},{"$f":"'Челябинский г.о.'!$C$14","v":0},{"$f":"'Челябинский г.о.'!$C$17","v":2376.37},{"$f":"'Челябинский г.о.'!$C$18","v":2243.6799999999998},{"$f":"'Челябинский г.о.'!$C$19","v":0},{"$f":"'Челябинский г.о.'!$C$20","v":0},{"$f":"'Челябинский г.о.'!$C$21","v":0},{"$f":"'Челябинский г.о.'!$C$23","v":0},{"$f":"'Челябинский г.о.'!$C$24","v":0},{"$f":"'Челябинский г.о.'!$C$25","v":0},{"$f":"'Челябинский г.о.'!$C$26","v":0},{"$f":"'Челябинский г.о.'!$C$27","v":0},{"$f":"'Челябинский г.о.'!$C$28","v":0},{"$f":"'Челябинский г.о.'!$C$29","v":577.51},{"$f":"'Челябинский г.о.'!$C$34","v":13.23},{"$f":"'Челябинский г.о.'!$C$37","v":0},{"$f":"'Челябинский г.о.'!$C$38","v":0},{"$f":"'Челябинский г.о.'!$C$39","v":0},{"$f":"'Челябинский г.о.'!$C$40","v":0},{"$f":"'Челябинский г.о.'!$C$41","v":0},{"$f":"'Челябинский г.о.'!$C$44","v":2177.34},{"$f":"'Челябинский г.о.'!$C$45","v":2149.19},{"$f":"'Челябинский г.о.'!$C$46","v":0},{"$f":"'Челябинский г.о.'!$C$47","v":0},{"$f":"'Челябинский г.о.'!$C$48","v":0},{"$f":"'Челябинский г.о.'!$C$50","v":0},{"$f":"'Челябинский г.о.'!$C$51","v":0},{"$f":"'Челябинский г.о.'!$C$52","v":0},{"$f":"'Челябинский г.о.'!$C$53","v":0},{"$f":"'Челябинский г.о.'!$C$54","v":0},{"$f":"'Челябинский г.о.'!$C$55","v":0},{"$f":"'Челябинский г.о.'!$C$56","v":545.82000000000005}]
["26","ООО ПК «Южуралмебель»",null,{"$f":"'Челябинский г.о.'!$C$7","v":"13,23"},{"$f":"'Челябинский г.о.'!$C$10","v":0},{"$f":"'Челябинский г.о.'!$C$11","v":0},{"$f":"'Челябинский г.о.'!$C$12","v":0},{"$f":"'Челябинский г.о.'!$C$13","v":0},{"$f":"'Челябинский г.о.'!$C$14","v":0},{"$f":"'Челябинский г.о.'!$C$17","v":2376.37},{"$f":"'Челябинский г.о.'!$C$18","v":2243.6799999999998},{"$f":"'Челябинский г.о.'!$C$19","v":0},{"$f":"'Челябинский г.о.'!$C$20","v":0},{"$f":"'Челябинский г.о.'!$C$21","v":0},{"$f":"'Челябинский г.о.'!$C$23","v":0},{"$f":"'Челябинский г.о.'!$C$24","v":0},{"$f":"'Челябинский г.о.'!$C$25","v":0},{"$f":"'Челябинский г.о.'!$C$26","v":0},{"$f":"'Челябинский г.о.'!$C$27","v":0},{"$f":"'Челябинский г.о.'!$C$28","v":0},{"$f":"'Челябинский г.о.'!$C$29","v":577.51},{"$f":"'Челябинский г.о.'!$C$34","v":13.23},{"$f":"'Челябинский г.о.'!$C$37","v":0},{"$f":"'Челябинский г.о.'!$C$38","v":0},{"$f":"'Челябинский г.о.'!$C$39","v":0},{"$f":"'Челябинский г.о.'!$C$40","v":0},{"$f":"'Челябинский г.о.'!$C$41","v":0},{"$f":"'Челябинский г.о.'!$C$44","v":2177.34},{"$f":"'Челябинский г.о.'!$C$45","v":2149.19},{"$f":"'Челябинский г.о.'!$C$46","v":0},{"$f":"'Челябинский г.о.'!$C$47","v":0},{"$f":"'Челябинский г.о.'!$C$48","v":0},{"$f":"'Челябинский г.о.'!$C$50","v":0},{"$f":"'Челябинский г.о.'!$C$51","v":0},{"$f":"'Челябинский г.о.'!$C$52","v":0},{"$f":"'Челябинский г.о.'!$C$53","v":0},{"$f":"'Челябинский г.о.'!$C$54","v":0},{"$f":"'Челябинский г.о.'!$C$55","v":0},{"$f":"'Челябинский г.о.'!$C$56","v":545.82000000000005}]
["27","ОГУП \"Областная казна\"",null,{"$f":"'Челябинский г.о.'!$C$7","v":"13,23"},{"$f":"'Челябинский г.о.'!$C$10","v":0},{"$f":"'Челябинский г.о.'!$C$11","v":0},{"$f":"'Челябинский г.о.'!$C$12","v":0},{"$f":"'Челябинский г.о.'!$C$13","v":0},{"$f":"'Челябинский г.о.'!$C$14","v":0},{"$f":"'Челябинский г.о.'!$C$17","v":2376.37},{"$f":"'Челябинский г.о.'!$C$18","v":2243.6799999999998},{"$f":"'Челябинский г.о.'!$C$19","v":0},{"$f":"'Челябинский г.о.'!$C$20","v":0},{"$f":"'Челябинский г.о.'!$C$21","v":0},{"$f":"'Челябинский г.о.'!$C$23","v":0},{"$f":"'Челябинский г.о.'!$C$24","v":0},{"$f":"'Челябинский г.о.'!$C$25","v":0},{"$f":"'Челябинский г.о.'!$C$26","v":0},{"$f":"'Челябинский г.о.'!$C$27","v":0},{"$f":"'Челябинский г.о.'!$C$28","v":0},{"$f":"'Челябинский г.о.'!$C$29","v":577.51},{"$f":"'Челябинский г.о.'!$C$34","v":13.23},{"$f":"'Челябинский г.о.'!$C$37","v":0},{"$f":"'Челябинский г.о.'!$C$38","v":0},{"$f":"'Челябинский г.о.'!$C$39","v":0},{"$f":"'Челябинский г.о.'!$C$40","v":0},{"$f":"'Челябинский г.о.'!$C$41","v":0},{"$f":"'Челябинский г.о.'!$C$44","v":2177.34},{"$f":"'Челябинский г.о.'!$C$45","v":2149.19},{"$f":"'Челябинский г.о.'!$C$46","v":0},{"$f":"'Челябинский г.о.'!$C$47","v":0},{"$f":"'Челябинский г.о.'!$C$48","v":0},{"$f":"'Челябинский г.о.'!$C$50","v":0},{"$f":"'Челябинский г.о.'!$C$51","v":0},{"$f":"'Челябинский г.о.'!$C$52","v":0},{"$f":"'Челябинский г.о.'!$C$53","v":0},{"$f":"'Челябинский г.о.'!$C$54","v":0},{"$f":"'Челябинский г.о.'!$C$55","v":0},{"$f":"'Челябинский г.о.'!$C$56","v":545.82000000000005}]
["28","ООО \"Альтернативная топливно-энергетическая компания\"",null,{"$f":"'Челябинский г.о.'!$C$7","v":"13,23"},{"$f":"'Челябинский г.о.'!$C$10","v":0},{"$f":"'Челябинский г.о.'!$C$11","v":0},{"$f":"'Челябинский г.о.'!$C$12","v":0},{"$f":"'Челябинский г.о.'!$C$13","v":0},{"$f":"'Челябинский г.о.'!$C$14","v":0},{"$f":"'Челябинский г.о.'!$C$17","v":2376.37},{"$f":"'Челябинский г.о.'!$C$18","v":2243.6799999999998},{"$f":"'Челябинский г.о.'!$C$19","v":0},{"$f":"'Челябинский г.о.'!$C$20","v":0},{"$f":"'Челябинский г.о.'!$C$21","v":0},{"$f":"'Челябинский г.о.'!$C$23","v":0},{"$f":"'Челябинский г.о.'!$C$24","v":0},{"$f":"'Челябинский г.о.'!$C$25","v":0},{"$f":"'Челябинский г.о.'!$C$26","v":0},{"$f":"'Челябинский г.о.'!$C$27","v":0},{"$f":"'Челябинский г.о.'!$C$28","v":0},{"$f":"'Челябинский г.о.'!$C$29","v":577.51},{"$f":"'Челябинский г.о.'!$C$34","v":13.23},{"$f":"'Челябинский г.о.'!$C$37","v":0},{"$f":"'Челябинский г.о.'!$C$38","v":0},{"$f":"'Челябинский г.о.'!$C$39","v":0},{"$f":"'Челябинский г.о.'!$C$40","v":0},{"$f":"'Челябинский г.о.'!$C$41","v":0},{"$f":"'Челябинский г.о.'!$C$44","v":2177.34},{"$f":"'Челябинский г.о.'!$C$45","v":2149.19},{"$f":"'Челябинский г.о.'!$C$46","v":0},{"$f":"'Челябинский г.о.'!$C$47","v":0},{"$f":"'Челябинский г.о.'!$C$48","v":0},{"$f":"'Челябинский г.о.'!$C$50","v":0},{"$f":"'Челябинский г.о.'!$C$51","v":0},{"$f":"'Челябинский г.о.'!$C$52","v":0},{"$f":"'Челябинский г.о.'!$C$53","v":0},{"$f":"'Челябинский г.о.'!$C$54","v":0},{"$f":"'Челябинский г.о.'!$C$55","v":0},{"$f":"'Челябинский г.о.'!$C$56","v":545.82000000000005}]
["29","ООО \"ВПК ЧелПром\"",null,{"$f":"'Челябинский г.о.'!$C$7","v":"13,23"},{"$f":"'Челябинский г.о.'!$C$10","v":0},{"$f":"'Челябинский г.о.'!$C$11","v":0},{"$f":"'Челябинский г.о.'!$C$12","v":0},{"$f":"'Челябинский г.о.'!$C$13","v":0},{"$f":"'Челябинский г.о.'!$C$14","v":0},{"$f":"'Челябинский г.о.'!$C$17","v":2376.37},{"$f":"'Челябинский г.о.'!$C$18","v":2243.6799999999998},{"$f":"'Челябинский г.о.'!$C$19","v":0},{"$f":"'Челябинский г.о.'!$C$20","v":0},{"$f":"'Челябинский г.о.'!$C$21","v":0},{"$f":"'Челябинский г.о.'!$C$23","v":0},{"$f":"'Челябинский г.о.'!$C$24","v":0},{"$f":"'Челябинский г.о.'!$C$25","v":0},{"$f":"'Челябинский г.о.'!$C$26","v":0},{"$f":"'Челябинский г.о.'!$C$27","v":0},{"$f":"'Челябинский г.о.'!$C$28","v":0},{"$f":"'Челябинский г.о.'!$C$29","v":577.51},{"$f":"'Челябинский г.о.'!$C$34","v":13.23},{"$f":"'Челябинский г.о.'!$C$37","v":0},{"$f":"'Челябинский г.о.'!$C$38","v":0},{"$f":"'Челябинский г.о.'!$C$39","v":0},{"$f":"'Челябинский г.о.'!$C$40","v":0},{"$f":"'Челябинский г.о.'!$C$41","v":0},{"$f":"'Челябинский г.о.'!$C$44","v":2177.34},{"$f":"'Челябинский г.о.'!$C$45","v":2149.19},{"$f":"'Челябинский г.о.'!$C$46","v":0},{"$f":"'Челябинский г.о.'!$C$47","v":0},{"$f":"'Челябинский г.о.'!$C$48","v":0},{"$f":"'Челябинский г.о.'!$C$50","v":0},{"$f":"'Челябинский г.о.'!$C$51","v":0},{"$f":"'Челябинский г.о.'!$C$52","v":0},{"$f":"'Челябинский г.о.'!$C$53","v":0},{"$f":"'Челябинский г.о.'!$C$54","v":0},{"$f":"'Челябинский г.о.'!$C$55","v":0},{"$f":"'Челябинский г.о.'!$C$56","v":545.82000000000005}]
["30","ООО \"Геоинвест\"",null,{"$f":"'Челябинский г.о.'!$C$7","v":"13,23"},{"$f":"'Челябинский г.о.'!$C$10","v":0},{"$f":"'Челябинский г.о.'!$C$11","v":0},{"$f":"'Челябинский г.о.'!$C$12","v":0},{"$f":"'Челябинский г.о.'!$C$13","v":0},{"$f":"'Челябинский г.о.'!$C$14","v":0},{"$f":"'Челябинский г.о.'!$C$17","v":2376.37},{"$f":"'Челябинский г.о.'!$C$18","v":2243.6799999999998},{"$f":"'Челябинский г.о.'!$C$19","v":0},{"$f":"'Челябинский г.о.'!$C$20","v":0},{"$f":"'Челябинский г.о.'!$C$21","v":0},{"$f":"'Челябинский г.о.'!$C$23","v":0},{"$f":"'Челябинский г.о.'!$C$24","v":0},{"$f":"'Челябинский г.о.'!$C$25","v":0},{"$f":"'Челябинский г.о.'!$C$26","v":0},{"$f":"'Челябинский г.о.'!$C$27","v":0},{"$f":"'Челябинский г.о.'!$C$28","v":0},{"$f":"'Челябинский г.о.'!$C$29","v":577.51},{"$f":"'Челябинский г.о.'!$C$34","v":13.23},{"$f":"'Челябинский г.о.'!$C$37","v":0},{"$f":"'Челябинский г.о.'!$C$38","v":0},{"$f":"'Челябинский г.о.'!$C$39","v":0},{"$f":"'Челябинский г.о.'!$C$40","v":0},{"$f":"'Челябинский г.о.'!$C$41","v":0},{"$f":"'Челябинский г.о.'!$C$44","v":2177.34},{"$f":"'Челябинский г.о.'!$C$45","v":2149.19},{"$f":"'Челябинский г.о.'!$C$46","v":0},{"$f":"'Челябинский г.о.'!$C$47","v":0},{"$f":"'Челябинский г.о.'!$C$48","v":0},{"$f":"'Челябинский г.о.'!$C$50","v":0},{"$f":"'Челябинский г.о.'!$C$51","v":0},{"$f":"'Челябинский г.о.'!$C$52","v":0},{"$f":"'Челябинский г.о.'!$C$53","v":0},{"$f":"'Челябинский г.о.'!$C$54","v":0},{"$f":"'Челябинский г.о.'!$C$55","v":0},{"$f":"'Челябинский г.о.'!$C$56","v":545.82000000000005}]
["31","ООО \"ЛУКОЙЛ-Уралнефтепродукт\"",null,{"$f":"'Челябинский г.о.'!$C$7","v":"13,23"},{"$f":"'Челябинский г.о.'!$C$10","v":0},{"$f":"'Челябинский г.о.'!$C$11","v":0},{"$f":"'Челябинский г.о.'!$C$12","v":0},{"$f":"'Челябинский г.о.'!$C$13","v":0},{"$f":"'Челябинский г.о.'!$C$14","v":0},{"$f":"'Челябинский г.о.'!$C$17","v":2376.37},{"$f":"'Челябинский г.о.'!$C$18","v":2243.6799999999998},{"$f":"'Челябинский г.о.'!$C$19","v":0},{"$f":"'Челябинский г.о.'!$C$20","v":0},{"$f":"'Челябинский г.о.'!$C$21","v":0},{"$f":"'Челябинский г.о.'!$C$23","v":0},{"$f":"'Челябинский г.о.'!$C$24","v":0},{"$f":"'Челябинский г.о.'!$C$25","v":0},{"$f":"'Челябинский г.о.'!$C$26","v":0},{"$f":"'Челябинский г.о.'!$C$27","v":0},{"$f":"'Челябинский г.о.'!$C$28","v":0},{"$f":"'Челябинский г.о.'!$C$29","v":577.51},{"$f":"'Челябинский г.о.'!$C$34","v":13.23},{"$f":"'Челябинский г.о.'!$C$37","v":0},{"$f":"'Челябинский г.о.'!$C$38","v":0},{"$f":"'Челябинский г.о.'!$C$39","v":0},{"$f":"'Челябинский г.о.'!$C$40","v":0},{"$f":"'Челябинский г.о.'!$C$41","v":0},{"$f":"'Челябинский г.о.'!$C$44","v":2177.34},{"$f":"'Челябинский г.о.'!$C$45","v":2149.19},{"$f":"'Челябинский г.о.'!$C$46","v":0},{"$f":"'Челябинский г.о.'!$C$47","v":0},{"$f":"'Челябинский г.о.'!$C$48","v":0},{"$f":"'Челябинский г.о.'!$C$50","v":0},{"$f":"'Челябинский г.о.'!$C$51","v":0},{"$f":"'Челябинский г.о.'!$C$52","v":0},{"$f":"'Челябинский г.о.'!$C$53","v":0},{"$f":"'Челябинский г.о.'!$C$54","v":0},{"$f":"'Челябинский г.о.'!$C$55","v":0},{"$f":"'Челябинский г.о.'!$C$56","v":545.82000000000005}]
["32","ООО \"МОЛНИЯ-ЭНЕРГО\"",null,{"$f":"'Челябинский г.о.'!$C$7","v":"13,23"},{"$f":"'Челябинский г.о.'!$C$10","v":0},{"$f":"'Челябинский г.о.'!$C$11","v":0},{"$f":"'Челябинский г.о.'!$C$12","v":0},{"$f":"'Челябинский г.о.'!$C$13","v":0},{"$f":"'Челябинский г.о.'!$C$14","v":0},{"$f":"'Челябинский г.о.'!$C$17","v":2376.37},{"$f":"'Челябинский г.о.'!$C$18","v":2243.6799999999998},{"$f":"'Челябинский г.о.'!$C$19","v":0},{"$f":"'Челябинский г.о.'!$C$20","v":0},{"$f":"'Челябинский г.о.'!$C$21","v":0},{"$f":"'Челябинский г.о.'!$C$23","v":0},{"$f":"'Челябинский г.о.'!$C$24","v":0},{"$f":"'Челябинский г.о.'!$C$25","v":0},{"$f":"'Челябинский г.о.'!$C$26","v":0},{"$f":"'Челябинский г.о.'!$C$27","v":0},{"$f":"'Челябинский г.о.'!$C$28","v":0},{"$f":"'Челябинский г.о.'!$C$29","v":577.51},{"$f":"'Челябинский г.о.'!$C$34","v":13.23},{"$f":"'Челябинский г.о.'!$C$37","v":0},{"$f":"'Челябинский г.о.'!$C$38","v":0},{"$f":"'Челябинский г.о.'!$C$39","v":0},{"$f":"'Челябинский г.о.'!$C$40","v":0},{"$f":"'Челябинский г.о.'!$C$41","v":0},{"$f":"'Челябинский г.о.'!$C$44","v":2177.34},{"$f":"'Челябинский г.о.'!$C$45","v":2149.19},{"$f":"'Челябинский г.о.'!$C$46","v":0},{"$f":"'Челябинский г.о.'!$C$47","v":0},{"$f":"'Челябинский г.о.'!$C$48","v":0},{"$f":"'Челябинский г.о.'!$C$50","v":0},{"$f":"'Челябинский г.о.'!$C$51","v":0},{"$f":"'Челябинский г.о.'!$C$52","v":0},{"$f":"'Челябинский г.о.'!$C$53","v":0},{"$f":"'Челябинский г.о.'!$C$54","v":0},{"$f":"'Челябинский г.о.'!$C$55","v":0},{"$f":"'Челябинский г.о.'!$C$56","v":545.82000000000005}]
["33","ООО \"Новосинеглазовский завод строительных материалов\"",null,{"$f":"'Челябинский г.о.'!$C$7","v":"13,23"},{"$f":"'Челябинский г.о.'!$C$10","v":0},{"$f":"'Челябинский г.о.'!$C$11","v":0},{"$f":"'Челябинский г.о.'!$C$12","v":0},{"$f":"'Челябинский г.о.'!$C$13","v":0},{"$f":"'Челябинский г.о.'!$C$14","v":0},{"$f":"'Челябинский г.о.'!$C$17","v":2376.37},{"$f":"'Челябинский г.о.'!$C$18","v":2243.6799999999998},{"$f":"'Челябинский г.о.'!$C$19","v":0},{"$f":"'Челябинский г.о.'!$C$20","v":0},{"$f":"'Челябинский г.о.'!$C$21","v":0},{"$f":"'Челябинский г.о.'!$C$23","v":0},{"$f":"'Челябинский г.о.'!$C$24","v":0},{"$f":"'Челябинский г.о.'!$C$25","v":0},{"$f":"'Челябинский г.о.'!$C$26","v":0},{"$f":"'Челябинский г.о.'!$C$27","v":0},{"$f":"'Челябинский г.о.'!$C$28","v":0},{"$f":"'Челябинский г.о.'!$C$29","v":577.51},{"$f":"'Челябинский г.о.'!$C$34","v":13.23},{"$f":"'Челябинский г.о.'!$C$37","v":0},{"$f":"'Челябинский г.о.'!$C$38","v":0},{"$f":"'Челябинский г.о.'!$C$39","v":0},{"$f":"'Челябинский г.о.'!$C$40","v":0},{"$f":"'Челябинский г.о.'!$C$41","v":0},{"$f":"'Челябинский г.о.'!$C$44","v":2177.34},{"$f":"'Челябинский г.о.'!$C$45","v":2149.19},{"$f":"'Челябинский г.о.'!$C$46","v":0},{"$f":"'Челябинский г.о.'!$C$47","v":0},{"$f":"'Челябинский г.о.'!$C$48","v":0},{"$f":"'Челябинский г.о.'!$C$50","v":0},{"$f":"'Челябинский г.о.'!$C$51","v":0},{"$f":"'Челябинский г.о.'!$C$52","v":0},{"$f":"'Челябинский г.о.'!$C$53","v":0},{"$f":"'Челябинский г.о.'!$C$54","v":0},{"$f":"'Челябинский г.о.'!$C$55","v":0},{"$f":"'Челябинский г.о.'!$C$56","v":545.82000000000005}]
["34","ООО \"Объединение \"Союзпищепром\"",null,{"$f":"'Челябинский г.о.'!$C$7","v":"13,23"},{"$f":"'Челябинский г.о.'!$C$10","v":0},{"$f":"'Челябинский г.о.'!$C$11","v":0},{"$f":"'Челябинский г.о.'!$C$12","v":0},{"$f":"'Челябинский г.о.'!$C$13","v":0},{"$f":"'Челябинский г.о.'!$C$14","v":0},{"$f":"'Челябинский г.о.'!$C$17","v":2376.37},{"$f":"'Челябинский г.о.'!$C$18","v":2243.6799999999998},{"$f":"'Челябинский г.о.'!$C$19","v":0},{"$f":"'Челябинский г.о.'!$C$20","v":0},{"$f":"'Челябинский г.о.'!$C$21","v":0},{"$f":"'Челябинский г.о.'!$C$23","v":0},{"$f":"'Челябинский г.о.'!$C$24","v":0},{"$f":"'Челябинский г.о.'!$C$25","v":0},{"$f":"'Челябинский г.о.'!$C$26","v":0},{"$f":"'Челябинский г.о.'!$C$27","v":0},{"$f":"'Челябинский г.о.'!$C$28","v":0},{"$f":"'Челябинский г.о.'!$C$29","v":577.51},{"$f":"'Челябинский г.о.'!$C$34","v":13.23},{"$f":"'Челябинский г.о.'!$C$37","v":0},{"$f":"'Челябинский г.о.'!$C$38","v":0},{"$f":"'Челябинский г.о.'!$C$39","v":0},{"$f":"'Челябинский г.о.'!$C$40","v":0},{"$f":"'Челябинский г.о.'!$C$41","v":0},{"$f":"'Челябинский г.о.'!$C$44","v":2177.34},{"$f":"'Челябинский г.о.'!$C$45","v":2149.19},{"$f":"'Челябинский г.о.'!$C$46","v":0},{"$f":"'Челябинский г.о.'!$C$47","v":0},{"$f":"'Челябинский г.о.'!$C$48","v":0},{"$f":"'Челябинский г.о.'!$C$50","v":0},{"$f":"'Челябинский г.о.'!$C$51","v":0},{"$f":"'Челябинский г.о.'!$C$52","v":0},{"$f":"'Челябинский г.о.'!$C$53","v":0},{"$f":"'Челябинский г.о.'!$C$54","v":0},{"$f":"'Челябинский г.о.'!$C$55","v":0},{"$f":"'Челябинский г.о.'!$C$56","v":545.82000000000005}]
["35","ООО \"Оптсинтез\"",null,{"$f":"'Челябинский г.о.'!$C$7","v":"13,23"},{"$f":"'Челябинский г.о.'!$C$10","v":0},{"$f":"'Челябинский г.о.'!$C$11","v":0},{"$f":"'Челябинский г.о.'!$C$12","v":0},{"$f":"'Челябинский г.о.'!$C$13","v":0},{"$f":"'Челябинский г.о.'!$C$14","v":0},{"$f":"'Челябинский г.о.'!$C$17","v":2376.37},{"$f":"'Челябинский г.о.'!$C$18","v":2243.6799999999998},{"$f":"'Челябинский г.о.'!$C$19","v":0},{"$f":"'Челябинский г.о.'!$C$20","v":0},{"$f":"'Челябинский г.о.'!$C$21","v":0},{"$f":"'Челябинский г.о.'!$C$23","v":0},{"$f":"'Челябинский г.о.'!$C$24","v":0},{"$f":"'Челябинский г.о.'!$C$25","v":0},{"$f":"'Челябинский г.о.'!$C$26","v":0},{"$f":"'Челябинский г.о.'!$C$27","v":0},{"$f":"'Челябинский г.о.'!$C$28","v":0},{"$f":"'Челябинский г.о.'!$C$29","v":577.51},{"$f":"'Челябинский г.о.'!$C$34","v":13.23},{"$f":"'Челябинский г.о.'!$C$37","v":0},{"$f":"'Челябинский г.о.'!$C$38","v":0},{"$f":"'Челябинский г.о.'!$C$39","v":0},{"$f":"'Челябинский г.о.'!$C$40","v":0},{"$f":"'Челябинский г.о.'!$C$41","v":0},{"$f":"'Челябинский г.о.'!$C$44","v":2177.34},{"$f":"'Челябинский г.о.'!$C$45","v":2149.19},{"$f":"'Челябинский г.о.'!$C$46","v":0},{"$f":"'Челябинский г.о.'!$C$47","v":0},{"$f":"'Челябинский г.о.'!$C$48","v":0},{"$f":"'Челябинский г.о.'!$C$50","v":0},{"$f":"'Челябинский г.о.'!$C$51","v":0},{"$f":"'Челябинский г.о.'!$C$52","v":0},{"$f":"'Челябинский г.о.'!$C$53","v":0},{"$f":"'Челябинский г.о.'!$C$54","v":0},{"$f":"'Челябинский г.о.'!$C$55","v":0},{"$f":"'Челябинский г.о.'!$C$56","v":545.82000000000005}]
["36","ООО \"ПетроПак\"",null,{"$f":"'Челябинский г.о.'!$C$7","v":"13,23"},{"$f":"'Челябинский г.о.'!$C$10","v":0},{"$f":"'Челябинский г.о.'!$C$11","v":0},{"$f":"'Челябинский г.о.'!$C$12","v":0},{"$f":"'Челябинский г.о.'!$C$13","v":0},{"$f":"'Челябинский г.о.'!$C$14","v":0},{"$f":"'Челябинский г.о.'!$C$17","v":2376.37},{"$f":"'Челябинский г.о.'!$C$18","v":2243.6799999999998},{"$f":"'Челябинский г.о.'!$C$19","v":0},{"$f":"'Челябинский г.о.'!$C$20","v":0},{"$f":"'Челябинский г.о.'!$C$21","v":0},{"$f":"'Челябинский г.о.'!$C$23","v":0},{"$f":"'Челябинский г.о.'!$C$24","v":0},{"$f":"'Челябинский г.о.'!$C$25","v":0},{"$f":"'Челябинский г.о.'!$C$26","v":0},{"$f":"'Челябинский г.о.'!$C$27","v":0},{"$f":"'Челябинский г.о.'!$C$28","v":0},{"$f":"'Челябинский г.о.'!$C$29","v":577.51},{"$f":"'Челябинский г.о.'!$C$34","v":13.23},{"$f":"'Челябинский г.о.'!$C$37","v":0},{"$f":"'Челябинский г.о.'!$C$38","v":0},{"$f":"'Челябинский г.о.'!$C$39","v":0},{"$f":"'Челябинский г.о.'!$C$40","v":0},{"$f":"'Челябинский г.о.'!$C$41","v":0},{"$f":"'Челябинский г.о.'!$C$44","v":2177.34},{"$f":"'Челябинский г.о.'!$C$45","v":2149.19},{"$f":"'Челябинский г.о.'!$C$46","v":0},{"$f":"'Челябинский г.о.'!$C$47","v":0},{"$f":"'Челябинский г.о.'!$C$48","v":0},{"$f":"'Челябинский г.о.'!$C$50","v":0},{"$f":"'Челябинский г.о.'!$C$51","v":0},{"$f":"'Челябинский г.о.'!$C$52","v":0},{"$f":"'Челябинский г.о.'!$C$53","v":0},{"$f":"'Челябинский г.о.'!$C$54","v":0},{"$f":"'Челябинский г.о.'!$C$55","v":0},{"$f":"'Челябинский г.о.'!$C$56","v":545.82000000000005}]
["37","ООО \"ПлазаДевелопментСервис\" (Челябинский городской округ)",null,{"$f":"'Челябинский г.о.'!$C$7","v":"13,23"},{"$f":"'Челябинский г.о.'!$C$10","v":0},{"$f":"'Челябинский г.о.'!$C$11","v":0},{"$f":"'Челябинский г.о.'!$C$12","v":0},{"$f":"'Челябинский г.о.'!$C$13","v":0},{"$f":"'Челябинский г.о.'!$C$14","v":0},{"$f":"'Челябинский г.о.'!$C$17","v":2376.37},{"$f":"'Челябинский г.о.'!$C$18","v":2243.6799999999998},{"$f":"'Челябинский г.о.'!$C$19","v":0},{"$f":"'Челябинский г.о.'!$C$20","v":0},{"$f":"'Челябинский г.о.'!$C$21","v":0},{"$f":"'Челябинский г.о.'!$C$23","v":0},{"$f":"'Челябинский г.о.'!$C$24","v":0},{"$f":"'Челябинский г.о.'!$C$25","v":0},{"$f":"'Челябинский г.о.'!$C$26","v":0},{"$f":"'Челябинский г.о.'!$C$27","v":0},{"$f":"'Челябинский г.о.'!$C$28","v":0},{"$f":"'Челябинский г.о.'!$C$29","v":577.51},{"$f":"'Челябинский г.о.'!$C$34","v":13.23},{"$f":"'Челябинский г.о.'!$C$37","v":0},{"$f":"'Челябинский г.о.'!$C$38","v":0},{"$f":"'Челябинский г.о.'!$C$39","v":0},{"$f":"'Челябинский г.о.'!$C$40","v":0},{"$f":"'Челябинский г.о.'!$C$41","v":0},{"$f":"'Челябинский г.о.'!$C$44","v":2177.34},{"$f":"'Челябинский г.о.'!$C$45","v":2149.19},{"$f":"'Челябинский г.о.'!$C$46","v":0},{"$f":"'Челябинский г.о.'!$C$47","v":0},{"$f":"'Челябинский г.о.'!$C$48","v":0},{"$f":"'Челябинский г.о.'!$C$50","v":0},{"$f":"'Челябинский г.о.'!$C$51","v":0},{"$f":"'Челябинский г.о.'!$C$52","v":0},{"$f":"'Челябинский г.о.'!$C$53","v":0},{"$f":"'Челябинский г.о.'!$C$54","v":0},{"$f":"'Челябинский г.о.'!$C$55","v":0},{"$f":"'Челябинский г.о.'!$C$56","v":545.82000000000005}]
["38","ООО \"СИТИ-ПАРК Энерго\"",null,{"$f":"'Челябинский г.о.'!$C$7","v":"13,23"},{"$f":"'Челябинский г.о.'!$C$10","v":0},{"$f":"'Челябинский г.о.'!$C$11","v":0},{"$f":"'Челябинский г.о.'!$C$12","v":0},{"$f":"'Челябинский г.о.'!$C$13","v":0},{"$f":"'Челябинский г.о.'!$C$14","v":0},{"$f":"'Челябинский г.о.'!$C$17","v":2376.37},{"$f":"'Челябинский г.о.'!$C$18","v":2243.6799999999998},{"$f":"'Челябинский г.о.'!$C$19","v":0},{"$f":"'Челябинский г.о.'!$C$20","v":0},{"$f":"'Челябинский г.о.'!$C$21","v":0},{"$f":"'Челябинский г.о.'!$C$23","v":0},{"$f":"'Челябинский г.о.'!$C$24","v":0},{"$f":"'Челябинский г.о.'!$C$25","v":0},{"$f":"'Челябинский г.о.'!$C$26","v":0},{"$f":"'Челябинский г.о.'!$C$27","v":0},{"$f":"'Челябинский г.о.'!$C$28","v":0},{"$f":"'Челябинский г.о.'!$C$29","v":577.51},{"$f":"'Челябинский г.о.'!$C$34","v":13.23},{"$f":"'Челябинский г.о.'!$C$37","v":0},{"$f":"'Челябинский г.о.'!$C$38","v":0},{"$f":"'Челябинский г.о.'!$C$39","v":0},{"$f":"'Челябинский г.о.'!$C$40","v":0},{"$f":"'Челябинский г.о.'!$C$41","v":0},{"$f":"'Челябинский г.о.'!$C$44","v":2177.34},{"$f":"'Челябинский г.о.'!$C$45","v":2149.19},{"$f":"'Челябинский г.о.'!$C$46","v":0},{"$f":"'Челябинский г.о.'!$C$47","v":0},{"$f":"'Челябинский г.о.'!$C$48","v":0},{"$f":"'Челябинский г.о.'!$C$50","v":0},{"$f":"'Челябинский г.о.'!$C$51","v":0},{"$f":"'Челябинский г.о.'!$C$52","v":0},{"$f":"'Челябинский г.о.'!$C$53","v":0},{"$f":"'Челябинский г.о.'!$C$54","v":0},{"$f":"'Челябинский г.о.'!$C$55","v":0},{"$f":"'Челябинский г.о.'!$C$56","v":545.82000000000005}]
["39","ООО \"Тепловая котельная \"Западная\"",null,{"$f":"'Челябинский г.о.'!$C$7","v":"13,23"},{"$f":"'Челябинский г.о.'!$C$10","v":0},{"$f":"'Челябинский г.о.'!$C$11","v":0},{"$f":"'Челябинский г.о.'!$C$12","v":0},{"$f":"'Челябинский г.о.'!$C$13","v":0},{"$f":"'Челябинский г.о.'!$C$14","v":0},{"$f":"'Челябинский г.о.'!$C$17","v":2376.37},{"$f":"'Челябинский г.о.'!$C$18","v":2243.6799999999998},{"$f":"'Челябинский г.о.'!$C$19","v":0},{"$f":"'Челябинский г.о.'!$C$20","v":0},{"$f":"'Челябинский г.о.'!$C$21","v":0},{"$f":"'Челябинский г.о.'!$C$23","v":0},{"$f":"'Челябинский г.о.'!$C$24","v":0},{"$f":"'Челябинский г.о.'!$C$25","v":0},{"$f":"'Челябинский г.о.'!$C$26","v":0},{"$f":"'Челябинский г.о.'!$C$27","v":0},{"$f":"'Челябинский г.о.'!$C$28","v":0},{"$f":"'Челябинский г.о.'!$C$29","v":577.51},{"$f":"'Челябинский г.о.'!$C$34","v":13.23},{"$f":"'Челябинский г.о.'!$C$37","v":0},{"$f":"'Челябинский г.о.'!$C$38","v":0},{"$f":"'Челябинский г.о.'!$C$39","v":0},{"$f":"'Челябинский г.о.'!$C$40","v":0},{"$f":"'Челябинский г.о.'!$C$41","v":0},{"$f":"'Челябинский г.о.'!$C$44","v":2177.34},{"$f":"'Челябинский г.о.'!$C$45","v":2149.19},{"$f":"'Челябинский г.о.'!$C$46","v":0},{"$f":"'Челябинский г.о.'!$C$47","v":0},{"$f":"'Челябинский г.о.'!$C$48","v":0},{"$f":"'Челябинский г.о.'!$C$50","v":0},{"$f":"'Челябинский г.о.'!$C$51","v":0},{"$f":"'Челябинский г.о.'!$C$52","v":0},{"$f":"'Челябинский г.о.'!$C$53","v":0},{"$f":"'Челябинский г.о.'!$C$54","v":0},{"$f":"'Челябинский г.о.'!$C$55","v":0},{"$f":"'Челябинский г.о.'!$C$56","v":545.82000000000005}]
["40","ООО \"Тепловые электрические сети и системы\" (Челябинский городской округ)",null,{"$f":"'Челябинский г.о.'!$C$7","v":"13,23"},{"$f":"'Челябинский г.о.'!$C$10","v":0},{"$f":"'Челябинский г.о.'!$C$11","v":0},{"$f":"'Челябинский г.о.'!$C$12","v":0},{"$f":"'Челябинский г.о.'!$C$13","v":0},{"$f":"'Челябинский г.о.'!$C$14","v":0},{"$f":"'Челябинский г.о.'!$C$17","v":2376.37},{"$f":"'Челябинский г.о.'!$C$18","v":2243.6799999999998},{"$f":"'Челябинский г.о.'!$C$19","v":0},{"$f":"'Челябинский г.о.'!$C$20","v":0},{"$f":"'Челябинский г.о.'!$C$21","v":0},{"$f":"'Челябинский г.о.'!$C$23","v":0},{"$f":"'Челябинский г.о.'!$C$24","v":0},{"$f":"'Челябинский г.о.'!$C$25","v":0},{"$f":"'Челябинский г.о.'!$C$26","v":0},{"$f":"'Челябинский г.о.'!$C$27","v":0},{"$f":"'Челябинский г.о.'!$C$28","v":0},{"$f":"'Челябинский г.о.'!$C$29","v":577.51},{"$f":"'Челябинский г.о.'!$C$34","v":13.23},{"$f":"'Челябинский г.о.'!$C$37","v":0},{"$f":"'Челябинский г.о.'!$C$38","v":0},{"$f":"'Челябинский г.о.'!$C$39","v":0},{"$f":"'Челябинский г.о.'!$C$40","v":0},{"$f":"'Челябинский г.о.'!$C$41","v":0},{"$f":"'Челябинский г.о.'!$C$44","v":2177.34},{"$f":"'Челябинский г.о.'!$C$45","v":2149.19},{"$f":"'Челябинский г.о.'!$C$46","v":0},{"$f":"'Челябинский г.о.'!$C$47","v":0},{"$f":"'Челябинский г.о.'!$C$48","v":0},{"$f":"'Челябинский г.о.'!$C$50","v":0},{"$f":"'Челябинский г.о.'!$C$51","v":0},{"$f":"'Челябинский г.о.'!$C$52","v":0},{"$f":"'Челябинский г.о.'!$C$53","v":0},{"$f":"'Челябинский г.о.'!$C$54","v":0},{"$f":"'Челябинский г.о.'!$C$55","v":0},{"$f":"'Челябинский г.о.'!$C$56","v":545.82000000000005}]
["41","ООО \"Теплосбыт\"",null,{"$f":"'Челябинский г.о.'!$C$7","v":"13,23"},{"$f":"'Челябинский г.о.'!$C$10","v":0},{"$f":"'Челябинский г.о.'!$C$11","v":0},{"$f":"'Челябинский г.о.'!$C$12","v":0},{"$f":"'Челябинский г.о.'!$C$13","v":0},{"$f":"'Челябинский г.о.'!$C$14","v":0},{"$f":"'Челябинский г.о.'!$C$17","v":2376.37},{"$f":"'Челябинский г.о.'!$C$18","v":2243.6799999999998},{"$f":"'Челябинский г.о.'!$C$19","v":0},{"$f":"'Челябинский г.о.'!$C$20","v":0},{"$f":"'Челябинский г.о.'!$C$21","v":0},{"$f":"'Челябинский г.о.'!$C$23","v":0},{"$f":"'Челябинский г.о.'!$C$24","v":0},{"$f":"'Челябинский г.о.'!$C$25","v":0},{"$f":"'Челябинский г.о.'!$C$26","v":0},{"$f":"'Челябинский г.о.'!$C$27","v":0},{"$f":"'Челябинский г.о.'!$C$28","v":0},{"$f":"'Челябинский г.о.'!$C$29","v":577.51},{"$f":"'Челябинский г.о.'!$C$34","v":13.23},{"$f":"'Челябинский г.о.'!$C$37","v":0},{"$f":"'Челябинский г.о.'!$C$38","v":0},{"$f":"'Челябинский г.о.'!$C$39","v":0},{"$f":"'Челябинский г.о.'!$C$40","v":0},{"$f":"'Челябинский г.о.'!$C$41","v":0},{"$f":"'Челябинский г.о.'!$C$44","v":2177.34},{"$f":"'Челябинский г.о.'!$C$45","v":2149.19},{"$f":"'Челябинский г.о.'!$C$46","v":0},{"$f":"'Челябинский г.о.'!$C$47","v":0},{"$f":"'Челябинский г.о.'!$C$48","v":0},{"$f":"'Челябинский г.о.'!$C$50","v":0},{"$f":"'Челябинский г.о.'!$C$51","v":0},{"$f":"'Челябинский г.о.'!$C$52","v":0},{"$f":"'Челябинский г.о.'!$C$53","v":0},{"$f":"'Челябинский г.о.'!$C$54","v":0},{"$f":"'Челябинский г.о.'!$C$55","v":0},{"$f":"'Челябинский г.о.'!$C$56","v":545.82000000000005}]
["42","ООО \"Теплосервис\" (Челябинский городской округ)",null,{"$f":"'Челябинский г.о.'!$C$7","v":"13,23"},{"$f":"'Челябинский г.о.'!$C$10","v":0},{"$f":"'Челябинский г.о.'!$C$11","v":0},{"$f":"'Челябинский г.о.'!$C$12","v":0},{"$f":"'Челябинский г.о.'!$C$13","v":0},{"$f":"'Челябинский г.о.'!$C$14","v":0},{"$f":"'Челябинский г.о.'!$C$17","v":2376.37},{"$f":"'Челябинский г.о.'!$C$18","v":2243.6799999999998},{"$f":"'Челябинский г.о.'!$C$19","v":0},{"$f":"'Челябинский г.о.'!$C$20","v":0},{"$f":"'Челябинский г.о.'!$C$21","v":0},{"$f":"'Челябинский г.о.'!$C$23","v":0},{"$f":"'Челябинский г.о.'!$C$24","v":0},{"$f":"'Челябинский г.о.'!$C$25","v":0},{"$f":"'Челябинский г.о.'!$C$26","v":0},{"$f":"'Челябинский г.о.'!$C$27","v":0},{"$f":"'Челябинский г.о.'!$C$28","v":0},{"$f":"'Челябинский г.о.'!$C$29","v":577.51},{"$f":"'Челябинский г.о.'!$C$34","v":13.23},{"$f":"'Челябинский г.о.'!$C$37","v":0},{"$f":"'Челябинский г.о.'!$C$38","v":0},{"$f":"'Челябинский г.о.'!$C$39","v":0},{"$f":"'Челябинский г.о.'!$C$40","v":0},{"$f":"'Челябинский г.о.'!$C$41","v":0},{"$f":"'Челябинский г.о.'!$C$44","v":2177.34},{"$f":"'Челябинский г.о.'!$C$45","v":2149.19},{"$f":"'Челябинский г.о.'!$C$46","v":0},{"$f":"'Челябинский г.о.'!$C$47","v":0},{"$f":"'Челябинский г.о.'!$C$48","v":0},{"$f":"'Челябинский г.о.'!$C$50","v":0},{"$f":"'Челябинский г.о.'!$C$51","v":0},{"$f":"'Челябинский г.о.'!$C$52","v":0},{"$f":"'Челябинский г.о.'!$C$53","v":0},{"$f":"'Челябинский г.о.'!$C$54","v":0},{"$f":"'Челябинский г.о.'!$C$55","v":0},{"$f":"'Челябинский г.о.'!$C$56","v":545.82000000000005}]
["43","ООО \"Теплоснабжающая организация\"",null,{"$f":"'Челябинский г.о.'!$C$7","v":"13,23"},{"$f":"'Челябинский г.о.'!$C$10","v":0},{"$f":"'Челябинский г.о.'!$C$11","v":0},{"$f":"'Челябинский г.о.'!$C$12","v":0},{"$f":"'Челябинский г.о.'!$C$13","v":0},{"$f":"'Челябинский г.о.'!$C$14","v":0},{"$f":"'Челябинский г.о.'!$C$17","v":2376.37},{"$f":"'Челябинский г.о.'!$C$18","v":2243.6799999999998},{"$f":"'Челябинский г.о.'!$C$19","v":0},{"$f":"'Челябинский г.о.'!$C$20","v":0},{"$f":"'Челябинский г.о.'!$C$21","v":0},{"$f":"'Челябинский г.о.'!$C$23","v":0},{"$f":"'Челябинский г.о.'!$C$24","v":0},{"$f":"'Челябинский г.о.'!$C$25","v":0},{"$f":"'Челябинский г.о.'!$C$26","v":0},{"$f":"'Челябинский г.о.'!$C$27","v":0},{"$f":"'Челябинский г.о.'!$C$28","v":0},{"$f":"'Челябинский г.о.'!$C$29","v":577.51},{"$f":"'Челябинский г.о.'!$C$34","v":13.23},{"$f":"'Челябинский г.о.'!$C$37","v":0},{"$f":"'Челябинский г.о.'!$C$38","v":0},{"$f":"'Челябинский г.о.'!$C$39","v":0},{"$f":"'Челябинский г.о.'!$C$40","v":0},{"$f":"'Челябинский г.о.'!$C$41","v":0},{"$f":"'Челябинский г.о.'!$C$44","v":2177.34},{"$f":"'Челябинский г.о.'!$C$45","v":2149.19},{"$f":"'Челябинский г.о.'!$C$46","v":0},{"$f":"'Челябинский г.о.'!$C$47","v":0},{"$f":"'Челябинский г.о.'!$C$48","v":0},{"$f":"'Челябинский г.о.'!$C$50","v":0},{"$f":"'Челябинский г.о.'!$C$51","v":0},{"$f":"'Челябинский г.о.'!$C$52","v":0},{"$f":"'Челябинский г.о.'!$C$53","v":0},{"$f":"'Челябинский г.о.'!$C$54","v":0},{"$f":"'Челябинский г.о.'!$C$55","v":0},{"$f":"'Челябинский г.о.'!$C$56","v":545.82000000000005}]
["44","ООО \"Теплоэнергосбыт\"",null,{"$f":"'Челябинский г.о.'!$C$7","v":"13,23"},{"$f":"'Челябинский г.о.'!$C$10","v":0},{"$f":"'Челябинский г.о.'!$C$11","v":0},{"$f":"'Челябинский г.о.'!$C$12","v":0},{"$f":"'Челябинский г.о.'!$C$13","v":0},{"$f":"'Челябинский г.о.'!$C$14","v":0},{"$f":"'Челябинский г.о.'!$C$17","v":2376.37},{"$f":"'Челябинский г.о.'!$C$18","v":2243.6799999999998},{"$f":"'Челябинский г.о.'!$C$19","v":0},{"$f":"'Челябинский г.о.'!$C$20","v":0},{"$f":"'Челябинский г.о.'!$C$21","v":0},{"$f":"'Челябинский г.о.'!$C$23","v":0},{"$f":"'Челябинский г.о.'!$C$24","v":0},{"$f":"'Челябинский г.о.'!$C$25","v":0},{"$f":"'Челябинский г.о.'!$C$26","v":0},{"$f":"'Челябинский г.о.'!$C$27","v":0},{"$f":"'Челябинский г.о.'!$C$28","v":0},{"$f":"'Челябинский г.о.'!$C$29","v":577.51},{"$f":"'Челябинский г.о.'!$C$34","v":13.23},{"$f":"'Челябинский г.о.'!$C$37","v":0},{"$f":"'Челябинский г.о.'!$C$38","v":0},{"$f":"'Челябинский г.о.'!$C$39","v":0},{"$f":"'Челябинский г.о.'!$C$40","v":0},{"$f":"'Челябинский г.о.'!$C$41","v":0},{"$f":"'Челябинский г.о.'!$C$44","v":2177.34},{"$f":"'Челябинский г.о.'!$C$45","v":2149.19},{"$f":"'Челябинский г.о.'!$C$46","v":0},{"$f":"'Челябинский г.о.'!$C$47","v":0},{"$f":"'Челябинский г.о.'!$C$48","v":0},{"$f":"'Челябинский г.о.'!$C$50","v":0},{"$f":"'Челябинский г.о.'!$C$51","v":0},{"$f":"'Челябинский г.о.'!$C$52","v":0},{"$f":"'Челябинский г.о.'!$C$53","v":0},{"$f":"'Челябинский г.о.'!$C$54","v":0},{"$f":"'Челябинский г.о.'!$C$55","v":0},{"$f":"'Челябинский г.о.'!$C$56","v":545.82000000000005}]
["45","ООО \"Терминал-Ч\"",null,{"$f":"'Челябинский г.о.'!$C$7","v":"13,23"},{"$f":"'Челябинский г.о.'!$C$10","v":0},{"$f":"'Челябинский г.о.'!$C$11","v":0},{"$f":"'Челябинский г.о.'!$C$12","v":0},{"$f":"'Челябинский г.о.'!$C$13","v":0},{"$f":"'Челябинский г.о.'!$C$14","v":0},{"$f":"'Челябинский г.о.'!$C$17","v":2376.37},{"$f":"'Челябинский г.о.'!$C$18","v":2243.6799999999998},{"$f":"'Челябинский г.о.'!$C$19","v":0},{"$f":"'Челябинский г.о.'!$C$20","v":0},{"$f":"'Челябинский г.о.'!$C$21","v":0},{"$f":"'Челябинский г.о.'!$C$23","v":0},{"$f":"'Челябинский г.о.'!$C$24","v":0},{"$f":"'Челябинский г.о.'!$C$25","v":0},{"$f":"'Челябинский г.о.'!$C$26","v":0},{"$f":"'Челябинский г.о.'!$C$27","v":0},{"$f":"'Челябинский г.о.'!$C$28","v":0},{"$f":"'Челябинский г.о.'!$C$29","v":577.51},{"$f":"'Челябинский г.о.'!$C$34","v":13.23},{"$f":"'Челябинский г.о.'!$C$37","v":0},{"$f":"'Челябинский г.о.'!$C$38","v":0},{"$f":"'Челябинский г.о.'!$C$39","v":0},{"$f":"'Челябинский г.о.'!$C$40","v":0},{"$f":"'Челябинский г.о.'!$C$41","v":0},{"$f":"'Челябинский г.о.'!$C$44","v":2177.34},{"$f":"'Челябинский г.о.'!$C$45","v":2149.19},{"$f":"'Челябинский г.о.'!$C$46","v":0},{"$f":"'Челябинский г.о.'!$C$47","v":0},{"$f":"'Челябинский г.о.'!$C$48","v":0},{"$f":"'Челябинский г.о.'!$C$50","v":0},{"$f":"'Челябинский г.о.'!$C$51","v":0},{"$f":"'Челябинский г.о.'!$C$52","v":0},{"$f":"'Челябинский г.о.'!$C$53","v":0},{"$f":"'Челябинский г.о.'!$C$54","v":0},{"$f":"'Челябинский г.о.'!$C$55","v":0},{"$f":"'Челябинский г.о.'!$C$56","v":545.82000000000005}]
["46","ООО \"Термогаз\"",null,{"$f":"'Челябинский г.о.'!$C$7","v":"13,23"},{"$f":"'Челябинский г.о.'!$C$10","v":0},{"$f":"'Челябинский г.о.'!$C$11","v":0},{"$f":"'Челябинский г.о.'!$C$12","v":0},{"$f":"'Челябинский г.о.'!$C$13","v":0},{"$f":"'Челябинский г.о.'!$C$14","v":0},{"$f":"'Челябинский г.о.'!$C$17","v":2376.37},{"$f":"'Челябинский г.о.'!$C$18","v":2243.6799999999998},{"$f":"'Челябинский г.о.'!$C$19","v":0},{"$f":"'Челябинский г.о.'!$C$20","v":0},{"$f":"'Челябинский г.о.'!$C$21","v":0},{"$f":"'Челябинский г.о.'!$C$23","v":0},{"$f":"'Челябинский г.о.'!$C$24","v":0},{"$f":"'Челябинский г.о.'!$C$25","v":0},{"$f":"'Челябинский г.о.'!$C$26","v":0},{"$f":"'Челябинский г.о.'!$C$27","v":0},{"$f":"'Челябинский г.о.'!$C$28","v":0},{"$f":"'Челябинский г.о.'!$C$29","v":577.51},{"$f":"'Челябинский г.о.'!$C$34","v":13.23},{"$f":"'Челябинский г.о.'!$C$37","v":0},{"$f":"'Челябинский г.о.'!$C$38","v":0},{"$f":"'Челябинский г.о.'!$C$39","v":0},{"$f":"'Челябинский г.о.'!$C$40","v":0},{"$f":"'Челябинский г.о.'!$C$41","v":0},{"$f":"'Челябинский г.о.'!$C$44","v":2177.34},{"$f":"'Челябинский г.о.'!$C$45","v":2149.19},{"$f":"'Челябинский г.о.'!$C$46","v":0},{"$f":"'Челябинский г.о.'!$C$47","v":0},{"$f":"'Челябинский г.о.'!$C$48","v":0},{"$f":"'Челябинский г.о.'!$C$50","v":0},{"$f":"'Челябинский г.о.'!$C$51","v":0},{"$f":"'Челябинский г.о.'!$C$52","v":0},{"$f":"'Челябинский г.о.'!$C$53","v":0},{"$f":"'Челябинский г.о.'!$C$54","v":0},{"$f":"'Челябинский г.о.'!$C$55","v":0},{"$f":"'Челябинский г.о.'!$C$56","v":545.82000000000005}]
["47","ООО \"Управляющая компания \"РЭККОМ\"",null,{"$f":"'Челябинский г.о.'!$C$7","v":"13,23"},{"$f":"'Челябинский г.о.'!$C$10","v":0},{"$f":"'Челябинский г.о.'!$C$11","v":0},{"$f":"'Челябинский г.о.'!$C$12","v":0},{"$f":"'Челябинский г.о.'!$C$13","v":0},{"$f":"'Челябинский г.о.'!$C$14","v":0},{"$f":"'Челябинский г.о.'!$C$17","v":2376.37},{"$f":"'Челябинский г.о.'!$C$18","v":2243.6799999999998},{"$f":"'Челябинский г.о.'!$C$19","v":0},{"$f":"'Челябинский г.о.'!$C$20","v":0},{"$f":"'Челябинский г.о.'!$C$21","v":0},{"$f":"'Челябинский г.о.'!$C$23","v":0},{"$f":"'Челябинский г.о.'!$C$24","v":0},{"$f":"'Челябинский г.о.'!$C$25","v":0},{"$f":"'Челябинский г.о.'!$C$26","v":0},{"$f":"'Челябинский г.о.'!$C$27","v":0},{"$f":"'Челябинский г.о.'!$C$28","v":0},{"$f":"'Челябинский г.о.'!$C$29","v":577.51},{"$f":"'Челябинский г.о.'!$C$34","v":13.23},{"$f":"'Челябинский г.о.'!$C$37","v":0},{"$f":"'Челябинский г.о.'!$C$38","v":0},{"$f":"'Челябинский г.о.'!$C$39","v":0},{"$f":"'Челябинский г.о.'!$C$40","v":0},{"$f":"'Челябинский г.о.'!$C$41","v":0},{"$f":"'Челябинский г.о.'!$C$44","v":2177.34},{"$f":"'Челябинский г.о.'!$C$45","v":2149.19},{"$f":"'Челябинский г.о.'!$C$46","v":0},{"$f":"'Челябинский г.о.'!$C$47","v":0},{"$f":"'Челябинский г.о.'!$C$48","v":0},{"$f":"'Челябинский г.о.'!$C$50","v":0},{"$f":"'Челябинский г.о.'!$C$51","v":0},{"$f":"'Челябинский г.о.'!$C$52","v":0},{"$f":"'Челябинский г.о.'!$C$53","v":0},{"$f":"'Челябинский г.о.'!$C$54","v":0},{"$f":"'Челябинский г.о.'!$C$55","v":0},{"$f":"'Челябинский г.о.'!$C$56","v":545.82000000000005}]
["48","ООО \"ЧКПЗ-Энерго\"",null,{"$f":"'Челябинский г.о.'!$C$7","v":"13,23"},{"$f":"'Челябинский г.о.'!$C$10","v":0},{"$f":"'Челябинский г.о.'!$C$11","v":0},{"$f":"'Челябинский г.о.'!$C$12","v":0},{"$f":"'Челябинский г.о.'!$C$13","v":0},{"$f":"'Челябинский г.о.'!$C$14","v":0},{"$f":"'Челябинский г.о.'!$C$17","v":2376.37},{"$f":"'Челябинский г.о.'!$C$18","v":2243.6799999999998},{"$f":"'Челябинский г.о.'!$C$19","v":0},{"$f":"'Челябинский г.о.'!$C$20","v":0},{"$f":"'Челябинский г.о.'!$C$21","v":0},{"$f":"'Челябинский г.о.'!$C$23","v":0},{"$f":"'Челябинский г.о.'!$C$24","v":0},{"$f":"'Челябинский г.о.'!$C$25","v":0},{"$f":"'Челябинский г.о.'!$C$26","v":0},{"$f":"'Челябинский г.о.'!$C$27","v":0},{"$f":"'Челябинский г.о.'!$C$28","v":0},{"$f":"'Челябинский г.о.'!$C$29","v":577.51},{"$f":"'Челябинский г.о.'!$C$34","v":13.23},{"$f":"'Челябинский г.о.'!$C$37","v":0},{"$f":"'Челябинский г.о.'!$C$38","v":0},{"$f":"'Челябинский г.о.'!$C$39","v":0},{"$f":"'Челябинский г.о.'!$C$40","v":0},{"$f":"'Челябинский г.о.'!$C$41","v":0},{"$f":"'Челябинский г.о.'!$C$44","v":2177.34},{"$f":"'Челябинский г.о.'!$C$45","v":2149.19},{"$f":"'Челябинский г.о.'!$C$46","v":0},{"$f":"'Челябинский г.о.'!$C$47","v":0},{"$f":"'Челябинский г.о.'!$C$48","v":0},{"$f":"'Челябинский г.о.'!$C$50","v":0},{"$f":"'Челябинский г.о.'!$C$51","v":0},{"$f":"'Челябинский г.о.'!$C$52","v":0},{"$f":"'Челябинский г.о.'!$C$53","v":0},{"$f":"'Челябинский г.о.'!$C$54","v":0},{"$f":"'Челябинский г.о.'!$C$55","v":0},{"$f":"'Челябинский г.о.'!$C$56","v":545.82000000000005}]
["49","ООО \"ЧТЗ-УРАЛТРАК\"",null,{"$f":"'Челябинский г.о.'!$C$7","v":"13,23"},{"$f":"'Челябинский г.о.'!$C$10","v":0},{"$f":"'Челябинский г.о.'!$C$11","v":0},{"$f":"'Челябинский г.о.'!$C$12","v":0},{"$f":"'Челябинский г.о.'!$C$13","v":0},{"$f":"'Челябинский г.о.'!$C$14","v":0},{"$f":"'Челябинский г.о.'!$C$17","v":2376.37},{"$f":"'Челябинский г.о.'!$C$18","v":2243.6799999999998},{"$f":"'Челябинский г.о.'!$C$19","v":0},{"$f":"'Челябинский г.о.'!$C$20","v":0},{"$f":"'Челябинский г.о.'!$C$21","v":0},{"$f":"'Челябинский г.о.'!$C$23","v":0},{"$f":"'Челябинский г.о.'!$C$24","v":0},{"$f":"'Челябинский г.о.'!$C$25","v":0},{"$f":"'Челябинский г.о.'!$C$26","v":0},{"$f":"'Челябинский г.о.'!$C$27","v":0},{"$f":"'Челябинский г.о.'!$C$28","v":0},{"$f":"'Челябинский г.о.'!$C$29","v":577.51},{"$f":"'Челябинский г.о.'!$C$34","v":13.23},{"$f":"'Челябинский г.о.'!$C$37","v":0},{"$f":"'Челябинский г.о.'!$C$38","v":0},{"$f":"'Челябинский г.о.'!$C$39","v":0},{"$f":"'Челябинский г.о.'!$C$40","v":0},{"$f":"'Челябинский г.о.'!$C$41","v":0},{"$f":"'Челябинский г.о.'!$C$44","v":2177.34},{"$f":"'Челябинский г.о.'!$C$45","v":2149.19},{"$f":"'Челябинский г.о.'!$C$46","v":0},{"$f":"'Челябинский г.о.'!$C$47","v":0},{"$f":"'Челябинский г.о.'!$C$48","v":0},{"$f":"'Челябинский г.о.'!$C$50","v":0},{"$f":"'Челябинский г.о.'!$C$51","v":0},{"$f":"'Челябинский г.о.'!$C$52","v":0},{"$f":"'Челябинский г.о.'!$C$53","v":0},{"$f":"'Челябинский г.о.'!$C$54","v":0},{"$f":"'Челябинский г.о.'!$C$55","v":0},{"$f":"'Челябинский г.о.'!$C$56","v":545.82000000000005}]
["50","ООО \"ЭНГЕКО\" (Челябинский городской округ)",null,{"$f":"'Челябинский г.о.'!$C$7","v":"13,23"},{"$f":"'Челябинский г.о.'!$C$10","v":0},{"$f":"'Челябинский г.о.'!$C$11","v":0},{"$f":"'Челябинский г.о.'!$C$12","v":0},{"$f":"'Челябинский г.о.'!$C$13","v":0},{"$f":"'Челябинский г.о.'!$C$14","v":0},{"$f":"'Челябинский г.о.'!$C$17","v":2376.37},{"$f":"'Челябинский г.о.'!$C$18","v":2243.6799999999998},{"$f":"'Челябинский г.о.'!$C$19","v":0},{"$f":"'Челябинский г.о.'!$C$20","v":0},{"$f":"'Челябинский г.о.'!$C$21","v":0},{"$f":"'Челябинский г.о.'!$C$23","v":0},{"$f":"'Челябинский г.о.'!$C$24","v":0},{"$f":"'Челябинский г.о.'!$C$25","v":0},{"$f":"'Челябинский г.о.'!$C$26","v":0},{"$f":"'Челябинский г.о.'!$C$27","v":0},{"$f":"'Челябинский г.о.'!$C$28","v":0},{"$f":"'Челябинский г.о.'!$C$29","v":577.51},{"$f":"'Челябинский г.о.'!$C$34","v":13.23},{"$f":"'Челябинский г.о.'!$C$37","v":0},{"$f":"'Челябинский г.о.'!$C$38","v":0},{"$f":"'Челябинский г.о.'!$C$39","v":0},{"$f":"'Челябинский г.о.'!$C$40","v":0},{"$f":"'Челябинский г.о.'!$C$41","v":0},{"$f":"'Челябинский г.о.'!$C$44","v":2177.34},{"$f":"'Челябинский г.о.'!$C$45","v":2149.19},{"$f":"'Челябинский г.о.'!$C$46","v":0},{"$f":"'Челябинский г.о.'!$C$47","v":0},{"$f":"'Челябинский г.о.'!$C$48","v":0},{"$f":"'Челябинский г.о.'!$C$50","v":0},{"$f":"'Челябинский г.о.'!$C$51","v":0},{"$f":"'Челябинский г.о.'!$C$52","v":0},{"$f":"'Челябинский г.о.'!$C$53","v":0},{"$f":"'Челябинский г.о.'!$C$54","v":0},{"$f":"'Челябинский г.о.'!$C$55","v":0},{"$f":"'Челябинский г.о.'!$C$56","v":545.82000000000005}]
["51","ООО \"ЭНГЕКО-Сервис\"",null,{"$f":"'Челябинский г.о.'!$C$7","v":"13,23"},{"$f":"'Челябинский г.о.'!$C$10","v":0},{"$f":"'Челябинский г.о.'!$C$11","v":0},{"$f":"'Челябинский г.о.'!$C$12","v":0},{"$f":"'Челябинский г.о.'!$C$13","v":0},{"$f":"'Челябинский г.о.'!$C$14","v":0},{"$f":"'Челябинский г.о.'!$C$17","v":2376.37},{"$f":"'Челябинский г.о.'!$C$18","v":2243.6799999999998},{"$f":"'Челябинский г.о.'!$C$19","v":0},{"$f":"'Челябинский г.о.'!$C$20","v":0},{"$f":"'Челябинский г.о.'!$C$21","v":0},{"$f":"'Челябинский г.о.'!$C$23","v":0},{"$f":"'Челябинский г.о.'!$C$24","v":0},{"$f":"'Челябинский г.о.'!$C$25","v":0},{"$f":"'Челябинский г.о.'!$C$26","v":0},{"$f":"'Челябинский г.о.'!$C$27","v":0},{"$f":"'Челябинский г.о.'!$C$28","v":0},{"$f":"'Челябинский г.о.'!$C$29","v":577.51},{"$f":"'Челябинский г.о.'!$C$34","v":13.23},{"$f":"'Челябинский г.о.'!$C$37","v":0},{"$f":"'Челябинский г.о.'!$C$38","v":0},{"$f":"'Челябинский г.о.'!$C$39","v":0},{"$f":"'Челябинский г.о.'!$C$40","v":0},{"$f":"'Челябинский г.о.'!$C$41","v":0},{"$f":"'Челябинский г.о.'!$C$44","v":2177.34},{"$f":"'Челябинский г.о.'!$C$45","v":2149.19},{"$f":"'Челябинский г.о.'!$C$46","v":0},{"$f":"'Челябинский г.о.'!$C$47","v":0},{"$f":"'Челябинский г.о.'!$C$48","v":0},{"$f":"'Челябинский г.о.'!$C$50","v":0},{"$f":"'Челябинский г.о.'!$C$51","v":0},{"$f":"'Челябинский г.о.'!$C$52","v":0},{"$f":"'Челябинский г.о.'!$C$53","v":0},{"$f":"'Челябинский г.о.'!$C$54","v":0},{"$f":"'Челябинский г.о.'!$C$55","v":0},{"$f":"'Челябинский г.о.'!$C$56","v":545.82000000000005}]
["52","ООО «ЭНЕРГОПРАЙС»",null,{"$f":"'Челябинский г.о.'!$C$7","v":"13,23"},{"$f":"'Челябинский г.о.'!$C$10","v":0},{"$f":"'Челябинский г.о.'!$C$11","v":0},{"$f":"'Челябинский г.о.'!$C$12","v":0},{"$f":"'Челябинский г.о.'!$C$13","v":0},{"$f":"'Челябинский г.о.'!$C$14","v":0},{"$f":"'Челябинский г.о.'!$C$17","v":2376.37},{"$f":"'Челябинский г.о.'!$C$18","v":2243.6799999999998},{"$f":"'Челябинский г.о.'!$C$19","v":0},{"$f":"'Челябинский г.о.'!$C$20","v":0},{"$f":"'Челябинский г.о.'!$C$21","v":0},{"$f":"'Челябинский г.о.'!$C$23","v":0},{"$f":"'Челябинский г.о.'!$C$24","v":0},{"$f":"'Челябинский г.о.'!$C$25","v":0},{"$f":"'Челябинский г.о.'!$C$26","v":0},{"$f":"'Челябинский г.о.'!$C$27","v":0},{"$f":"'Челябинский г.о.'!$C$28","v":0},{"$f":"'Челябинский г.о.'!$C$29","v":577.51},{"$f":"'Челябинский г.о.'!$C$34","v":13.23},{"$f":"'Челябинский г.о.'!$C$37","v":0},{"$f":"'Челябинский г.о.'!$C$38","v":0},{"$f":"'Челябинский г.о.'!$C$39","v":0},{"$f":"'Челябинский г.о.'!$C$40","v":0},{"$f":"'Челябинский г.о.'!$C$41","v":0},{"$f":"'Челябинский г.о.'!$C$44","v":2177.34},{"$f":"'Челябинский г.о.'!$C$45","v":2149.19},{"$f":"'Челябинский г.о.'!$C$46","v":0},{"$f":"'Челябинский г.о.'!$C$47","v":0},{"$f":"'Челябинский г.о.'!$C$48","v":0},{"$f":"'Челябинский г.о.'!$C$50","v":0},{"$f":"'Челябинский г.о.'!$C$51","v":0},{"$f":"'Челябинский г.о.'!$C$52","v":0},{"$f":"'Челябинский г.о.'!$C$53","v":0},{"$f":"'Челябинский г.о.'!$C$54","v":0},{"$f":"'Челябинский г.о.'!$C$55","v":0},{"$f":"'Челябинский г.о.'!$C$56","v":545.82000000000005}]
["53","ООО Агрокомплекс \"Чурилово\"",null,{"$f":"'Челябинский г.о.'!$C$7","v":"13,23"},{"$f":"'Челябинский г.о.'!$C$10","v":0},{"$f":"'Челябинский г.о.'!$C$11","v":0},{"$f":"'Челябинский г.о.'!$C$12","v":0},{"$f":"'Челябинский г.о.'!$C$13","v":0},{"$f":"'Челябинский г.о.'!$C$14","v":0},{"$f":"'Челябинский г.о.'!$C$17","v":2376.37},{"$f":"'Челябинский г.о.'!$C$18","v":2243.6799999999998},{"$f":"'Челябинский г.о.'!$C$19","v":0},{"$f":"'Челябинский г.о.'!$C$20","v":0},{"$f":"'Челябинский г.о.'!$C$21","v":0},{"$f":"'Челябинский г.о.'!$C$23","v":0},{"$f":"'Челябинский г.о.'!$C$24","v":0},{"$f":"'Челябинский г.о.'!$C$25","v":0},{"$f":"'Челябинский г.о.'!$C$26","v":0},{"$f":"'Челябинский г.о.'!$C$27","v":0},{"$f":"'Челябинский г.о.'!$C$28","v":0},{"$f":"'Челябинский г.о.'!$C$29","v":577.51},{"$f":"'Челябинский г.о.'!$C$34","v":13.23},{"$f":"'Челябинский г.о.'!$C$37","v":0},{"$f":"'Челябинский г.о.'!$C$38","v":0},{"$f":"'Челябинский г.о.'!$C$39","v":0},{"$f":"'Челябинский г.о.'!$C$40","v":0},{"$f":"'Челябинский г.о.'!$C$41","v":0},{"$f":"'Челябинский г.о.'!$C$44","v":2177.34},{"$f":"'Челябинский г.о.'!$C$45","v":2149.19},{"$f":"'Челябинский г.о.'!$C$46","v":0},{"$f":"'Челябинский г.о.'!$C$47","v":0},{"$f":"'Челябинский г.о.'!$C$48","v":0},{"$f":"'Челябинский г.о.'!$C$50","v":0},{"$f":"'Челябинский г.о.'!$C$51","v":0},{"$f":"'Челябинский г.о.'!$C$52","v":0},{"$f":"'Челябинский г.о.'!$C$53","v":0},{"$f":"'Челябинский г.о.'!$C$54","v":0},{"$f":"'Челябинский г.о.'!$C$55","v":0},{"$f":"'Челябинский г.о.'!$C$56","v":545.82000000000005}]
["54","ООО Энерго Сетевая Компания",null,{"$f":"'Челябинский г.о.'!$C$7","v":"13,23"},{"$f":"'Челябинский г.о.'!$C$10","v":0},{"$f":"'Челябинский г.о.'!$C$11","v":0},{"$f":"'Челябинский г.о.'!$C$12","v":0},{"$f":"'Челябинский г.о.'!$C$13","v":0},{"$f":"'Челябинский г.о.'!$C$14","v":0},{"$f":"'Челябинский г.о.'!$C$17","v":2376.37},{"$f":"'Челябинский г.о.'!$C$18","v":2243.6799999999998},{"$f":"'Челябинский г.о.'!$C$19","v":0},{"$f":"'Челябинский г.о.'!$C$20","v":0},{"$f":"'Челябинский г.о.'!$C$21","v":0},{"$f":"'Челябинский г.о.'!$C$23","v":0},{"$f":"'Челябинский г.о.'!$C$24","v":0},{"$f":"'Челябинский г.о.'!$C$25","v":0},{"$f":"'Челябинский г.о.'!$C$26","v":0},{"$f":"'Челябинский г.о.'!$C$27","v":0},{"$f":"'Челябинский г.о.'!$C$28","v":0},{"$f":"'Челябинский г.о.'!$C$29","v":577.51},{"$f":"'Челябинский г.о.'!$C$34","v":13.23},{"$f":"'Челябинский г.о.'!$C$37","v":0},{"$f":"'Челябинский г.о.'!$C$38","v":0},{"$f":"'Челябинский г.о.'!$C$39","v":0},{"$f":"'Челябинский г.о.'!$C$40","v":0},{"$f":"'Челябинский г.о.'!$C$41","v":0},{"$f":"'Челябинский г.о.'!$C$44","v":2177.34},{"$f":"'Челябинский г.о.'!$C$45","v":2149.19},{"$f":"'Челябинский г.о.'!$C$46","v":0},{"$f":"'Челябинский г.о.'!$C$47","v":0},{"$f":"'Челябинский г.о.'!$C$48","v":0},{"$f":"'Челябинский г.о.'!$C$50","v":0},{"$f":"'Челябинский г.о.'!$C$51","v":0},{"$f":"'Челябинский г.о.'!$C$52","v":0},{"$f":"'Челябинский г.о.'!$C$53","v":0},{"$f":"'Челябинский г.о.'!$C$54","v":0},{"$f":"'Челябинский г.о.'!$C$55","v":0},{"$f":"'Челябинский г.о.'!$C$56","v":545.82000000000005}]
["55","ООО ЮжуралТеплоПрибор",null,{"$f":"'Челябинский г.о.'!$C$7","v":"13,23"},{"$f":"'Челябинский г.о.'!$C$10","v":0},{"$f":"'Челябинский г.о.'!$C$11","v":0},{"$f":"'Челябинский г.о.'!$C$12","v":0},{"$f":"'Челябинский г.о.'!$C$13","v":0},{"$f":"'Челябинский г.о.'!$C$14","v":0},{"$f":"'Челябинский г.о.'!$C$17","v":2376.37},{"$f":"'Челябинский г.о.'!$C$18","v":2243.6799999999998},{"$f":"'Челябинский г.о.'!$C$19","v":0},{"$f":"'Челябинский г.о.'!$C$20","v":0},{"$f":"'Челябинский г.о.'!$C$21","v":0},{"$f":"'Челябинский г.о.'!$C$23","v":0},{"$f":"'Челябинский г.о.'!$C$24","v":0},{"$f":"'Челябинский г.о.'!$C$25","v":0},{"$f":"'Челябинский г.о.'!$C$26","v":0},{"$f":"'Челябинский г.о.'!$C$27","v":0},{"$f":"'Челябинский г.о.'!$C$28","v":0},{"$f":"'Челябинский г.о.'!$C$29","v":577.51},{"$f":"'Челябинский г.о.'!$C$34","v":13.23},{"$f":"'Челябинский г.о.'!$C$37","v":0},{"$f":"'Челябинский г.о.'!$C$38","v":0},{"$f":"'Челябинский г.о.'!$C$39","v":0},{"$f":"'Челябинский г.о.'!$C$40","v":0},{"$f":"'Челябинский г.о.'!$C$41","v":0},{"$f":"'Челябинский г.о.'!$C$44","v":2177.34},{"$f":"'Челябинский г.о.'!$C$45","v":2149.19},{"$f":"'Челябинский г.о.'!$C$46","v":0},{"$f":"'Челябинский г.о.'!$C$47","v":0},{"$f":"'Челябинский г.о.'!$C$48","v":0},{"$f":"'Челябинский г.о.'!$C$50","v":0},{"$f":"'Челябинский г.о.'!$C$51","v":0},{"$f":"'Челябинский г.о.'!$C$52","v":0},{"$f":"'Челябинский г.о.'!$C$53","v":0},{"$f":"'Челябинский г.о.'!$C$54","v":0},{"$f":"'Челябинский г.о.'!$C$55","v":0},{"$f":"'Челябинский г.о.'!$C$56","v":545.82000000000005}]
["56","ПАО \"Фортум\" (Челябинский городской округ)",null,{"$f":"'Челябинский г.о.'!$C$7","v":"13,23"},{"$f":"'Челябинский г.о.'!$C$10","v":0},{"$f":"'Челябинский г.о.'!$C$11","v":0},{"$f":"'Челябинский г.о.'!$C$12","v":0},{"$f":"'Челябинский г.о.'!$C$13","v":0},{"$f":"'Челябинский г.о.'!$C$14","v":0},{"$f":"'Челябинский г.о.'!$C$17","v":2376.37},{"$f":"'Челябинский г.о.'!$C$18","v":2243.6799999999998},{"$f":"'Челябинский г.о.'!$C$19","v":0},{"$f":"'Челябинский г.о.'!$C$20","v":0},{"$f":"'Челябинский г.о.'!$C$21","v":0},{"$f":"'Челябинский г.о.'!$C$23","v":0},{"$f":"'Челябинский г.о.'!$C$24","v":0},{"$f":"'Челябинский г.о.'!$C$25","v":0},{"$f":"'Челябинский г.о.'!$C$26","v":0},{"$f":"'Челябинский г.о.'!$C$27","v":0},{"$f":"'Челябинский г.о.'!$C$28","v":0},{"$f":"'Челябинский г.о.'!$C$29","v":577.51},{"$f":"'Челябинский г.о.'!$C$34","v":13.23},{"$f":"'Челябинский г.о.'!$C$37","v":0},{"$f":"'Челябинский г.о.'!$C$38","v":0},{"$f":"'Челябинский г.о.'!$C$39","v":0},{"$f":"'Челябинский г.о.'!$C$40","v":0},{"$f":"'Челябинский г.о.'!$C$41","v":0},{"$f":"'Челябинский г.о.'!$C$44","v":2177.34},{"$f":"'Челябинский г.о.'!$C$45","v":2149.19},{"$f":"'Челябинский г.о.'!$C$46","v":0},{"$f":"'Челябинский г.о.'!$C$47","v":0},{"$f":"'Челябинский г.о.'!$C$48","v":0},{"$f":"'Челябинский г.о.'!$C$50","v":0},{"$f":"'Челябинский г.о.'!$C$51","v":0},{"$f":"'Челябинский г.о.'!$C$52","v":0},{"$f":"'Челябинский г.о.'!$C$53","v":0},{"$f":"'Челябинский г.о.'!$C$54","v":0},{"$f":"'Челябинский г.о.'!$C$55","v":0},{"$f":"'Челябинский г.о.'!$C$56","v":545.82000000000005}]
["57","ПАО \"ЧЗПСН-Профнастил\"",null,{"$f":"'Челябинский г.о.'!$C$7","v":"13,23"},{"$f":"'Челябинский г.о.'!$C$10","v":0},{"$f":"'Челябинский г.о.'!$C$11","v":0},{"$f":"'Челябинский г.о.'!$C$12","v":0},{"$f":"'Челябинский г.о.'!$C$13","v":0},{"$f":"'Челябинский г.о.'!$C$14","v":0},{"$f":"'Челябинский г.о.'!$C$17","v":2376.37},{"$f":"'Челябинский г.о.'!$C$18","v":2243.6799999999998},{"$f":"'Челябинский г.о.'!$C$19","v":0},{"$f":"'Челябинский г.о.'!$C$20","v":0},{"$f":"'Челябинский г.о.'!$C$21","v":0},{"$f":"'Челябинский г.о.'!$C$23","v":0},{"$f":"'Челябинский г.о.'!$C$24","v":0},{"$f":"'Челябинский г.о.'!$C$25","v":0},{"$f":"'Челябинский г.о.'!$C$26","v":0},{"$f":"'Челябинский г.о.'!$C$27","v":0},{"$f":"'Челябинский г.о.'!$C$28","v":0},{"$f":"'Челябинский г.о.'!$C$29","v":577.51},{"$f":"'Челябинский г.о.'!$C$34","v":13.23},{"$f":"'Челябинский г.о.'!$C$37","v":0},{"$f":"'Челябинский г.о.'!$C$38","v":0},{"$f":"'Челябинский г.о.'!$C$39","v":0},{"$f":"'Челябинский г.о.'!$C$40","v":0},{"$f":"'Челябинский г.о.'!$C$41","v":0},{"$f":"'Челябинский г.о.'!$C$44","v":2177.34},{"$f":"'Челябинский г.о.'!$C$45","v":2149.19},{"$f":"'Челябинский г.о.'!$C$46","v":0},{"$f":"'Челябинский г.о.'!$C$47","v":0},{"$f":"'Челябинский г.о.'!$C$48","v":0},{"$f":"'Челябинский г.о.'!$C$50","v":0},{"$f":"'Челябинский г.о.'!$C$51","v":0},{"$f":"'Челябинский г.о.'!$C$52","v":0},{"$f":"'Челябинский г.о.'!$C$53","v":0},{"$f":"'Челябинский г.о.'!$C$54","v":0},{"$f":"'Челябинский г.о.'!$C$55","v":0},{"$f":"'Челябинский г.о.'!$C$56","v":545.82000000000005}]
["58","ФГБУ \"ФЦССХ\" Минздрава России",null,{"$f":"'Челябинский г.о.'!$C$7","v":"13,23"},{"$f":"'Челябинский г.о.'!$C$10","v":0},{"$f":"'Челябинский г.о.'!$C$11","v":0},{"$f":"'Челябинский г.о.'!$C$12","v":0},{"$f":"'Челябинский г.о.'!$C$13","v":0},{"$f":"'Челябинский г.о.'!$C$14","v":0},{"$f":"'Челябинский г.о.'!$C$17","v":2376.37},{"$f":"'Челябинский г.о.'!$C$18","v":2243.6799999999998},{"$f":"'Челябинский г.о.'!$C$19","v":0},{"$f":"'Челябинский г.о.'!$C$20","v":0},{"$f":"'Челябинский г.о.'!$C$21","v":0},{"$f":"'Челябинский г.о.'!$C$23","v":0},{"$f":"'Челябинский г.о.'!$C$24","v":0},{"$f":"'Челябинский г.о.'!$C$25","v":0},{"$f":"'Челябинский г.о.'!$C$26","v":0},{"$f":"'Челябинский г.о.'!$C$27","v":0},{"$f":"'Челябинский г.о.'!$C$28","v":0},{"$f":"'Челябинский г.о.'!$C$29","v":577.51},{"$f":"'Челябинский г.о.'!$C$34","v":13.23},{"$f":"'Челябинский г.о.'!$C$37","v":0},{"$f":"'Челябинский г.о.'!$C$38","v":0},{"$f":"'Челябинский г.о.'!$C$39","v":0},{"$f":"'Челябинский г.о.'!$C$40","v":0},{"$f":"'Челябинский г.о.'!$C$41","v":0},{"$f":"'Челябинский г.о.'!$C$44","v":2177.34},{"$f":"'Челябинский г.о.'!$C$45","v":2149.19},{"$f":"'Челябинский г.о.'!$C$46","v":0},{"$f":"'Челябинский г.о.'!$C$47","v":0},{"$f":"'Челябинский г.о.'!$C$48","v":0},{"$f":"'Челябинский г.о.'!$C$50","v":0},{"$f":"'Челябинский г.о.'!$C$51","v":0},{"$f":"'Челябинский г.о.'!$C$52","v":0},{"$f":"'Челябинский г.о.'!$C$53","v":0},{"$f":"'Челябинский г.о.'!$C$54","v":0},{"$f":"'Челябинский г.о.'!$C$55","v":0},{"$f":"'Челябинский г.о.'!$C$56","v":545.82000000000005}]
["59","ФГБУ \"ЦЖКУ\" МИНОБОРОНЫ РОССИИ (по ЦВО) (Челябинский городской округ)",null,{"$f":"'Челябинский г.о.'!$C$7","v":"13,23"},{"$f":"'Челябинский г.о.'!$C$10","v":0},{"$f":"'Челябинский г.о.'!$C$11","v":0},{"$f":"'Челябинский г.о.'!$C$12","v":0},{"$f":"'Челябинский г.о.'!$C$13","v":0},{"$f":"'Челябинский г.о.'!$C$14","v":0},{"$f":"'Челябинский г.о.'!$C$17","v":2376.37},{"$f":"'Челябинский г.о.'!$C$18","v":2243.6799999999998},{"$f":"'Челябинский г.о.'!$C$19","v":0},{"$f":"'Челябинский г.о.'!$C$20","v":0},{"$f":"'Челябинский г.о.'!$C$21","v":0},{"$f":"'Челябинский г.о.'!$C$23","v":0},{"$f":"'Челябинский г.о.'!$C$24","v":0},{"$f":"'Челябинский г.о.'!$C$25","v":0},{"$f":"'Челябинский г.о.'!$C$26","v":0},{"$f":"'Челябинский г.о.'!$C$27","v":0},{"$f":"'Челябинский г.о.'!$C$28","v":0},{"$f":"'Челябинский г.о.'!$C$29","v":577.51},{"$f":"'Челябинский г.о.'!$C$34","v":13.23},{"$f":"'Челябинский г.о.'!$C$37","v":0},{"$f":"'Челябинский г.о.'!$C$38","v":0},{"$f":"'Челябинский г.о.'!$C$39","v":0},{"$f":"'Челябинский г.о.'!$C$40","v":0},{"$f":"'Челябинский г.о.'!$C$41","v":0},{"$f":"'Челябинский г.о.'!$C$44","v":2177.34},{"$f":"'Челябинский г.о.'!$C$45","v":2149.19},{"$f":"'Челябинский г.о.'!$C$46","v":0},{"$f":"'Челябинский г.о.'!$C$47","v":0},{"$f":"'Челябинский г.о.'!$C$48","v":0},{"$f":"'Челябинский г.о.'!$C$50","v":0},{"$f":"'Челябинский г.о.'!$C$51","v":0},{"$f":"'Челябинский г.о.'!$C$52","v":0},{"$f":"'Челябинский г.о.'!$C$53","v":0},{"$f":"'Челябинский г.о.'!$C$54","v":0},{"$f":"'Челябинский г.о.'!$C$55","v":0},{"$f":"'Челябинский г.о.'!$C$56","v":545.82000000000005}]
["60","ФГАОУВО \"Южно-Уральский Государственный университет\" ",null,{"$f":"'Челябинский г.о.'!$C$7","v":"13,23"},{"$f":"'Челябинский г.о.'!$C$10","v":0},{"$f":"'Челябинский г.о.'!$C$11","v":0},{"$f":"'Челябинский г.о.'!$C$12","v":0},{"$f":"'Челябинский г.о.'!$C$13","v":0},{"$f":"'Челябинский г.о.'!$C$14","v":0},{"$f":"'Челябинский г.о.'!$C$17","v":2376.37},{"$f":"'Челябинский г.о.'!$C$18","v":2243.6799999999998},{"$f":"'Челябинский г.о.'!$C$19","v":0},{"$f":"'Челябинский г.о.'!$C$20","v":0},{"$f":"'Челябинский г.о.'!$C$21","v":0},{"$f":"'Челябинский г.о.'!$C$23","v":0},{"$f":"'Челябинский г.о.'!$C$24","v":0},{"$f":"'Челябинский г.о.'!$C$25","v":0},{"$f":"'Челябинский г.о.'!$C$26","v":0},{"$f":"'Челябинский г.о.'!$C$27","v":0},{"$f":"'Челябинский г.о.'!$C$28","v":0},{"$f":"'Челябинский г.о.'!$C$29","v":577.51},{"$f":"'Челябинский г.о.'!$C$34","v":13.23},{"$f":"'Челябинский г.о.'!$C$37","v":0},{"$f":"'Челябинский г.о.'!$C$38","v":0},{"$f":"'Челябинский г.о.'!$C$39","v":0},{"$f":"'Челябинский г.о.'!$C$40","v":0},{"$f":"'Челябинский г.о.'!$C$41","v":0},{"$f":"'Челябинский г.о.'!$C$44","v":2177.34},{"$f":"'Челябинский г.о.'!$C$45","v":2149.19},{"$f":"'Челябинский г.о.'!$C$46","v":0},{"$f":"'Челябинский г.о.'!$C$47","v":0},{"$f":"'Челябинский г.о.'!$C$48","v":0},{"$f":"'Челябинский г.о.'!$C$50","v":0},{"$f":"'Челябинский г.о.'!$C$51","v":0},{"$f":"'Челябинский г.о.'!$C$52","v":0},{"$f":"'Челябинский г.о.'!$C$53","v":0},{"$f":"'Челябинский г.о.'!$C$54","v":0},{"$f":"'Челябинский г.о.'!$C$55","v":0},{"$f":"'Челябинский г.о.'!$C$56","v":545.82000000000005}]
["61","Челябинский филиал ООО \"МЕЧЕЛ-ЭНЕРГО\" (Челябинский городской округ)",null,{"$f":"'Челябинский г.о.'!$C$7","v":"13,23"},{"$f":"'Челябинский г.о.'!$C$10","v":0},{"$f":"'Челябинский г.о.'!$C$11","v":0},{"$f":"'Челябинский г.о.'!$C$12","v":0},{"$f":"'Челябинский г.о.'!$C$13","v":0},{"$f":"'Челябинский г.о.'!$C$14","v":0},{"$f":"'Челябинский г.о.'!$C$17","v":2376.37},{"$f":"'Челябинский г.о.'!$C$18","v":2243.6799999999998},{"$f":"'Челябинский г.о.'!$C$19","v":0},{"$f":"'Челябинский г.о.'!$C$20","v":0},{"$f":"'Челябинский г.о.'!$C$21","v":0},{"$f":"'Челябинский г.о.'!$C$23","v":0},{"$f":"'Челябинский г.о.'!$C$24","v":0},{"$f":"'Челябинский г.о.'!$C$25","v":0},{"$f":"'Челябинский г.о.'!$C$26","v":0},{"$f":"'Челябинский г.о.'!$C$27","v":0},{"$f":"'Челябинский г.о.'!$C$28","v":0},{"$f":"'Челябинский г.о.'!$C$29","v":577.51},{"$f":"'Челябинский г.о.'!$C$34","v":13.23},{"$f":"'Челябинский г.о.'!$C$37","v":0},{"$f":"'Челябинский г.о.'!$C$38","v":0},{"$f":"'Челябинский г.о.'!$C$39","v":0},{"$f":"'Челябинский г.о.'!$C$40","v":0},{"$f":"'Челябинский г.о.'!$C$41","v":0},{"$f":"'Челябинский г.о.'!$C$44","v":2177.34},{"$f":"'Челябинский г.о.'!$C$45","v":2149.19},{"$f":"'Челябинский г.о.'!$C$46","v":0},{"$f":"'Челябинский г.о.'!$C$47","v":0},{"$f":"'Челябинский г.о.'!$C$48","v":0},{"$f":"'Челябинский г.о.'!$C$50","v":0},{"$f":"'Челябинский г.о.'!$C$51","v":0},{"$f":"'Челябинский г.о.'!$C$52","v":0},{"$f":"'Челябинский г.о.'!$C$53","v":0},{"$f":"'Челябинский г.о.'!$C$54","v":0},{"$f":"'Челябинский г.о.'!$C$55","v":0},{"$f":"'Челябинский г.о.'!$C$56","v":545.82000000000005}]
[62,"Южно-Уральская дирекция по тепловодоснабжению - структурное подразделение Центральной дирекции по тепловодоснабжению - филиала ОАО \"РЖД\" (Челябинский городской округ)",null,{"$f":"'Челябинский г.о.'!$C$7","v":"13,23"},{"$f":"'Челябинский г.о.'!$C$10","v":0},{"$f":"'Челябинский г.о.'!$C$11","v":0},{"$f":"'Челябинский г.о.'!$C$12","v":0},{"$f":"'Челябинский г.о.'!$C$13","v":0},{"$f":"'Челябинский г.о.'!$C$14","v":0},{"$f":"'Челябинский г.о.'!$C$17","v":2376.37},{"$f":"'Челябинский г.о.'!$C$18","v":2243.6799999999998},{"$f":"'Челябинский г.о.'!$C$19","v":0},{"$f":"'Челябинский г.о.'!$C$20","v":0},{"$f":"'Челябинский г.о.'!$C$21","v":0},{"$f":"'Челябинский г.о.'!$C$23","v":0},{"$f":"'Челябинский г.о.'!$C$24","v":0},{"$f":"'Челябинский г.о.'!$C$25","v":0},{"$f":"'Челябинский г.о.'!$C$26","v":0},{"$f":"'Челябинский г.о.'!$C$27","v":0},{"$f":"'Челябинский г.о.'!$C$28","v":0},{"$f":"'Челябинский г.о.'!$C$29","v":577.51},{"$f":"'Челябинский г.о.'!$C$34","v":13.23},{"$f":"'Челябинский г.о.'!$C$37","v":0},{"$f":"'Челябинский г.о.'!$C$38","v":0},{"$f":"'Челябинский г.о.'!$C$39","v":0},{"$f":"'Челябинский г.о.'!$C$40","v":0},{"$f":"'Челябинский г.о.'!$C$41","v":0},{"$f":"'Челябинский г.о.'!$C$44","v":2177.34},{"$f":"'Челябинский г.о.'!$C$45","v":2149.19},{"$f":"'Челябинский г.о.'!$C$46","v":0},{"$f":"'Челябинский г.о.'!$C$47","v":0},{"$f":"'Челябинский г.о.'!$C$48","v":0},{"$f":"'Челябинский г.о.'!$C$50","v":0},{"$f":"'Челябинский г.о.'!$C$51","v":0},{"$f":"'Челябинский г.о.'!$C$52","v":0},{"$f":"'Челябинский г.о.'!$C$53","v":0},{"$f":"'Челябинский г.о.'!$C$54","v":0},{"$f":"'Челябинский г.о.'!$C$55","v":0},{"$f":"'Челябинский г.о.'!$C$56","v":545.82000000000005}]
["16","Южноуральский городской округ"]
["1","АО \"Интер РАО - Электрогенерация\"",null,{"$f":"'Челябинская обл.'!$C$7","v":"13,23"},{"$f":"'Челябинская обл.'!$C$10","v":1005.74},{"$f":"'Челябинская обл.'!$C$11","v":0},{"$f":"'Челябинская обл.'!$C$12","v":0},{"$f":"'Челябинская обл.'!$C$13","v":0},{"$f":"'Челябинская обл.'!$C$14","v":0},{"$f":"'Челябинская обл.'!$C$17","v":1987.75},{"$f":"'Челябинская обл.'!$C$18","v":0},{"$f":"'Челябинская обл.'!$C$19","v":0},{"$f":"'Челябинская обл.'!$C$20","v":0},{"$f":"'Челябинская обл.'!$C$21","v":0},{"$f":"'Челябинская обл.'!$C$23","v":1493.77},{"$f":"'Челябинская обл.'!$C$24","v":0},{"$f":"'Челябинская обл.'!$C$25","v":0},{"$f":"'Челябинская обл.'!$C$26","v":0},{"$f":"'Челябинская обл.'!$C$27","v":0},{"$f":"'Челябинская обл.'!$C$28","v":0},{"$f":"'Челябинская обл.'!$C$29","v":377.24},{"$f":"'Челябинская обл.'!$C$34","v":13.23},{"$f":"'Челябинская обл.'!$C$37","v":352.76},{"$f":"'Челябинская обл.'!$C$38","v":825.59},{"$f":"'Челябинская обл.'!$C$39","v":0},{"$f":"'Челябинская обл.'!$C$40","v":0},{"$f":"'Челябинская обл.'!$C$41","v":0},{"$f":"'Челябинская обл.'!$C$44","v":1142.9000000000001},{"$f":"'Челябинская обл.'!$C$45","v":1066.98},{"$f":"'Челябинская обл.'!$C$46","v":0},{"$f":"'Челябинская обл.'!$C$47","v":0},{"$f":"'Челябинская обл.'!$C$48","v":0},{"$f":"'Челябинская обл.'!$C$50","v":1081.3599999999999},{"$f":"'Челябинская обл.'!$C$51","v":1328.18},{"$f":"'Челябинская обл.'!$C$52","v":0},{"$f":"'Челябинская обл.'!$C$53","v":0},{"$f":"'Челябинская обл.'!$C$54","v":0},{"$f":"'Челябинская обл.'!$C$55","v":0},{"$f":"'Челябинская обл.'!$C$56","v":243.71}]
["2","АО \"Южноуральская теплосбытовая компания\"",null,{"$f":"'Челябинская обл.'!$C$7","v":"13,23"},{"$f":"'Челябинская обл.'!$C$10","v":1005.74},{"$f":"'Челябинская обл.'!$C$11","v":0},{"$f":"'Челябинская обл.'!$C$12","v":0},{"$f":"'Челябинская обл.'!$C$13","v":0},{"$f":"'Челябинская обл.'!$C$14","v":0},{"$f":"'Челябинская обл.'!$C$17","v":1987.75},{"$f":"'Челябинская обл.'!$C$18","v":0},{"$f":"'Челябинская обл.'!$C$19","v":0},{"$f":"'Челябинская обл.'!$C$20","v":0},{"$f":"'Челябинская обл.'!$C$21","v":0},{"$f":"'Челябинская обл.'!$C$23","v":1493.77},{"$f":"'Челябинская обл.'!$C$24","v":0},{"$f":"'Челябинская обл.'!$C$25","v":0},{"$f":"'Челябинская обл.'!$C$26","v":0},{"$f":"'Челябинская обл.'!$C$27","v":0},{"$f":"'Челябинская обл.'!$C$28","v":0},{"$f":"'Челябинская обл.'!$C$29","v":377.24},{"$f":"'Челябинская обл.'!$C$34","v":13.23},{"$f":"'Челябинская обл.'!$C$37","v":352.76},{"$f":"'Челябинская обл.'!$C$38","v":825.59},{"$f":"'Челябинская обл.'!$C$39","v":0},{"$f":"'Челябинская обл.'!$C$40","v":0},{"$f":"'Челябинская обл.'!$C$41","v":0},{"$f":"'Челябинская обл.'!$C$44","v":1142.9000000000001},{"$f":"'Челябинская обл.'!$C$45","v":1066.98},{"$f":"'Челябинская обл.'!$C$46","v":0},{"$f":"'Челябинская обл.'!$C$47","v":0},{"$f":"'Челябинская обл.'!$C$48","v":0},{"$f":"'Челябинская обл.'!$C$50","v":1081.3599999999999},{"$f":"'Челябинская обл.'!$C$51","v":1328.18},{"$f":"'Челябинская обл.'!$C$52","v":0},{"$f":"'Челябинская обл.'!$C$53","v":0},{"$f":"'Челябинская обл.'!$C$54","v":0},{"$f":"'Челябинская обл.'!$C$55","v":0},{"$f":"'Челябинская обл.'!$C$56","v":243.71}]
["3","ООО \"ТеплоСервис\"",null,{"$f":"'Челябинская обл.'!$C$7","v":"13,23"},{"$f":"'Челябинская обл.'!$C$10","v":1005.74},{"$f":"'Челябинская обл.'!$C$11","v":0},{"$f":"'Челябинская обл.'!$C$12","v":0},{"$f":"'Челябинская обл.'!$C$13","v":0},{"$f":"'Челябинская обл.'!$C$14","v":0},{"$f":"'Челябинская обл.'!$C$17","v":1987.75},{"$f":"'Челябинская обл.'!$C$18","v":0},{"$f":"'Челябинская обл.'!$C$19","v":0},{"$f":"'Челябинская обл.'!$C$20","v":0},{"$f":"'Челябинская обл.'!$C$21","v":0},{"$f":"'Челябинская обл.'!$C$23","v":1493.77},{"$f":"'Челябинская обл.'!$C$24","v":0},{"$f":"'Челябинская обл.'!$C$25","v":0},{"$f":"'Челябинская обл.'!$C$26","v":0},{"$f":"'Челябинская обл.'!$C$27","v":0},{"$f":"'Челябинская обл.'!$C$28","v":0},{"$f":"'Челябинская обл.'!$C$29","v":377.24},{"$f":"'Челябинская обл.'!$C$34","v":13.23},{"$f":"'Челябинская обл.'!$C$37","v":352.76},{"$f":"'Челябинская обл.'!$C$38","v":825.59},{"$f":"'Челябинская обл.'!$C$39","v":0},{"$f":"'Челябинская обл.'!$C$40","v":0},{"$f":"'Челябинская обл.'!$C$41","v":0},{"$f":"'Челябинская обл.'!$C$44","v":1142.9000000000001},{"$f":"'Челябинская обл.'!$C$45","v":1066.98},{"$f":"'Челябинская обл.'!$C$46","v":0},{"$f":"'Челябинская обл.'!$C$47","v":0},{"$f":"'Челябинская обл.'!$C$48","v":0},{"$f":"'Челябинская обл.'!$C$50","v":1081.3599999999999},{"$f":"'Челябинская обл.'!$C$51","v":1328.18},{"$f":"'Челябинская обл.'!$C$52","v":0},{"$f":"'Челябинская обл.'!$C$53","v":0},{"$f":"'Челябинская обл.'!$C$54","v":0},{"$f":"'Челябинская обл.'!$C$55","v":0},{"$f":"'Челябинская обл.'!$C$56","v":243.71}]
["17","Агаповский муниципальный район"]
["1","АО \"Челябоблкоммунэнерго\" (Челябинская область)",null,{"$f":"'Челябинская обл.'!$C$7","v":"13,23"},{"$f":"'Челябинская обл.'!$C$10","v":1005.74},{"$f":"'Челябинская обл.'!$C$11","v":0},{"$f":"'Челябинская обл.'!$C$12","v":0},{"$f":"'Челябинская обл.'!$C$13","v":0},{"$f":"'Челябинская обл.'!$C$14","v":0},{"$f":"'Челябинская обл.'!$C$17","v":1987.75},{"$f":"'Челябинская обл.'!$C$18","v":0},{"$f":"'Челябинская обл.'!$C$19","v":0},{"$f":"'Челябинская обл.'!$C$20","v":0},{"$f":"'Челябинская обл.'!$C$21","v":0},{"$f":"'Челябинская обл.'!$C$23","v":1493.77},{"$f":"'Челябинская обл.'!$C$24","v":0},{"$f":"'Челябинская обл.'!$C$25","v":0},{"$f":"'Челябинская обл.'!$C$26","v":0},{"$f":"'Челябинская обл.'!$C$27","v":0},{"$f":"'Челябинская обл.'!$C$28","v":0},{"$f":"'Челябинская обл.'!$C$29","v":377.24},{"$f":"'Челябинская обл.'!$C$34","v":13.23},{"$f":"'Челябинская обл.'!$C$37","v":352.76},{"$f":"'Челябинская обл.'!$C$38","v":825.59},{"$f":"'Челябинская обл.'!$C$39","v":0},{"$f":"'Челябинская обл.'!$C$40","v":0},{"$f":"'Челябинская обл.'!$C$41","v":0},{"$f":"'Челябинская обл.'!$C$44","v":1142.9000000000001},{"$f":"'Челябинская обл.'!$C$45","v":1066.98},{"$f":"'Челябинская обл.'!$C$46","v":0},{"$f":"'Челябинская обл.'!$C$47","v":0},{"$f":"'Челябинская обл.'!$C$48","v":0},{"$f":"'Челябинская обл.'!$C$50","v":1081.3599999999999},{"$f":"'Челябинская обл.'!$C$51","v":1328.18},{"$f":"'Челябинская обл.'!$C$52","v":0},{"$f":"'Челябинская обл.'!$C$53","v":0},{"$f":"'Челябинская обл.'!$C$54","v":0},{"$f":"'Челябинская обл.'!$C$55","v":0},{"$f":"'Челябинская обл.'!$C$56","v":243.71}]
["2","ГБОУ СПО (ССУЗ) \"Верхнеуральский агротехнологический техникум - казачий кадетский корпус\"",null,{"$f":"'Челябинская обл.'!$C$7","v":"13,23"},{"$f":"'Челябинская обл.'!$C$10","v":1005.74},{"$f":"'Челябинская обл.'!$C$11","v":0},{"$f":"'Челябинская обл.'!$C$12","v":0},{"$f":"'Челябинская обл.'!$C$13","v":0},{"$f":"'Челябинская обл.'!$C$14","v":0},{"$f":"'Челябинская обл.'!$C$17","v":1987.75},{"$f":"'Челябинская обл.'!$C$18","v":0},{"$f":"'Челябинская обл.'!$C$19","v":0},{"$f":"'Челябинская обл.'!$C$20","v":0},{"$f":"'Челябинская обл.'!$C$21","v":0},{"$f":"'Челябинская обл.'!$C$23","v":1493.77},{"$f":"'Челябинская обл.'!$C$24","v":0},{"$f":"'Челябинская обл.'!$C$25","v":0},{"$f":"'Челябинская обл.'!$C$26","v":0},{"$f":"'Челябинская обл.'!$C$27","v":0},{"$f":"'Челябинская обл.'!$C$28","v":0},{"$f":"'Челябинская обл.'!$C$29","v":377.24},{"$f":"'Челябинская обл.'!$C$34","v":13.23},{"$f":"'Челябинская обл.'!$C$37","v":352.76},{"$f":"'Челябинская обл.'!$C$38","v":825.59},{"$f":"'Челябинская обл.'!$C$39","v":0},{"$f":"'Челябинская обл.'!$C$40","v":0},{"$f":"'Челябинская обл.'!$C$41","v":0},{"$f":"'Челябинская обл.'!$C$44","v":1142.9000000000001},{"$f":"'Челябинская обл.'!$C$45","v":1066.98},{"$f":"'Челябинская обл.'!$C$46","v":0},{"$f":"'Челябинская обл.'!$C$47","v":0},{"$f":"'Челябинская обл.'!$C$48","v":0},{"$f":"'Челябинская обл.'!$C$50","v":1081.3599999999999},{"$f":"'Челябинская обл.'!$C$51","v":1328.18},{"$f":"'Челябинская обл.'!$C$52","v":0},{"$f":"'Челябинская обл.'!$C$53","v":0},{"$f":"'Челябинская обл.'!$C$54","v":0},{"$f":"'Челябинская обл.'!$C$55","v":0},{"$f":"'Челябинская обл.'!$C$56","v":243.71}]
["3","МП ЖКХ \"Желтинское\"",null,{"$f":"'Челябинская обл.'!$C$7","v":"13,23"},{"$f":"'Челябинская обл.'!$C$10","v":1005.74},{"$f":"'Челябинская обл.'!$C$11","v":0},{"$f":"'Челябинская обл.'!$C$12","v":0},{"$f":"'Челябинская обл.'!$C$13","v":0},{"$f":"'Челябинская обл.'!$C$14","v":0},{"$f":"'Челябинская обл.'!$C$17","v":1987.75},{"$f":"'Челябинская обл.'!$C$18","v":0},{"$f":"'Челябинская обл.'!$C$19","v":0},{"$f":"'Челябинская обл.'!$C$20","v":0},{"$f":"'Челябинская обл.'!$C$21","v":0},{"$f":"'Челябинская обл.'!$C$23","v":1493.77},{"$f":"'Челябинская обл.'!$C$24","v":0},{"$f":"'Челябинская обл.'!$C$25","v":0},{"$f":"'Челябинская обл.'!$C$26","v":0},{"$f":"'Челябинская обл.'!$C$27","v":0},{"$f":"'Челябинская обл.'!$C$28","v":0},{"$f":"'Челябинская обл.'!$C$29","v":377.24},{"$f":"'Челябинская обл.'!$C$34","v":13.23},{"$f":"'Челябинская обл.'!$C$37","v":352.76},{"$f":"'Челябинская обл.'!$C$38","v":825.59},{"$f":"'Челябинская обл.'!$C$39","v":0},{"$f":"'Челябинская обл.'!$C$40","v":0},{"$f":"'Челябинская обл.'!$C$41","v":0},{"$f":"'Челябинская обл.'!$C$44","v":1142.9000000000001},{"$f":"'Челябинская обл.'!$C$45","v":1066.98},{"$f":"'Челябинская обл.'!$C$46","v":0},{"$f":"'Челябинская обл.'!$C$47","v":0},{"$f":"'Челябинская обл.'!$C$48","v":0},{"$f":"'Челябинская обл.'!$C$50","v":1081.3599999999999},{"$f":"'Челябинская обл.'!$C$51","v":1328.18},{"$f":"'Челябинская обл.'!$C$52","v":0},{"$f":"'Челябинская обл.'!$C$53","v":0},{"$f":"'Челябинская обл.'!$C$54","v":0},{"$f":"'Челябинская обл.'!$C$55","v":0},{"$f":"'Челябинская обл.'!$C$56","v":243.71}]
["4","МП ЖКХ \"Магнитное\"",null,{"$f":"'Челябинская обл.'!$C$7","v":"13,23"},{"$f":"'Челябинская обл.'!$C$10","v":1005.74},{"$f":"'Челябинская обл.'!$C$11","v":0},{"$f":"'Челябинская обл.'!$C$12","v":0},{"$f":"'Челябинская обл.'!$C$13","v":0},{"$f":"'Челябинская обл.'!$C$14","v":0},{"$f":"'Челябинская обл.'!$C$17","v":1987.75},{"$f":"'Челябинская обл.'!$C$18","v":0},{"$f":"'Челябинская обл.'!$C$19","v":0},{"$f":"'Челябинская обл.'!$C$20","v":0},{"$f":"'Челябинская обл.'!$C$21","v":0},{"$f":"'Челябинская обл.'!$C$23","v":1493.77},{"$f":"'Челябинская обл.'!$C$24","v":0},{"$f":"'Челябинская обл.'!$C$25","v":0},{"$f":"'Челябинская обл.'!$C$26","v":0},{"$f":"'Челябинская обл.'!$C$27","v":0},{"$f":"'Челябинская обл.'!$C$28","v":0},{"$f":"'Челябинская обл.'!$C$29","v":377.24},{"$f":"'Челябинская обл.'!$C$34","v":13.23},{"$f":"'Челябинская обл.'!$C$37","v":352.76},{"$f":"'Челябинская обл.'!$C$38","v":825.59},{"$f":"'Челябинская обл.'!$C$39","v":0},{"$f":"'Челябинская обл.'!$C$40","v":0},{"$f":"'Челябинская обл.'!$C$41","v":0},{"$f":"'Челябинская обл.'!$C$44","v":1142.9000000000001},{"$f":"'Челябинская обл.'!$C$45","v":1066.98},{"$f":"'Челябинская обл.'!$C$46","v":0},{"$f":"'Челябинская обл.'!$C$47","v":0},{"$f":"'Челябинская обл.'!$C$48","v":0},{"$f":"'Челябинская обл.'!$C$50","v":1081.3599999999999},{"$f":"'Челябинская обл.'!$C$51","v":1328.18},{"$f":"'Челябинская обл.'!$C$52","v":0},{"$f":"'Челябинская обл.'!$C$53","v":0},{"$f":"'Челябинская обл.'!$C$54","v":0},{"$f":"'Челябинская обл.'!$C$55","v":0},{"$f":"'Челябинская обл.'!$C$56","v":243.71}]
["5","МУП \"ЖКХ-Первомайский\"",null,{"$f":"'Челябинская обл.'!$C$7","v":"13,23"},{"$f":"'Челябинская обл.'!$C$10","v":1005.74},{"$f":"'Челябинская обл.'!$C$11","v":0},{"$f":"'Челябинская обл.'!$C$12","v":0},{"$f":"'Челябинская обл.'!$C$13","v":0},{"$f":"'Челябинская обл.'!$C$14","v":0},{"$f":"'Челябинская обл.'!$C$17","v":1987.75},{"$f":"'Челябинская обл.'!$C$18","v":0},{"$f":"'Челябинская обл.'!$C$19","v":0},{"$f":"'Челябинская обл.'!$C$20","v":0},{"$f":"'Челябинская обл.'!$C$21","v":0},{"$f":"'Челябинская обл.'!$C$23","v":1493.77},{"$f":"'Челябинская обл.'!$C$24","v":0},{"$f":"'Челябинская обл.'!$C$25","v":0},{"$f":"'Челябинская обл.'!$C$26","v":0},{"$f":"'Челябинская обл.'!$C$27","v":0},{"$f":"'Челябинская обл.'!$C$28","v":0},{"$f":"'Челябинская обл.'!$C$29","v":377.24},{"$f":"'Челябинская обл.'!$C$34","v":13.23},{"$f":"'Челябинская обл.'!$C$37","v":352.76},{"$f":"'Челябинская обл.'!$C$38","v":825.59},{"$f":"'Челябинская обл.'!$C$39","v":0},{"$f":"'Челябинская обл.'!$C$40","v":0},{"$f":"'Челябинская обл.'!$C$41","v":0},{"$f":"'Челябинская обл.'!$C$44","v":1142.9000000000001},{"$f":"'Челябинская обл.'!$C$45","v":1066.98},{"$f":"'Челябинская обл.'!$C$46","v":0},{"$f":"'Челябинская обл.'!$C$47","v":0},{"$f":"'Челябинская обл.'!$C$48","v":0},{"$f":"'Челябинская обл.'!$C$50","v":1081.3599999999999},{"$f":"'Челябинская обл.'!$C$51","v":1328.18},{"$f":"'Челябинская обл.'!$C$52","v":0},{"$f":"'Челябинская обл.'!$C$53","v":0},{"$f":"'Челябинская обл.'!$C$54","v":0},{"$f":"'Челябинская обл.'!$C$55","v":0},{"$f":"'Челябинская обл.'!$C$56","v":243.71}]
["6","МУП \"ЖКХ-Сервис\"",null,{"$f":"'Челябинская обл.'!$C$7","v":"13,23"},{"$f":"'Челябинская обл.'!$C$10","v":1005.74},{"$f":"'Челябинская обл.'!$C$11","v":0},{"$f":"'Челябинская обл.'!$C$12","v":0},{"$f":"'Челябинская обл.'!$C$13","v":0},{"$f":"'Челябинская обл.'!$C$14","v":0},{"$f":"'Челябинская обл.'!$C$17","v":1987.75},{"$f":"'Челябинская обл.'!$C$18","v":0},{"$f":"'Челябинская обл.'!$C$19","v":0},{"$f":"'Челябинская обл.'!$C$20","v":0},{"$f":"'Челябинская обл.'!$C$21","v":0},{"$f":"'Челябинская обл.'!$C$23","v":1493.77},{"$f":"'Челябинская обл.'!$C$24","v":0},{"$f":"'Челябинская обл.'!$C$25","v":0},{"$f":"'Челябинская обл.'!$C$26","v":0},{"$f":"'Челябинская обл.'!$C$27","v":0},{"$f":"'Челябинская обл.'!$C$28","v":0},{"$f":"'Челябинская обл.'!$C$29","v":377.24},{"$f":"'Челябинская обл.'!$C$34","v":13.23},{"$f":"'Челябинская обл.'!$C$37","v":352.76},{"$f":"'Челябинская обл.'!$C$38","v":825.59},{"$f":"'Челябинская обл.'!$C$39","v":0},{"$f":"'Челябинская обл.'!$C$40","v":0},{"$f":"'Челябинская обл.'!$C$41","v":0},{"$f":"'Челябинская обл.'!$C$44","v":1142.9000000000001},{"$f":"'Челябинская обл.'!$C$45","v":1066.98},{"$f":"'Челябинская обл.'!$C$46","v":0},{"$f":"'Челябинская обл.'!$C$47","v":0},{"$f":"'Челябинская обл.'!$C$48","v":0},{"$f":"'Челябинская обл.'!$C$50","v":1081.3599999999999},{"$f":"'Челябинская обл.'!$C$51","v":1328.18},{"$f":"'Челябинская обл.'!$C$52","v":0},{"$f":"'Челябинская обл.'!$C$53","v":0},{"$f":"'Челябинская обл.'!$C$54","v":0},{"$f":"'Челябинская обл.'!$C$55","v":0},{"$f":"'Челябинская обл.'!$C$56","v":243.71}]
["7","ООО \"Вертикаль\"",null,{"$f":"'Челябинская обл.'!$C$7","v":"13,23"},{"$f":"'Челябинская обл.'!$C$10","v":1005.74},{"$f":"'Челябинская обл.'!$C$11","v":0},{"$f":"'Челябинская обл.'!$C$12","v":0},{"$f":"'Челябинская обл.'!$C$13","v":0},{"$f":"'Челябинская обл.'!$C$14","v":0},{"$f":"'Челябинская обл.'!$C$17","v":1987.75},{"$f":"'Челябинская обл.'!$C$18","v":0},{"$f":"'Челябинская обл.'!$C$19","v":0},{"$f":"'Челябинская обл.'!$C$20","v":0},{"$f":"'Челябинская обл.'!$C$21","v":0},{"$f":"'Челябинская обл.'!$C$23","v":1493.77},{"$f":"'Челябинская обл.'!$C$24","v":0},{"$f":"'Челябинская обл.'!$C$25","v":0},{"$f":"'Челябинская обл.'!$C$26","v":0},{"$f":"'Челябинская обл.'!$C$27","v":0},{"$f":"'Челябинская обл.'!$C$28","v":0},{"$f":"'Челябинская обл.'!$C$29","v":377.24},{"$f":"'Челябинская обл.'!$C$34","v":13.23},{"$f":"'Челябинская обл.'!$C$37","v":352.76},{"$f":"'Челябинская обл.'!$C$38","v":825.59},{"$f":"'Челябинская обл.'!$C$39","v":0},{"$f":"'Челябинская обл.'!$C$40","v":0},{"$f":"'Челябинская обл.'!$C$41","v":0},{"$f":"'Челябинская обл.'!$C$44","v":1142.9000000000001},{"$f":"'Челябинская обл.'!$C$45","v":1066.98},{"$f":"'Челябинская обл.'!$C$46","v":0},{"$f":"'Челябинская обл.'!$C$47","v":0},{"$f":"'Челябинская обл.'!$C$48","v":0},{"$f":"'Челябинская обл.'!$C$50","v":1081.3599999999999},{"$f":"'Челябинская обл.'!$C$51","v":1328.18},{"$f":"'Челябинская обл.'!$C$52","v":0},{"$f":"'Челябинская обл.'!$C$53","v":0},{"$f":"'Челябинская обл.'!$C$54","v":0},{"$f":"'Челябинская обл.'!$C$55","v":0},{"$f":"'Челябинская обл.'!$C$56","v":243.71}]
["8","ООО \"Генерация\" (Агаповский м.р.)",null,{"$f":"'Челябинская обл.'!$C$7","v":"13,23"},{"$f":"'Челябинская обл.'!$C$10","v":1005.74},{"$f":"'Челябинская обл.'!$C$11","v":0},{"$f":"'Челябинская обл.'!$C$12","v":0},{"$f":"'Челябинская обл.'!$C$13","v":0},{"$f":"'Челябинская обл.'!$C$14","v":0},{"$f":"'Челябинская обл.'!$C$17","v":1987.75},{"$f":"'Челябинская обл.'!$C$18","v":0},{"$f":"'Челябинская обл.'!$C$19","v":0},{"$f":"'Челябинская обл.'!$C$20","v":0},{"$f":"'Челябинская обл.'!$C$21","v":0},{"$f":"'Челябинская обл.'!$C$23","v":1493.77},{"$f":"'Челябинская обл.'!$C$24","v":0},{"$f":"'Челябинская обл.'!$C$25","v":0},{"$f":"'Челябинская обл.'!$C$26","v":0},{"$f":"'Челябинская обл.'!$C$27","v":0},{"$f":"'Челябинская обл.'!$C$28","v":0},{"$f":"'Челябинская обл.'!$C$29","v":377.24},{"$f":"'Челябинская обл.'!$C$34","v":13.23},{"$f":"'Челябинская обл.'!$C$37","v":352.76},{"$f":"'Челябинская обл.'!$C$38","v":825.59},{"$f":"'Челябинская обл.'!$C$39","v":0},{"$f":"'Челябинская обл.'!$C$40","v":0},{"$f":"'Челябинская обл.'!$C$41","v":0},{"$f":"'Челябинская обл.'!$C$44","v":1142.9000000000001},{"$f":"'Челябинская обл.'!$C$45","v":1066.98},{"$f":"'Челябинская обл.'!$C$46","v":0},{"$f":"'Челябинская обл.'!$C$47","v":0},{"$f":"'Челябинская обл.'!$C$48","v":0},{"$f":"'Челябинская обл.'!$C$50","v":1081.3599999999999},{"$f":"'Челябинская обл.'!$C$51","v":1328.18},{"$f":"'Челябинская обл.'!$C$52","v":0},{"$f":"'Челябинская обл.'!$C$53","v":0},{"$f":"'Челябинская обл.'!$C$54","v":0},{"$f":"'Челябинская обл.'!$C$55","v":0},{"$f":"'Челябинская обл.'!$C$56","v":243.71}]
["9","ООО \"ЖКХ Агаповское\"",null,{"$f":"'Челябинская обл.'!$C$7","v":"13,23"},{"$f":"'Челябинская обл.'!$C$10","v":1005.74},{"$f":"'Челябинская обл.'!$C$11","v":0},{"$f":"'Челябинская обл.'!$C$12","v":0},{"$f":"'Челябинская обл.'!$C$13","v":0},{"$f":"'Челябинская обл.'!$C$14","v":0},{"$f":"'Челябинская обл.'!$C$17","v":1987.75},{"$f":"'Челябинская обл.'!$C$18","v":0},{"$f":"'Челябинская обл.'!$C$19","v":0},{"$f":"'Челябинская обл.'!$C$20","v":0},{"$f":"'Челябинская обл.'!$C$21","v":0},{"$f":"'Челябинская обл.'!$C$23","v":1493.77},{"$f":"'Челябинская обл.'!$C$24","v":0},{"$f":"'Челябинская обл.'!$C$25","v":0},{"$f":"'Челябинская обл.'!$C$26","v":0},{"$f":"'Челябинская обл.'!$C$27","v":0},{"$f":"'Челябинская обл.'!$C$28","v":0},{"$f":"'Челябинская обл.'!$C$29","v":377.24},{"$f":"'Челябинская обл.'!$C$34","v":13.23},{"$f":"'Челябинская обл.'!$C$37","v":352.76},{"$f":"'Челябинская обл.'!$C$38","v":825.59},{"$f":"'Челябинская обл.'!$C$39","v":0},{"$f":"'Челябинская обл.'!$C$40","v":0},{"$f":"'Челябинская обл.'!$C$41","v":0},{"$f":"'Челябинская обл.'!$C$44","v":1142.9000000000001},{"$f":"'Челябинская обл.'!$C$45","v":1066.98},{"$f":"'Челябинская обл.'!$C$46","v":0},{"$f":"'Челябинская обл.'!$C$47","v":0},{"$f":"'Челябинская обл.'!$C$48","v":0},{"$f":"'Челябинская обл.'!$C$50","v":1081.3599999999999},{"$f":"'Челябинская обл.'!$C$51","v":1328.18},{"$f":"'Челябинская обл.'!$C$52","v":0},{"$f":"'Челябинская обл.'!$C$53","v":0},{"$f":"'Челябинская обл.'!$C$54","v":0},{"$f":"'Челябинская обл.'!$C$55","v":0},{"$f":"'Челябинская обл.'!$C$56","v":243.71}]
["10","ООО \"Надежность-Тепло\" (Агаповский м.р.)",null,{"$f":"'Челябинская обл.'!$C$7","v":"13,23"},{"$f":"'Челябинская обл.'!$C$10","v":1005.74},{"$f":"'Челябинская обл.'!$C$11","v":0},{"$f":"'Челябинская обл.'!$C$12","v":0},{"$f":"'Челябинская обл.'!$C$13","v":0},{"$f":"'Челябинская обл.'!$C$14","v":0},{"$f":"'Челябинская обл.'!$C$17","v":1987.75},{"$f":"'Челябинская обл.'!$C$18","v":0},{"$f":"'Челябинская обл.'!$C$19","v":0},{"$f":"'Челябинская обл.'!$C$20","v":0},{"$f":"'Челябинская обл.'!$C$21","v":0},{"$f":"'Челябинская обл.'!$C$23","v":1493.77},{"$f":"'Челябинская обл.'!$C$24","v":0},{"$f":"'Челябинская обл.'!$C$25","v":0},{"$f":"'Челябинская обл.'!$C$26","v":0},{"$f":"'Челябинская обл.'!$C$27","v":0},{"$f":"'Челябинская обл.'!$C$28","v":0},{"$f":"'Челябинская обл.'!$C$29","v":377.24},{"$f":"'Челябинская обл.'!$C$34","v":13.23},{"$f":"'Челябинская обл.'!$C$37","v":352.76},{"$f":"'Челябинская обл.'!$C$38","v":825.59},{"$f":"'Челябинская обл.'!$C$39","v":0},{"$f":"'Челябинская обл.'!$C$40","v":0},{"$f":"'Челябинская обл.'!$C$41","v":0},{"$f":"'Челябинская обл.'!$C$44","v":1142.9000000000001},{"$f":"'Челябинская обл.'!$C$45","v":1066.98},{"$f":"'Челябинская обл.'!$C$46","v":0},{"$f":"'Челябинская обл.'!$C$47","v":0},{"$f":"'Челябинская обл.'!$C$48","v":0},{"$f":"'Челябинская обл.'!$C$50","v":1081.3599999999999},{"$f":"'Челябинская обл.'!$C$51","v":1328.18},{"$f":"'Челябинская обл.'!$C$52","v":0},{"$f":"'Челябинская обл.'!$C$53","v":0},{"$f":"'Челябинская обл.'!$C$54","v":0},{"$f":"'Челябинская обл.'!$C$55","v":0},{"$f":"'Челябинская обл.'!$C$56","v":243.71}]
["11","ООО \"Тепловые электрические сети и системы\" (Агаповский м.р.)",null,{"$f":"'Челябинская обл.'!$C$7","v":"13,23"},{"$f":"'Челябинская обл.'!$C$10","v":1005.74},{"$f":"'Челябинская обл.'!$C$11","v":0},{"$f":"'Челябинская обл.'!$C$12","v":0},{"$f":"'Челябинская обл.'!$C$13","v":0},{"$f":"'Челябинская обл.'!$C$14","v":0},{"$f":"'Челябинская обл.'!$C$17","v":1987.75},{"$f":"'Челябинская обл.'!$C$18","v":0},{"$f":"'Челябинская обл.'!$C$19","v":0},{"$f":"'Челябинская обл.'!$C$20","v":0},{"$f":"'Челябинская обл.'!$C$21","v":0},{"$f":"'Челябинская обл.'!$C$23","v":1493.77},{"$f":"'Челябинская обл.'!$C$24","v":0},{"$f":"'Челябинская обл.'!$C$25","v":0},{"$f":"'Челябинская обл.'!$C$26","v":0},{"$f":"'Челябинская обл.'!$C$27","v":0},{"$f":"'Челябинская обл.'!$C$28","v":0},{"$f":"'Челябинская обл.'!$C$29","v":377.24},{"$f":"'Челябинская обл.'!$C$34","v":13.23},{"$f":"'Челябинская обл.'!$C$37","v":352.76},{"$f":"'Челябинская обл.'!$C$38","v":825.59},{"$f":"'Челябинская обл.'!$C$39","v":0},{"$f":"'Челябинская обл.'!$C$40","v":0},{"$f":"'Челябинская обл.'!$C$41","v":0},{"$f":"'Челябинская обл.'!$C$44","v":1142.9000000000001},{"$f":"'Челябинская обл.'!$C$45","v":1066.98},{"$f":"'Челябинская обл.'!$C$46","v":0},{"$f":"'Челябинская обл.'!$C$47","v":0},{"$f":"'Челябинская обл.'!$C$48","v":0},{"$f":"'Челябинская обл.'!$C$50","v":1081.3599999999999},{"$f":"'Челябинская обл.'!$C$51","v":1328.18},{"$f":"'Челябинская обл.'!$C$52","v":0},{"$f":"'Челябинская обл.'!$C$53","v":0},{"$f":"'Челябинская обл.'!$C$54","v":0},{"$f":"'Челябинская обл.'!$C$55","v":0},{"$f":"'Челябинская обл.'!$C$56","v":243.71}]
["12","ООО \"Уральская энергия\" (Агаповский м.р.)",null,{"$f":"'Челябинская обл.'!$C$7","v":"13,23"},{"$f":"'Челябинская обл.'!$C$10","v":1005.74},{"$f":"'Челябинская обл.'!$C$11","v":0},{"$f":"'Челябинская обл.'!$C$12","v":0},{"$f":"'Челябинская обл.'!$C$13","v":0},{"$f":"'Челябинская обл.'!$C$14","v":0},{"$f":"'Челябинская обл.'!$C$17","v":1987.75},{"$f":"'Челябинская обл.'!$C$18","v":0},{"$f":"'Челябинская обл.'!$C$19","v":0},{"$f":"'Челябинская обл.'!$C$20","v":0},{"$f":"'Челябинская обл.'!$C$21","v":0},{"$f":"'Челябинская обл.'!$C$23","v":1493.77},{"$f":"'Челябинская обл.'!$C$24","v":0},{"$f":"'Челябинская обл.'!$C$25","v":0},{"$f":"'Челябинская обл.'!$C$26","v":0},{"$f":"'Челябинская обл.'!$C$27","v":0},{"$f":"'Челябинская обл.'!$C$28","v":0},{"$f":"'Челябинская обл.'!$C$29","v":377.24},{"$f":"'Челябинская обл.'!$C$34","v":13.23},{"$f":"'Челябинская обл.'!$C$37","v":352.76},{"$f":"'Челябинская обл.'!$C$38","v":825.59},{"$f":"'Челябинская обл.'!$C$39","v":0},{"$f":"'Челябинская обл.'!$C$40","v":0},{"$f":"'Челябинская обл.'!$C$41","v":0},{"$f":"'Челябинская обл.'!$C$44","v":1142.9000000000001},{"$f":"'Челябинская обл.'!$C$45","v":1066.98},{"$f":"'Челябинская обл.'!$C$46","v":0},{"$f":"'Челябинская обл.'!$C$47","v":0},{"$f":"'Челябинская обл.'!$C$48","v":0},{"$f":"'Челябинская обл.'!$C$50","v":1081.3599999999999},{"$f":"'Челябинская обл.'!$C$51","v":1328.18},{"$f":"'Челябинская обл.'!$C$52","v":0},{"$f":"'Челябинская обл.'!$C$53","v":0},{"$f":"'Челябинская обл.'!$C$54","v":0},{"$f":"'Челябинская обл.'!$C$55","v":0},{"$f":"'Челябинская обл.'!$C$56","v":243.71}]
[13,"ООО \"Эффективная теплоэнергетика\" (Агаповский м.р.)",null,{"$f":"'Челябинская обл.'!$C$7","v":"13,23"},{"$f":"'Челябинская обл.'!$C$10","v":1005.74},{"$f":"'Челябинская обл.'!$C$11","v":0},{"$f":"'Челябинская обл.'!$C$12","v":0},{"$f":"'Челябинская обл.'!$C$13","v":0},{"$f":"'Челябинская обл.'!$C$14","v":0},{"$f":"'Челябинская обл.'!$C$17","v":1987.75},{"$f":"'Челябинская обл.'!$C$18","v":0},{"$f":"'Челябинская обл.'!$C$19","v":0},{"$f":"'Челябинская обл.'!$C$20","v":0},{"$f":"'Челябинская обл.'!$C$21","v":0},{"$f":"'Челябинская обл.'!$C$23","v":1493.77},{"$f":"'Челябинская обл.'!$C$24","v":0},{"$f":"'Челябинская обл.'!$C$25","v":0},{"$f":"'Челябинская обл.'!$C$26","v":0},{"$f":"'Челябинская обл.'!$C$27","v":0},{"$f":"'Челябинская обл.'!$C$28","v":0},{"$f":"'Челябинская обл.'!$C$29","v":377.24},{"$f":"'Челябинская обл.'!$C$34","v":13.23},{"$f":"'Челябинская обл.'!$C$37","v":352.76},{"$f":"'Челябинская обл.'!$C$38","v":825.59},{"$f":"'Челябинская обл.'!$C$39","v":0},{"$f":"'Челябинская обл.'!$C$40","v":0},{"$f":"'Челябинская обл.'!$C$41","v":0},{"$f":"'Челябинская обл.'!$C$44","v":1142.9000000000001},{"$f":"'Челябинская обл.'!$C$45","v":1066.98},{"$f":"'Челябинская обл.'!$C$46","v":0},{"$f":"'Челябинская обл.'!$C$47","v":0},{"$f":"'Челябинская обл.'!$C$48","v":0},{"$f":"'Челябинская обл.'!$C$50","v":1081.3599999999999},{"$f":"'Челябинская обл.'!$C$51","v":1328.18},{"$f":"'Челябинская обл.'!$C$52","v":0},{"$f":"'Челябинская обл.'!$C$53","v":0},{"$f":"'Челябинская обл.'!$C$54","v":0},{"$f":"'Челябинская обл.'!$C$55","v":0},{"$f":"'Челябинская обл.'!$C$56","v":243.71}]
["18","Аргаяшский муниципальный район"]
["1","МУ \"Управление Акбашевского ЖКХ\"",null,{"$f":"'Челябинская обл.'!$C$7","v":"13,23"},{"$f":"'Челябинская обл.'!$C$10","v":1005.74},{"$f":"'Челябинская обл.'!$C$11","v":0},{"$f":"'Челябинская обл.'!$C$12","v":0},{"$f":"'Челябинская обл.'!$C$13","v":0},{"$f":"'Челябинская обл.'!$C$14","v":0},{"$f":"'Челябинская обл.'!$C$17","v":1987.75},{"$f":"'Челябинская обл.'!$C$18","v":0},{"$f":"'Челябинская обл.'!$C$19","v":0},{"$f":"'Челябинская обл.'!$C$20","v":0},{"$f":"'Челябинская обл.'!$C$21","v":0},{"$f":"'Челябинская обл.'!$C$23","v":1493.77},{"$f":"'Челябинская обл.'!$C$24","v":0},{"$f":"'Челябинская обл.'!$C$25","v":0},{"$f":"'Челябинская обл.'!$C$26","v":0},{"$f":"'Челябинская обл.'!$C$27","v":0},{"$f":"'Челябинская обл.'!$C$28","v":0},{"$f":"'Челябинская обл.'!$C$29","v":377.24},{"$f":"'Челябинская обл.'!$C$34","v":13.23},{"$f":"'Челябинская обл.'!$C$37","v":352.76},{"$f":"'Челябинская обл.'!$C$38","v":825.59},{"$f":"'Челябинская обл.'!$C$39","v":0},{"$f":"'Челябинская обл.'!$C$40","v":0},{"$f":"'Челябинская обл.'!$C$41","v":0},{"$f":"'Челябинская обл.'!$C$44","v":1142.9000000000001},{"$f":"'Челябинская обл.'!$C$45","v":1066.98},{"$f":"'Челябинская обл.'!$C$46","v":0},{"$f":"'Челябинская обл.'!$C$47","v":0},{"$f":"'Челябинская обл.'!$C$48","v":0},{"$f":"'Челябинская обл.'!$C$50","v":1081.3599999999999},{"$f":"'Челябинская обл.'!$C$51","v":1328.18},{"$f":"'Челябинская обл.'!$C$52","v":0},{"$f":"'Челябинская обл.'!$C$53","v":0},{"$f":"'Челябинская обл.'!$C$54","v":0},{"$f":"'Челябинская обл.'!$C$55","v":0},{"$f":"'Челябинская обл.'!$C$56","v":243.71}]
["2","МУ \"Управление Байрамгуловского ЖКХ\"",null,{"$f":"'Челябинская обл.'!$C$7","v":"13,23"},{"$f":"'Челябинская обл.'!$C$10","v":1005.74},{"$f":"'Челябинская обл.'!$C$11","v":0},{"$f":"'Челябинская обл.'!$C$12","v":0},{"$f":"'Челябинская обл.'!$C$13","v":0},{"$f":"'Челябинская обл.'!$C$14","v":0},{"$f":"'Челябинская обл.'!$C$17","v":1987.75},{"$f":"'Челябинская обл.'!$C$18","v":0},{"$f":"'Челябинская обл.'!$C$19","v":0},{"$f":"'Челябинская обл.'!$C$20","v":0},{"$f":"'Челябинская обл.'!$C$21","v":0},{"$f":"'Челябинская обл.'!$C$23","v":1493.77},{"$f":"'Челябинская обл.'!$C$24","v":0},{"$f":"'Челябинская обл.'!$C$25","v":0},{"$f":"'Челябинская обл.'!$C$26","v":0},{"$f":"'Челябинская обл.'!$C$27","v":0},{"$f":"'Челябинская обл.'!$C$28","v":0},{"$f":"'Челябинская обл.'!$C$29","v":377.24},{"$f":"'Челябинская обл.'!$C$34","v":13.23},{"$f":"'Челябинская обл.'!$C$37","v":352.76},{"$f":"'Челябинская обл.'!$C$38","v":825.59},{"$f":"'Челябинская обл.'!$C$39","v":0},{"$f":"'Челябинская обл.'!$C$40","v":0},{"$f":"'Челябинская обл.'!$C$41","v":0},{"$f":"'Челябинская обл.'!$C$44","v":1142.9000000000001},{"$f":"'Челябинская обл.'!$C$45","v":1066.98},{"$f":"'Челябинская обл.'!$C$46","v":0},{"$f":"'Челябинская обл.'!$C$47","v":0},{"$f":"'Челябинская обл.'!$C$48","v":0},{"$f":"'Челябинская обл.'!$C$50","v":1081.3599999999999},{"$f":"'Челябинская обл.'!$C$51","v":1328.18},{"$f":"'Челябинская обл.'!$C$52","v":0},{"$f":"'Челябинская обл.'!$C$53","v":0},{"$f":"'Челябинская обл.'!$C$54","v":0},{"$f":"'Челябинская обл.'!$C$55","v":0},{"$f":"'Челябинская обл.'!$C$56","v":243.71}]
["3","МУ \"Управление Дербишевского ЖКХ\"",null,{"$f":"'Челябинская обл.'!$C$7","v":"13,23"},{"$f":"'Челябинская обл.'!$C$10","v":1005.74},{"$f":"'Челябинская обл.'!$C$11","v":0},{"$f":"'Челябинская обл.'!$C$12","v":0},{"$f":"'Челябинская обл.'!$C$13","v":0},{"$f":"'Челябинская обл.'!$C$14","v":0},{"$f":"'Челябинская обл.'!$C$17","v":1987.75},{"$f":"'Челябинская обл.'!$C$18","v":0},{"$f":"'Челябинская обл.'!$C$19","v":0},{"$f":"'Челябинская обл.'!$C$20","v":0},{"$f":"'Челябинская обл.'!$C$21","v":0},{"$f":"'Челябинская обл.'!$C$23","v":1493.77},{"$f":"'Челябинская обл.'!$C$24","v":0},{"$f":"'Челябинская обл.'!$C$25","v":0},{"$f":"'Челябинская обл.'!$C$26","v":0},{"$f":"'Челябинская обл.'!$C$27","v":0},{"$f":"'Челябинская обл.'!$C$28","v":0},{"$f":"'Челябинская обл.'!$C$29","v":377.24},{"$f":"'Челябинская обл.'!$C$34","v":13.23},{"$f":"'Челябинская обл.'!$C$37","v":352.76},{"$f":"'Челябинская обл.'!$C$38","v":825.59},{"$f":"'Челябинская обл.'!$C$39","v":0},{"$f":"'Челябинская обл.'!$C$40","v":0},{"$f":"'Челябинская обл.'!$C$41","v":0},{"$f":"'Челябинская обл.'!$C$44","v":1142.9000000000001},{"$f":"'Челябинская обл.'!$C$45","v":1066.98},{"$f":"'Челябинская обл.'!$C$46","v":0},{"$f":"'Челябинская обл.'!$C$47","v":0},{"$f":"'Челябинская обл.'!$C$48","v":0},{"$f":"'Челябинская обл.'!$C$50","v":1081.3599999999999},{"$f":"'Челябинская обл.'!$C$51","v":1328.18},{"$f":"'Челябинская обл.'!$C$52","v":0},{"$f":"'Челябинская обл.'!$C$53","v":0},{"$f":"'Челябинская обл.'!$C$54","v":0},{"$f":"'Челябинская обл.'!$C$55","v":0},{"$f":"'Челябинская обл.'!$C$56","v":243.71}]
["4","МУ \"Управление Ишалинского ЖКХ\"",null,{"$f":"'Челябинская обл.'!$C$7","v":"13,23"},{"$f":"'Челябинская обл.'!$C$10","v":1005.74},{"$f":"'Челябинская обл.'!$C$11","v":0},{"$f":"'Челябинская обл.'!$C$12","v":0},{"$f":"'Челябинская обл.'!$C$13","v":0},{"$f":"'Челябинская обл.'!$C$14","v":0},{"$f":"'Челябинская обл.'!$C$17","v":1987.75},{"$f":"'Челябинская обл.'!$C$18","v":0},{"$f":"'Челябинская обл.'!$C$19","v":0},{"$f":"'Челябинская обл.'!$C$20","v":0},{"$f":"'Челябинская обл.'!$C$21","v":0},{"$f":"'Челябинская обл.'!$C$23","v":1493.77},{"$f":"'Челябинская обл.'!$C$24","v":0},{"$f":"'Челябинская обл.'!$C$25","v":0},{"$f":"'Челябинская обл.'!$C$26","v":0},{"$f":"'Челябинская обл.'!$C$27","v":0},{"$f":"'Челябинская обл.'!$C$28","v":0},{"$f":"'Челябинская обл.'!$C$29","v":377.24},{"$f":"'Челябинская обл.'!$C$34","v":13.23},{"$f":"'Челябинская обл.'!$C$37","v":352.76},{"$f":"'Челябинская обл.'!$C$38","v":825.59},{"$f":"'Челябинская обл.'!$C$39","v":0},{"$f":"'Челябинская обл.'!$C$40","v":0},{"$f":"'Челябинская обл.'!$C$41","v":0},{"$f":"'Челябинская обл.'!$C$44","v":1142.9000000000001},{"$f":"'Челябинская обл.'!$C$45","v":1066.98},{"$f":"'Челябинская обл.'!$C$46","v":0},{"$f":"'Челябинская обл.'!$C$47","v":0},{"$f":"'Челябинская обл.'!$C$48","v":0},{"$f":"'Челябинская обл.'!$C$50","v":1081.3599999999999},{"$f":"'Челябинская обл.'!$C$51","v":1328.18},{"$f":"'Челябинская обл.'!$C$52","v":0},{"$f":"'Челябинская обл.'!$C$53","v":0},{"$f":"'Челябинская обл.'!$C$54","v":0},{"$f":"'Челябинская обл.'!$C$55","v":0},{"$f":"'Челябинская обл.'!$C$56","v":243.71}]
["5","МУ \"Управление Камышевского ЖКХ\"",null,{"$f":"'Челябинская обл.'!$C$7","v":"13,23"},{"$f":"'Челябинская обл.'!$C$10","v":1005.74},{"$f":"'Челябинская обл.'!$C$11","v":0},{"$f":"'Челябинская обл.'!$C$12","v":0},{"$f":"'Челябинская обл.'!$C$13","v":0},{"$f":"'Челябинская обл.'!$C$14","v":0},{"$f":"'Челябинская обл.'!$C$17","v":1987.75},{"$f":"'Челябинская обл.'!$C$18","v":0},{"$f":"'Челябинская обл.'!$C$19","v":0},{"$f":"'Челябинская обл.'!$C$20","v":0},{"$f":"'Челябинская обл.'!$C$21","v":0},{"$f":"'Челябинская обл.'!$C$23","v":1493.77},{"$f":"'Челябинская обл.'!$C$24","v":0},{"$f":"'Челябинская обл.'!$C$25","v":0},{"$f":"'Челябинская обл.'!$C$26","v":0},{"$f":"'Челябинская обл.'!$C$27","v":0},{"$f":"'Челябинская обл.'!$C$28","v":0},{"$f":"'Челябинская обл.'!$C$29","v":377.24},{"$f":"'Челябинская обл.'!$C$34","v":13.23},{"$f":"'Челябинская обл.'!$C$37","v":352.76},{"$f":"'Челябинская обл.'!$C$38","v":825.59},{"$f":"'Челябинская обл.'!$C$39","v":0},{"$f":"'Челябинская обл.'!$C$40","v":0},{"$f":"'Челябинская обл.'!$C$41","v":0},{"$f":"'Челябинская обл.'!$C$44","v":1142.9000000000001},{"$f":"'Челябинская обл.'!$C$45","v":1066.98},{"$f":"'Челябинская обл.'!$C$46","v":0},{"$f":"'Челябинская обл.'!$C$47","v":0},{"$f":"'Челябинская обл.'!$C$48","v":0},{"$f":"'Челябинская обл.'!$C$50","v":1081.3599999999999},{"$f":"'Челябинская обл.'!$C$51","v":1328.18},{"$f":"'Челябинская обл.'!$C$52","v":0},{"$f":"'Челябинская обл.'!$C$53","v":0},{"$f":"'Челябинская обл.'!$C$54","v":0},{"$f":"'Челябинская обл.'!$C$55","v":0},{"$f":"'Челябинская обл.'!$C$56","v":243.71}]
["6","МУ \"Управление Норкинского ЖКХ\"",null,{"$f":"'Челябинская обл.'!$C$7","v":"13,23"},{"$f":"'Челябинская обл.'!$C$10","v":1005.74},{"$f":"'Челябинская обл.'!$C$11","v":0},{"$f":"'Челябинская обл.'!$C$12","v":0},{"$f":"'Челябинская обл.'!$C$13","v":0},{"$f":"'Челябинская обл.'!$C$14","v":0},{"$f":"'Челябинская обл.'!$C$17","v":1987.75},{"$f":"'Челябинская обл.'!$C$18","v":0},{"$f":"'Челябинская обл.'!$C$19","v":0},{"$f":"'Челябинская обл.'!$C$20","v":0},{"$f":"'Челябинская обл.'!$C$21","v":0},{"$f":"'Челябинская обл.'!$C$23","v":1493.77},{"$f":"'Челябинская обл.'!$C$24","v":0},{"$f":"'Челябинская обл.'!$C$25","v":0},{"$f":"'Челябинская обл.'!$C$26","v":0},{"$f":"'Челябинская обл.'!$C$27","v":0},{"$f":"'Челябинская обл.'!$C$28","v":0},{"$f":"'Челябинская обл.'!$C$29","v":377.24},{"$f":"'Челябинская обл.'!$C$34","v":13.23},{"$f":"'Челябинская обл.'!$C$37","v":352.76},{"$f":"'Челябинская обл.'!$C$38","v":825.59},{"$f":"'Челябинская обл.'!$C$39","v":0},{"$f":"'Челябинская обл.'!$C$40","v":0},{"$f":"'Челябинская обл.'!$C$41","v":0},{"$f":"'Челябинская обл.'!$C$44","v":1142.9000000000001},{"$f":"'Челябинская обл.'!$C$45","v":1066.98},{"$f":"'Челябинская обл.'!$C$46","v":0},{"$f":"'Челябинская обл.'!$C$47","v":0},{"$f":"'Челябинская обл.'!$C$48","v":0},{"$f":"'Челябинская обл.'!$C$50","v":1081.3599999999999},{"$f":"'Челябинская обл.'!$C$51","v":1328.18},{"$f":"'Челябинская обл.'!$C$52","v":0},{"$f":"'Челябинская обл.'!$C$53","v":0},{"$f":"'Челябинская обл.'!$C$54","v":0},{"$f":"'Челябинская обл.'!$C$55","v":0},{"$f":"'Челябинская обл.'!$C$56","v":243.71}]
["7","МУ \"Управление Худайбердинского ЖКХ\"",null,{"$f":"'Челябинская обл.'!$C$7","v":"13,23"},{"$f":"'Челябинская обл.'!$C$10","v":1005.74},{"$f":"'Челябинская обл.'!$C$11","v":0},{"$f":"'Челябинская обл.'!$C$12","v":0},{"$f":"'Челябинская обл.'!$C$13","v":0},{"$f":"'Челябинская обл.'!$C$14","v":0},{"$f":"'Челябинская обл.'!$C$17","v":1987.75},{"$f":"'Челябинская обл.'!$C$18","v":0},{"$f":"'Челябинская обл.'!$C$19","v":0},{"$f":"'Челябинская обл.'!$C$20","v":0},{"$f":"'Челябинская обл.'!$C$21","v":0},{"$f":"'Челябинская обл.'!$C$23","v":1493.77},{"$f":"'Челябинская обл.'!$C$24","v":0},{"$f":"'Челябинская обл.'!$C$25","v":0},{"$f":"'Челябинская обл.'!$C$26","v":0},{"$f":"'Челябинская обл.'!$C$27","v":0},{"$f":"'Челябинская обл.'!$C$28","v":0},{"$f":"'Челябинская обл.'!$C$29","v":377.24},{"$f":"'Челябинская обл.'!$C$34","v":13.23},{"$f":"'Челябинская обл.'!$C$37","v":352.76},{"$f":"'Челябинская обл.'!$C$38","v":825.59},{"$f":"'Челябинская обл.'!$C$39","v":0},{"$f":"'Челябинская обл.'!$C$40","v":0},{"$f":"'Челябинская обл.'!$C$41","v":0},{"$f":"'Челябинская обл.'!$C$44","v":1142.9000000000001},{"$f":"'Челябинская обл.'!$C$45","v":1066.98},{"$f":"'Челябинская обл.'!$C$46","v":0},{"$f":"'Челябинская обл.'!$C$47","v":0},{"$f":"'Челябинская обл.'!$C$48","v":0},{"$f":"'Челябинская обл.'!$C$50","v":1081.3599999999999},{"$f":"'Челябинская обл.'!$C$51","v":1328.18},{"$f":"'Челябинская обл.'!$C$52","v":0},{"$f":"'Челябинская обл.'!$C$53","v":0},{"$f":"'Челябинская обл.'!$C$54","v":0},{"$f":"'Челябинская обл.'!$C$55","v":0},{"$f":"'Челябинская обл.'!$C$56","v":243.71}]
["8","МУП \"Кулуевское ЖКХ\"",null,{"$f":"'Челябинская обл.'!$C$7","v":"13,23"},{"$f":"'Челябинская обл.'!$C$10","v":1005.74},{"$f":"'Челябинская обл.'!$C$11","v":0},{"$f":"'Челябинская обл.'!$C$12","v":0},{"$f":"'Челябинская обл.'!$C$13","v":0},{"$f":"'Челябинская обл.'!$C$14","v":0},{"$f":"'Челябинская обл.'!$C$17","v":1987.75},{"$f":"'Челябинская обл.'!$C$18","v":0},{"$f":"'Челябинская обл.'!$C$19","v":0},{"$f":"'Челябинская обл.'!$C$20","v":0},{"$f":"'Челябинская обл.'!$C$21","v":0},{"$f":"'Челябинская обл.'!$C$23","v":1493.77},{"$f":"'Челябинская обл.'!$C$24","v":0},{"$f":"'Челябинская обл.'!$C$25","v":0},{"$f":"'Челябинская обл.'!$C$26","v":0},{"$f":"'Челябинская обл.'!$C$27","v":0},{"$f":"'Челябинская обл.'!$C$28","v":0},{"$f":"'Челябинская обл.'!$C$29","v":377.24},{"$f":"'Челябинская обл.'!$C$34","v":13.23},{"$f":"'Челябинская обл.'!$C$37","v":352.76},{"$f":"'Челябинская обл.'!$C$38","v":825.59},{"$f":"'Челябинская обл.'!$C$39","v":0},{"$f":"'Челябинская обл.'!$C$40","v":0},{"$f":"'Челябинская обл.'!$C$41","v":0},{"$f":"'Челябинская обл.'!$C$44","v":1142.9000000000001},{"$f":"'Челябинская обл.'!$C$45","v":1066.98},{"$f":"'Челябинская обл.'!$C$46","v":0},{"$f":"'Челябинская обл.'!$C$47","v":0},{"$f":"'Челябинская обл.'!$C$48","v":0},{"$f":"'Челябинская обл.'!$C$50","v":1081.3599999999999},{"$f":"'Челябинская обл.'!$C$51","v":1328.18},{"$f":"'Челябинская обл.'!$C$52","v":0},{"$f":"'Челябинская обл.'!$C$53","v":0},{"$f":"'Челябинская обл.'!$C$54","v":0},{"$f":"'Челябинская обл.'!$C$55","v":0},{"$f":"'Челябинская обл.'!$C$56","v":243.71}]
["9","ООО \"Тепловые электрические сети и системы\" (Аргаяшский м.р.)",null,{"$f":"'Челябинская обл.'!$C$7","v":"13,23"},{"$f":"'Челябинская обл.'!$C$10","v":1005.74},{"$f":"'Челябинская обл.'!$C$11","v":0},{"$f":"'Челябинская обл.'!$C$12","v":0},{"$f":"'Челябинская обл.'!$C$13","v":0},{"$f":"'Челябинская обл.'!$C$14","v":0},{"$f":"'Челябинская обл.'!$C$17","v":1987.75},{"$f":"'Челябинская обл.'!$C$18","v":0},{"$f":"'Челябинская обл.'!$C$19","v":0},{"$f":"'Челябинская обл.'!$C$20","v":0},{"$f":"'Челябинская обл.'!$C$21","v":0},{"$f":"'Челябинская обл.'!$C$23","v":1493.77},{"$f":"'Челябинская обл.'!$C$24","v":0},{"$f":"'Челябинская обл.'!$C$25","v":0},{"$f":"'Челябинская обл.'!$C$26","v":0},{"$f":"'Челябинская обл.'!$C$27","v":0},{"$f":"'Челябинская обл.'!$C$28","v":0},{"$f":"'Челябинская обл.'!$C$29","v":377.24},{"$f":"'Челябинская обл.'!$C$34","v":13.23},{"$f":"'Челябинская обл.'!$C$37","v":352.76},{"$f":"'Челябинская обл.'!$C$38","v":825.59},{"$f":"'Челябинская обл.'!$C$39","v":0},{"$f":"'Челябинская обл.'!$C$40","v":0},{"$f":"'Челябинская обл.'!$C$41","v":0},{"$f":"'Челябинская обл.'!$C$44","v":1142.9000000000001},{"$f":"'Челябинская обл.'!$C$45","v":1066.98},{"$f":"'Челябинская обл.'!$C$46","v":0},{"$f":"'Челябинская обл.'!$C$47","v":0},{"$f":"'Челябинская обл.'!$C$48","v":0},{"$f":"'Челябинская обл.'!$C$50","v":1081.3599999999999},{"$f":"'Челябинская обл.'!$C$51","v":1328.18},{"$f":"'Челябинская обл.'!$C$52","v":0},{"$f":"'Челябинская обл.'!$C$53","v":0},{"$f":"'Челябинская обл.'!$C$54","v":0},{"$f":"'Челябинская обл.'!$C$55","v":0},{"$f":"'Челябинская обл.'!$C$56","v":243.71}]
["10","ООО \"Теплоград\"",null,{"$f":"'Челябинская обл.'!$C$7","v":"13,23"},{"$f":"'Челябинская обл.'!$C$10","v":1005.74},{"$f":"'Челябинская обл.'!$C$11","v":0},{"$f":"'Челябинская обл.'!$C$12","v":0},{"$f":"'Челябинская обл.'!$C$13","v":0},{"$f":"'Челябинская обл.'!$C$14","v":0},{"$f":"'Челябинская обл.'!$C$17","v":1987.75},{"$f":"'Челябинская обл.'!$C$18","v":0},{"$f":"'Челябинская обл.'!$C$19","v":0},{"$f":"'Челябинская обл.'!$C$20","v":0},{"$f":"'Челябинская обл.'!$C$21","v":0},{"$f":"'Челябинская обл.'!$C$23","v":1493.77},{"$f":"'Челябинская обл.'!$C$24","v":0},{"$f":"'Челябинская обл.'!$C$25","v":0},{"$f":"'Челябинская обл.'!$C$26","v":0},{"$f":"'Челябинская обл.'!$C$27","v":0},{"$f":"'Челябинская обл.'!$C$28","v":0},{"$f":"'Челябинская обл.'!$C$29","v":377.24},{"$f":"'Челябинская обл.'!$C$34","v":13.23},{"$f":"'Челябинская обл.'!$C$37","v":352.76},{"$f":"'Челябинская обл.'!$C$38","v":825.59},{"$f":"'Челябинская обл.'!$C$39","v":0},{"$f":"'Челябинская обл.'!$C$40","v":0},{"$f":"'Челябинская обл.'!$C$41","v":0},{"$f":"'Челябинская обл.'!$C$44","v":1142.9000000000001},{"$f":"'Челябинская обл.'!$C$45","v":1066.98},{"$f":"'Челябинская обл.'!$C$46","v":0},{"$f":"'Челябинская обл.'!$C$47","v":0},{"$f":"'Челябинская обл.'!$C$48","v":0},{"$f":"'Челябинская обл.'!$C$50","v":1081.3599999999999},{"$f":"'Челябинская обл.'!$C$51","v":1328.18},{"$f":"'Челябинская обл.'!$C$52","v":0},{"$f":"'Челябинская обл.'!$C$53","v":0},{"$f":"'Челябинская обл.'!$C$54","v":0},{"$f":"'Челябинская обл.'!$C$55","v":0},{"$f":"'Челябинская обл.'!$C$56","v":243.71}]
["11","ООО \"Теплоснабжающая компания-7\"",null,{"$f":"'Челябинская обл.'!$C$7","v":"13,23"},{"$f":"'Челябинская обл.'!$C$10","v":1005.74},{"$f":"'Челябинская обл.'!$C$11","v":0},{"$f":"'Челябинская обл.'!$C$12","v":0},{"$f":"'Челябинская обл.'!$C$13","v":0},{"$f":"'Челябинская обл.'!$C$14","v":0},{"$f":"'Челябинская обл.'!$C$17","v":1987.75},{"$f":"'Челябинская обл.'!$C$18","v":0},{"$f":"'Челябинская обл.'!$C$19","v":0},{"$f":"'Челябинская обл.'!$C$20","v":0},{"$f":"'Челябинская обл.'!$C$21","v":0},{"$f":"'Челябинская обл.'!$C$23","v":1493.77},{"$f":"'Челябинская обл.'!$C$24","v":0},{"$f":"'Челябинская обл.'!$C$25","v":0},{"$f":"'Челябинская обл.'!$C$26","v":0},{"$f":"'Челябинская обл.'!$C$27","v":0},{"$f":"'Челябинская обл.'!$C$28","v":0},{"$f":"'Челябинская обл.'!$C$29","v":377.24},{"$f":"'Челябинская обл.'!$C$34","v":13.23},{"$f":"'Челябинская обл.'!$C$37","v":352.76},{"$f":"'Челябинская обл.'!$C$38","v":825.59},{"$f":"'Челябинская обл.'!$C$39","v":0},{"$f":"'Челябинская обл.'!$C$40","v":0},{"$f":"'Челябинская обл.'!$C$41","v":0},{"$f":"'Челябинская обл.'!$C$44","v":1142.9000000000001},{"$f":"'Челябинская обл.'!$C$45","v":1066.98},{"$f":"'Челябинская обл.'!$C$46","v":0},{"$f":"'Челябинская обл.'!$C$47","v":0},{"$f":"'Челябинская обл.'!$C$48","v":0},{"$f":"'Челябинская обл.'!$C$50","v":1081.3599999999999},{"$f":"'Челябинская обл.'!$C$51","v":1328.18},{"$f":"'Челябинская обл.'!$C$52","v":0},{"$f":"'Челябинская обл.'!$C$53","v":0},{"$f":"'Челябинская обл.'!$C$54","v":0},{"$f":"'Челябинская обл.'!$C$55","v":0},{"$f":"'Челябинская обл.'!$C$56","v":243.71}]
["12","ООО \"ЭкоТехнологии\"(Аргаяшский м.р.)",null,{"$f":"'Челябинская обл.'!$C$7","v":"13,23"},{"$f":"'Челябинская обл.'!$C$10","v":1005.74},{"$f":"'Челябинская обл.'!$C$11","v":0},{"$f":"'Челябинская обл.'!$C$12","v":0},{"$f":"'Челябинская обл.'!$C$13","v":0},{"$f":"'Челябинская обл.'!$C$14","v":0},{"$f":"'Челябинская обл.'!$C$17","v":1987.75},{"$f":"'Челябинская обл.'!$C$18","v":0},{"$f":"'Челябинская обл.'!$C$19","v":0},{"$f":"'Челябинская обл.'!$C$20","v":0},{"$f":"'Челябинская обл.'!$C$21","v":0},{"$f":"'Челябинская обл.'!$C$23","v":1493.77},{"$f":"'Челябинская обл.'!$C$24","v":0},{"$f":"'Челябинская обл.'!$C$25","v":0},{"$f":"'Челябинская обл.'!$C$26","v":0},{"$f":"'Челябинская обл.'!$C$27","v":0},{"$f":"'Челябинская обл.'!$C$28","v":0},{"$f":"'Челябинская обл.'!$C$29","v":377.24},{"$f":"'Челябинская обл.'!$C$34","v":13.23},{"$f":"'Челябинская обл.'!$C$37","v":352.76},{"$f":"'Челябинская обл.'!$C$38","v":825.59},{"$f":"'Челябинская обл.'!$C$39","v":0},{"$f":"'Челябинская обл.'!$C$40","v":0},{"$f":"'Челябинская обл.'!$C$41","v":0},{"$f":"'Челябинская обл.'!$C$44","v":1142.9000000000001},{"$f":"'Челябинская обл.'!$C$45","v":1066.98},{"$f":"'Челябинская обл.'!$C$46","v":0},{"$f":"'Челябинская обл.'!$C$47","v":0},{"$f":"'Челябинская обл.'!$C$48","v":0},{"$f":"'Челябинская обл.'!$C$50","v":1081.3599999999999},{"$f":"'Челябинская обл.'!$C$51","v":1328.18},{"$f":"'Челябинская обл.'!$C$52","v":0},{"$f":"'Челябинская обл.'!$C$53","v":0},{"$f":"'Челябинская обл.'!$C$54","v":0},{"$f":"'Челябинская обл.'!$C$55","v":0},{"$f":"'Челябинская обл.'!$C$56","v":243.71}]
["13","ООО \"ЭНЕРГИЯ-М\"(Аргаяшский м.р.)",null,{"$f":"'Челябинская обл.'!$C$7","v":"13,23"},{"$f":"'Челябинская обл.'!$C$10","v":1005.74},{"$f":"'Челябинская обл.'!$C$11","v":0},{"$f":"'Челябинская обл.'!$C$12","v":0},{"$f":"'Челябинская обл.'!$C$13","v":0},{"$f":"'Челябинская обл.'!$C$14","v":0},{"$f":"'Челябинская обл.'!$C$17","v":1987.75},{"$f":"'Челябинская обл.'!$C$18","v":0},{"$f":"'Челябинская обл.'!$C$19","v":0},{"$f":"'Челябинская обл.'!$C$20","v":0},{"$f":"'Челябинская обл.'!$C$21","v":0},{"$f":"'Челябинская обл.'!$C$23","v":1493.77},{"$f":"'Челябинская обл.'!$C$24","v":0},{"$f":"'Челябинская обл.'!$C$25","v":0},{"$f":"'Челябинская обл.'!$C$26","v":0},{"$f":"'Челябинская обл.'!$C$27","v":0},{"$f":"'Челябинская обл.'!$C$28","v":0},{"$f":"'Челябинская обл.'!$C$29","v":377.24},{"$f":"'Челябинская обл.'!$C$34","v":13.23},{"$f":"'Челябинская обл.'!$C$37","v":352.76},{"$f":"'Челябинская обл.'!$C$38","v":825.59},{"$f":"'Челябинская обл.'!$C$39","v":0},{"$f":"'Челябинская обл.'!$C$40","v":0},{"$f":"'Челябинская обл.'!$C$41","v":0},{"$f":"'Челябинская обл.'!$C$44","v":1142.9000000000001},{"$f":"'Челябинская обл.'!$C$45","v":1066.98},{"$f":"'Челябинская обл.'!$C$46","v":0},{"$f":"'Челябинская обл.'!$C$47","v":0},{"$f":"'Челябинская обл.'!$C$48","v":0},{"$f":"'Челябинская обл.'!$C$50","v":1081.3599999999999},{"$f":"'Челябинская обл.'!$C$51","v":1328.18},{"$f":"'Челябинская обл.'!$C$52","v":0},{"$f":"'Челябинская обл.'!$C$53","v":0},{"$f":"'Челябинская обл.'!$C$54","v":0},{"$f":"'Челябинская обл.'!$C$55","v":0},{"$f":"'Челябинская обл.'!$C$56","v":243.71}]
[14,"ООО МЦМиР \"Курорт Увильды\"",null,{"$f":"'Челябинская обл.'!$C$7","v":"13,23"},{"$f":"'Челябинская обл.'!$C$10","v":1005.74},{"$f":"'Челябинская обл.'!$C$11","v":0},{"$f":"'Челябинская обл.'!$C$12","v":0},{"$f":"'Челябинская обл.'!$C$13","v":0},{"$f":"'Челябинская обл.'!$C$14","v":0},{"$f":"'Челябинская обл.'!$C$17","v":1987.75},{"$f":"'Челябинская обл.'!$C$18","v":0},{"$f":"'Челябинская обл.'!$C$19","v":0},{"$f":"'Челябинская обл.'!$C$20","v":0},{"$f":"'Челябинская обл.'!$C$21","v":0},{"$f":"'Челябинская обл.'!$C$23","v":1493.77},{"$f":"'Челябинская обл.'!$C$24","v":0},{"$f":"'Челябинская обл.'!$C$25","v":0},{"$f":"'Челябинская обл.'!$C$26","v":0},{"$f":"'Челябинская обл.'!$C$27","v":0},{"$f":"'Челябинская обл.'!$C$28","v":0},{"$f":"'Челябинская обл.'!$C$29","v":377.24},{"$f":"'Челябинская обл.'!$C$34","v":13.23},{"$f":"'Челябинская обл.'!$C$37","v":352.76},{"$f":"'Челябинская обл.'!$C$38","v":825.59},{"$f":"'Челябинская обл.'!$C$39","v":0},{"$f":"'Челябинская обл.'!$C$40","v":0},{"$f":"'Челябинская обл.'!$C$41","v":0},{"$f":"'Челябинская обл.'!$C$44","v":1142.9000000000001},{"$f":"'Челябинская обл.'!$C$45","v":1066.98},{"$f":"'Челябинская обл.'!$C$46","v":0},{"$f":"'Челябинская обл.'!$C$47","v":0},{"$f":"'Челябинская обл.'!$C$48","v":0},{"$f":"'Челябинская обл.'!$C$50","v":1081.3599999999999},{"$f":"'Челябинская обл.'!$C$51","v":1328.18},{"$f":"'Челябинская обл.'!$C$52","v":0},{"$f":"'Челябинская обл.'!$C$53","v":0},{"$f":"'Челябинская обл.'!$C$54","v":0},{"$f":"'Челябинская обл.'!$C$55","v":0},{"$f":"'Челябинская обл.'!$C$56","v":243.71}]
["19","Ашинский муниципальный район"]
["1","АО \"ТРАНСНЕФТЬ-УРАЛ\"",null,{"$f":"'Челябинская обл.'!$C$7","v":"13,23"},{"$f":"'Челябинская обл.'!$C$10","v":1005.74},{"$f":"'Челябинская обл.'!$C$11","v":0},{"$f":"'Челябинская обл.'!$C$12","v":0},{"$f":"'Челябинская обл.'!$C$13","v":0},{"$f":"'Челябинская обл.'!$C$14","v":0},{"$f":"'Челябинская обл.'!$C$17","v":1987.75},{"$f":"'Челябинская обл.'!$C$18","v":0},{"$f":"'Челябинская обл.'!$C$19","v":0},{"$f":"'Челябинская обл.'!$C$20","v":0},{"$f":"'Челябинская обл.'!$C$21","v":0},{"$f":"'Челябинская обл.'!$C$23","v":1493.77},{"$f":"'Челябинская обл.'!$C$24","v":0},{"$f":"'Челябинская обл.'!$C$25","v":0},{"$f":"'Челябинская обл.'!$C$26","v":0},{"$f":"'Челябинская обл.'!$C$27","v":0},{"$f":"'Челябинская обл.'!$C$28","v":0},{"$f":"'Челябинская обл.'!$C$29","v":377.24},{"$f":"'Челябинская обл.'!$C$34","v":13.23},{"$f":"'Челябинская обл.'!$C$37","v":352.76},{"$f":"'Челябинская обл.'!$C$38","v":825.59},{"$f":"'Челябинская обл.'!$C$39","v":0},{"$f":"'Челябинская обл.'!$C$40","v":0},{"$f":"'Челябинская обл.'!$C$41","v":0},{"$f":"'Челябинская обл.'!$C$44","v":1142.9000000000001},{"$f":"'Челябинская обл.'!$C$45","v":1066.98},{"$f":"'Челябинская обл.'!$C$46","v":0},{"$f":"'Челябинская обл.'!$C$47","v":0},{"$f":"'Челябинская обл.'!$C$48","v":0},{"$f":"'Челябинская обл.'!$C$50","v":1081.3599999999999},{"$f":"'Челябинская обл.'!$C$51","v":1328.18},{"$f":"'Челябинская обл.'!$C$52","v":0},{"$f":"'Челябинская обл.'!$C$53","v":0},{"$f":"'Челябинская обл.'!$C$54","v":0},{"$f":"'Челябинская обл.'!$C$55","v":0},{"$f":"'Челябинская обл.'!$C$56","v":243.71}]
["2","АО \"Челябоблкоммунэнерго\" (Челябинская область)",null,{"$f":"'Челябинская обл.'!$C$7","v":"13,23"},{"$f":"'Челябинская обл.'!$C$10","v":1005.74},{"$f":"'Челябинская обл.'!$C$11","v":0},{"$f":"'Челябинская обл.'!$C$12","v":0},{"$f":"'Челябинская обл.'!$C$13","v":0},{"$f":"'Челябинская обл.'!$C$14","v":0},{"$f":"'Челябинская обл.'!$C$17","v":1987.75},{"$f":"'Челябинская обл.'!$C$18","v":0},{"$f":"'Челябинская обл.'!$C$19","v":0},{"$f":"'Челябинская обл.'!$C$20","v":0},{"$f":"'Челябинская обл.'!$C$21","v":0},{"$f":"'Челябинская обл.'!$C$23","v":1493.77},{"$f":"'Челябинская обл.'!$C$24","v":0},{"$f":"'Челябинская обл.'!$C$25","v":0},{"$f":"'Челябинская обл.'!$C$26","v":0},{"$f":"'Челябинская обл.'!$C$27","v":0},{"$f":"'Челябинская обл.'!$C$28","v":0},{"$f":"'Челябинская обл.'!$C$29","v":377.24},{"$f":"'Челябинская обл.'!$C$34","v":13.23},{"$f":"'Челябинская обл.'!$C$37","v":352.76},{"$f":"'Челябинская обл.'!$C$38","v":825.59},{"$f":"'Челябинская обл.'!$C$39","v":0},{"$f":"'Челябинская обл.'!$C$40","v":0},{"$f":"'Челябинская обл.'!$C$41","v":0},{"$f":"'Челябинская обл.'!$C$44","v":1142.9000000000001},{"$f":"'Челябинская обл.'!$C$45","v":1066.98},{"$f":"'Челябинская обл.'!$C$46","v":0},{"$f":"'Челябинская обл.'!$C$47","v":0},{"$f":"'Челябинская обл.'!$C$48","v":0},{"$f":"'Челябинская обл.'!$C$50","v":1081.3599999999999},{"$f":"'Челябинская обл.'!$C$51","v":1328.18},{"$f":"'Челябинская обл.'!$C$52","v":0},{"$f":"'Челябинская обл.'!$C$53","v":0},{"$f":"'Челябинская обл.'!$C$54","v":0},{"$f":"'Челябинская обл.'!$C$55","v":0},{"$f":"'Челябинская обл.'!$C$56","v":243.71}]
["3","ОАО \"Ашинский металлургический завод\"",null,{"$f":"'Челябинская обл.'!$C$7","v":"13,23"},{"$f":"'Челябинская обл.'!$C$10","v":1005.74},{"$f":"'Челябинская обл.'!$C$11","v":0},{"$f":"'Челябинская обл.'!$C$12","v":0},{"$f":"'Челябинская обл.'!$C$13","v":0},{"$f":"'Челябинская обл.'!$C$14","v":0},{"$f":"'Челябинская обл.'!$C$17","v":1987.75},{"$f":"'Челябинская обл.'!$C$18","v":0},{"$f":"'Челябинская обл.'!$C$19","v":0},{"$f":"'Челябинская обл.'!$C$20","v":0},{"$f":"'Челябинская обл.'!$C$21","v":0},{"$f":"'Челябинская обл.'!$C$23","v":1493.77},{"$f":"'Челябинская обл.'!$C$24","v":0},{"$f":"'Челябинская обл.'!$C$25","v":0},{"$f":"'Челябинская обл.'!$C$26","v":0},{"$f":"'Челябинская обл.'!$C$27","v":0},{"$f":"'Челябинская обл.'!$C$28","v":0},{"$f":"'Челябинская обл.'!$C$29","v":377.24},{"$f":"'Челябинская обл.'!$C$34","v":13.23},{"$f":"'Челябинская обл.'!$C$37","v":352.76},{"$f":"'Челябинская обл.'!$C$38","v":825.59},{"$f":"'Челябинская обл.'!$C$39","v":0},{"$f":"'Челябинская обл.'!$C$40","v":0},{"$f":"'Челябинская обл.'!$C$41","v":0},{"$f":"'Челябинская обл.'!$C$44","v":1142.9000000000001},{"$f":"'Челябинская обл.'!$C$45","v":1066.98},{"$f":"'Челябинская обл.'!$C$46","v":0},{"$f":"'Челябинская обл.'!$C$47","v":0},{"$f":"'Челябинская обл.'!$C$48","v":0},{"$f":"'Челябинская обл.'!$C$50","v":1081.3599999999999},{"$f":"'Челябинская обл.'!$C$51","v":1328.18},{"$f":"'Челябинская обл.'!$C$52","v":0},{"$f":"'Челябинская обл.'!$C$53","v":0},{"$f":"'Челябинская обл.'!$C$54","v":0},{"$f":"'Челябинская обл.'!$C$55","v":0},{"$f":"'Челябинская обл.'!$C$56","v":243.71}]
["4","ОАО \"Челябкоммунэнерго\" (Ашинский м.р.)",null,{"$f":"'Челябинская обл.'!$C$7","v":"13,23"},{"$f":"'Челябинская обл.'!$C$10","v":1005.74},{"$f":"'Челябинская обл.'!$C$11","v":0},{"$f":"'Челябинская обл.'!$C$12","v":0},{"$f":"'Челябинская обл.'!$C$13","v":0},{"$f":"'Челябинская обл.'!$C$14","v":0},{"$f":"'Челябинская обл.'!$C$17","v":1987.75},{"$f":"'Челябинская обл.'!$C$18","v":0},{"$f":"'Челябинская обл.'!$C$19","v":0},{"$f":"'Челябинская обл.'!$C$20","v":0},{"$f":"'Челябинская обл.'!$C$21","v":0},{"$f":"'Челябинская обл.'!$C$23","v":1493.77},{"$f":"'Челябинская обл.'!$C$24","v":0},{"$f":"'Челябинская обл.'!$C$25","v":0},{"$f":"'Челябинская обл.'!$C$26","v":0},{"$f":"'Челябинская обл.'!$C$27","v":0},{"$f":"'Челябинская обл.'!$C$28","v":0},{"$f":"'Челябинская обл.'!$C$29","v":377.24},{"$f":"'Челябинская обл.'!$C$34","v":13.23},{"$f":"'Челябинская обл.'!$C$37","v":352.76},{"$f":"'Челябинская обл.'!$C$38","v":825.59},{"$f":"'Челябинская обл.'!$C$39","v":0},{"$f":"'Челябинская обл.'!$C$40","v":0},{"$f":"'Челябинская обл.'!$C$41","v":0},{"$f":"'Челябинская обл.'!$C$44","v":1142.9000000000001},{"$f":"'Челябинская обл.'!$C$45","v":1066.98},{"$f":"'Челябинская обл.'!$C$46","v":0},{"$f":"'Челябинская обл.'!$C$47","v":0},{"$f":"'Челябинская обл.'!$C$48","v":0},{"$f":"'Челябинская обл.'!$C$50","v":1081.3599999999999},{"$f":"'Челябинская обл.'!$C$51","v":1328.18},{"$f":"'Челябинская обл.'!$C$52","v":0},{"$f":"'Челябинская обл.'!$C$53","v":0},{"$f":"'Челябинская обл.'!$C$54","v":0},{"$f":"'Челябинская обл.'!$C$55","v":0},{"$f":"'Челябинская обл.'!$C$56","v":243.71}]
["5","ООО \"Миньярская коммунальная компания\"",null,{"$f":"'Челябинская обл.'!$C$7","v":"13,23"},{"$f":"'Челябинская обл.'!$C$10","v":1005.74},{"$f":"'Челябинская обл.'!$C$11","v":0},{"$f":"'Челябинская обл.'!$C$12","v":0},{"$f":"'Челябинская обл.'!$C$13","v":0},{"$f":"'Челябинская обл.'!$C$14","v":0},{"$f":"'Челябинская обл.'!$C$17","v":1987.75},{"$f":"'Челябинская обл.'!$C$18","v":0},{"$f":"'Челябинская обл.'!$C$19","v":0},{"$f":"'Челябинская обл.'!$C$20","v":0},{"$f":"'Челябинская обл.'!$C$21","v":0},{"$f":"'Челябинская обл.'!$C$23","v":1493.77},{"$f":"'Челябинская обл.'!$C$24","v":0},{"$f":"'Челябинская обл.'!$C$25","v":0},{"$f":"'Челябинская обл.'!$C$26","v":0},{"$f":"'Челябинская обл.'!$C$27","v":0},{"$f":"'Челябинская обл.'!$C$28","v":0},{"$f":"'Челябинская обл.'!$C$29","v":377.24},{"$f":"'Челябинская обл.'!$C$34","v":13.23},{"$f":"'Челябинская обл.'!$C$37","v":352.76},{"$f":"'Челябинская обл.'!$C$38","v":825.59},{"$f":"'Челябинская обл.'!$C$39","v":0},{"$f":"'Челябинская обл.'!$C$40","v":0},{"$f":"'Челябинская обл.'!$C$41","v":0},{"$f":"'Челябинская обл.'!$C$44","v":1142.9000000000001},{"$f":"'Челябинская обл.'!$C$45","v":1066.98},{"$f":"'Челябинская обл.'!$C$46","v":0},{"$f":"'Челябинская обл.'!$C$47","v":0},{"$f":"'Челябинская обл.'!$C$48","v":0},{"$f":"'Челябинская обл.'!$C$50","v":1081.3599999999999},{"$f":"'Челябинская обл.'!$C$51","v":1328.18},{"$f":"'Челябинская обл.'!$C$52","v":0},{"$f":"'Челябинская обл.'!$C$53","v":0},{"$f":"'Челябинская обл.'!$C$54","v":0},{"$f":"'Челябинская обл.'!$C$55","v":0},{"$f":"'Челябинская обл.'!$C$56","v":243.71}]
["6","ООО \"СК Эверест\"",null,{"$f":"'Челябинская обл.'!$C$7","v":"13,23"},{"$f":"'Челябинская обл.'!$C$10","v":1005.74},{"$f":"'Челябинская обл.'!$C$11","v":0},{"$f":"'Челябинская обл.'!$C$12","v":0},{"$f":"'Челябинская обл.'!$C$13","v":0},{"$f":"'Челябинская обл.'!$C$14","v":0},{"$f":"'Челябинская обл.'!$C$17","v":1987.75},{"$f":"'Челябинская обл.'!$C$18","v":0},{"$f":"'Челябинская обл.'!$C$19","v":0},{"$f":"'Челябинская обл.'!$C$20","v":0},{"$f":"'Челябинская обл.'!$C$21","v":0},{"$f":"'Челябинская обл.'!$C$23","v":1493.77},{"$f":"'Челябинская обл.'!$C$24","v":0},{"$f":"'Челябинская обл.'!$C$25","v":0},{"$f":"'Челябинская обл.'!$C$26","v":0},{"$f":"'Челябинская обл.'!$C$27","v":0},{"$f":"'Челябинская обл.'!$C$28","v":0},{"$f":"'Челябинская обл.'!$C$29","v":377.24},{"$f":"'Челябинская обл.'!$C$34","v":13.23},{"$f":"'Челябинская обл.'!$C$37","v":352.76},{"$f":"'Челябинская обл.'!$C$38","v":825.59},{"$f":"'Челябинская обл.'!$C$39","v":0},{"$f":"'Челябинская обл.'!$C$40","v":0},{"$f":"'Челябинская обл.'!$C$41","v":0},{"$f":"'Челябинская обл.'!$C$44","v":1142.9000000000001},{"$f":"'Челябинская обл.'!$C$45","v":1066.98},{"$f":"'Челябинская обл.'!$C$46","v":0},{"$f":"'Челябинская обл.'!$C$47","v":0},{"$f":"'Челябинская обл.'!$C$48","v":0},{"$f":"'Челябинская обл.'!$C$50","v":1081.3599999999999},{"$f":"'Челябинская обл.'!$C$51","v":1328.18},{"$f":"'Челябинская обл.'!$C$52","v":0},{"$f":"'Челябинская обл.'!$C$53","v":0},{"$f":"'Челябинская обл.'!$C$54","v":0},{"$f":"'Челябинская обл.'!$C$55","v":0},{"$f":"'Челябинская обл.'!$C$56","v":243.71}]
["7","ООО \"Тепловая-эксплуатационная компания №1\"",null,{"$f":"'Челябинская обл.'!$C$7","v":"13,23"},{"$f":"'Челябинская обл.'!$C$10","v":1005.74},{"$f":"'Челябинская обл.'!$C$11","v":0},{"$f":"'Челябинская обл.'!$C$12","v":0},{"$f":"'Челябинская обл.'!$C$13","v":0},{"$f":"'Челябинская обл.'!$C$14","v":0},{"$f":"'Челябинская обл.'!$C$17","v":1987.75},{"$f":"'Челябинская обл.'!$C$18","v":0},{"$f":"'Челябинская обл.'!$C$19","v":0},{"$f":"'Челябинская обл.'!$C$20","v":0},{"$f":"'Челябинская обл.'!$C$21","v":0},{"$f":"'Челябинская обл.'!$C$23","v":1493.77},{"$f":"'Челябинская обл.'!$C$24","v":0},{"$f":"'Челябинская обл.'!$C$25","v":0},{"$f":"'Челябинская обл.'!$C$26","v":0},{"$f":"'Челябинская обл.'!$C$27","v":0},{"$f":"'Челябинская обл.'!$C$28","v":0},{"$f":"'Челябинская обл.'!$C$29","v":377.24},{"$f":"'Челябинская обл.'!$C$34","v":13.23},{"$f":"'Челябинская обл.'!$C$37","v":352.76},{"$f":"'Челябинская обл.'!$C$38","v":825.59},{"$f":"'Челябинская обл.'!$C$39","v":0},{"$f":"'Челябинская обл.'!$C$40","v":0},{"$f":"'Челябинская обл.'!$C$41","v":0},{"$f":"'Челябинская обл.'!$C$44","v":1142.9000000000001},{"$f":"'Челябинская обл.'!$C$45","v":1066.98},{"$f":"'Челябинская обл.'!$C$46","v":0},{"$f":"'Челябинская обл.'!$C$47","v":0},{"$f":"'Челябинская обл.'!$C$48","v":0},{"$f":"'Челябинская обл.'!$C$50","v":1081.3599999999999},{"$f":"'Челябинская обл.'!$C$51","v":1328.18},{"$f":"'Челябинская обл.'!$C$52","v":0},{"$f":"'Челябинская обл.'!$C$53","v":0},{"$f":"'Челябинская обл.'!$C$54","v":0},{"$f":"'Челябинская обл.'!$C$55","v":0},{"$f":"'Челябинская обл.'!$C$56","v":243.71}]
["8","ООО \"Теплостроймонтаж\"",null,{"$f":"'Челябинская обл.'!$C$7","v":"13,23"},{"$f":"'Челябинская обл.'!$C$10","v":1005.74},{"$f":"'Челябинская обл.'!$C$11","v":0},{"$f":"'Челябинская обл.'!$C$12","v":0},{"$f":"'Челябинская обл.'!$C$13","v":0},{"$f":"'Челябинская обл.'!$C$14","v":0},{"$f":"'Челябинская обл.'!$C$17","v":1987.75},{"$f":"'Челябинская обл.'!$C$18","v":0},{"$f":"'Челябинская обл.'!$C$19","v":0},{"$f":"'Челябинская обл.'!$C$20","v":0},{"$f":"'Челябинская обл.'!$C$21","v":0},{"$f":"'Челябинская обл.'!$C$23","v":1493.77},{"$f":"'Челябинская обл.'!$C$24","v":0},{"$f":"'Челябинская обл.'!$C$25","v":0},{"$f":"'Челябинская обл.'!$C$26","v":0},{"$f":"'Челябинская обл.'!$C$27","v":0},{"$f":"'Челябинская обл.'!$C$28","v":0},{"$f":"'Челябинская обл.'!$C$29","v":377.24},{"$f":"'Челябинская обл.'!$C$34","v":13.23},{"$f":"'Челябинская обл.'!$C$37","v":352.76},{"$f":"'Челябинская обл.'!$C$38","v":825.59},{"$f":"'Челябинская обл.'!$C$39","v":0},{"$f":"'Челябинская обл.'!$C$40","v":0},{"$f":"'Челябинская обл.'!$C$41","v":0},{"$f":"'Челябинская обл.'!$C$44","v":1142.9000000000001},{"$f":"'Челябинская обл.'!$C$45","v":1066.98},{"$f":"'Челябинская обл.'!$C$46","v":0},{"$f":"'Челябинская обл.'!$C$47","v":0},{"$f":"'Челябинская обл.'!$C$48","v":0},{"$f":"'Челябинская обл.'!$C$50","v":1081.3599999999999},{"$f":"'Челябинская обл.'!$C$51","v":1328.18},{"$f":"'Челябинская обл.'!$C$52","v":0},{"$f":"'Челябинская обл.'!$C$53","v":0},{"$f":"'Челябинская обл.'!$C$54","v":0},{"$f":"'Челябинская обл.'!$C$55","v":0},{"$f":"'Челябинская обл.'!$C$56","v":243.71}]
["9","ООО \"Теплоэнергетика\" (Ашинский м.р.)",null,{"$f":"'Челябинская обл.'!$C$7","v":"13,23"},{"$f":"'Челябинская обл.'!$C$10","v":1005.74},{"$f":"'Челябинская обл.'!$C$11","v":0},{"$f":"'Челябинская обл.'!$C$12","v":0},{"$f":"'Челябинская обл.'!$C$13","v":0},{"$f":"'Челябинская обл.'!$C$14","v":0},{"$f":"'Челябинская обл.'!$C$17","v":1987.75},{"$f":"'Челябинская обл.'!$C$18","v":0},{"$f":"'Челябинская обл.'!$C$19","v":0},{"$f":"'Челябинская обл.'!$C$20","v":0},{"$f":"'Челябинская обл.'!$C$21","v":0},{"$f":"'Челябинская обл.'!$C$23","v":1493.77},{"$f":"'Челябинская обл.'!$C$24","v":0},{"$f":"'Челябинская обл.'!$C$25","v":0},{"$f":"'Челябинская обл.'!$C$26","v":0},{"$f":"'Челябинская обл.'!$C$27","v":0},{"$f":"'Челябинская обл.'!$C$28","v":0},{"$f":"'Челябинская обл.'!$C$29","v":377.24},{"$f":"'Челябинская обл.'!$C$34","v":13.23},{"$f":"'Челябинская обл.'!$C$37","v":352.76},{"$f":"'Челябинская обл.'!$C$38","v":825.59},{"$f":"'Челябинская обл.'!$C$39","v":0},{"$f":"'Челябинская обл.'!$C$40","v":0},{"$f":"'Челябинская обл.'!$C$41","v":0},{"$f":"'Челябинская обл.'!$C$44","v":1142.9000000000001},{"$f":"'Челябинская обл.'!$C$45","v":1066.98},{"$f":"'Челябинская обл.'!$C$46","v":0},{"$f":"'Челябинская обл.'!$C$47","v":0},{"$f":"'Челябинская обл.'!$C$48","v":0},{"$f":"'Челябинская обл.'!$C$50","v":1081.3599999999999},{"$f":"'Челябинская обл.'!$C$51","v":1328.18},{"$f":"'Челябинская обл.'!$C$52","v":0},{"$f":"'Челябинская обл.'!$C$53","v":0},{"$f":"'Челябинская обл.'!$C$54","v":0},{"$f":"'Челябинская обл.'!$C$55","v":0},{"$f":"'Челябинская обл.'!$C$56","v":243.71}]
["10","ООО \"Теплоэнерготрейд\"",null,{"$f":"'Челябинская обл.'!$C$7","v":"13,23"},{"$f":"'Челябинская обл.'!$C$10","v":1005.74},{"$f":"'Челябинская обл.'!$C$11","v":0},{"$f":"'Челябинская обл.'!$C$12","v":0},{"$f":"'Челябинская обл.'!$C$13","v":0},{"$f":"'Челябинская обл.'!$C$14","v":0},{"$f":"'Челябинская обл.'!$C$17","v":1987.75},{"$f":"'Челябинская обл.'!$C$18","v":0},{"$f":"'Челябинская обл.'!$C$19","v":0},{"$f":"'Челябинская обл.'!$C$20","v":0},{"$f":"'Челябинская обл.'!$C$21","v":0},{"$f":"'Челябинская обл.'!$C$23","v":1493.77},{"$f":"'Челябинская обл.'!$C$24","v":0},{"$f":"'Челябинская обл.'!$C$25","v":0},{"$f":"'Челябинская обл.'!$C$26","v":0},{"$f":"'Челябинская обл.'!$C$27","v":0},{"$f":"'Челябинская обл.'!$C$28","v":0},{"$f":"'Челябинская обл.'!$C$29","v":377.24},{"$f":"'Челябинская обл.'!$C$34","v":13.23},{"$f":"'Челябинская обл.'!$C$37","v":352.76},{"$f":"'Челябинская обл.'!$C$38","v":825.59},{"$f":"'Челябинская обл.'!$C$39","v":0},{"$f":"'Челябинская обл.'!$C$40","v":0},{"$f":"'Челябинская обл.'!$C$41","v":0},{"$f":"'Челябинская обл.'!$C$44","v":1142.9000000000001},{"$f":"'Челябинская обл.'!$C$45","v":1066.98},{"$f":"'Челябинская обл.'!$C$46","v":0},{"$f":"'Челябинская обл.'!$C$47","v":0},{"$f":"'Челябинская обл.'!$C$48","v":0},{"$f":"'Челябинская обл.'!$C$50","v":1081.3599999999999},{"$f":"'Челябинская обл.'!$C$51","v":1328.18},{"$f":"'Челябинская обл.'!$C$52","v":0},{"$f":"'Челябинская обл.'!$C$53","v":0},{"$f":"'Челябинская обл.'!$C$54","v":0},{"$f":"'Челябинская обл.'!$C$55","v":0},{"$f":"'Челябинская обл.'!$C$56","v":243.71}]
["11","ООО \"Уральская Теплоэнергетическая Компания\"",null,{"$f":"'Челябинская обл.'!$C$7","v":"13,23"},{"$f":"'Челябинская обл.'!$C$10","v":1005.74},{"$f":"'Челябинская обл.'!$C$11","v":0},{"$f":"'Челябинская обл.'!$C$12","v":0},{"$f":"'Челябинская обл.'!$C$13","v":0},{"$f":"'Челябинская обл.'!$C$14","v":0},{"$f":"'Челябинская обл.'!$C$17","v":1987.75},{"$f":"'Челябинская обл.'!$C$18","v":0},{"$f":"'Челябинская обл.'!$C$19","v":0},{"$f":"'Челябинская обл.'!$C$20","v":0},{"$f":"'Челябинская обл.'!$C$21","v":0},{"$f":"'Челябинская обл.'!$C$23","v":1493.77},{"$f":"'Челябинская обл.'!$C$24","v":0},{"$f":"'Челябинская обл.'!$C$25","v":0},{"$f":"'Челябинская обл.'!$C$26","v":0},{"$f":"'Челябинская обл.'!$C$27","v":0},{"$f":"'Челябинская обл.'!$C$28","v":0},{"$f":"'Челябинская обл.'!$C$29","v":377.24},{"$f":"'Челябинская обл.'!$C$34","v":13.23},{"$f":"'Челябинская обл.'!$C$37","v":352.76},{"$f":"'Челябинская обл.'!$C$38","v":825.59},{"$f":"'Челябинская обл.'!$C$39","v":0},{"$f":"'Челябинская обл.'!$C$40","v":0},{"$f":"'Челябинская обл.'!$C$41","v":0},{"$f":"'Челябинская обл.'!$C$44","v":1142.9000000000001},{"$f":"'Челябинская обл.'!$C$45","v":1066.98},{"$f":"'Челябинская обл.'!$C$46","v":0},{"$f":"'Челябинская обл.'!$C$47","v":0},{"$f":"'Челябинская обл.'!$C$48","v":0},{"$f":"'Челябинская обл.'!$C$50","v":1081.3599999999999},{"$f":"'Челябинская обл.'!$C$51","v":1328.18},{"$f":"'Челябинская обл.'!$C$52","v":0},{"$f":"'Челябинская обл.'!$C$53","v":0},{"$f":"'Челябинская обл.'!$C$54","v":0},{"$f":"'Челябинская обл.'!$C$55","v":0},{"$f":"'Челябинская обл.'!$C$56","v":243.71}]
["12","ПАО \"Ростелеком\" Челябинский филиал",null,{"$f":"'Челябинская обл.'!$C$7","v":"13,23"},{"$f":"'Челябинская обл.'!$C$10","v":1005.74},{"$f":"'Челябинская обл.'!$C$11","v":0},{"$f":"'Челябинская обл.'!$C$12","v":0},{"$f":"'Челябинская обл.'!$C$13","v":0},{"$f":"'Челябинская обл.'!$C$14","v":0},{"$f":"'Челябинская обл.'!$C$17","v":1987.75},{"$f":"'Челябинская обл.'!$C$18","v":0},{"$f":"'Челябинская обл.'!$C$19","v":0},{"$f":"'Челябинская обл.'!$C$20","v":0},{"$f":"'Челябинская обл.'!$C$21","v":0},{"$f":"'Челябинская обл.'!$C$23","v":1493.77},{"$f":"'Челябинская обл.'!$C$24","v":0},{"$f":"'Челябинская обл.'!$C$25","v":0},{"$f":"'Челябинская обл.'!$C$26","v":0},{"$f":"'Челябинская обл.'!$C$27","v":0},{"$f":"'Челябинская обл.'!$C$28","v":0},{"$f":"'Челябинская обл.'!$C$29","v":377.24},{"$f":"'Челябинская обл.'!$C$34","v":13.23},{"$f":"'Челябинская обл.'!$C$37","v":352.76},{"$f":"'Челябинская обл.'!$C$38","v":825.59},{"$f":"'Челябинская обл.'!$C$39","v":0},{"$f":"'Челябинская обл.'!$C$40","v":0},{"$f":"'Челябинская обл.'!$C$41","v":0},{"$f":"'Челябинская обл.'!$C$44","v":1142.9000000000001},{"$f":"'Челябинская обл.'!$C$45","v":1066.98},{"$f":"'Челябинская обл.'!$C$46","v":0},{"$f":"'Челябинская обл.'!$C$47","v":0},{"$f":"'Челябинская обл.'!$C$48","v":0},{"$f":"'Челябинская обл.'!$C$50","v":1081.3599999999999},{"$f":"'Челябинская обл.'!$C$51","v":1328.18},{"$f":"'Челябинская обл.'!$C$52","v":0},{"$f":"'Челябинская обл.'!$C$53","v":0},{"$f":"'Челябинская обл.'!$C$54","v":0},{"$f":"'Челябинская обл.'!$C$55","v":0},{"$f":"'Челябинская обл.'!$C$56","v":243.71}]
[13,"Южно-Уральская дирекция по тепловодоснабжению - структурное подразделение Центральной дирекции по тепловодоснабжению - филиала ОАО \"РЖД\" (Ашинский м.р.)",null,{"$f":"'Челябинская обл.'!$C$7","v":"13,23"},{"$f":"'Челябинская обл.'!$C$10","v":1005.74},{"$f":"'Челябинская обл.'!$C$11","v":0},{"$f":"'Челябинская обл.'!$C$12","v":0},{"$f":"'Челябинская обл.'!$C$13","v":0},{"$f":"'Челябинская обл.'!$C$14","v":0},{"$f":"'Челябинская обл.'!$C$17","v":1987.75},{"$f":"'Челябинская обл.'!$C$18","v":0},{"$f":"'Челябинская обл.'!$C$19","v":0},{"$f":"'Челябинская обл.'!$C$20","v":0},{"$f":"'Челябинская обл.'!$C$21","v":0},{"$f":"'Челябинская обл.'!$C$23","v":1493.77},{"$f":"'Челябинская обл.'!$C$24","v":0},{"$f":"'Челябинская обл.'!$C$25","v":0},{"$f":"'Челябинская обл.'!$C$26","v":0},{"$f":"'Челябинская обл.'!$C$27","v":0},{"$f":"'Челябинская обл.'!$C$28","v":0},{"$f":"'Челябинская обл.'!$C$29","v":377.24},{"$f":"'Челябинская обл.'!$C$34","v":13.23},{"$f":"'Челябинская обл.'!$C$37","v":352.76},{"$f":"'Челябинская обл.'!$C$38","v":825.59},{"$f":"'Челябинская обл.'!$C$39","v":0},{"$f":"'Челябинская обл.'!$C$40","v":0},{"$f":"'Челябинская обл.'!$C$41","v":0},{"$f":"'Челябинская обл.'!$C$44","v":1142.9000000000001},{"$f":"'Челябинская обл.'!$C$45","v":1066.98},{"$f":"'Челябинская обл.'!$C$46","v":0},{"$f":"'Челябинская обл.'!$C$47","v":0},{"$f":"'Челябинская обл.'!$C$48","v":0},{"$f":"'Челябинская обл.'!$C$50","v":1081.3599999999999},{"$f":"'Челябинская обл.'!$C$51","v":1328.18},{"$f":"'Челябинская обл.'!$C$52","v":0},{"$f":"'Челябинская обл.'!$C$53","v":0},{"$f":"'Челябинская обл.'!$C$54","v":0},{"$f":"'Челябинская обл.'!$C$55","v":0},{"$f":"'Челябинская обл.'!$C$56","v":243.71}]
["20","Брединский муниципальный район"]
["1","АО \"ГУ ЖКХ\" (Брединский м.р.)",null,{"$f":"'Челябинская обл.'!$C$7","v":"13,23"},{"$f":"'Челябинская обл.'!$C$10","v":1005.74},{"$f":"'Челябинская обл.'!$C$11","v":0},{"$f":"'Челябинская обл.'!$C$12","v":0},{"$f":"'Челябинская обл.'!$C$13","v":0},{"$f":"'Челябинская обл.'!$C$14","v":0},{"$f":"'Челябинская обл.'!$C$17","v":1987.75},{"$f":"'Челябинская обл.'!$C$18","v":0},{"$f":"'Челябинская обл.'!$C$19","v":0},{"$f":"'Челябинская обл.'!$C$20","v":0},{"$f":"'Челябинская обл.'!$C$21","v":0},{"$f":"'Челябинская обл.'!$C$23","v":1493.77},{"$f":"'Челябинская обл.'!$C$24","v":0},{"$f":"'Челябинская обл.'!$C$25","v":0},{"$f":"'Челябинская обл.'!$C$26","v":0},{"$f":"'Челябинская обл.'!$C$27","v":0},{"$f":"'Челябинская обл.'!$C$28","v":0},{"$f":"'Челябинская обл.'!$C$29","v":377.24},{"$f":"'Челябинская обл.'!$C$34","v":13.23},{"$f":"'Челябинская обл.'!$C$37","v":352.76},{"$f":"'Челябинская обл.'!$C$38","v":825.59},{"$f":"'Челябинская обл.'!$C$39","v":0},{"$f":"'Челябинская обл.'!$C$40","v":0},{"$f":"'Челябинская обл.'!$C$41","v":0},{"$f":"'Челябинская обл.'!$C$44","v":1142.9000000000001},{"$f":"'Челябинская обл.'!$C$45","v":1066.98},{"$f":"'Челябинская обл.'!$C$46","v":0},{"$f":"'Челябинская обл.'!$C$47","v":0},{"$f":"'Челябинская обл.'!$C$48","v":0},{"$f":"'Челябинская обл.'!$C$50","v":1081.3599999999999},{"$f":"'Челябинская обл.'!$C$51","v":1328.18},{"$f":"'Челябинская обл.'!$C$52","v":0},{"$f":"'Челябинская обл.'!$C$53","v":0},{"$f":"'Челябинская обл.'!$C$54","v":0},{"$f":"'Челябинская обл.'!$C$55","v":0},{"$f":"'Челябинская обл.'!$C$56","v":243.71}]
["2","АО \"Челябоблкоммунэнерго\" (Челябинская область)",null,{"$f":"'Челябинская обл.'!$C$7","v":"13,23"},{"$f":"'Челябинская обл.'!$C$10","v":1005.74},{"$f":"'Челябинская обл.'!$C$11","v":0},{"$f":"'Челябинская обл.'!$C$12","v":0},{"$f":"'Челябинская обл.'!$C$13","v":0},{"$f":"'Челябинская обл.'!$C$14","v":0},{"$f":"'Челябинская обл.'!$C$17","v":1987.75},{"$f":"'Челябинская обл.'!$C$18","v":0},{"$f":"'Челябинская обл.'!$C$19","v":0},{"$f":"'Челябинская обл.'!$C$20","v":0},{"$f":"'Челябинская обл.'!$C$21","v":0},{"$f":"'Челябинская обл.'!$C$23","v":1493.77},{"$f":"'Челябинская обл.'!$C$24","v":0},{"$f":"'Челябинская обл.'!$C$25","v":0},{"$f":"'Челябинская обл.'!$C$26","v":0},{"$f":"'Челябинская обл.'!$C$27","v":0},{"$f":"'Челябинская обл.'!$C$28","v":0},{"$f":"'Челябинская обл.'!$C$29","v":377.24},{"$f":"'Челябинская обл.'!$C$34","v":13.23},{"$f":"'Челябинская обл.'!$C$37","v":352.76},{"$f":"'Челябинская обл.'!$C$38","v":825.59},{"$f":"'Челябинская обл.'!$C$39","v":0},{"$f":"'Челябинская обл.'!$C$40","v":0},{"$f":"'Челябинская обл.'!$C$41","v":0},{"$f":"'Челябинская обл.'!$C$44","v":1142.9000000000001},{"$f":"'Челябинская обл.'!$C$45","v":1066.98},{"$f":"'Челябинская обл.'!$C$46","v":0},{"$f":"'Челябинская обл.'!$C$47","v":0},{"$f":"'Челябинская обл.'!$C$48","v":0},{"$f":"'Челябинская обл.'!$C$50","v":1081.3599999999999},{"$f":"'Челябинская обл.'!$C$51","v":1328.18},{"$f":"'Челябинская обл.'!$C$52","v":0},{"$f":"'Челябинская обл.'!$C$53","v":0},{"$f":"'Челябинская обл.'!$C$54","v":0},{"$f":"'Челябинская обл.'!$C$55","v":0},{"$f":"'Челябинская обл.'!$C$56","v":243.71}]
["3","Федеральное государственное казенное учреждение  \"Пограничное управление ФСБ России по Челябинской области\" (Брединский м.р.)",null,{"$f":"'Челябинская обл.'!$C$7","v":"13,23"},{"$f":"'Челябинская обл.'!$C$10","v":1005.74},{"$f":"'Челябинская обл.'!$C$11","v":0},{"$f":"'Челябинская обл.'!$C$12","v":0},{"$f":"'Челябинская обл.'!$C$13","v":0},{"$f":"'Челябинская обл.'!$C$14","v":0},{"$f":"'Челябинская обл.'!$C$17","v":1987.75},{"$f":"'Челябинская обл.'!$C$18","v":0},{"$f":"'Челябинская обл.'!$C$19","v":0},{"$f":"'Челябинская обл.'!$C$20","v":0},{"$f":"'Челябинская обл.'!$C$21","v":0},{"$f":"'Челябинская обл.'!$C$23","v":1493.77},{"$f":"'Челябинская обл.'!$C$24","v":0},{"$f":"'Челябинская обл.'!$C$25","v":0},{"$f":"'Челябинская обл.'!$C$26","v":0},{"$f":"'Челябинская обл.'!$C$27","v":0},{"$f":"'Челябинская обл.'!$C$28","v":0},{"$f":"'Челябинская обл.'!$C$29","v":377.24},{"$f":"'Челябинская обл.'!$C$34","v":13.23},{"$f":"'Челябинская обл.'!$C$37","v":352.76},{"$f":"'Челябинская обл.'!$C$38","v":825.59},{"$f":"'Челябинская обл.'!$C$39","v":0},{"$f":"'Челябинская обл.'!$C$40","v":0},{"$f":"'Челябинская обл.'!$C$41","v":0},{"$f":"'Челябинская обл.'!$C$44","v":1142.9000000000001},{"$f":"'Челябинская обл.'!$C$45","v":1066.98},{"$f":"'Челябинская обл.'!$C$46","v":0},{"$f":"'Челябинская обл.'!$C$47","v":0},{"$f":"'Челябинская обл.'!$C$48","v":0},{"$f":"'Челябинская обл.'!$C$50","v":1081.3599999999999},{"$f":"'Челябинская обл.'!$C$51","v":1328.18},{"$f":"'Челябинская обл.'!$C$52","v":0},{"$f":"'Челябинская обл.'!$C$53","v":0},{"$f":"'Челябинская обл.'!$C$54","v":0},{"$f":"'Челябинская обл.'!$C$55","v":0},{"$f":"'Челябинская обл.'!$C$56","v":243.71}]
[4,"Южно-Уральская дирекция по тепловодоснабжению - структурное подразделение Центральной дирекции по тепловодоснабжению - филиала ОАО \"РЖД\" (Брединский м.р.)",null,{"$f":"'Челябинская обл.'!$C$7","v":"13,23"},{"$f":"'Челябинская обл.'!$C$10","v":1005.74},{"$f":"'Челябинская обл.'!$C$11","v":0},{"$f":"'Челябинская обл.'!$C$12","v":0},{"$f":"'Челябинская обл.'!$C$13","v":0},{"$f":"'Челябинская обл.'!$C$14","v":0},{"$f":"'Челябинская обл.'!$C$17","v":1987.75},{"$f":"'Челябинская обл.'!$C$18","v":0},{"$f":"'Челябинская обл.'!$C$19","v":0},{"$f":"'Челябинская обл.'!$C$20","v":0},{"$f":"'Челябинская обл.'!$C$21","v":0},{"$f":"'Челябинская обл.'!$C$23","v":1493.77},{"$f":"'Челябинская обл.'!$C$24","v":0},{"$f":"'Челябинская обл.'!$C$25","v":0},{"$f":"'Челябинская обл.'!$C$26","v":0},{"$f":"'Челябинская обл.'!$C$27","v":0},{"$f":"'Челябинская обл.'!$C$28","v":0},{"$f":"'Челябинская обл.'!$C$29","v":377.24},{"$f":"'Челябинская обл.'!$C$34","v":13.23},{"$f":"'Челябинская обл.'!$C$37","v":352.76},{"$f":"'Челябинская обл.'!$C$38","v":825.59},{"$f":"'Челябинская обл.'!$C$39","v":0},{"$f":"'Челябинская обл.'!$C$40","v":0},{"$f":"'Челябинская обл.'!$C$41","v":0},{"$f":"'Челябинская обл.'!$C$44","v":1142.9000000000001},{"$f":"'Челябинская обл.'!$C$45","v":1066.98},{"$f":"'Челябинская обл.'!$C$46","v":0},{"$f":"'Челябинская обл.'!$C$47","v":0},{"$f":"'Челябинская обл.'!$C$48","v":0},{"$f":"'Челябинская обл.'!$C$50","v":1081.3599999999999},{"$f":"'Челябинская обл.'!$C$51","v":1328.18},{"$f":"'Челябинская обл.'!$C$52","v":0},{"$f":"'Челябинская обл.'!$C$53","v":0},{"$f":"'Челябинская обл.'!$C$54","v":0},{"$f":"'Челябинская обл.'!$C$55","v":0},{"$f":"'Челябинская обл.'!$C$56","v":243.71}]
["21","Варненский муниципальный район"]
["1","АО \"Челябоблкоммунэнерго\" (Челябинская область)",null,{"$f":"'Челябинская обл.'!$C$7","v":"13,23"},{"$f":"'Челябинская обл.'!$C$10","v":1005.74},{"$f":"'Челябинская обл.'!$C$11","v":0},{"$f":"'Челябинская обл.'!$C$12","v":0},{"$f":"'Челябинская обл.'!$C$13","v":0},{"$f":"'Челябинская обл.'!$C$14","v":0},{"$f":"'Челябинская обл.'!$C$17","v":1987.75},{"$f":"'Челябинская обл.'!$C$18","v":0},{"$f":"'Челябинская обл.'!$C$19","v":0},{"$f":"'Челябинская обл.'!$C$20","v":0},{"$f":"'Челябинская обл.'!$C$21","v":0},{"$f":"'Челябинская обл.'!$C$23","v":1493.77},{"$f":"'Челябинская обл.'!$C$24","v":0},{"$f":"'Челябинская обл.'!$C$25","v":0},{"$f":"'Челябинская обл.'!$C$26","v":0},{"$f":"'Челябинская обл.'!$C$27","v":0},{"$f":"'Челябинская обл.'!$C$28","v":0},{"$f":"'Челябинская обл.'!$C$29","v":377.24},{"$f":"'Челябинская обл.'!$C$34","v":13.23},{"$f":"'Челябинская обл.'!$C$37","v":352.76},{"$f":"'Челябинская обл.'!$C$38","v":825.59},{"$f":"'Челябинская обл.'!$C$39","v":0},{"$f":"'Челябинская обл.'!$C$40","v":0},{"$f":"'Челябинская обл.'!$C$41","v":0},{"$f":"'Челябинская обл.'!$C$44","v":1142.9000000000001},{"$f":"'Челябинская обл.'!$C$45","v":1066.98},{"$f":"'Челябинская обл.'!$C$46","v":0},{"$f":"'Челябинская обл.'!$C$47","v":0},{"$f":"'Челябинская обл.'!$C$48","v":0},{"$f":"'Челябинская обл.'!$C$50","v":1081.3599999999999},{"$f":"'Челябинская обл.'!$C$51","v":1328.18},{"$f":"'Челябинская обл.'!$C$52","v":0},{"$f":"'Челябинская обл.'!$C$53","v":0},{"$f":"'Челябинская обл.'!$C$54","v":0},{"$f":"'Челябинская обл.'!$C$55","v":0},{"$f":"'Челябинская обл.'!$C$56","v":243.71}]
["2","ООО \"СтройКомплекс\"",null,{"$f":"'Челябинская обл.'!$C$7","v":"13,23"},{"$f":"'Челябинская обл.'!$C$10","v":1005.74},{"$f":"'Челябинская обл.'!$C$11","v":0},{"$f":"'Челябинская обл.'!$C$12","v":0},{"$f":"'Челябинская обл.'!$C$13","v":0},{"$f":"'Челябинская обл.'!$C$14","v":0},{"$f":"'Челябинская обл.'!$C$17","v":1987.75},{"$f":"'Челябинская обл.'!$C$18","v":0},{"$f":"'Челябинская обл.'!$C$19","v":0},{"$f":"'Челябинская обл.'!$C$20","v":0},{"$f":"'Челябинская обл.'!$C$21","v":0},{"$f":"'Челябинская обл.'!$C$23","v":1493.77},{"$f":"'Челябинская обл.'!$C$24","v":0},{"$f":"'Челябинская обл.'!$C$25","v":0},{"$f":"'Челябинская обл.'!$C$26","v":0},{"$f":"'Челябинская обл.'!$C$27","v":0},{"$f":"'Челябинская обл.'!$C$28","v":0},{"$f":"'Челябинская обл.'!$C$29","v":377.24},{"$f":"'Челябинская обл.'!$C$34","v":13.23},{"$f":"'Челябинская обл.'!$C$37","v":352.76},{"$f":"'Челябинская обл.'!$C$38","v":825.59},{"$f":"'Челябинская обл.'!$C$39","v":0},{"$f":"'Челябинская обл.'!$C$40","v":0},{"$f":"'Челябинская обл.'!$C$41","v":0},{"$f":"'Челябинская обл.'!$C$44","v":1142.9000000000001},{"$f":"'Челябинская обл.'!$C$45","v":1066.98},{"$f":"'Челябинская обл.'!$C$46","v":0},{"$f":"'Челябинская обл.'!$C$47","v":0},{"$f":"'Челябинская обл.'!$C$48","v":0},{"$f":"'Челябинская обл.'!$C$50","v":1081.3599999999999},{"$f":"'Челябинская обл.'!$C$51","v":1328.18},{"$f":"'Челябинская обл.'!$C$52","v":0},{"$f":"'Челябинская обл.'!$C$53","v":0},{"$f":"'Челябинская обл.'!$C$54","v":0},{"$f":"'Челябинская обл.'!$C$55","v":0},{"$f":"'Челябинская обл.'!$C$56","v":243.71}]
[3,"Федеральное государственное казенное учреждение  \"Пограничное управление ФСБ России по Челябинской области\" (Варненский м.р.)",null,{"$f":"'Челябинская обл.'!$C$7","v":"13,23"},{"$f":"'Челябинская обл.'!$C$10","v":1005.74},{"$f":"'Челябинская обл.'!$C$11","v":0},{"$f":"'Челябинская обл.'!$C$12","v":0},{"$f":"'Челябинская обл.'!$C$13","v":0},{"$f":"'Челябинская обл.'!$C$14","v":0},{"$f":"'Челябинская обл.'!$C$17","v":1987.75},{"$f":"'Челябинская обл.'!$C$18","v":0},{"$f":"'Челябинская обл.'!$C$19","v":0},{"$f":"'Челябинская обл.'!$C$20","v":0},{"$f":"'Челябинская обл.'!$C$21","v":0},{"$f":"'Челябинская обл.'!$C$23","v":1493.77},{"$f":"'Челябинская обл.'!$C$24","v":0},{"$f":"'Челябинская обл.'!$C$25","v":0},{"$f":"'Челябинская обл.'!$C$26","v":0},{"$f":"'Челябинская обл.'!$C$27","v":0},{"$f":"'Челябинская обл.'!$C$28","v":0},{"$f":"'Челябинская обл.'!$C$29","v":377.24},{"$f":"'Челябинская обл.'!$C$34","v":13.23},{"$f":"'Челябинская обл.'!$C$37","v":352.76},{"$f":"'Челябинская обл.'!$C$38","v":825.59},{"$f":"'Челябинская обл.'!$C$39","v":0},{"$f":"'Челябинская обл.'!$C$40","v":0},{"$f":"'Челябинская обл.'!$C$41","v":0},{"$f":"'Челябинская обл.'!$C$44","v":1142.9000000000001},{"$f":"'Челябинская обл.'!$C$45","v":1066.98},{"$f":"'Челябинская обл.'!$C$46","v":0},{"$f":"'Челябинская обл.'!$C$47","v":0},{"$f":"'Челябинская обл.'!$C$48","v":0},{"$f":"'Челябинская обл.'!$C$50","v":1081.3599999999999},{"$f":"'Челябинская обл.'!$C$51","v":1328.18},{"$f":"'Челябинская обл.'!$C$52","v":0},{"$f":"'Челябинская обл.'!$C$53","v":0},{"$f":"'Челябинская обл.'!$C$54","v":0},{"$f":"'Челябинская обл.'!$C$55","v":0},{"$f":"'Челябинская обл.'!$C$56","v":243.71}]
["22","Верхнеуральский муниципальный район"]
["1","АО \"Учалинский горно-обогатительный комбинат\"",null,{"$f":"'Челябинская обл.'!$C$7","v":"13,23"},{"$f":"'Челябинская обл.'!$C$10","v":1005.74},{"$f":"'Челябинская обл.'!$C$11","v":0},{"$f":"'Челябинская обл.'!$C$12","v":0},{"$f":"'Челябинская обл.'!$C$13","v":0},{"$f":"'Челябинская обл.'!$C$14","v":0},{"$f":"'Челябинская обл.'!$C$17","v":1987.75},{"$f":"'Челябинская обл.'!$C$18","v":0},{"$f":"'Челябинская обл.'!$C$19","v":0},{"$f":"'Челябинская обл.'!$C$20","v":0},{"$f":"'Челябинская обл.'!$C$21","v":0},{"$f":"'Челябинская обл.'!$C$23","v":1493.77},{"$f":"'Челябинская обл.'!$C$24","v":0},{"$f":"'Челябинская обл.'!$C$25","v":0},{"$f":"'Челябинская обл.'!$C$26","v":0},{"$f":"'Челябинская обл.'!$C$27","v":0},{"$f":"'Челябинская обл.'!$C$28","v":0},{"$f":"'Челябинская обл.'!$C$29","v":377.24},{"$f":"'Челябинская обл.'!$C$34","v":13.23},{"$f":"'Челябинская обл.'!$C$37","v":352.76},{"$f":"'Челябинская обл.'!$C$38","v":825.59},{"$f":"'Челябинская обл.'!$C$39","v":0},{"$f":"'Челябинская обл.'!$C$40","v":0},{"$f":"'Челябинская обл.'!$C$41","v":0},{"$f":"'Челябинская обл.'!$C$44","v":1142.9000000000001},{"$f":"'Челябинская обл.'!$C$45","v":1066.98},{"$f":"'Челябинская обл.'!$C$46","v":0},{"$f":"'Челябинская обл.'!$C$47","v":0},{"$f":"'Челябинская обл.'!$C$48","v":0},{"$f":"'Челябинская обл.'!$C$50","v":1081.3599999999999},{"$f":"'Челябинская обл.'!$C$51","v":1328.18},{"$f":"'Челябинская обл.'!$C$52","v":0},{"$f":"'Челябинская обл.'!$C$53","v":0},{"$f":"'Челябинская обл.'!$C$54","v":0},{"$f":"'Челябинская обл.'!$C$55","v":0},{"$f":"'Челябинская обл.'!$C$56","v":243.71}]
["2","АО \"Челябоблкоммунэнерго\" (Челябинская область)",null,{"$f":"'Челябинская обл.'!$C$7","v":"13,23"},{"$f":"'Челябинская обл.'!$C$10","v":1005.74},{"$f":"'Челябинская обл.'!$C$11","v":0},{"$f":"'Челябинская обл.'!$C$12","v":0},{"$f":"'Челябинская обл.'!$C$13","v":0},{"$f":"'Челябинская обл.'!$C$14","v":0},{"$f":"'Челябинская обл.'!$C$17","v":1987.75},{"$f":"'Челябинская обл.'!$C$18","v":0},{"$f":"'Челябинская обл.'!$C$19","v":0},{"$f":"'Челябинская обл.'!$C$20","v":0},{"$f":"'Челябинская обл.'!$C$21","v":0},{"$f":"'Челябинская обл.'!$C$23","v":1493.77},{"$f":"'Челябинская обл.'!$C$24","v":0},{"$f":"'Челябинская обл.'!$C$25","v":0},{"$f":"'Челябинская обл.'!$C$26","v":0},{"$f":"'Челябинская обл.'!$C$27","v":0},{"$f":"'Челябинская обл.'!$C$28","v":0},{"$f":"'Челябинская обл.'!$C$29","v":377.24},{"$f":"'Челябинская обл.'!$C$34","v":13.23},{"$f":"'Челябинская обл.'!$C$37","v":352.76},{"$f":"'Челябинская обл.'!$C$38","v":825.59},{"$f":"'Челябинская обл.'!$C$39","v":0},{"$f":"'Челябинская обл.'!$C$40","v":0},{"$f":"'Челябинская обл.'!$C$41","v":0},{"$f":"'Челябинская обл.'!$C$44","v":1142.9000000000001},{"$f":"'Челябинская обл.'!$C$45","v":1066.98},{"$f":"'Челябинская обл.'!$C$46","v":0},{"$f":"'Челябинская обл.'!$C$47","v":0},{"$f":"'Челябинская обл.'!$C$48","v":0},{"$f":"'Челябинская обл.'!$C$50","v":1081.3599999999999},{"$f":"'Челябинская обл.'!$C$51","v":1328.18},{"$f":"'Челябинская обл.'!$C$52","v":0},{"$f":"'Челябинская обл.'!$C$53","v":0},{"$f":"'Челябинская обл.'!$C$54","v":0},{"$f":"'Челябинская обл.'!$C$55","v":0},{"$f":"'Челябинская обл.'!$C$56","v":243.71}]
["3","МУП \"Город Плюс\"",null,{"$f":"'Челябинская обл.'!$C$7","v":"13,23"},{"$f":"'Челябинская обл.'!$C$10","v":1005.74},{"$f":"'Челябинская обл.'!$C$11","v":0},{"$f":"'Челябинская обл.'!$C$12","v":0},{"$f":"'Челябинская обл.'!$C$13","v":0},{"$f":"'Челябинская обл.'!$C$14","v":0},{"$f":"'Челябинская обл.'!$C$17","v":1987.75},{"$f":"'Челябинская обл.'!$C$18","v":0},{"$f":"'Челябинская обл.'!$C$19","v":0},{"$f":"'Челябинская обл.'!$C$20","v":0},{"$f":"'Челябинская обл.'!$C$21","v":0},{"$f":"'Челябинская обл.'!$C$23","v":1493.77},{"$f":"'Челябинская обл.'!$C$24","v":0},{"$f":"'Челябинская обл.'!$C$25","v":0},{"$f":"'Челябинская обл.'!$C$26","v":0},{"$f":"'Челябинская обл.'!$C$27","v":0},{"$f":"'Челябинская обл.'!$C$28","v":0},{"$f":"'Челябинская обл.'!$C$29","v":377.24},{"$f":"'Челябинская обл.'!$C$34","v":13.23},{"$f":"'Челябинская обл.'!$C$37","v":352.76},{"$f":"'Челябинская обл.'!$C$38","v":825.59},{"$f":"'Челябинская обл.'!$C$39","v":0},{"$f":"'Челябинская обл.'!$C$40","v":0},{"$f":"'Челябинская обл.'!$C$41","v":0},{"$f":"'Челябинская обл.'!$C$44","v":1142.9000000000001},{"$f":"'Челябинская обл.'!$C$45","v":1066.98},{"$f":"'Челябинская обл.'!$C$46","v":0},{"$f":"'Челябинская обл.'!$C$47","v":0},{"$f":"'Челябинская обл.'!$C$48","v":0},{"$f":"'Челябинская обл.'!$C$50","v":1081.3599999999999},{"$f":"'Челябинская обл.'!$C$51","v":1328.18},{"$f":"'Челябинская обл.'!$C$52","v":0},{"$f":"'Челябинская обл.'!$C$53","v":0},{"$f":"'Челябинская обл.'!$C$54","v":0},{"$f":"'Челябинская обл.'!$C$55","v":0},{"$f":"'Челябинская обл.'!$C$56","v":243.71}]
["4","ООО \"ВиТ\"",null,{"$f":"'Челябинская обл.'!$C$7","v":"13,23"},{"$f":"'Челябинская обл.'!$C$10","v":1005.74},{"$f":"'Челябинская обл.'!$C$11","v":0},{"$f":"'Челябинская обл.'!$C$12","v":0},{"$f":"'Челябинская обл.'!$C$13","v":0},{"$f":"'Челябинская обл.'!$C$14","v":0},{"$f":"'Челябинская обл.'!$C$17","v":1987.75},{"$f":"'Челябинская обл.'!$C$18","v":0},{"$f":"'Челябинская обл.'!$C$19","v":0},{"$f":"'Челябинская обл.'!$C$20","v":0},{"$f":"'Челябинская обл.'!$C$21","v":0},{"$f":"'Челябинская обл.'!$C$23","v":1493.77},{"$f":"'Челябинская обл.'!$C$24","v":0},{"$f":"'Челябинская обл.'!$C$25","v":0},{"$f":"'Челябинская обл.'!$C$26","v":0},{"$f":"'Челябинская обл.'!$C$27","v":0},{"$f":"'Челябинская обл.'!$C$28","v":0},{"$f":"'Челябинская обл.'!$C$29","v":377.24},{"$f":"'Челябинская обл.'!$C$34","v":13.23},{"$f":"'Челябинская обл.'!$C$37","v":352.76},{"$f":"'Челябинская обл.'!$C$38","v":825.59},{"$f":"'Челябинская обл.'!$C$39","v":0},{"$f":"'Челябинская обл.'!$C$40","v":0},{"$f":"'Челябинская обл.'!$C$41","v":0},{"$f":"'Челябинская обл.'!$C$44","v":1142.9000000000001},{"$f":"'Челябинская обл.'!$C$45","v":1066.98},{"$f":"'Челябинская обл.'!$C$46","v":0},{"$f":"'Челябинская обл.'!$C$47","v":0},{"$f":"'Челябинская обл.'!$C$48","v":0},{"$f":"'Челябинская обл.'!$C$50","v":1081.3599999999999},{"$f":"'Челябинская обл.'!$C$51","v":1328.18},{"$f":"'Челябинская обл.'!$C$52","v":0},{"$f":"'Челябинская обл.'!$C$53","v":0},{"$f":"'Челябинская обл.'!$C$54","v":0},{"$f":"'Челябинская обл.'!$C$55","v":0},{"$f":"'Челябинская обл.'!$C$56","v":243.71}]
["5","ООО \"Генерация\" (Верхнеуфалейский м.р.)",null,{"$f":"'Челябинская обл.'!$C$7","v":"13,23"},{"$f":"'Челябинская обл.'!$C$10","v":1005.74},{"$f":"'Челябинская обл.'!$C$11","v":0},{"$f":"'Челябинская обл.'!$C$12","v":0},{"$f":"'Челябинская обл.'!$C$13","v":0},{"$f":"'Челябинская обл.'!$C$14","v":0},{"$f":"'Челябинская обл.'!$C$17","v":1987.75},{"$f":"'Челябинская обл.'!$C$18","v":0},{"$f":"'Челябинская обл.'!$C$19","v":0},{"$f":"'Челябинская обл.'!$C$20","v":0},{"$f":"'Челябинская обл.'!$C$21","v":0},{"$f":"'Челябинская обл.'!$C$23","v":1493.77},{"$f":"'Челябинская обл.'!$C$24","v":0},{"$f":"'Челябинская обл.'!$C$25","v":0},{"$f":"'Челябинская обл.'!$C$26","v":0},{"$f":"'Челябинская обл.'!$C$27","v":0},{"$f":"'Челябинская обл.'!$C$28","v":0},{"$f":"'Челябинская обл.'!$C$29","v":377.24},{"$f":"'Челябинская обл.'!$C$34","v":13.23},{"$f":"'Челябинская обл.'!$C$37","v":352.76},{"$f":"'Челябинская обл.'!$C$38","v":825.59},{"$f":"'Челябинская обл.'!$C$39","v":0},{"$f":"'Челябинская обл.'!$C$40","v":0},{"$f":"'Челябинская обл.'!$C$41","v":0},{"$f":"'Челябинская обл.'!$C$44","v":1142.9000000000001},{"$f":"'Челябинская обл.'!$C$45","v":1066.98},{"$f":"'Челябинская обл.'!$C$46","v":0},{"$f":"'Челябинская обл.'!$C$47","v":0},{"$f":"'Челябинская обл.'!$C$48","v":0},{"$f":"'Челябинская обл.'!$C$50","v":1081.3599999999999},{"$f":"'Челябинская обл.'!$C$51","v":1328.18},{"$f":"'Челябинская обл.'!$C$52","v":0},{"$f":"'Челябинская обл.'!$C$53","v":0},{"$f":"'Челябинская обл.'!$C$54","v":0},{"$f":"'Челябинская обл.'!$C$55","v":0},{"$f":"'Челябинская обл.'!$C$56","v":243.71}]
["6","ООО \"Надежность-Тепло\" (Верхнеуфалейский м.р.)",null,{"$f":"'Челябинская обл.'!$C$7","v":"13,23"},{"$f":"'Челябинская обл.'!$C$10","v":1005.74},{"$f":"'Челябинская обл.'!$C$11","v":0},{"$f":"'Челябинская обл.'!$C$12","v":0},{"$f":"'Челябинская обл.'!$C$13","v":0},{"$f":"'Челябинская обл.'!$C$14","v":0},{"$f":"'Челябинская обл.'!$C$17","v":1987.75},{"$f":"'Челябинская обл.'!$C$18","v":0},{"$f":"'Челябинская обл.'!$C$19","v":0},{"$f":"'Челябинская обл.'!$C$20","v":0},{"$f":"'Челябинская обл.'!$C$21","v":0},{"$f":"'Челябинская обл.'!$C$23","v":1493.77},{"$f":"'Челябинская обл.'!$C$24","v":0},{"$f":"'Челябинская обл.'!$C$25","v":0},{"$f":"'Челябинская обл.'!$C$26","v":0},{"$f":"'Челябинская обл.'!$C$27","v":0},{"$f":"'Челябинская обл.'!$C$28","v":0},{"$f":"'Челябинская обл.'!$C$29","v":377.24},{"$f":"'Челябинская обл.'!$C$34","v":13.23},{"$f":"'Челябинская обл.'!$C$37","v":352.76},{"$f":"'Челябинская обл.'!$C$38","v":825.59},{"$f":"'Челябинская обл.'!$C$39","v":0},{"$f":"'Челябинская обл.'!$C$40","v":0},{"$f":"'Челябинская обл.'!$C$41","v":0},{"$f":"'Челябинская обл.'!$C$44","v":1142.9000000000001},{"$f":"'Челябинская обл.'!$C$45","v":1066.98},{"$f":"'Челябинская обл.'!$C$46","v":0},{"$f":"'Челябинская обл.'!$C$47","v":0},{"$f":"'Челябинская обл.'!$C$48","v":0},{"$f":"'Челябинская обл.'!$C$50","v":1081.3599999999999},{"$f":"'Челябинская обл.'!$C$51","v":1328.18},{"$f":"'Челябинская обл.'!$C$52","v":0},{"$f":"'Челябинская обл.'!$C$53","v":0},{"$f":"'Челябинская обл.'!$C$54","v":0},{"$f":"'Челябинская обл.'!$C$55","v":0},{"$f":"'Челябинская обл.'!$C$56","v":243.71}]
["7","ООО \"Спасск-ЖКО\"",null,{"$f":"'Челябинская обл.'!$C$7","v":"13,23"},{"$f":"'Челябинская обл.'!$C$10","v":1005.74},{"$f":"'Челябинская обл.'!$C$11","v":0},{"$f":"'Челябинская обл.'!$C$12","v":0},{"$f":"'Челябинская обл.'!$C$13","v":0},{"$f":"'Челябинская обл.'!$C$14","v":0},{"$f":"'Челябинская обл.'!$C$17","v":1987.75},{"$f":"'Челябинская обл.'!$C$18","v":0},{"$f":"'Челябинская обл.'!$C$19","v":0},{"$f":"'Челябинская обл.'!$C$20","v":0},{"$f":"'Челябинская обл.'!$C$21","v":0},{"$f":"'Челябинская обл.'!$C$23","v":1493.77},{"$f":"'Челябинская обл.'!$C$24","v":0},{"$f":"'Челябинская обл.'!$C$25","v":0},{"$f":"'Челябинская обл.'!$C$26","v":0},{"$f":"'Челябинская обл.'!$C$27","v":0},{"$f":"'Челябинская обл.'!$C$28","v":0},{"$f":"'Челябинская обл.'!$C$29","v":377.24},{"$f":"'Челябинская обл.'!$C$34","v":13.23},{"$f":"'Челябинская обл.'!$C$37","v":352.76},{"$f":"'Челябинская обл.'!$C$38","v":825.59},{"$f":"'Челябинская обл.'!$C$39","v":0},{"$f":"'Челябинская обл.'!$C$40","v":0},{"$f":"'Челябинская обл.'!$C$41","v":0},{"$f":"'Челябинская обл.'!$C$44","v":1142.9000000000001},{"$f":"'Челябинская обл.'!$C$45","v":1066.98},{"$f":"'Челябинская обл.'!$C$46","v":0},{"$f":"'Челябинская обл.'!$C$47","v":0},{"$f":"'Челябинская обл.'!$C$48","v":0},{"$f":"'Челябинская обл.'!$C$50","v":1081.3599999999999},{"$f":"'Челябинская обл.'!$C$51","v":1328.18},{"$f":"'Челябинская обл.'!$C$52","v":0},{"$f":"'Челябинская обл.'!$C$53","v":0},{"$f":"'Челябинская обл.'!$C$54","v":0},{"$f":"'Челябинская обл.'!$C$55","v":0},{"$f":"'Челябинская обл.'!$C$56","v":243.71}]
["8","ООО \"Станица\"",null,{"$f":"'Челябинская обл.'!$C$7","v":"13,23"},{"$f":"'Челябинская обл.'!$C$10","v":1005.74},{"$f":"'Челябинская обл.'!$C$11","v":0},{"$f":"'Челябинская обл.'!$C$12","v":0},{"$f":"'Челябинская обл.'!$C$13","v":0},{"$f":"'Челябинская обл.'!$C$14","v":0},{"$f":"'Челябинская обл.'!$C$17","v":1987.75},{"$f":"'Челябинская обл.'!$C$18","v":0},{"$f":"'Челябинская обл.'!$C$19","v":0},{"$f":"'Челябинская обл.'!$C$20","v":0},{"$f":"'Челябинская обл.'!$C$21","v":0},{"$f":"'Челябинская обл.'!$C$23","v":1493.77},{"$f":"'Челябинская обл.'!$C$24","v":0},{"$f":"'Челябинская обл.'!$C$25","v":0},{"$f":"'Челябинская обл.'!$C$26","v":0},{"$f":"'Челябинская обл.'!$C$27","v":0},{"$f":"'Челябинская обл.'!$C$28","v":0},{"$f":"'Челябинская обл.'!$C$29","v":377.24},{"$f":"'Челябинская обл.'!$C$34","v":13.23},{"$f":"'Челябинская обл.'!$C$37","v":352.76},{"$f":"'Челябинская обл.'!$C$38","v":825.59},{"$f":"'Челябинская обл.'!$C$39","v":0},{"$f":"'Челябинская обл.'!$C$40","v":0},{"$f":"'Челябинская обл.'!$C$41","v":0},{"$f":"'Челябинская обл.'!$C$44","v":1142.9000000000001},{"$f":"'Челябинская обл.'!$C$45","v":1066.98},{"$f":"'Челябинская обл.'!$C$46","v":0},{"$f":"'Челябинская обл.'!$C$47","v":0},{"$f":"'Челябинская обл.'!$C$48","v":0},{"$f":"'Челябинская обл.'!$C$50","v":1081.3599999999999},{"$f":"'Челябинская обл.'!$C$51","v":1328.18},{"$f":"'Челябинская обл.'!$C$52","v":0},{"$f":"'Челябинская обл.'!$C$53","v":0},{"$f":"'Челябинская обл.'!$C$54","v":0},{"$f":"'Челябинская обл.'!$C$55","v":0},{"$f":"'Челябинская обл.'!$C$56","v":243.71}]
["9","ООО \"Тепловодсервис\"",null,{"$f":"'Челябинская обл.'!$C$7","v":"13,23"},{"$f":"'Челябинская обл.'!$C$10","v":1005.74},{"$f":"'Челябинская обл.'!$C$11","v":0},{"$f":"'Челябинская обл.'!$C$12","v":0},{"$f":"'Челябинская обл.'!$C$13","v":0},{"$f":"'Челябинская обл.'!$C$14","v":0},{"$f":"'Челябинская обл.'!$C$17","v":1987.75},{"$f":"'Челябинская обл.'!$C$18","v":0},{"$f":"'Челябинская обл.'!$C$19","v":0},{"$f":"'Челябинская обл.'!$C$20","v":0},{"$f":"'Челябинская обл.'!$C$21","v":0},{"$f":"'Челябинская обл.'!$C$23","v":1493.77},{"$f":"'Челябинская обл.'!$C$24","v":0},{"$f":"'Челябинская обл.'!$C$25","v":0},{"$f":"'Челябинская обл.'!$C$26","v":0},{"$f":"'Челябинская обл.'!$C$27","v":0},{"$f":"'Челябинская обл.'!$C$28","v":0},{"$f":"'Челябинская обл.'!$C$29","v":377.24},{"$f":"'Челябинская обл.'!$C$34","v":13.23},{"$f":"'Челябинская обл.'!$C$37","v":352.76},{"$f":"'Челябинская обл.'!$C$38","v":825.59},{"$f":"'Челябинская обл.'!$C$39","v":0},{"$f":"'Челябинская обл.'!$C$40","v":0},{"$f":"'Челябинская обл.'!$C$41","v":0},{"$f":"'Челябинская обл.'!$C$44","v":1142.9000000000001},{"$f":"'Челябинская обл.'!$C$45","v":1066.98},{"$f":"'Челябинская обл.'!$C$46","v":0},{"$f":"'Челябинская обл.'!$C$47","v":0},{"$f":"'Челябинская обл.'!$C$48","v":0},{"$f":"'Челябинская обл.'!$C$50","v":1081.3599999999999},{"$f":"'Челябинская обл.'!$C$51","v":1328.18},{"$f":"'Челябинская обл.'!$C$52","v":0},{"$f":"'Челябинская обл.'!$C$53","v":0},{"$f":"'Челябинская обл.'!$C$54","v":0},{"$f":"'Челябинская обл.'!$C$55","v":0},{"$f":"'Челябинская обл.'!$C$56","v":243.71}]
["10","ООО \"Эффективная теплоэнергетика\" (Верхнеуфалейский м.р.)",null,{"$f":"'Челябинская обл.'!$C$7","v":"13,23"},{"$f":"'Челябинская обл.'!$C$10","v":1005.74},{"$f":"'Челябинская обл.'!$C$11","v":0},{"$f":"'Челябинская обл.'!$C$12","v":0},{"$f":"'Челябинская обл.'!$C$13","v":0},{"$f":"'Челябинская обл.'!$C$14","v":0},{"$f":"'Челябинская обл.'!$C$17","v":1987.75},{"$f":"'Челябинская обл.'!$C$18","v":0},{"$f":"'Челябинская обл.'!$C$19","v":0},{"$f":"'Челябинская обл.'!$C$20","v":0},{"$f":"'Челябинская обл.'!$C$21","v":0},{"$f":"'Челябинская обл.'!$C$23","v":1493.77},{"$f":"'Челябинская обл.'!$C$24","v":0},{"$f":"'Челябинская обл.'!$C$25","v":0},{"$f":"'Челябинская обл.'!$C$26","v":0},{"$f":"'Челябинская обл.'!$C$27","v":0},{"$f":"'Челябинская обл.'!$C$28","v":0},{"$f":"'Челябинская обл.'!$C$29","v":377.24},{"$f":"'Челябинская обл.'!$C$34","v":13.23},{"$f":"'Челябинская обл.'!$C$37","v":352.76},{"$f":"'Челябинская обл.'!$C$38","v":825.59},{"$f":"'Челябинская обл.'!$C$39","v":0},{"$f":"'Челябинская обл.'!$C$40","v":0},{"$f":"'Челябинская обл.'!$C$41","v":0},{"$f":"'Челябинская обл.'!$C$44","v":1142.9000000000001},{"$f":"'Челябинская обл.'!$C$45","v":1066.98},{"$f":"'Челябинская обл.'!$C$46","v":0},{"$f":"'Челябинская обл.'!$C$47","v":0},{"$f":"'Челябинская обл.'!$C$48","v":0},{"$f":"'Челябинская обл.'!$C$50","v":1081.3599999999999},{"$f":"'Челябинская обл.'!$C$51","v":1328.18},{"$f":"'Челябинская обл.'!$C$52","v":0},{"$f":"'Челябинская обл.'!$C$53","v":0},{"$f":"'Челябинская обл.'!$C$54","v":0},{"$f":"'Челябинская обл.'!$C$55","v":0},{"$f":"'Челябинская обл.'!$C$56","v":243.71}]
[11,"ООО «БАШГИДРО»",null,{"$f":"'Челябинская обл.'!$C$7","v":"13,23"},{"$f":"'Челябинская обл.'!$C$10","v":1005.74},{"$f":"'Челябинская обл.'!$C$11","v":0},{"$f":"'Челябинская обл.'!$C$12","v":0},{"$f":"'Челябинская обл.'!$C$13","v":0},{"$f":"'Челябинская обл.'!$C$14","v":0},{"$f":"'Челябинская обл.'!$C$17","v":1987.75},{"$f":"'Челябинская обл.'!$C$18","v":0},{"$f":"'Челябинская обл.'!$C$19","v":0},{"$f":"'Челябинская обл.'!$C$20","v":0},{"$f":"'Челябинская обл.'!$C$21","v":0},{"$f":"'Челябинская обл.'!$C$23","v":1493.77},{"$f":"'Челябинская обл.'!$C$24","v":0},{"$f":"'Челябинская обл.'!$C$25","v":0},{"$f":"'Челябинская обл.'!$C$26","v":0},{"$f":"'Челябинская обл.'!$C$27","v":0},{"$f":"'Челябинская обл.'!$C$28","v":0},{"$f":"'Челябинская обл.'!$C$29","v":377.24},{"$f":"'Челябинская обл.'!$C$34","v":13.23},{"$f":"'Челябинская обл.'!$C$37","v":352.76},{"$f":"'Челябинская обл.'!$C$38","v":825.59},{"$f":"'Челябинская обл.'!$C$39","v":0},{"$f":"'Челябинская обл.'!$C$40","v":0},{"$f":"'Челябинская обл.'!$C$41","v":0},{"$f":"'Челябинская обл.'!$C$44","v":1142.9000000000001},{"$f":"'Челябинская обл.'!$C$45","v":1066.98},{"$f":"'Челябинская обл.'!$C$46","v":0},{"$f":"'Челябинская обл.'!$C$47","v":0},{"$f":"'Челябинская обл.'!$C$48","v":0},{"$f":"'Челябинская обл.'!$C$50","v":1081.3599999999999},{"$f":"'Челябинская обл.'!$C$51","v":1328.18},{"$f":"'Челябинская обл.'!$C$52","v":0},{"$f":"'Челябинская обл.'!$C$53","v":0},{"$f":"'Челябинская обл.'!$C$54","v":0},{"$f":"'Челябинская обл.'!$C$55","v":0},{"$f":"'Челябинская обл.'!$C$56","v":243.71}]
["23","Еманжелинский муниципальный район"]
["1","АО \"Челябоблкоммунэнерго\" (Челябинская область)",null,{"$f":"'Челябинская обл.'!$C$7","v":"13,23"},{"$f":"'Челябинская обл.'!$C$10","v":1005.74},{"$f":"'Челябинская обл.'!$C$11","v":0},{"$f":"'Челябинская обл.'!$C$12","v":0},{"$f":"'Челябинская обл.'!$C$13","v":0},{"$f":"'Челябинская обл.'!$C$14","v":0},{"$f":"'Челябинская обл.'!$C$17","v":1987.75},{"$f":"'Челябинская обл.'!$C$18","v":0},{"$f":"'Челябинская обл.'!$C$19","v":0},{"$f":"'Челябинская обл.'!$C$20","v":0},{"$f":"'Челябинская обл.'!$C$21","v":0},{"$f":"'Челябинская обл.'!$C$23","v":1493.77},{"$f":"'Челябинская обл.'!$C$24","v":0},{"$f":"'Челябинская обл.'!$C$25","v":0},{"$f":"'Челябинская обл.'!$C$26","v":0},{"$f":"'Челябинская обл.'!$C$27","v":0},{"$f":"'Челябинская обл.'!$C$28","v":0},{"$f":"'Челябинская обл.'!$C$29","v":377.24},{"$f":"'Челябинская обл.'!$C$34","v":13.23},{"$f":"'Челябинская обл.'!$C$37","v":352.76},{"$f":"'Челябинская обл.'!$C$38","v":825.59},{"$f":"'Челябинская обл.'!$C$39","v":0},{"$f":"'Челябинская обл.'!$C$40","v":0},{"$f":"'Челябинская обл.'!$C$41","v":0},{"$f":"'Челябинская обл.'!$C$44","v":1142.9000000000001},{"$f":"'Челябинская обл.'!$C$45","v":1066.98},{"$f":"'Челябинская обл.'!$C$46","v":0},{"$f":"'Челябинская обл.'!$C$47","v":0},{"$f":"'Челябинская обл.'!$C$48","v":0},{"$f":"'Челябинская обл.'!$C$50","v":1081.3599999999999},{"$f":"'Челябинская обл.'!$C$51","v":1328.18},{"$f":"'Челябинская обл.'!$C$52","v":0},{"$f":"'Челябинская обл.'!$C$53","v":0},{"$f":"'Челябинская обл.'!$C$54","v":0},{"$f":"'Челябинская обл.'!$C$55","v":0},{"$f":"'Челябинская обл.'!$C$56","v":243.71}]
["2","ООО \"ИСК\"",null,{"$f":"'Челябинская обл.'!$C$7","v":"13,23"},{"$f":"'Челябинская обл.'!$C$10","v":1005.74},{"$f":"'Челябинская обл.'!$C$11","v":0},{"$f":"'Челябинская обл.'!$C$12","v":0},{"$f":"'Челябинская обл.'!$C$13","v":0},{"$f":"'Челябинская обл.'!$C$14","v":0},{"$f":"'Челябинская обл.'!$C$17","v":1987.75},{"$f":"'Челябинская обл.'!$C$18","v":0},{"$f":"'Челябинская обл.'!$C$19","v":0},{"$f":"'Челябинская обл.'!$C$20","v":0},{"$f":"'Челябинская обл.'!$C$21","v":0},{"$f":"'Челябинская обл.'!$C$23","v":1493.77},{"$f":"'Челябинская обл.'!$C$24","v":0},{"$f":"'Челябинская обл.'!$C$25","v":0},{"$f":"'Челябинская обл.'!$C$26","v":0},{"$f":"'Челябинская обл.'!$C$27","v":0},{"$f":"'Челябинская обл.'!$C$28","v":0},{"$f":"'Челябинская обл.'!$C$29","v":377.24},{"$f":"'Челябинская обл.'!$C$34","v":13.23},{"$f":"'Челябинская обл.'!$C$37","v":352.76},{"$f":"'Челябинская обл.'!$C$38","v":825.59},{"$f":"'Челябинская обл.'!$C$39","v":0},{"$f":"'Челябинская обл.'!$C$40","v":0},{"$f":"'Челябинская обл.'!$C$41","v":0},{"$f":"'Челябинская обл.'!$C$44","v":1142.9000000000001},{"$f":"'Челябинская обл.'!$C$45","v":1066.98},{"$f":"'Челябинская обл.'!$C$46","v":0},{"$f":"'Челябинская обл.'!$C$47","v":0},{"$f":"'Челябинская обл.'!$C$48","v":0},{"$f":"'Челябинская обл.'!$C$50","v":1081.3599999999999},{"$f":"'Челябинская обл.'!$C$51","v":1328.18},{"$f":"'Челябинская обл.'!$C$52","v":0},{"$f":"'Челябинская обл.'!$C$53","v":0},{"$f":"'Челябинская обл.'!$C$54","v":0},{"$f":"'Челябинская обл.'!$C$55","v":0},{"$f":"'Челябинская обл.'!$C$56","v":243.71}]
["3","ООО \"Коммунальные системы\"",null,{"$f":"'Челябинская обл.'!$C$7","v":"13,23"},{"$f":"'Челябинская обл.'!$C$10","v":1005.74},{"$f":"'Челябинская обл.'!$C$11","v":0},{"$f":"'Челябинская обл.'!$C$12","v":0},{"$f":"'Челябинская обл.'!$C$13","v":0},{"$f":"'Челябинская обл.'!$C$14","v":0},{"$f":"'Челябинская обл.'!$C$17","v":1987.75},{"$f":"'Челябинская обл.'!$C$18","v":0},{"$f":"'Челябинская обл.'!$C$19","v":0},{"$f":"'Челябинская обл.'!$C$20","v":0},{"$f":"'Челябинская обл.'!$C$21","v":0},{"$f":"'Челябинская обл.'!$C$23","v":1493.77},{"$f":"'Челябинская обл.'!$C$24","v":0},{"$f":"'Челябинская обл.'!$C$25","v":0},{"$f":"'Челябинская обл.'!$C$26","v":0},{"$f":"'Челябинская обл.'!$C$27","v":0},{"$f":"'Челябинская обл.'!$C$28","v":0},{"$f":"'Челябинская обл.'!$C$29","v":377.24},{"$f":"'Челябинская обл.'!$C$34","v":13.23},{"$f":"'Челябинская обл.'!$C$37","v":352.76},{"$f":"'Челябинская обл.'!$C$38","v":825.59},{"$f":"'Челябинская обл.'!$C$39","v":0},{"$f":"'Челябинская обл.'!$C$40","v":0},{"$f":"'Челябинская обл.'!$C$41","v":0},{"$f":"'Челябинская обл.'!$C$44","v":1142.9000000000001},{"$f":"'Челябинская обл.'!$C$45","v":1066.98},{"$f":"'Челябинская обл.'!$C$46","v":0},{"$f":"'Челябинская обл.'!$C$47","v":0},{"$f":"'Челябинская обл.'!$C$48","v":0},{"$f":"'Челябинская обл.'!$C$50","v":1081.3599999999999},{"$f":"'Челябинская обл.'!$C$51","v":1328.18},{"$f":"'Челябинская обл.'!$C$52","v":0},{"$f":"'Челябинская обл.'!$C$53","v":0},{"$f":"'Челябинская обл.'!$C$54","v":0},{"$f":"'Челябинская обл.'!$C$55","v":0},{"$f":"'Челябинская обл.'!$C$56","v":243.71}]
["4","ООО \"Корвет\"",null,{"$f":"'Челябинская обл.'!$C$7","v":"13,23"},{"$f":"'Челябинская обл.'!$C$10","v":1005.74},{"$f":"'Челябинская обл.'!$C$11","v":0},{"$f":"'Челябинская обл.'!$C$12","v":0},{"$f":"'Челябинская обл.'!$C$13","v":0},{"$f":"'Челябинская обл.'!$C$14","v":0},{"$f":"'Челябинская обл.'!$C$17","v":1987.75},{"$f":"'Челябинская обл.'!$C$18","v":0},{"$f":"'Челябинская обл.'!$C$19","v":0},{"$f":"'Челябинская обл.'!$C$20","v":0},{"$f":"'Челябинская обл.'!$C$21","v":0},{"$f":"'Челябинская обл.'!$C$23","v":1493.77},{"$f":"'Челябинская обл.'!$C$24","v":0},{"$f":"'Челябинская обл.'!$C$25","v":0},{"$f":"'Челябинская обл.'!$C$26","v":0},{"$f":"'Челябинская обл.'!$C$27","v":0},{"$f":"'Челябинская обл.'!$C$28","v":0},{"$f":"'Челябинская обл.'!$C$29","v":377.24},{"$f":"'Челябинская обл.'!$C$34","v":13.23},{"$f":"'Челябинская обл.'!$C$37","v":352.76},{"$f":"'Челябинская обл.'!$C$38","v":825.59},{"$f":"'Челябинская обл.'!$C$39","v":0},{"$f":"'Челябинская обл.'!$C$40","v":0},{"$f":"'Челябинская обл.'!$C$41","v":0},{"$f":"'Челябинская обл.'!$C$44","v":1142.9000000000001},{"$f":"'Челябинская обл.'!$C$45","v":1066.98},{"$f":"'Челябинская обл.'!$C$46","v":0},{"$f":"'Челябинская обл.'!$C$47","v":0},{"$f":"'Челябинская обл.'!$C$48","v":0},{"$f":"'Челябинская обл.'!$C$50","v":1081.3599999999999},{"$f":"'Челябинская обл.'!$C$51","v":1328.18},{"$f":"'Челябинская обл.'!$C$52","v":0},{"$f":"'Челябинская обл.'!$C$53","v":0},{"$f":"'Челябинская обл.'!$C$54","v":0},{"$f":"'Челябинская обл.'!$C$55","v":0},{"$f":"'Челябинская обл.'!$C$56","v":243.71}]
["5","ООО \"Тепловая компания\"",null,{"$f":"'Челябинская обл.'!$C$7","v":"13,23"},{"$f":"'Челябинская обл.'!$C$10","v":1005.74},{"$f":"'Челябинская обл.'!$C$11","v":0},{"$f":"'Челябинская обл.'!$C$12","v":0},{"$f":"'Челябинская обл.'!$C$13","v":0},{"$f":"'Челябинская обл.'!$C$14","v":0},{"$f":"'Челябинская обл.'!$C$17","v":1987.75},{"$f":"'Челябинская обл.'!$C$18","v":0},{"$f":"'Челябинская обл.'!$C$19","v":0},{"$f":"'Челябинская обл.'!$C$20","v":0},{"$f":"'Челябинская обл.'!$C$21","v":0},{"$f":"'Челябинская обл.'!$C$23","v":1493.77},{"$f":"'Челябинская обл.'!$C$24","v":0},{"$f":"'Челябинская обл.'!$C$25","v":0},{"$f":"'Челябинская обл.'!$C$26","v":0},{"$f":"'Челябинская обл.'!$C$27","v":0},{"$f":"'Челябинская обл.'!$C$28","v":0},{"$f":"'Челябинская обл.'!$C$29","v":377.24},{"$f":"'Челябинская обл.'!$C$34","v":13.23},{"$f":"'Челябинская обл.'!$C$37","v":352.76},{"$f":"'Челябинская обл.'!$C$38","v":825.59},{"$f":"'Челябинская обл.'!$C$39","v":0},{"$f":"'Челябинская обл.'!$C$40","v":0},{"$f":"'Челябинская обл.'!$C$41","v":0},{"$f":"'Челябинская обл.'!$C$44","v":1142.9000000000001},{"$f":"'Челябинская обл.'!$C$45","v":1066.98},{"$f":"'Челябинская обл.'!$C$46","v":0},{"$f":"'Челябинская обл.'!$C$47","v":0},{"$f":"'Челябинская обл.'!$C$48","v":0},{"$f":"'Челябинская обл.'!$C$50","v":1081.3599999999999},{"$f":"'Челябинская обл.'!$C$51","v":1328.18},{"$f":"'Челябинская обл.'!$C$52","v":0},{"$f":"'Челябинская обл.'!$C$53","v":0},{"$f":"'Челябинская обл.'!$C$54","v":0},{"$f":"'Челябинская обл.'!$C$55","v":0},{"$f":"'Челябинская обл.'!$C$56","v":243.71}]
[6,"ООО \"Уралсервис\"",null,{"$f":"'Челябинская обл.'!$C$7","v":"13,23"},{"$f":"'Челябинская обл.'!$C$10","v":1005.74},{"$f":"'Челябинская обл.'!$C$11","v":0},{"$f":"'Челябинская обл.'!$C$12","v":0},{"$f":"'Челябинская обл.'!$C$13","v":0},{"$f":"'Челябинская обл.'!$C$14","v":0},{"$f":"'Челябинская обл.'!$C$17","v":1987.75},{"$f":"'Челябинская обл.'!$C$18","v":0},{"$f":"'Челябинская обл.'!$C$19","v":0},{"$f":"'Челябинская обл.'!$C$20","v":0},{"$f":"'Челябинская обл.'!$C$21","v":0},{"$f":"'Челябинская обл.'!$C$23","v":1493.77},{"$f":"'Челябинская обл.'!$C$24","v":0},{"$f":"'Челябинская обл.'!$C$25","v":0},{"$f":"'Челябинская обл.'!$C$26","v":0},{"$f":"'Челябинская обл.'!$C$27","v":0},{"$f":"'Челябинская обл.'!$C$28","v":0},{"$f":"'Челябинская обл.'!$C$29","v":377.24},{"$f":"'Челябинская обл.'!$C$34","v":13.23},{"$f":"'Челябинская обл.'!$C$37","v":352.76},{"$f":"'Челябинская обл.'!$C$38","v":825.59},{"$f":"'Челябинская обл.'!$C$39","v":0},{"$f":"'Челябинская обл.'!$C$40","v":0},{"$f":"'Челябинская обл.'!$C$41","v":0},{"$f":"'Челябинская обл.'!$C$44","v":1142.9000000000001},{"$f":"'Челябинская обл.'!$C$45","v":1066.98},{"$f":"'Челябинская обл.'!$C$46","v":0},{"$f":"'Челябинская обл.'!$C$47","v":0},{"$f":"'Челябинская обл.'!$C$48","v":0},{"$f":"'Челябинская обл.'!$C$50","v":1081.3599999999999},{"$f":"'Челябинская обл.'!$C$51","v":1328.18},{"$f":"'Челябинская обл.'!$C$52","v":0},{"$f":"'Челябинская обл.'!$C$53","v":0},{"$f":"'Челябинская обл.'!$C$54","v":0},{"$f":"'Челябинская обл.'!$C$55","v":0},{"$f":"'Челябинская обл.'!$C$56","v":243.71}]
[24,"Еткульский муниципальный район"]
["1","АО \"Челябоблкоммунэнерго\" (Челябинская область)",null,{"$f":"'Челябинская обл.'!$C$7","v":"13,23"},{"$f":"'Челябинская обл.'!$C$10","v":1005.74},{"$f":"'Челябинская обл.'!$C$11","v":0},{"$f":"'Челябинская обл.'!$C$12","v":0},{"$f":"'Челябинская обл.'!$C$13","v":0},{"$f":"'Челябинская обл.'!$C$14","v":0},{"$f":"'Челябинская обл.'!$C$17","v":1987.75},{"$f":"'Челябинская обл.'!$C$18","v":0},{"$f":"'Челябинская обл.'!$C$19","v":0},{"$f":"'Челябинская обл.'!$C$20","v":0},{"$f":"'Челябинская обл.'!$C$21","v":0},{"$f":"'Челябинская обл.'!$C$23","v":1493.77},{"$f":"'Челябинская обл.'!$C$24","v":0},{"$f":"'Челябинская обл.'!$C$25","v":0},{"$f":"'Челябинская обл.'!$C$26","v":0},{"$f":"'Челябинская обл.'!$C$27","v":0},{"$f":"'Челябинская обл.'!$C$28","v":0},{"$f":"'Челябинская обл.'!$C$29","v":377.24},{"$f":"'Челябинская обл.'!$C$34","v":13.23},{"$f":"'Челябинская обл.'!$C$37","v":352.76},{"$f":"'Челябинская обл.'!$C$38","v":825.59},{"$f":"'Челябинская обл.'!$C$39","v":0},{"$f":"'Челябинская обл.'!$C$40","v":0},{"$f":"'Челябинская обл.'!$C$41","v":0},{"$f":"'Челябинская обл.'!$C$44","v":1142.9000000000001},{"$f":"'Челябинская обл.'!$C$45","v":1066.98},{"$f":"'Челябинская обл.'!$C$46","v":0},{"$f":"'Челябинская обл.'!$C$47","v":0},{"$f":"'Челябинская обл.'!$C$48","v":0},{"$f":"'Челябинская обл.'!$C$50","v":1081.3599999999999},{"$f":"'Челябинская обл.'!$C$51","v":1328.18},{"$f":"'Челябинская обл.'!$C$52","v":0},{"$f":"'Челябинская обл.'!$C$53","v":0},{"$f":"'Челябинская обл.'!$C$54","v":0},{"$f":"'Челябинская обл.'!$C$55","v":0},{"$f":"'Челябинская обл.'!$C$56","v":243.71}]
["2","МУП ЖКХ с. Коелга",null,{"$f":"'Челябинская обл.'!$C$7","v":"13,23"},{"$f":"'Челябинская обл.'!$C$10","v":1005.74},{"$f":"'Челябинская обл.'!$C$11","v":0},{"$f":"'Челябинская обл.'!$C$12","v":0},{"$f":"'Челябинская обл.'!$C$13","v":0},{"$f":"'Челябинская обл.'!$C$14","v":0},{"$f":"'Челябинская обл.'!$C$17","v":1987.75},{"$f":"'Челябинская обл.'!$C$18","v":0},{"$f":"'Челябинская обл.'!$C$19","v":0},{"$f":"'Челябинская обл.'!$C$20","v":0},{"$f":"'Челябинская обл.'!$C$21","v":0},{"$f":"'Челябинская обл.'!$C$23","v":1493.77},{"$f":"'Челябинская обл.'!$C$24","v":0},{"$f":"'Челябинская обл.'!$C$25","v":0},{"$f":"'Челябинская обл.'!$C$26","v":0},{"$f":"'Челябинская обл.'!$C$27","v":0},{"$f":"'Челябинская обл.'!$C$28","v":0},{"$f":"'Челябинская обл.'!$C$29","v":377.24},{"$f":"'Челябинская обл.'!$C$34","v":13.23},{"$f":"'Челябинская обл.'!$C$37","v":352.76},{"$f":"'Челябинская обл.'!$C$38","v":825.59},{"$f":"'Челябинская обл.'!$C$39","v":0},{"$f":"'Челябинская обл.'!$C$40","v":0},{"$f":"'Челябинская обл.'!$C$41","v":0},{"$f":"'Челябинская обл.'!$C$44","v":1142.9000000000001},{"$f":"'Челябинская обл.'!$C$45","v":1066.98},{"$f":"'Челябинская обл.'!$C$46","v":0},{"$f":"'Челябинская обл.'!$C$47","v":0},{"$f":"'Челябинская обл.'!$C$48","v":0},{"$f":"'Челябинская обл.'!$C$50","v":1081.3599999999999},{"$f":"'Челябинская обл.'!$C$51","v":1328.18},{"$f":"'Челябинская обл.'!$C$52","v":0},{"$f":"'Челябинская обл.'!$C$53","v":0},{"$f":"'Челябинская обл.'!$C$54","v":0},{"$f":"'Челябинская обл.'!$C$55","v":0},{"$f":"'Челябинская обл.'!$C$56","v":243.71}]
["3","ОАО \"Челябкоммунэнерго\" (Еткульский м.р.)",null,{"$f":"'Челябинская обл.'!$C$7","v":"13,23"},{"$f":"'Челябинская обл.'!$C$10","v":1005.74},{"$f":"'Челябинская обл.'!$C$11","v":0},{"$f":"'Челябинская обл.'!$C$12","v":0},{"$f":"'Челябинская обл.'!$C$13","v":0},{"$f":"'Челябинская обл.'!$C$14","v":0},{"$f":"'Челябинская обл.'!$C$17","v":1987.75},{"$f":"'Челябинская обл.'!$C$18","v":0},{"$f":"'Челябинская обл.'!$C$19","v":0},{"$f":"'Челябинская обл.'!$C$20","v":0},{"$f":"'Челябинская обл.'!$C$21","v":0},{"$f":"'Челябинская обл.'!$C$23","v":1493.77},{"$f":"'Челябинская обл.'!$C$24","v":0},{"$f":"'Челябинская обл.'!$C$25","v":0},{"$f":"'Челябинская обл.'!$C$26","v":0},{"$f":"'Челябинская обл.'!$C$27","v":0},{"$f":"'Челябинская обл.'!$C$28","v":0},{"$f":"'Челябинская обл.'!$C$29","v":377.24},{"$f":"'Челябинская обл.'!$C$34","v":13.23},{"$f":"'Челябинская обл.'!$C$37","v":352.76},{"$f":"'Челябинская обл.'!$C$38","v":825.59},{"$f":"'Челябинская обл.'!$C$39","v":0},{"$f":"'Челябинская обл.'!$C$40","v":0},{"$f":"'Челябинская обл.'!$C$41","v":0},{"$f":"'Челябинская обл.'!$C$44","v":1142.9000000000001},{"$f":"'Челябинская обл.'!$C$45","v":1066.98},{"$f":"'Челябинская обл.'!$C$46","v":0},{"$f":"'Челябинская обл.'!$C$47","v":0},{"$f":"'Челябинская обл.'!$C$48","v":0},{"$f":"'Челябинская обл.'!$C$50","v":1081.3599999999999},{"$f":"'Челябинская обл.'!$C$51","v":1328.18},{"$f":"'Челябинская обл.'!$C$52","v":0},{"$f":"'Челябинская обл.'!$C$53","v":0},{"$f":"'Челябинская обл.'!$C$54","v":0},{"$f":"'Челябинская обл.'!$C$55","v":0},{"$f":"'Челябинская обл.'!$C$56","v":243.71}]
["4","ООО \"Еткульсервис ЖКХ\"",null,{"$f":"'Челябинская обл.'!$C$7","v":"13,23"},{"$f":"'Челябинская обл.'!$C$10","v":1005.74},{"$f":"'Челябинская обл.'!$C$11","v":0},{"$f":"'Челябинская обл.'!$C$12","v":0},{"$f":"'Челябинская обл.'!$C$13","v":0},{"$f":"'Челябинская обл.'!$C$14","v":0},{"$f":"'Челябинская обл.'!$C$17","v":1987.75},{"$f":"'Челябинская обл.'!$C$18","v":0},{"$f":"'Челябинская обл.'!$C$19","v":0},{"$f":"'Челябинская обл.'!$C$20","v":0},{"$f":"'Челябинская обл.'!$C$21","v":0},{"$f":"'Челябинская обл.'!$C$23","v":1493.77},{"$f":"'Челябинская обл.'!$C$24","v":0},{"$f":"'Челябинская обл.'!$C$25","v":0},{"$f":"'Челябинская обл.'!$C$26","v":0},{"$f":"'Челябинская обл.'!$C$27","v":0},{"$f":"'Челябинская обл.'!$C$28","v":0},{"$f":"'Челябинская обл.'!$C$29","v":377.24},{"$f":"'Челябинская обл.'!$C$34","v":13.23},{"$f":"'Челябинская обл.'!$C$37","v":352.76},{"$f":"'Челябинская обл.'!$C$38","v":825.59},{"$f":"'Челябинская обл.'!$C$39","v":0},{"$f":"'Челябинская обл.'!$C$40","v":0},{"$f":"'Челябинская обл.'!$C$41","v":0},{"$f":"'Челябинская обл.'!$C$44","v":1142.9000000000001},{"$f":"'Челябинская обл.'!$C$45","v":1066.98},{"$f":"'Челябинская обл.'!$C$46","v":0},{"$f":"'Челябинская обл.'!$C$47","v":0},{"$f":"'Челябинская обл.'!$C$48","v":0},{"$f":"'Челябинская обл.'!$C$50","v":1081.3599999999999},{"$f":"'Челябинская обл.'!$C$51","v":1328.18},{"$f":"'Челябинская обл.'!$C$52","v":0},{"$f":"'Челябинская обл.'!$C$53","v":0},{"$f":"'Челябинская обл.'!$C$54","v":0},{"$f":"'Челябинская обл.'!$C$55","v":0},{"$f":"'Челябинская обл.'!$C$56","v":243.71}]
["5","ООО \"Минигидро\"",null,{"$f":"'Челябинская обл.'!$C$7","v":"13,23"},{"$f":"'Челябинская обл.'!$C$10","v":1005.74},{"$f":"'Челябинская обл.'!$C$11","v":0},{"$f":"'Челябинская обл.'!$C$12","v":0},{"$f":"'Челябинская обл.'!$C$13","v":0},{"$f":"'Челябинская обл.'!$C$14","v":0},{"$f":"'Челябинская обл.'!$C$17","v":1987.75},{"$f":"'Челябинская обл.'!$C$18","v":0},{"$f":"'Челябинская обл.'!$C$19","v":0},{"$f":"'Челябинская обл.'!$C$20","v":0},{"$f":"'Челябинская обл.'!$C$21","v":0},{"$f":"'Челябинская обл.'!$C$23","v":1493.77},{"$f":"'Челябинская обл.'!$C$24","v":0},{"$f":"'Челябинская обл.'!$C$25","v":0},{"$f":"'Челябинская обл.'!$C$26","v":0},{"$f":"'Челябинская обл.'!$C$27","v":0},{"$f":"'Челябинская обл.'!$C$28","v":0},{"$f":"'Челябинская обл.'!$C$29","v":377.24},{"$f":"'Челябинская обл.'!$C$34","v":13.23},{"$f":"'Челябинская обл.'!$C$37","v":352.76},{"$f":"'Челябинская обл.'!$C$38","v":825.59},{"$f":"'Челябинская обл.'!$C$39","v":0},{"$f":"'Челябинская обл.'!$C$40","v":0},{"$f":"'Челябинская обл.'!$C$41","v":0},{"$f":"'Челябинская обл.'!$C$44","v":1142.9000000000001},{"$f":"'Челябинская обл.'!$C$45","v":1066.98},{"$f":"'Челябинская обл.'!$C$46","v":0},{"$f":"'Челябинская обл.'!$C$47","v":0},{"$f":"'Челябинская обл.'!$C$48","v":0},{"$f":"'Челябинская обл.'!$C$50","v":1081.3599999999999},{"$f":"'Челябинская обл.'!$C$51","v":1328.18},{"$f":"'Челябинская обл.'!$C$52","v":0},{"$f":"'Челябинская обл.'!$C$53","v":0},{"$f":"'Челябинская обл.'!$C$54","v":0},{"$f":"'Челябинская обл.'!$C$55","v":0},{"$f":"'Челябинская обл.'!$C$56","v":243.71}]
["6","ООО \"Никос-Сервис\"",null,{"$f":"'Челябинская обл.'!$C$7","v":"13,23"},{"$f":"'Челябинская обл.'!$C$10","v":1005.74},{"$f":"'Челябинская обл.'!$C$11","v":0},{"$f":"'Челябинская обл.'!$C$12","v":0},{"$f":"'Челябинская обл.'!$C$13","v":0},{"$f":"'Челябинская обл.'!$C$14","v":0},{"$f":"'Челябинская обл.'!$C$17","v":1987.75},{"$f":"'Челябинская обл.'!$C$18","v":0},{"$f":"'Челябинская обл.'!$C$19","v":0},{"$f":"'Челябинская обл.'!$C$20","v":0},{"$f":"'Челябинская обл.'!$C$21","v":0},{"$f":"'Челябинская обл.'!$C$23","v":1493.77},{"$f":"'Челябинская обл.'!$C$24","v":0},{"$f":"'Челябинская обл.'!$C$25","v":0},{"$f":"'Челябинская обл.'!$C$26","v":0},{"$f":"'Челябинская обл.'!$C$27","v":0},{"$f":"'Челябинская обл.'!$C$28","v":0},{"$f":"'Челябинская обл.'!$C$29","v":377.24},{"$f":"'Челябинская обл.'!$C$34","v":13.23},{"$f":"'Челябинская обл.'!$C$37","v":352.76},{"$f":"'Челябинская обл.'!$C$38","v":825.59},{"$f":"'Челябинская обл.'!$C$39","v":0},{"$f":"'Челябинская обл.'!$C$40","v":0},{"$f":"'Челябинская обл.'!$C$41","v":0},{"$f":"'Челябинская обл.'!$C$44","v":1142.9000000000001},{"$f":"'Челябинская обл.'!$C$45","v":1066.98},{"$f":"'Челябинская обл.'!$C$46","v":0},{"$f":"'Челябинская обл.'!$C$47","v":0},{"$f":"'Челябинская обл.'!$C$48","v":0},{"$f":"'Челябинская обл.'!$C$50","v":1081.3599999999999},{"$f":"'Челябинская обл.'!$C$51","v":1328.18},{"$f":"'Челябинская обл.'!$C$52","v":0},{"$f":"'Челябинская обл.'!$C$53","v":0},{"$f":"'Челябинская обл.'!$C$54","v":0},{"$f":"'Челябинская обл.'!$C$55","v":0},{"$f":"'Челябинская обл.'!$C$56","v":243.71}]
["7","ООО \"ПрофТерминал-Энерго\"",null,{"$f":"'Челябинская обл.'!$C$7","v":"13,23"},{"$f":"'Челябинская обл.'!$C$10","v":1005.74},{"$f":"'Челябинская обл.'!$C$11","v":0},{"$f":"'Челябинская обл.'!$C$12","v":0},{"$f":"'Челябинская обл.'!$C$13","v":0},{"$f":"'Челябинская обл.'!$C$14","v":0},{"$f":"'Челябинская обл.'!$C$17","v":1987.75},{"$f":"'Челябинская обл.'!$C$18","v":0},{"$f":"'Челябинская обл.'!$C$19","v":0},{"$f":"'Челябинская обл.'!$C$20","v":0},{"$f":"'Челябинская обл.'!$C$21","v":0},{"$f":"'Челябинская обл.'!$C$23","v":1493.77},{"$f":"'Челябинская обл.'!$C$24","v":0},{"$f":"'Челябинская обл.'!$C$25","v":0},{"$f":"'Челябинская обл.'!$C$26","v":0},{"$f":"'Челябинская обл.'!$C$27","v":0},{"$f":"'Челябинская обл.'!$C$28","v":0},{"$f":"'Челябинская обл.'!$C$29","v":377.24},{"$f":"'Челябинская обл.'!$C$34","v":13.23},{"$f":"'Челябинская обл.'!$C$37","v":352.76},{"$f":"'Челябинская обл.'!$C$38","v":825.59},{"$f":"'Челябинская обл.'!$C$39","v":0},{"$f":"'Челябинская обл.'!$C$40","v":0},{"$f":"'Челябинская обл.'!$C$41","v":0},{"$f":"'Челябинская обл.'!$C$44","v":1142.9000000000001},{"$f":"'Челябинская обл.'!$C$45","v":1066.98},{"$f":"'Челябинская обл.'!$C$46","v":0},{"$f":"'Челябинская обл.'!$C$47","v":0},{"$f":"'Челябинская обл.'!$C$48","v":0},{"$f":"'Челябинская обл.'!$C$50","v":1081.3599999999999},{"$f":"'Челябинская обл.'!$C$51","v":1328.18},{"$f":"'Челябинская обл.'!$C$52","v":0},{"$f":"'Челябинская обл.'!$C$53","v":0},{"$f":"'Челябинская обл.'!$C$54","v":0},{"$f":"'Челябинская обл.'!$C$55","v":0},{"$f":"'Челябинская обл.'!$C$56","v":243.71}]
["8","ООО \"Сетевое Теплоэнергетическое Предприятие\" (Еткульский м.р.)",null,{"$f":"'Челябинская обл.'!$C$7","v":"13,23"},{"$f":"'Челябинская обл.'!$C$10","v":1005.74},{"$f":"'Челябинская обл.'!$C$11","v":0},{"$f":"'Челябинская обл.'!$C$12","v":0},{"$f":"'Челябинская обл.'!$C$13","v":0},{"$f":"'Челябинская обл.'!$C$14","v":0},{"$f":"'Челябинская обл.'!$C$17","v":1987.75},{"$f":"'Челябинская обл.'!$C$18","v":0},{"$f":"'Челябинская обл.'!$C$19","v":0},{"$f":"'Челябинская обл.'!$C$20","v":0},{"$f":"'Челябинская обл.'!$C$21","v":0},{"$f":"'Челябинская обл.'!$C$23","v":1493.77},{"$f":"'Челябинская обл.'!$C$24","v":0},{"$f":"'Челябинская обл.'!$C$25","v":0},{"$f":"'Челябинская обл.'!$C$26","v":0},{"$f":"'Челябинская обл.'!$C$27","v":0},{"$f":"'Челябинская обл.'!$C$28","v":0},{"$f":"'Челябинская обл.'!$C$29","v":377.24},{"$f":"'Челябинская обл.'!$C$34","v":13.23},{"$f":"'Челябинская обл.'!$C$37","v":352.76},{"$f":"'Челябинская обл.'!$C$38","v":825.59},{"$f":"'Челябинская обл.'!$C$39","v":0},{"$f":"'Челябинская обл.'!$C$40","v":0},{"$f":"'Челябинская обл.'!$C$41","v":0},{"$f":"'Челябинская обл.'!$C$44","v":1142.9000000000001},{"$f":"'Челябинская обл.'!$C$45","v":1066.98},{"$f":"'Челябинская обл.'!$C$46","v":0},{"$f":"'Челябинская обл.'!$C$47","v":0},{"$f":"'Челябинская обл.'!$C$48","v":0},{"$f":"'Челябинская обл.'!$C$50","v":1081.3599999999999},{"$f":"'Челябинская обл.'!$C$51","v":1328.18},{"$f":"'Челябинская обл.'!$C$52","v":0},{"$f":"'Челябинская обл.'!$C$53","v":0},{"$f":"'Челябинская обл.'!$C$54","v":0},{"$f":"'Челябинская обл.'!$C$55","v":0},{"$f":"'Челябинская обл.'!$C$56","v":243.71}]
["9","ООО \"Сфера\"",null,{"$f":"'Челябинская обл.'!$C$7","v":"13,23"},{"$f":"'Челябинская обл.'!$C$10","v":1005.74},{"$f":"'Челябинская обл.'!$C$11","v":0},{"$f":"'Челябинская обл.'!$C$12","v":0},{"$f":"'Челябинская обл.'!$C$13","v":0},{"$f":"'Челябинская обл.'!$C$14","v":0},{"$f":"'Челябинская обл.'!$C$17","v":1987.75},{"$f":"'Челябинская обл.'!$C$18","v":0},{"$f":"'Челябинская обл.'!$C$19","v":0},{"$f":"'Челябинская обл.'!$C$20","v":0},{"$f":"'Челябинская обл.'!$C$21","v":0},{"$f":"'Челябинская обл.'!$C$23","v":1493.77},{"$f":"'Челябинская обл.'!$C$24","v":0},{"$f":"'Челябинская обл.'!$C$25","v":0},{"$f":"'Челябинская обл.'!$C$26","v":0},{"$f":"'Челябинская обл.'!$C$27","v":0},{"$f":"'Челябинская обл.'!$C$28","v":0},{"$f":"'Челябинская обл.'!$C$29","v":377.24},{"$f":"'Челябинская обл.'!$C$34","v":13.23},{"$f":"'Челябинская обл.'!$C$37","v":352.76},{"$f":"'Челябинская обл.'!$C$38","v":825.59},{"$f":"'Челябинская обл.'!$C$39","v":0},{"$f":"'Челябинская обл.'!$C$40","v":0},{"$f":"'Челябинская обл.'!$C$41","v":0},{"$f":"'Челябинская обл.'!$C$44","v":1142.9000000000001},{"$f":"'Челябинская обл.'!$C$45","v":1066.98},{"$f":"'Челябинская обл.'!$C$46","v":0},{"$f":"'Челябинская обл.'!$C$47","v":0},{"$f":"'Челябинская обл.'!$C$48","v":0},{"$f":"'Челябинская обл.'!$C$50","v":1081.3599999999999},{"$f":"'Челябинская обл.'!$C$51","v":1328.18},{"$f":"'Челябинская обл.'!$C$52","v":0},{"$f":"'Челябинская обл.'!$C$53","v":0},{"$f":"'Челябинская обл.'!$C$54","v":0},{"$f":"'Челябинская обл.'!$C$55","v":0},{"$f":"'Челябинская обл.'!$C$56","v":243.71}]
["10","ООО \"Тепловые электрические сети и системы\" (Еткульский м.р.)",null,{"$f":"'Челябинская обл.'!$C$7","v":"13,23"},{"$f":"'Челябинская обл.'!$C$10","v":1005.74},{"$f":"'Челябинская обл.'!$C$11","v":0},{"$f":"'Челябинская обл.'!$C$12","v":0},{"$f":"'Челябинская обл.'!$C$13","v":0},{"$f":"'Челябинская обл.'!$C$14","v":0},{"$f":"'Челябинская обл.'!$C$17","v":1987.75},{"$f":"'Челябинская обл.'!$C$18","v":0},{"$f":"'Челябинская обл.'!$C$19","v":0},{"$f":"'Челябинская обл.'!$C$20","v":0},{"$f":"'Челябинская обл.'!$C$21","v":0},{"$f":"'Челябинская обл.'!$C$23","v":1493.77},{"$f":"'Челябинская обл.'!$C$24","v":0},{"$f":"'Челябинская обл.'!$C$25","v":0},{"$f":"'Челябинская обл.'!$C$26","v":0},{"$f":"'Челябинская обл.'!$C$27","v":0},{"$f":"'Челябинская обл.'!$C$28","v":0},{"$f":"'Челябинская обл.'!$C$29","v":377.24},{"$f":"'Челябинская обл.'!$C$34","v":13.23},{"$f":"'Челябинская обл.'!$C$37","v":352.76},{"$f":"'Челябинская обл.'!$C$38","v":825.59},{"$f":"'Челябинская обл.'!$C$39","v":0},{"$f":"'Челябинская обл.'!$C$40","v":0},{"$f":"'Челябинская обл.'!$C$41","v":0},{"$f":"'Челябинская обл.'!$C$44","v":1142.9000000000001},{"$f":"'Челябинская обл.'!$C$45","v":1066.98},{"$f":"'Челябинская обл.'!$C$46","v":0},{"$f":"'Челябинская обл.'!$C$47","v":0},{"$f":"'Челябинская обл.'!$C$48","v":0},{"$f":"'Челябинская обл.'!$C$50","v":1081.3599999999999},{"$f":"'Челябинская обл.'!$C$51","v":1328.18},{"$f":"'Челябинская обл.'!$C$52","v":0},{"$f":"'Челябинская обл.'!$C$53","v":0},{"$f":"'Челябинская обл.'!$C$54","v":0},{"$f":"'Челябинская обл.'!$C$55","v":0},{"$f":"'Челябинская обл.'!$C$56","v":243.71}]
[11,"ООО \"Фермер 74\"",null,{"$f":"'Челябинская обл.'!$C$7","v":"13,23"},{"$f":"'Челябинская обл.'!$C$10","v":1005.74},{"$f":"'Челябинская обл.'!$C$11","v":0},{"$f":"'Челябинская обл.'!$C$12","v":0},{"$f":"'Челябинская обл.'!$C$13","v":0},{"$f":"'Челябинская обл.'!$C$14","v":0},{"$f":"'Челябинская обл.'!$C$17","v":1987.75},{"$f":"'Челябинская обл.'!$C$18","v":0},{"$f":"'Челябинская обл.'!$C$19","v":0},{"$f":"'Челябинская обл.'!$C$20","v":0},{"$f":"'Челябинская обл.'!$C$21","v":0},{"$f":"'Челябинская обл.'!$C$23","v":1493.77},{"$f":"'Челябинская обл.'!$C$24","v":0},{"$f":"'Челябинская обл.'!$C$25","v":0},{"$f":"'Челябинская обл.'!$C$26","v":0},{"$f":"'Челябинская обл.'!$C$27","v":0},{"$f":"'Челябинская обл.'!$C$28","v":0},{"$f":"'Челябинская обл.'!$C$29","v":377.24},{"$f":"'Челябинская обл.'!$C$34","v":13.23},{"$f":"'Челябинская обл.'!$C$37","v":352.76},{"$f":"'Челябинская обл.'!$C$38","v":825.59},{"$f":"'Челябинская обл.'!$C$39","v":0},{"$f":"'Челябинская обл.'!$C$40","v":0},{"$f":"'Челябинская обл.'!$C$41","v":0},{"$f":"'Челябинская обл.'!$C$44","v":1142.9000000000001},{"$f":"'Челябинская обл.'!$C$45","v":1066.98},{"$f":"'Челябинская обл.'!$C$46","v":0},{"$f":"'Челябинская обл.'!$C$47","v":0},{"$f":"'Челябинская обл.'!$C$48","v":0},{"$f":"'Челябинская обл.'!$C$50","v":1081.3599999999999},{"$f":"'Челябинская обл.'!$C$51","v":1328.18},{"$f":"'Челябинская обл.'!$C$52","v":0},{"$f":"'Челябинская обл.'!$C$53","v":0},{"$f":"'Челябинская обл.'!$C$54","v":0},{"$f":"'Челябинская обл.'!$C$55","v":0},{"$f":"'Челябинская обл.'!$C$56","v":243.71}]
[25,"Карталинский муниципальный район"]
["1","АО \"Челябоблкоммунэнерго\" (Челябинская область)",null,{"$f":"'Челябинская обл.'!$C$7","v":"13,23"},{"$f":"'Челябинская обл.'!$C$10","v":1005.74},{"$f":"'Челябинская обл.'!$C$11","v":0},{"$f":"'Челябинская обл.'!$C$12","v":0},{"$f":"'Челябинская обл.'!$C$13","v":0},{"$f":"'Челябинская обл.'!$C$14","v":0},{"$f":"'Челябинская обл.'!$C$17","v":1987.75},{"$f":"'Челябинская обл.'!$C$18","v":0},{"$f":"'Челябинская обл.'!$C$19","v":0},{"$f":"'Челябинская обл.'!$C$20","v":0},{"$f":"'Челябинская обл.'!$C$21","v":0},{"$f":"'Челябинская обл.'!$C$23","v":1493.77},{"$f":"'Челябинская обл.'!$C$24","v":0},{"$f":"'Челябинская обл.'!$C$25","v":0},{"$f":"'Челябинская обл.'!$C$26","v":0},{"$f":"'Челябинская обл.'!$C$27","v":0},{"$f":"'Челябинская обл.'!$C$28","v":0},{"$f":"'Челябинская обл.'!$C$29","v":377.24},{"$f":"'Челябинская обл.'!$C$34","v":13.23},{"$f":"'Челябинская обл.'!$C$37","v":352.76},{"$f":"'Челябинская обл.'!$C$38","v":825.59},{"$f":"'Челябинская обл.'!$C$39","v":0},{"$f":"'Челябинская обл.'!$C$40","v":0},{"$f":"'Челябинская обл.'!$C$41","v":0},{"$f":"'Челябинская обл.'!$C$44","v":1142.9000000000001},{"$f":"'Челябинская обл.'!$C$45","v":1066.98},{"$f":"'Челябинская обл.'!$C$46","v":0},{"$f":"'Челябинская обл.'!$C$47","v":0},{"$f":"'Челябинская обл.'!$C$48","v":0},{"$f":"'Челябинская обл.'!$C$50","v":1081.3599999999999},{"$f":"'Челябинская обл.'!$C$51","v":1328.18},{"$f":"'Челябинская обл.'!$C$52","v":0},{"$f":"'Челябинская обл.'!$C$53","v":0},{"$f":"'Челябинская обл.'!$C$54","v":0},{"$f":"'Челябинская обл.'!$C$55","v":0},{"$f":"'Челябинская обл.'!$C$56","v":243.71}]
["2","МУП  \"ЖКХ\" Еленинского сельского поселения",null,{"$f":"'Челябинская обл.'!$C$7","v":"13,23"},{"$f":"'Челябинская обл.'!$C$10","v":1005.74},{"$f":"'Челябинская обл.'!$C$11","v":0},{"$f":"'Челябинская обл.'!$C$12","v":0},{"$f":"'Челябинская обл.'!$C$13","v":0},{"$f":"'Челябинская обл.'!$C$14","v":0},{"$f":"'Челябинская обл.'!$C$17","v":1987.75},{"$f":"'Челябинская обл.'!$C$18","v":0},{"$f":"'Челябинская обл.'!$C$19","v":0},{"$f":"'Челябинская обл.'!$C$20","v":0},{"$f":"'Челябинская обл.'!$C$21","v":0},{"$f":"'Челябинская обл.'!$C$23","v":1493.77},{"$f":"'Челябинская обл.'!$C$24","v":0},{"$f":"'Челябинская обл.'!$C$25","v":0},{"$f":"'Челябинская обл.'!$C$26","v":0},{"$f":"'Челябинская обл.'!$C$27","v":0},{"$f":"'Челябинская обл.'!$C$28","v":0},{"$f":"'Челябинская обл.'!$C$29","v":377.24},{"$f":"'Челябинская обл.'!$C$34","v":13.23},{"$f":"'Челябинская обл.'!$C$37","v":352.76},{"$f":"'Челябинская обл.'!$C$38","v":825.59},{"$f":"'Челябинская обл.'!$C$39","v":0},{"$f":"'Челябинская обл.'!$C$40","v":0},{"$f":"'Челябинская обл.'!$C$41","v":0},{"$f":"'Челябинская обл.'!$C$44","v":1142.9000000000001},{"$f":"'Челябинская обл.'!$C$45","v":1066.98},{"$f":"'Челябинская обл.'!$C$46","v":0},{"$f":"'Челябинская обл.'!$C$47","v":0},{"$f":"'Челябинская обл.'!$C$48","v":0},{"$f":"'Челябинская обл.'!$C$50","v":1081.3599999999999},{"$f":"'Челябинская обл.'!$C$51","v":1328.18},{"$f":"'Челябинская обл.'!$C$52","v":0},{"$f":"'Челябинская обл.'!$C$53","v":0},{"$f":"'Челябинская обл.'!$C$54","v":0},{"$f":"'Челябинская обл.'!$C$55","v":0},{"$f":"'Челябинская обл.'!$C$56","v":243.71}]
["3","ОАО \"Новокаолиновый ГОК\"",null,{"$f":"'Челябинская обл.'!$C$7","v":"13,23"},{"$f":"'Челябинская обл.'!$C$10","v":1005.74},{"$f":"'Челябинская обл.'!$C$11","v":0},{"$f":"'Челябинская обл.'!$C$12","v":0},{"$f":"'Челябинская обл.'!$C$13","v":0},{"$f":"'Челябинская обл.'!$C$14","v":0},{"$f":"'Челябинская обл.'!$C$17","v":1987.75},{"$f":"'Челябинская обл.'!$C$18","v":0},{"$f":"'Челябинская обл.'!$C$19","v":0},{"$f":"'Челябинская обл.'!$C$20","v":0},{"$f":"'Челябинская обл.'!$C$21","v":0},{"$f":"'Челябинская обл.'!$C$23","v":1493.77},{"$f":"'Челябинская обл.'!$C$24","v":0},{"$f":"'Челябинская обл.'!$C$25","v":0},{"$f":"'Челябинская обл.'!$C$26","v":0},{"$f":"'Челябинская обл.'!$C$27","v":0},{"$f":"'Челябинская обл.'!$C$28","v":0},{"$f":"'Челябинская обл.'!$C$29","v":377.24},{"$f":"'Челябинская обл.'!$C$34","v":13.23},{"$f":"'Челябинская обл.'!$C$37","v":352.76},{"$f":"'Челябинская обл.'!$C$38","v":825.59},{"$f":"'Челябинская обл.'!$C$39","v":0},{"$f":"'Челябинская обл.'!$C$40","v":0},{"$f":"'Челябинская обл.'!$C$41","v":0},{"$f":"'Челябинская обл.'!$C$44","v":1142.9000000000001},{"$f":"'Челябинская обл.'!$C$45","v":1066.98},{"$f":"'Челябинская обл.'!$C$46","v":0},{"$f":"'Челябинская обл.'!$C$47","v":0},{"$f":"'Челябинская обл.'!$C$48","v":0},{"$f":"'Челябинская обл.'!$C$50","v":1081.3599999999999},{"$f":"'Челябинская обл.'!$C$51","v":1328.18},{"$f":"'Челябинская обл.'!$C$52","v":0},{"$f":"'Челябинская обл.'!$C$53","v":0},{"$f":"'Челябинская обл.'!$C$54","v":0},{"$f":"'Челябинская обл.'!$C$55","v":0},{"$f":"'Челябинская обл.'!$C$56","v":243.71}]
["4","ООО \"Домоуправление Локомотивного городского округа\"",null,{"$f":"'Челябинская обл.'!$C$7","v":"13,23"},{"$f":"'Челябинская обл.'!$C$10","v":1005.74},{"$f":"'Челябинская обл.'!$C$11","v":0},{"$f":"'Челябинская обл.'!$C$12","v":0},{"$f":"'Челябинская обл.'!$C$13","v":0},{"$f":"'Челябинская обл.'!$C$14","v":0},{"$f":"'Челябинская обл.'!$C$17","v":1987.75},{"$f":"'Челябинская обл.'!$C$18","v":0},{"$f":"'Челябинская обл.'!$C$19","v":0},{"$f":"'Челябинская обл.'!$C$20","v":0},{"$f":"'Челябинская обл.'!$C$21","v":0},{"$f":"'Челябинская обл.'!$C$23","v":1493.77},{"$f":"'Челябинская обл.'!$C$24","v":0},{"$f":"'Челябинская обл.'!$C$25","v":0},{"$f":"'Челябинская обл.'!$C$26","v":0},{"$f":"'Челябинская обл.'!$C$27","v":0},{"$f":"'Челябинская обл.'!$C$28","v":0},{"$f":"'Челябинская обл.'!$C$29","v":377.24},{"$f":"'Челябинская обл.'!$C$34","v":13.23},{"$f":"'Челябинская обл.'!$C$37","v":352.76},{"$f":"'Челябинская обл.'!$C$38","v":825.59},{"$f":"'Челябинская обл.'!$C$39","v":0},{"$f":"'Челябинская обл.'!$C$40","v":0},{"$f":"'Челябинская обл.'!$C$41","v":0},{"$f":"'Челябинская обл.'!$C$44","v":1142.9000000000001},{"$f":"'Челябинская обл.'!$C$45","v":1066.98},{"$f":"'Челябинская обл.'!$C$46","v":0},{"$f":"'Челябинская обл.'!$C$47","v":0},{"$f":"'Челябинская обл.'!$C$48","v":0},{"$f":"'Челябинская обл.'!$C$50","v":1081.3599999999999},{"$f":"'Челябинская обл.'!$C$51","v":1328.18},{"$f":"'Челябинская обл.'!$C$52","v":0},{"$f":"'Челябинская обл.'!$C$53","v":0},{"$f":"'Челябинская обл.'!$C$54","v":0},{"$f":"'Челябинская обл.'!$C$55","v":0},{"$f":"'Челябинская обл.'!$C$56","v":243.71}]
["5","ООО \"ЖКХ \"Гарант плюс\"",null,{"$f":"'Челябинская обл.'!$C$7","v":"13,23"},{"$f":"'Челябинская обл.'!$C$10","v":1005.74},{"$f":"'Челябинская обл.'!$C$11","v":0},{"$f":"'Челябинская обл.'!$C$12","v":0},{"$f":"'Челябинская обл.'!$C$13","v":0},{"$f":"'Челябинская обл.'!$C$14","v":0},{"$f":"'Челябинская обл.'!$C$17","v":1987.75},{"$f":"'Челябинская обл.'!$C$18","v":0},{"$f":"'Челябинская обл.'!$C$19","v":0},{"$f":"'Челябинская обл.'!$C$20","v":0},{"$f":"'Челябинская обл.'!$C$21","v":0},{"$f":"'Челябинская обл.'!$C$23","v":1493.77},{"$f":"'Челябинская обл.'!$C$24","v":0},{"$f":"'Челябинская обл.'!$C$25","v":0},{"$f":"'Челябинская обл.'!$C$26","v":0},{"$f":"'Челябинская обл.'!$C$27","v":0},{"$f":"'Челябинская обл.'!$C$28","v":0},{"$f":"'Челябинская обл.'!$C$29","v":377.24},{"$f":"'Челябинская обл.'!$C$34","v":13.23},{"$f":"'Челябинская обл.'!$C$37","v":352.76},{"$f":"'Челябинская обл.'!$C$38","v":825.59},{"$f":"'Челябинская обл.'!$C$39","v":0},{"$f":"'Челябинская обл.'!$C$40","v":0},{"$f":"'Челябинская обл.'!$C$41","v":0},{"$f":"'Челябинская обл.'!$C$44","v":1142.9000000000001},{"$f":"'Челябинская обл.'!$C$45","v":1066.98},{"$f":"'Челябинская обл.'!$C$46","v":0},{"$f":"'Челябинская обл.'!$C$47","v":0},{"$f":"'Челябинская обл.'!$C$48","v":0},{"$f":"'Челябинская обл.'!$C$50","v":1081.3599999999999},{"$f":"'Челябинская обл.'!$C$51","v":1328.18},{"$f":"'Челябинская обл.'!$C$52","v":0},{"$f":"'Челябинская обл.'!$C$53","v":0},{"$f":"'Челябинская обл.'!$C$54","v":0},{"$f":"'Челябинская обл.'!$C$55","v":0},{"$f":"'Челябинская обл.'!$C$56","v":243.71}]
["6","ООО \"ЖКХ \"Партнер\"",null,{"$f":"'Челябинская обл.'!$C$7","v":"13,23"},{"$f":"'Челябинская обл.'!$C$10","v":1005.74},{"$f":"'Челябинская обл.'!$C$11","v":0},{"$f":"'Челябинская обл.'!$C$12","v":0},{"$f":"'Челябинская обл.'!$C$13","v":0},{"$f":"'Челябинская обл.'!$C$14","v":0},{"$f":"'Челябинская обл.'!$C$17","v":1987.75},{"$f":"'Челябинская обл.'!$C$18","v":0},{"$f":"'Челябинская обл.'!$C$19","v":0},{"$f":"'Челябинская обл.'!$C$20","v":0},{"$f":"'Челябинская обл.'!$C$21","v":0},{"$f":"'Челябинская обл.'!$C$23","v":1493.77},{"$f":"'Челябинская обл.'!$C$24","v":0},{"$f":"'Челябинская обл.'!$C$25","v":0},{"$f":"'Челябинская обл.'!$C$26","v":0},{"$f":"'Челябинская обл.'!$C$27","v":0},{"$f":"'Челябинская обл.'!$C$28","v":0},{"$f":"'Челябинская обл.'!$C$29","v":377.24},{"$f":"'Челябинская обл.'!$C$34","v":13.23},{"$f":"'Челябинская обл.'!$C$37","v":352.76},{"$f":"'Челябинская обл.'!$C$38","v":825.59},{"$f":"'Челябинская обл.'!$C$39","v":0},{"$f":"'Челябинская обл.'!$C$40","v":0},{"$f":"'Челябинская обл.'!$C$41","v":0},{"$f":"'Челябинская обл.'!$C$44","v":1142.9000000000001},{"$f":"'Челябинская обл.'!$C$45","v":1066.98},{"$f":"'Челябинская обл.'!$C$46","v":0},{"$f":"'Челябинская обл.'!$C$47","v":0},{"$f":"'Челябинская обл.'!$C$48","v":0},{"$f":"'Челябинская обл.'!$C$50","v":1081.3599999999999},{"$f":"'Челябинская обл.'!$C$51","v":1328.18},{"$f":"'Челябинская обл.'!$C$52","v":0},{"$f":"'Челябинская обл.'!$C$53","v":0},{"$f":"'Челябинская обл.'!$C$54","v":0},{"$f":"'Челябинская обл.'!$C$55","v":0},{"$f":"'Челябинская обл.'!$C$56","v":243.71}]
["7","ООО \"Карталинский элеватор\"",null,{"$f":"'Челябинская обл.'!$C$7","v":"13,23"},{"$f":"'Челябинская обл.'!$C$10","v":1005.74},{"$f":"'Челябинская обл.'!$C$11","v":0},{"$f":"'Челябинская обл.'!$C$12","v":0},{"$f":"'Челябинская обл.'!$C$13","v":0},{"$f":"'Челябинская обл.'!$C$14","v":0},{"$f":"'Челябинская обл.'!$C$17","v":1987.75},{"$f":"'Челябинская обл.'!$C$18","v":0},{"$f":"'Челябинская обл.'!$C$19","v":0},{"$f":"'Челябинская обл.'!$C$20","v":0},{"$f":"'Челябинская обл.'!$C$21","v":0},{"$f":"'Челябинская обл.'!$C$23","v":1493.77},{"$f":"'Челябинская обл.'!$C$24","v":0},{"$f":"'Челябинская обл.'!$C$25","v":0},{"$f":"'Челябинская обл.'!$C$26","v":0},{"$f":"'Челябинская обл.'!$C$27","v":0},{"$f":"'Челябинская обл.'!$C$28","v":0},{"$f":"'Челябинская обл.'!$C$29","v":377.24},{"$f":"'Челябинская обл.'!$C$34","v":13.23},{"$f":"'Челябинская обл.'!$C$37","v":352.76},{"$f":"'Челябинская обл.'!$C$38","v":825.59},{"$f":"'Челябинская обл.'!$C$39","v":0},{"$f":"'Челябинская обл.'!$C$40","v":0},{"$f":"'Челябинская обл.'!$C$41","v":0},{"$f":"'Челябинская обл.'!$C$44","v":1142.9000000000001},{"$f":"'Челябинская обл.'!$C$45","v":1066.98},{"$f":"'Челябинская обл.'!$C$46","v":0},{"$f":"'Челябинская обл.'!$C$47","v":0},{"$f":"'Челябинская обл.'!$C$48","v":0},{"$f":"'Челябинская обл.'!$C$50","v":1081.3599999999999},{"$f":"'Челябинская обл.'!$C$51","v":1328.18},{"$f":"'Челябинская обл.'!$C$52","v":0},{"$f":"'Челябинская обл.'!$C$53","v":0},{"$f":"'Челябинская обл.'!$C$54","v":0},{"$f":"'Челябинская обл.'!$C$55","v":0},{"$f":"'Челябинская обл.'!$C$56","v":243.71}]
["8","ФГКУ комбинат \"Скала\" Росрезерва",null,{"$f":"'Челябинская обл.'!$C$7","v":"13,23"},{"$f":"'Челябинская обл.'!$C$10","v":1005.74},{"$f":"'Челябинская обл.'!$C$11","v":0},{"$f":"'Челябинская обл.'!$C$12","v":0},{"$f":"'Челябинская обл.'!$C$13","v":0},{"$f":"'Челябинская обл.'!$C$14","v":0},{"$f":"'Челябинская обл.'!$C$17","v":1987.75},{"$f":"'Челябинская обл.'!$C$18","v":0},{"$f":"'Челябинская обл.'!$C$19","v":0},{"$f":"'Челябинская обл.'!$C$20","v":0},{"$f":"'Челябинская обл.'!$C$21","v":0},{"$f":"'Челябинская обл.'!$C$23","v":1493.77},{"$f":"'Челябинская обл.'!$C$24","v":0},{"$f":"'Челябинская обл.'!$C$25","v":0},{"$f":"'Челябинская обл.'!$C$26","v":0},{"$f":"'Челябинская обл.'!$C$27","v":0},{"$f":"'Челябинская обл.'!$C$28","v":0},{"$f":"'Челябинская обл.'!$C$29","v":377.24},{"$f":"'Челябинская обл.'!$C$34","v":13.23},{"$f":"'Челябинская обл.'!$C$37","v":352.76},{"$f":"'Челябинская обл.'!$C$38","v":825.59},{"$f":"'Челябинская обл.'!$C$39","v":0},{"$f":"'Челябинская обл.'!$C$40","v":0},{"$f":"'Челябинская обл.'!$C$41","v":0},{"$f":"'Челябинская обл.'!$C$44","v":1142.9000000000001},{"$f":"'Челябинская обл.'!$C$45","v":1066.98},{"$f":"'Челябинская обл.'!$C$46","v":0},{"$f":"'Челябинская обл.'!$C$47","v":0},{"$f":"'Челябинская обл.'!$C$48","v":0},{"$f":"'Челябинская обл.'!$C$50","v":1081.3599999999999},{"$f":"'Челябинская обл.'!$C$51","v":1328.18},{"$f":"'Челябинская обл.'!$C$52","v":0},{"$f":"'Челябинская обл.'!$C$53","v":0},{"$f":"'Челябинская обл.'!$C$54","v":0},{"$f":"'Челябинская обл.'!$C$55","v":0},{"$f":"'Челябинская обл.'!$C$56","v":243.71}]
["9","Федеральное государственное казенное учреждение  \"Пограничное управление ФСБ России по Челябинской области\" (Карталинский м.р.)",null,{"$f":"'Челябинская обл.'!$C$7","v":"13,23"},{"$f":"'Челябинская обл.'!$C$10","v":1005.74},{"$f":"'Челябинская обл.'!$C$11","v":0},{"$f":"'Челябинская обл.'!$C$12","v":0},{"$f":"'Челябинская обл.'!$C$13","v":0},{"$f":"'Челябинская обл.'!$C$14","v":0},{"$f":"'Челябинская обл.'!$C$17","v":1987.75},{"$f":"'Челябинская обл.'!$C$18","v":0},{"$f":"'Челябинская обл.'!$C$19","v":0},{"$f":"'Челябинская обл.'!$C$20","v":0},{"$f":"'Челябинская обл.'!$C$21","v":0},{"$f":"'Челябинская обл.'!$C$23","v":1493.77},{"$f":"'Челябинская обл.'!$C$24","v":0},{"$f":"'Челябинская обл.'!$C$25","v":0},{"$f":"'Челябинская обл.'!$C$26","v":0},{"$f":"'Челябинская обл.'!$C$27","v":0},{"$f":"'Челябинская обл.'!$C$28","v":0},{"$f":"'Челябинская обл.'!$C$29","v":377.24},{"$f":"'Челябинская обл.'!$C$34","v":13.23},{"$f":"'Челябинская обл.'!$C$37","v":352.76},{"$f":"'Челябинская обл.'!$C$38","v":825.59},{"$f":"'Челябинская обл.'!$C$39","v":0},{"$f":"'Челябинская обл.'!$C$40","v":0},{"$f":"'Челябинская обл.'!$C$41","v":0},{"$f":"'Челябинская обл.'!$C$44","v":1142.9000000000001},{"$f":"'Челябинская обл.'!$C$45","v":1066.98},{"$f":"'Челябинская обл.'!$C$46","v":0},{"$f":"'Челябинская обл.'!$C$47","v":0},{"$f":"'Челябинская обл.'!$C$48","v":0},{"$f":"'Челябинская обл.'!$C$50","v":1081.3599999999999},{"$f":"'Челябинская обл.'!$C$51","v":1328.18},{"$f":"'Челябинская обл.'!$C$52","v":0},{"$f":"'Челябинская обл.'!$C$53","v":0},{"$f":"'Челябинская обл.'!$C$54","v":0},{"$f":"'Челябинская обл.'!$C$55","v":0},{"$f":"'Челябинская обл.'!$C$56","v":243.71}]
[10,"Южно-Уральская дирекция по тепловодоснабжению - структурное подразделение Центральной дирекции по тепловодоснабжению - филиала ОАО \"РЖД\" (Карталинский м.р.)",null,{"$f":"'Челябинская обл.'!$C$7","v":"13,23"},{"$f":"'Челябинская обл.'!$C$10","v":1005.74},{"$f":"'Челябинская обл.'!$C$11","v":0},{"$f":"'Челябинская обл.'!$C$12","v":0},{"$f":"'Челябинская обл.'!$C$13","v":0},{"$f":"'Челябинская обл.'!$C$14","v":0},{"$f":"'Челябинская обл.'!$C$17","v":1987.75},{"$f":"'Челябинская обл.'!$C$18","v":0},{"$f":"'Челябинская обл.'!$C$19","v":0},{"$f":"'Челябинская обл.'!$C$20","v":0},{"$f":"'Челябинская обл.'!$C$21","v":0},{"$f":"'Челябинская обл.'!$C$23","v":1493.77},{"$f":"'Челябинская обл.'!$C$24","v":0},{"$f":"'Челябинская обл.'!$C$25","v":0},{"$f":"'Челябинская обл.'!$C$26","v":0},{"$f":"'Челябинская обл.'!$C$27","v":0},{"$f":"'Челябинская обл.'!$C$28","v":0},{"$f":"'Челябинская обл.'!$C$29","v":377.24},{"$f":"'Челябинская обл.'!$C$34","v":13.23},{"$f":"'Челябинская обл.'!$C$37","v":352.76},{"$f":"'Челябинская обл.'!$C$38","v":825.59},{"$f":"'Челябинская обл.'!$C$39","v":0},{"$f":"'Челябинская обл.'!$C$40","v":0},{"$f":"'Челябинская обл.'!$C$41","v":0},{"$f":"'Челябинская обл.'!$C$44","v":1142.9000000000001},{"$f":"'Челябинская обл.'!$C$45","v":1066.98},{"$f":"'Челябинская обл.'!$C$46","v":0},{"$f":"'Челябинская обл.'!$C$47","v":0},{"$f":"'Челябинская обл.'!$C$48","v":0},{"$f":"'Челябинская обл.'!$C$50","v":1081.3599999999999},{"$f":"'Челябинская обл.'!$C$51","v":1328.18},{"$f":"'Челябинская обл.'!$C$52","v":0},{"$f":"'Челябинская обл.'!$C$53","v":0},{"$f":"'Челябинская обл.'!$C$54","v":0},{"$f":"'Челябинская обл.'!$C$55","v":0},{"$f":"'Челябинская обл.'!$C$56","v":243.71}]
[26,"Каслинский муниципальный район"]
["1","МУП \"БЖЭК\"",null,{"$f":"'Челябинская обл.'!$C$7","v":"13,23"},{"$f":"'Челябинская обл.'!$C$10","v":1005.74},{"$f":"'Челябинская обл.'!$C$11","v":0},{"$f":"'Челябинская обл.'!$C$12","v":0},{"$f":"'Челябинская обл.'!$C$13","v":0},{"$f":"'Челябинская обл.'!$C$14","v":0},{"$f":"'Челябинская обл.'!$C$17","v":1987.75},{"$f":"'Челябинская обл.'!$C$18","v":0},{"$f":"'Челябинская обл.'!$C$19","v":0},{"$f":"'Челябинская обл.'!$C$20","v":0},{"$f":"'Челябинская обл.'!$C$21","v":0},{"$f":"'Челябинская обл.'!$C$23","v":1493.77},{"$f":"'Челябинская обл.'!$C$24","v":0},{"$f":"'Челябинская обл.'!$C$25","v":0},{"$f":"'Челябинская обл.'!$C$26","v":0},{"$f":"'Челябинская обл.'!$C$27","v":0},{"$f":"'Челябинская обл.'!$C$28","v":0},{"$f":"'Челябинская обл.'!$C$29","v":377.24},{"$f":"'Челябинская обл.'!$C$34","v":13.23},{"$f":"'Челябинская обл.'!$C$37","v":352.76},{"$f":"'Челябинская обл.'!$C$38","v":825.59},{"$f":"'Челябинская обл.'!$C$39","v":0},{"$f":"'Челябинская обл.'!$C$40","v":0},{"$f":"'Челябинская обл.'!$C$41","v":0},{"$f":"'Челябинская обл.'!$C$44","v":1142.9000000000001},{"$f":"'Челябинская обл.'!$C$45","v":1066.98},{"$f":"'Челябинская обл.'!$C$46","v":0},{"$f":"'Челябинская обл.'!$C$47","v":0},{"$f":"'Челябинская обл.'!$C$48","v":0},{"$f":"'Челябинская обл.'!$C$50","v":1081.3599999999999},{"$f":"'Челябинская обл.'!$C$51","v":1328.18},{"$f":"'Челябинская обл.'!$C$52","v":0},{"$f":"'Челябинская обл.'!$C$53","v":0},{"$f":"'Челябинская обл.'!$C$54","v":0},{"$f":"'Челябинская обл.'!$C$55","v":0},{"$f":"'Челябинская обл.'!$C$56","v":243.71}]
["2","АО \"Вишневогорский ГОК\"",null,{"$f":"'Челябинская обл.'!$C$7","v":"13,23"},{"$f":"'Челябинская обл.'!$C$10","v":1005.74},{"$f":"'Челябинская обл.'!$C$11","v":0},{"$f":"'Челябинская обл.'!$C$12","v":0},{"$f":"'Челябинская обл.'!$C$13","v":0},{"$f":"'Челябинская обл.'!$C$14","v":0},{"$f":"'Челябинская обл.'!$C$17","v":1987.75},{"$f":"'Челябинская обл.'!$C$18","v":0},{"$f":"'Челябинская обл.'!$C$19","v":0},{"$f":"'Челябинская обл.'!$C$20","v":0},{"$f":"'Челябинская обл.'!$C$21","v":0},{"$f":"'Челябинская обл.'!$C$23","v":1493.77},{"$f":"'Челябинская обл.'!$C$24","v":0},{"$f":"'Челябинская обл.'!$C$25","v":0},{"$f":"'Челябинская обл.'!$C$26","v":0},{"$f":"'Челябинская обл.'!$C$27","v":0},{"$f":"'Челябинская обл.'!$C$28","v":0},{"$f":"'Челябинская обл.'!$C$29","v":377.24},{"$f":"'Челябинская обл.'!$C$34","v":13.23},{"$f":"'Челябинская обл.'!$C$37","v":352.76},{"$f":"'Челябинская обл.'!$C$38","v":825.59},{"$f":"'Челябинская обл.'!$C$39","v":0},{"$f":"'Челябинская обл.'!$C$40","v":0},{"$f":"'Челябинская обл.'!$C$41","v":0},{"$f":"'Челябинская обл.'!$C$44","v":1142.9000000000001},{"$f":"'Челябинская обл.'!$C$45","v":1066.98},{"$f":"'Челябинская обл.'!$C$46","v":0},{"$f":"'Челябинская обл.'!$C$47","v":0},{"$f":"'Челябинская обл.'!$C$48","v":0},{"$f":"'Челябинская обл.'!$C$50","v":1081.3599999999999},{"$f":"'Челябинская обл.'!$C$51","v":1328.18},{"$f":"'Челябинская обл.'!$C$52","v":0},{"$f":"'Челябинская обл.'!$C$53","v":0},{"$f":"'Челябинская обл.'!$C$54","v":0},{"$f":"'Челябинская обл.'!$C$55","v":0},{"$f":"'Челябинская обл.'!$C$56","v":243.71}]
["3","АО \"Челябоблкоммунэнерго\" (Челябинская область)",null,{"$f":"'Челябинская обл.'!$C$7","v":"13,23"},{"$f":"'Челябинская обл.'!$C$10","v":1005.74},{"$f":"'Челябинская обл.'!$C$11","v":0},{"$f":"'Челябинская обл.'!$C$12","v":0},{"$f":"'Челябинская обл.'!$C$13","v":0},{"$f":"'Челябинская обл.'!$C$14","v":0},{"$f":"'Челябинская обл.'!$C$17","v":1987.75},{"$f":"'Челябинская обл.'!$C$18","v":0},{"$f":"'Челябинская обл.'!$C$19","v":0},{"$f":"'Челябинская обл.'!$C$20","v":0},{"$f":"'Челябинская обл.'!$C$21","v":0},{"$f":"'Челябинская обл.'!$C$23","v":1493.77},{"$f":"'Челябинская обл.'!$C$24","v":0},{"$f":"'Челябинская обл.'!$C$25","v":0},{"$f":"'Челябинская обл.'!$C$26","v":0},{"$f":"'Челябинская обл.'!$C$27","v":0},{"$f":"'Челябинская обл.'!$C$28","v":0},{"$f":"'Челябинская обл.'!$C$29","v":377.24},{"$f":"'Челябинская обл.'!$C$34","v":13.23},{"$f":"'Челябинская обл.'!$C$37","v":352.76},{"$f":"'Челябинская обл.'!$C$38","v":825.59},{"$f":"'Челябинская обл.'!$C$39","v":0},{"$f":"'Челябинская обл.'!$C$40","v":0},{"$f":"'Челябинская обл.'!$C$41","v":0},{"$f":"'Челябинская обл.'!$C$44","v":1142.9000000000001},{"$f":"'Челябинская обл.'!$C$45","v":1066.98},{"$f":"'Челябинская обл.'!$C$46","v":0},{"$f":"'Челябинская обл.'!$C$47","v":0},{"$f":"'Челябинская обл.'!$C$48","v":0},{"$f":"'Челябинская обл.'!$C$50","v":1081.3599999999999},{"$f":"'Челябинская обл.'!$C$51","v":1328.18},{"$f":"'Челябинская обл.'!$C$52","v":0},{"$f":"'Челябинская обл.'!$C$53","v":0},{"$f":"'Челябинская обл.'!$C$54","v":0},{"$f":"'Челябинская обл.'!$C$55","v":0},{"$f":"'Челябинская обл.'!$C$56","v":243.71}]
["4","МУП \"Булзинский ЭУЖКХ\"",null,{"$f":"'Челябинская обл.'!$C$7","v":"13,23"},{"$f":"'Челябинская обл.'!$C$10","v":1005.74},{"$f":"'Челябинская обл.'!$C$11","v":0},{"$f":"'Челябинская обл.'!$C$12","v":0},{"$f":"'Челябинская обл.'!$C$13","v":0},{"$f":"'Челябинская обл.'!$C$14","v":0},{"$f":"'Челябинская обл.'!$C$17","v":1987.75},{"$f":"'Челябинская обл.'!$C$18","v":0},{"$f":"'Челябинская обл.'!$C$19","v":0},{"$f":"'Челябинская обл.'!$C$20","v":0},{"$f":"'Челябинская обл.'!$C$21","v":0},{"$f":"'Челябинская обл.'!$C$23","v":1493.77},{"$f":"'Челябинская обл.'!$C$24","v":0},{"$f":"'Челябинская обл.'!$C$25","v":0},{"$f":"'Челябинская обл.'!$C$26","v":0},{"$f":"'Челябинская обл.'!$C$27","v":0},{"$f":"'Челябинская обл.'!$C$28","v":0},{"$f":"'Челябинская обл.'!$C$29","v":377.24},{"$f":"'Челябинская обл.'!$C$34","v":13.23},{"$f":"'Челябинская обл.'!$C$37","v":352.76},{"$f":"'Челябинская обл.'!$C$38","v":825.59},{"$f":"'Челябинская обл.'!$C$39","v":0},{"$f":"'Челябинская обл.'!$C$40","v":0},{"$f":"'Челябинская обл.'!$C$41","v":0},{"$f":"'Челябинская обл.'!$C$44","v":1142.9000000000001},{"$f":"'Челябинская обл.'!$C$45","v":1066.98},{"$f":"'Челябинская обл.'!$C$46","v":0},{"$f":"'Челябинская обл.'!$C$47","v":0},{"$f":"'Челябинская обл.'!$C$48","v":0},{"$f":"'Челябинская обл.'!$C$50","v":1081.3599999999999},{"$f":"'Челябинская обл.'!$C$51","v":1328.18},{"$f":"'Челябинская обл.'!$C$52","v":0},{"$f":"'Челябинская обл.'!$C$53","v":0},{"$f":"'Челябинская обл.'!$C$54","v":0},{"$f":"'Челябинская обл.'!$C$55","v":0},{"$f":"'Челябинская обл.'!$C$56","v":243.71}]
["5","МУП \"Каслинский хлебозавод\"",null,{"$f":"'Челябинская обл.'!$C$7","v":"13,23"},{"$f":"'Челябинская обл.'!$C$10","v":1005.74},{"$f":"'Челябинская обл.'!$C$11","v":0},{"$f":"'Челябинская обл.'!$C$12","v":0},{"$f":"'Челябинская обл.'!$C$13","v":0},{"$f":"'Челябинская обл.'!$C$14","v":0},{"$f":"'Челябинская обл.'!$C$17","v":1987.75},{"$f":"'Челябинская обл.'!$C$18","v":0},{"$f":"'Челябинская обл.'!$C$19","v":0},{"$f":"'Челябинская обл.'!$C$20","v":0},{"$f":"'Челябинская обл.'!$C$21","v":0},{"$f":"'Челябинская обл.'!$C$23","v":1493.77},{"$f":"'Челябинская обл.'!$C$24","v":0},{"$f":"'Челябинская обл.'!$C$25","v":0},{"$f":"'Челябинская обл.'!$C$26","v":0},{"$f":"'Челябинская обл.'!$C$27","v":0},{"$f":"'Челябинская обл.'!$C$28","v":0},{"$f":"'Челябинская обл.'!$C$29","v":377.24},{"$f":"'Челябинская обл.'!$C$34","v":13.23},{"$f":"'Челябинская обл.'!$C$37","v":352.76},{"$f":"'Челябинская обл.'!$C$38","v":825.59},{"$f":"'Челябинская обл.'!$C$39","v":0},{"$f":"'Челябинская обл.'!$C$40","v":0},{"$f":"'Челябинская обл.'!$C$41","v":0},{"$f":"'Челябинская обл.'!$C$44","v":1142.9000000000001},{"$f":"'Челябинская обл.'!$C$45","v":1066.98},{"$f":"'Челябинская обл.'!$C$46","v":0},{"$f":"'Челябинская обл.'!$C$47","v":0},{"$f":"'Челябинская обл.'!$C$48","v":0},{"$f":"'Челябинская обл.'!$C$50","v":1081.3599999999999},{"$f":"'Челябинская обл.'!$C$51","v":1328.18},{"$f":"'Челябинская обл.'!$C$52","v":0},{"$f":"'Челябинская обл.'!$C$53","v":0},{"$f":"'Челябинская обл.'!$C$54","v":0},{"$f":"'Челябинская обл.'!$C$55","v":0},{"$f":"'Челябинская обл.'!$C$56","v":243.71}]
["6","МУП ЖКХ \"Шабурово\"",null,{"$f":"'Челябинская обл.'!$C$7","v":"13,23"},{"$f":"'Челябинская обл.'!$C$10","v":1005.74},{"$f":"'Челябинская обл.'!$C$11","v":0},{"$f":"'Челябинская обл.'!$C$12","v":0},{"$f":"'Челябинская обл.'!$C$13","v":0},{"$f":"'Челябинская обл.'!$C$14","v":0},{"$f":"'Челябинская обл.'!$C$17","v":1987.75},{"$f":"'Челябинская обл.'!$C$18","v":0},{"$f":"'Челябинская обл.'!$C$19","v":0},{"$f":"'Челябинская обл.'!$C$20","v":0},{"$f":"'Челябинская обл.'!$C$21","v":0},{"$f":"'Челябинская обл.'!$C$23","v":1493.77},{"$f":"'Челябинская обл.'!$C$24","v":0},{"$f":"'Челябинская обл.'!$C$25","v":0},{"$f":"'Челябинская обл.'!$C$26","v":0},{"$f":"'Челябинская обл.'!$C$27","v":0},{"$f":"'Челябинская обл.'!$C$28","v":0},{"$f":"'Челябинская обл.'!$C$29","v":377.24},{"$f":"'Челябинская обл.'!$C$34","v":13.23},{"$f":"'Челябинская обл.'!$C$37","v":352.76},{"$f":"'Челябинская обл.'!$C$38","v":825.59},{"$f":"'Челябинская обл.'!$C$39","v":0},{"$f":"'Челябинская обл.'!$C$40","v":0},{"$f":"'Челябинская обл.'!$C$41","v":0},{"$f":"'Челябинская обл.'!$C$44","v":1142.9000000000001},{"$f":"'Челябинская обл.'!$C$45","v":1066.98},{"$f":"'Челябинская обл.'!$C$46","v":0},{"$f":"'Челябинская обл.'!$C$47","v":0},{"$f":"'Челябинская обл.'!$C$48","v":0},{"$f":"'Челябинская обл.'!$C$50","v":1081.3599999999999},{"$f":"'Челябинская обл.'!$C$51","v":1328.18},{"$f":"'Челябинская обл.'!$C$52","v":0},{"$f":"'Челябинская обл.'!$C$53","v":0},{"$f":"'Челябинская обл.'!$C$54","v":0},{"$f":"'Челябинская обл.'!$C$55","v":0},{"$f":"'Челябинская обл.'!$C$56","v":243.71}]
["7","ООО \"Тепловые электрические сети и системы\" (Каслинский м.р.)",null,{"$f":"'Челябинская обл.'!$C$7","v":"13,23"},{"$f":"'Челябинская обл.'!$C$10","v":1005.74},{"$f":"'Челябинская обл.'!$C$11","v":0},{"$f":"'Челябинская обл.'!$C$12","v":0},{"$f":"'Челябинская обл.'!$C$13","v":0},{"$f":"'Челябинская обл.'!$C$14","v":0},{"$f":"'Челябинская обл.'!$C$17","v":1987.75},{"$f":"'Челябинская обл.'!$C$18","v":0},{"$f":"'Челябинская обл.'!$C$19","v":0},{"$f":"'Челябинская обл.'!$C$20","v":0},{"$f":"'Челябинская обл.'!$C$21","v":0},{"$f":"'Челябинская обл.'!$C$23","v":1493.77},{"$f":"'Челябинская обл.'!$C$24","v":0},{"$f":"'Челябинская обл.'!$C$25","v":0},{"$f":"'Челябинская обл.'!$C$26","v":0},{"$f":"'Челябинская обл.'!$C$27","v":0},{"$f":"'Челябинская обл.'!$C$28","v":0},{"$f":"'Челябинская обл.'!$C$29","v":377.24},{"$f":"'Челябинская обл.'!$C$34","v":13.23},{"$f":"'Челябинская обл.'!$C$37","v":352.76},{"$f":"'Челябинская обл.'!$C$38","v":825.59},{"$f":"'Челябинская обл.'!$C$39","v":0},{"$f":"'Челябинская обл.'!$C$40","v":0},{"$f":"'Челябинская обл.'!$C$41","v":0},{"$f":"'Челябинская обл.'!$C$44","v":1142.9000000000001},{"$f":"'Челябинская обл.'!$C$45","v":1066.98},{"$f":"'Челябинская обл.'!$C$46","v":0},{"$f":"'Челябинская обл.'!$C$47","v":0},{"$f":"'Челябинская обл.'!$C$48","v":0},{"$f":"'Челябинская обл.'!$C$50","v":1081.3599999999999},{"$f":"'Челябинская обл.'!$C$51","v":1328.18},{"$f":"'Челябинская обл.'!$C$52","v":0},{"$f":"'Челябинская обл.'!$C$53","v":0},{"$f":"'Челябинская обл.'!$C$54","v":0},{"$f":"'Челябинская обл.'!$C$55","v":0},{"$f":"'Челябинская обл.'!$C$56","v":243.71}]
["8","ООО «Перспектива» (Каслинский м.р.)",null,{"$f":"'Челябинская обл.'!$C$7","v":"13,23"},{"$f":"'Челябинская обл.'!$C$10","v":1005.74},{"$f":"'Челябинская обл.'!$C$11","v":0},{"$f":"'Челябинская обл.'!$C$12","v":0},{"$f":"'Челябинская обл.'!$C$13","v":0},{"$f":"'Челябинская обл.'!$C$14","v":0},{"$f":"'Челябинская обл.'!$C$17","v":1987.75},{"$f":"'Челябинская обл.'!$C$18","v":0},{"$f":"'Челябинская обл.'!$C$19","v":0},{"$f":"'Челябинская обл.'!$C$20","v":0},{"$f":"'Челябинская обл.'!$C$21","v":0},{"$f":"'Челябинская обл.'!$C$23","v":1493.77},{"$f":"'Челябинская обл.'!$C$24","v":0},{"$f":"'Челябинская обл.'!$C$25","v":0},{"$f":"'Челябинская обл.'!$C$26","v":0},{"$f":"'Челябинская обл.'!$C$27","v":0},{"$f":"'Челябинская обл.'!$C$28","v":0},{"$f":"'Челябинская обл.'!$C$29","v":377.24},{"$f":"'Челябинская обл.'!$C$34","v":13.23},{"$f":"'Челябинская обл.'!$C$37","v":352.76},{"$f":"'Челябинская обл.'!$C$38","v":825.59},{"$f":"'Челябинская обл.'!$C$39","v":0},{"$f":"'Челябинская обл.'!$C$40","v":0},{"$f":"'Челябинская обл.'!$C$41","v":0},{"$f":"'Челябинская обл.'!$C$44","v":1142.9000000000001},{"$f":"'Челябинская обл.'!$C$45","v":1066.98},{"$f":"'Челябинская обл.'!$C$46","v":0},{"$f":"'Челябинская обл.'!$C$47","v":0},{"$f":"'Челябинская обл.'!$C$48","v":0},{"$f":"'Челябинская обл.'!$C$50","v":1081.3599999999999},{"$f":"'Челябинская обл.'!$C$51","v":1328.18},{"$f":"'Челябинская обл.'!$C$52","v":0},{"$f":"'Челябинская обл.'!$C$53","v":0},{"$f":"'Челябинская обл.'!$C$54","v":0},{"$f":"'Челябинская обл.'!$C$55","v":0},{"$f":"'Челябинская обл.'!$C$56","v":243.71}]
[9,"ФКУ ИК - 21 ГУФСИН России по Челябинской области (Каслинский м.р.)",null,{"$f":"'Челябинская обл.'!$C$7","v":"13,23"},{"$f":"'Челябинская обл.'!$C$10","v":1005.74},{"$f":"'Челябинская обл.'!$C$11","v":0},{"$f":"'Челябинская обл.'!$C$12","v":0},{"$f":"'Челябинская обл.'!$C$13","v":0},{"$f":"'Челябинская обл.'!$C$14","v":0},{"$f":"'Челябинская обл.'!$C$17","v":1987.75},{"$f":"'Челябинская обл.'!$C$18","v":0},{"$f":"'Челябинская обл.'!$C$19","v":0},{"$f":"'Челябинская обл.'!$C$20","v":0},{"$f":"'Челябинская обл.'!$C$21","v":0},{"$f":"'Челябинская обл.'!$C$23","v":1493.77},{"$f":"'Челябинская обл.'!$C$24","v":0},{"$f":"'Челябинская обл.'!$C$25","v":0},{"$f":"'Челябинская обл.'!$C$26","v":0},{"$f":"'Челябинская обл.'!$C$27","v":0},{"$f":"'Челябинская обл.'!$C$28","v":0},{"$f":"'Челябинская обл.'!$C$29","v":377.24},{"$f":"'Челябинская обл.'!$C$34","v":13.23},{"$f":"'Челябинская обл.'!$C$37","v":352.76},{"$f":"'Челябинская обл.'!$C$38","v":825.59},{"$f":"'Челябинская обл.'!$C$39","v":0},{"$f":"'Челябинская обл.'!$C$40","v":0},{"$f":"'Челябинская обл.'!$C$41","v":0},{"$f":"'Челябинская обл.'!$C$44","v":1142.9000000000001},{"$f":"'Челябинская обл.'!$C$45","v":1066.98},{"$f":"'Челябинская обл.'!$C$46","v":0},{"$f":"'Челябинская обл.'!$C$47","v":0},{"$f":"'Челябинская обл.'!$C$48","v":0},{"$f":"'Челябинская обл.'!$C$50","v":1081.3599999999999},{"$f":"'Челябинская обл.'!$C$51","v":1328.18},{"$f":"'Челябинская обл.'!$C$52","v":0},{"$f":"'Челябинская обл.'!$C$53","v":0},{"$f":"'Челябинская обл.'!$C$54","v":0},{"$f":"'Челябинская обл.'!$C$55","v":0},{"$f":"'Челябинская обл.'!$C$56","v":243.71}]
["27","Катав-Ивановский муниципальный район"]
["1","ЗАО \"Катавский цемент\"",null,{"$f":"'Челябинская обл.'!$C$7","v":"13,23"},{"$f":"'Челябинская обл.'!$C$10","v":1005.74},{"$f":"'Челябинская обл.'!$C$11","v":0},{"$f":"'Челябинская обл.'!$C$12","v":0},{"$f":"'Челябинская обл.'!$C$13","v":0},{"$f":"'Челябинская обл.'!$C$14","v":0},{"$f":"'Челябинская обл.'!$C$17","v":1987.75},{"$f":"'Челябинская обл.'!$C$18","v":0},{"$f":"'Челябинская обл.'!$C$19","v":0},{"$f":"'Челябинская обл.'!$C$20","v":0},{"$f":"'Челябинская обл.'!$C$21","v":0},{"$f":"'Челябинская обл.'!$C$23","v":1493.77},{"$f":"'Челябинская обл.'!$C$24","v":0},{"$f":"'Челябинская обл.'!$C$25","v":0},{"$f":"'Челябинская обл.'!$C$26","v":0},{"$f":"'Челябинская обл.'!$C$27","v":0},{"$f":"'Челябинская обл.'!$C$28","v":0},{"$f":"'Челябинская обл.'!$C$29","v":377.24},{"$f":"'Челябинская обл.'!$C$34","v":13.23},{"$f":"'Челябинская обл.'!$C$37","v":352.76},{"$f":"'Челябинская обл.'!$C$38","v":825.59},{"$f":"'Челябинская обл.'!$C$39","v":0},{"$f":"'Челябинская обл.'!$C$40","v":0},{"$f":"'Челябинская обл.'!$C$41","v":0},{"$f":"'Челябинская обл.'!$C$44","v":1142.9000000000001},{"$f":"'Челябинская обл.'!$C$45","v":1066.98},{"$f":"'Челябинская обл.'!$C$46","v":0},{"$f":"'Челябинская обл.'!$C$47","v":0},{"$f":"'Челябинская обл.'!$C$48","v":0},{"$f":"'Челябинская обл.'!$C$50","v":1081.3599999999999},{"$f":"'Челябинская обл.'!$C$51","v":1328.18},{"$f":"'Челябинская обл.'!$C$52","v":0},{"$f":"'Челябинская обл.'!$C$53","v":0},{"$f":"'Челябинская обл.'!$C$54","v":0},{"$f":"'Челябинская обл.'!$C$55","v":0},{"$f":"'Челябинская обл.'!$C$56","v":243.71}]
["2","МУП \"ТеплоЭнерго\"",null,{"$f":"'Челябинская обл.'!$C$7","v":"13,23"},{"$f":"'Челябинская обл.'!$C$10","v":1005.74},{"$f":"'Челябинская обл.'!$C$11","v":0},{"$f":"'Челябинская обл.'!$C$12","v":0},{"$f":"'Челябинская обл.'!$C$13","v":0},{"$f":"'Челябинская обл.'!$C$14","v":0},{"$f":"'Челябинская обл.'!$C$17","v":1987.75},{"$f":"'Челябинская обл.'!$C$18","v":0},{"$f":"'Челябинская обл.'!$C$19","v":0},{"$f":"'Челябинская обл.'!$C$20","v":0},{"$f":"'Челябинская обл.'!$C$21","v":0},{"$f":"'Челябинская обл.'!$C$23","v":1493.77},{"$f":"'Челябинская обл.'!$C$24","v":0},{"$f":"'Челябинская обл.'!$C$25","v":0},{"$f":"'Челябинская обл.'!$C$26","v":0},{"$f":"'Челябинская обл.'!$C$27","v":0},{"$f":"'Челябинская обл.'!$C$28","v":0},{"$f":"'Челябинская обл.'!$C$29","v":377.24},{"$f":"'Челябинская обл.'!$C$34","v":13.23},{"$f":"'Челябинская обл.'!$C$37","v":352.76},{"$f":"'Челябинская обл.'!$C$38","v":825.59},{"$f":"'Челябинская обл.'!$C$39","v":0},{"$f":"'Челябинская обл.'!$C$40","v":0},{"$f":"'Челябинская обл.'!$C$41","v":0},{"$f":"'Челябинская обл.'!$C$44","v":1142.9000000000001},{"$f":"'Челябинская обл.'!$C$45","v":1066.98},{"$f":"'Челябинская обл.'!$C$46","v":0},{"$f":"'Челябинская обл.'!$C$47","v":0},{"$f":"'Челябинская обл.'!$C$48","v":0},{"$f":"'Челябинская обл.'!$C$50","v":1081.3599999999999},{"$f":"'Челябинская обл.'!$C$51","v":1328.18},{"$f":"'Челябинская обл.'!$C$52","v":0},{"$f":"'Челябинская обл.'!$C$53","v":0},{"$f":"'Челябинская обл.'!$C$54","v":0},{"$f":"'Челябинская обл.'!$C$55","v":0},{"$f":"'Челябинская обл.'!$C$56","v":243.71}]
["3","ООО \"Источники тепла\"",null,{"$f":"'Челябинская обл.'!$C$7","v":"13,23"},{"$f":"'Челябинская обл.'!$C$10","v":1005.74},{"$f":"'Челябинская обл.'!$C$11","v":0},{"$f":"'Челябинская обл.'!$C$12","v":0},{"$f":"'Челябинская обл.'!$C$13","v":0},{"$f":"'Челябинская обл.'!$C$14","v":0},{"$f":"'Челябинская обл.'!$C$17","v":1987.75},{"$f":"'Челябинская обл.'!$C$18","v":0},{"$f":"'Челябинская обл.'!$C$19","v":0},{"$f":"'Челябинская обл.'!$C$20","v":0},{"$f":"'Челябинская обл.'!$C$21","v":0},{"$f":"'Челябинская обл.'!$C$23","v":1493.77},{"$f":"'Челябинская обл.'!$C$24","v":0},{"$f":"'Челябинская обл.'!$C$25","v":0},{"$f":"'Челябинская обл.'!$C$26","v":0},{"$f":"'Челябинская обл.'!$C$27","v":0},{"$f":"'Челябинская обл.'!$C$28","v":0},{"$f":"'Челябинская обл.'!$C$29","v":377.24},{"$f":"'Челябинская обл.'!$C$34","v":13.23},{"$f":"'Челябинская обл.'!$C$37","v":352.76},{"$f":"'Челябинская обл.'!$C$38","v":825.59},{"$f":"'Челябинская обл.'!$C$39","v":0},{"$f":"'Челябинская обл.'!$C$40","v":0},{"$f":"'Челябинская обл.'!$C$41","v":0},{"$f":"'Челябинская обл.'!$C$44","v":1142.9000000000001},{"$f":"'Челябинская обл.'!$C$45","v":1066.98},{"$f":"'Челябинская обл.'!$C$46","v":0},{"$f":"'Челябинская обл.'!$C$47","v":0},{"$f":"'Челябинская обл.'!$C$48","v":0},{"$f":"'Челябинская обл.'!$C$50","v":1081.3599999999999},{"$f":"'Челябинская обл.'!$C$51","v":1328.18},{"$f":"'Челябинская обл.'!$C$52","v":0},{"$f":"'Челябинская обл.'!$C$53","v":0},{"$f":"'Челябинская обл.'!$C$54","v":0},{"$f":"'Челябинская обл.'!$C$55","v":0},{"$f":"'Челябинская обл.'!$C$56","v":243.71}]
[4,"ООО \"Энергосервис\"",null,{"$f":"'Челябинская обл.'!$C$7","v":"13,23"},{"$f":"'Челябинская обл.'!$C$10","v":1005.74},{"$f":"'Челябинская обл.'!$C$11","v":0},{"$f":"'Челябинская обл.'!$C$12","v":0},{"$f":"'Челябинская обл.'!$C$13","v":0},{"$f":"'Челябинская обл.'!$C$14","v":0},{"$f":"'Челябинская обл.'!$C$17","v":1987.75},{"$f":"'Челябинская обл.'!$C$18","v":0},{"$f":"'Челябинская обл.'!$C$19","v":0},{"$f":"'Челябинская обл.'!$C$20","v":0},{"$f":"'Челябинская обл.'!$C$21","v":0},{"$f":"'Челябинская обл.'!$C$23","v":1493.77},{"$f":"'Челябинская обл.'!$C$24","v":0},{"$f":"'Челябинская обл.'!$C$25","v":0},{"$f":"'Челябинская обл.'!$C$26","v":0},{"$f":"'Челябинская обл.'!$C$27","v":0},{"$f":"'Челябинская обл.'!$C$28","v":0},{"$f":"'Челябинская обл.'!$C$29","v":377.24},{"$f":"'Челябинская обл.'!$C$34","v":13.23},{"$f":"'Челябинская обл.'!$C$37","v":352.76},{"$f":"'Челябинская обл.'!$C$38","v":825.59},{"$f":"'Челябинская обл.'!$C$39","v":0},{"$f":"'Челябинская обл.'!$C$40","v":0},{"$f":"'Челябинская обл.'!$C$41","v":0},{"$f":"'Челябинская обл.'!$C$44","v":1142.9000000000001},{"$f":"'Челябинская обл.'!$C$45","v":1066.98},{"$f":"'Челябинская обл.'!$C$46","v":0},{"$f":"'Челябинская обл.'!$C$47","v":0},{"$f":"'Челябинская обл.'!$C$48","v":0},{"$f":"'Челябинская обл.'!$C$50","v":1081.3599999999999},{"$f":"'Челябинская обл.'!$C$51","v":1328.18},{"$f":"'Челябинская обл.'!$C$52","v":0},{"$f":"'Челябинская обл.'!$C$53","v":0},{"$f":"'Челябинская обл.'!$C$54","v":0},{"$f":"'Челябинская обл.'!$C$55","v":0},{"$f":"'Челябинская обл.'!$C$56","v":243.71}]
["28","Кизильский муниципальный район"]
["1","АО \"Челябоблкоммунэнерго\" (Челябинская область)",null,{"$f":"'Челябинская обл.'!$C$7","v":"13,23"},{"$f":"'Челябинская обл.'!$C$10","v":1005.74},{"$f":"'Челябинская обл.'!$C$11","v":0},{"$f":"'Челябинская обл.'!$C$12","v":0},{"$f":"'Челябинская обл.'!$C$13","v":0},{"$f":"'Челябинская обл.'!$C$14","v":0},{"$f":"'Челябинская обл.'!$C$17","v":1987.75},{"$f":"'Челябинская обл.'!$C$18","v":0},{"$f":"'Челябинская обл.'!$C$19","v":0},{"$f":"'Челябинская обл.'!$C$20","v":0},{"$f":"'Челябинская обл.'!$C$21","v":0},{"$f":"'Челябинская обл.'!$C$23","v":1493.77},{"$f":"'Челябинская обл.'!$C$24","v":0},{"$f":"'Челябинская обл.'!$C$25","v":0},{"$f":"'Челябинская обл.'!$C$26","v":0},{"$f":"'Челябинская обл.'!$C$27","v":0},{"$f":"'Челябинская обл.'!$C$28","v":0},{"$f":"'Челябинская обл.'!$C$29","v":377.24},{"$f":"'Челябинская обл.'!$C$34","v":13.23},{"$f":"'Челябинская обл.'!$C$37","v":352.76},{"$f":"'Челябинская обл.'!$C$38","v":825.59},{"$f":"'Челябинская обл.'!$C$39","v":0},{"$f":"'Челябинская обл.'!$C$40","v":0},{"$f":"'Челябинская обл.'!$C$41","v":0},{"$f":"'Челябинская обл.'!$C$44","v":1142.9000000000001},{"$f":"'Челябинская обл.'!$C$45","v":1066.98},{"$f":"'Челябинская обл.'!$C$46","v":0},{"$f":"'Челябинская обл.'!$C$47","v":0},{"$f":"'Челябинская обл.'!$C$48","v":0},{"$f":"'Челябинская обл.'!$C$50","v":1081.3599999999999},{"$f":"'Челябинская обл.'!$C$51","v":1328.18},{"$f":"'Челябинская обл.'!$C$52","v":0},{"$f":"'Челябинская обл.'!$C$53","v":0},{"$f":"'Челябинская обл.'!$C$54","v":0},{"$f":"'Челябинская обл.'!$C$55","v":0},{"$f":"'Челябинская обл.'!$C$56","v":243.71}]
["2","ООО \"Техно-Ресурс\"",null,{"$f":"'Челябинская обл.'!$C$7","v":"13,23"},{"$f":"'Челябинская обл.'!$C$10","v":1005.74},{"$f":"'Челябинская обл.'!$C$11","v":0},{"$f":"'Челябинская обл.'!$C$12","v":0},{"$f":"'Челябинская обл.'!$C$13","v":0},{"$f":"'Челябинская обл.'!$C$14","v":0},{"$f":"'Челябинская обл.'!$C$17","v":1987.75},{"$f":"'Челябинская обл.'!$C$18","v":0},{"$f":"'Челябинская обл.'!$C$19","v":0},{"$f":"'Челябинская обл.'!$C$20","v":0},{"$f":"'Челябинская обл.'!$C$21","v":0},{"$f":"'Челябинская обл.'!$C$23","v":1493.77},{"$f":"'Челябинская обл.'!$C$24","v":0},{"$f":"'Челябинская обл.'!$C$25","v":0},{"$f":"'Челябинская обл.'!$C$26","v":0},{"$f":"'Челябинская обл.'!$C$27","v":0},{"$f":"'Челябинская обл.'!$C$28","v":0},{"$f":"'Челябинская обл.'!$C$29","v":377.24},{"$f":"'Челябинская обл.'!$C$34","v":13.23},{"$f":"'Челябинская обл.'!$C$37","v":352.76},{"$f":"'Челябинская обл.'!$C$38","v":825.59},{"$f":"'Челябинская обл.'!$C$39","v":0},{"$f":"'Челябинская обл.'!$C$40","v":0},{"$f":"'Челябинская обл.'!$C$41","v":0},{"$f":"'Челябинская обл.'!$C$44","v":1142.9000000000001},{"$f":"'Челябинская обл.'!$C$45","v":1066.98},{"$f":"'Челябинская обл.'!$C$46","v":0},{"$f":"'Челябинская обл.'!$C$47","v":0},{"$f":"'Челябинская обл.'!$C$48","v":0},{"$f":"'Челябинская обл.'!$C$50","v":1081.3599999999999},{"$f":"'Челябинская обл.'!$C$51","v":1328.18},{"$f":"'Челябинская обл.'!$C$52","v":0},{"$f":"'Челябинская обл.'!$C$53","v":0},{"$f":"'Челябинская обл.'!$C$54","v":0},{"$f":"'Челябинская обл.'!$C$55","v":0},{"$f":"'Челябинская обл.'!$C$56","v":243.71}]
[3,"ООО ГК \"Уральская энергия\" (Кизильский м.р.)",null,{"$f":"'Челябинская обл.'!$C$7","v":"13,23"},{"$f":"'Челябинская обл.'!$C$10","v":1005.74},{"$f":"'Челябинская обл.'!$C$11","v":0},{"$f":"'Челябинская обл.'!$C$12","v":0},{"$f":"'Челябинская обл.'!$C$13","v":0},{"$f":"'Челябинская обл.'!$C$14","v":0},{"$f":"'Челябинская обл.'!$C$17","v":1987.75},{"$f":"'Челябинская обл.'!$C$18","v":0},{"$f":"'Челябинская обл.'!$C$19","v":0},{"$f":"'Челябинская обл.'!$C$20","v":0},{"$f":"'Челябинская обл.'!$C$21","v":0},{"$f":"'Челябинская обл.'!$C$23","v":1493.77},{"$f":"'Челябинская обл.'!$C$24","v":0},{"$f":"'Челябинская обл.'!$C$25","v":0},{"$f":"'Челябинская обл.'!$C$26","v":0},{"$f":"'Челябинская обл.'!$C$27","v":0},{"$f":"'Челябинская обл.'!$C$28","v":0},{"$f":"'Челябинская обл.'!$C$29","v":377.24},{"$f":"'Челябинская обл.'!$C$34","v":13.23},{"$f":"'Челябинская обл.'!$C$37","v":352.76},{"$f":"'Челябинская обл.'!$C$38","v":825.59},{"$f":"'Челябинская обл.'!$C$39","v":0},{"$f":"'Челябинская обл.'!$C$40","v":0},{"$f":"'Челябинская обл.'!$C$41","v":0},{"$f":"'Челябинская обл.'!$C$44","v":1142.9000000000001},{"$f":"'Челябинская обл.'!$C$45","v":1066.98},{"$f":"'Челябинская обл.'!$C$46","v":0},{"$f":"'Челябинская обл.'!$C$47","v":0},{"$f":"'Челябинская обл.'!$C$48","v":0},{"$f":"'Челябинская обл.'!$C$50","v":1081.3599999999999},{"$f":"'Челябинская обл.'!$C$51","v":1328.18},{"$f":"'Челябинская обл.'!$C$52","v":0},{"$f":"'Челябинская обл.'!$C$53","v":0},{"$f":"'Челябинская обл.'!$C$54","v":0},{"$f":"'Челябинская обл.'!$C$55","v":0},{"$f":"'Челябинская обл.'!$C$56","v":243.71}]
["29","Коркинский муниципальный район"]
["1","МУП \"Розинские тепловые сети\"",null,{"$f":"'Челябинская обл.'!$C$7","v":"13,23"},{"$f":"'Челябинская обл.'!$C$10","v":1005.74},{"$f":"'Челябинская обл.'!$C$11","v":0},{"$f":"'Челябинская обл.'!$C$12","v":0},{"$f":"'Челябинская обл.'!$C$13","v":0},{"$f":"'Челябинская обл.'!$C$14","v":0},{"$f":"'Челябинская обл.'!$C$17","v":1987.75},{"$f":"'Челябинская обл.'!$C$18","v":0},{"$f":"'Челябинская обл.'!$C$19","v":0},{"$f":"'Челябинская обл.'!$C$20","v":0},{"$f":"'Челябинская обл.'!$C$21","v":0},{"$f":"'Челябинская обл.'!$C$23","v":1493.77},{"$f":"'Челябинская обл.'!$C$24","v":0},{"$f":"'Челябинская обл.'!$C$25","v":0},{"$f":"'Челябинская обл.'!$C$26","v":0},{"$f":"'Челябинская обл.'!$C$27","v":0},{"$f":"'Челябинская обл.'!$C$28","v":0},{"$f":"'Челябинская обл.'!$C$29","v":377.24},{"$f":"'Челябинская обл.'!$C$34","v":13.23},{"$f":"'Челябинская обл.'!$C$37","v":352.76},{"$f":"'Челябинская обл.'!$C$38","v":825.59},{"$f":"'Челябинская обл.'!$C$39","v":0},{"$f":"'Челябинская обл.'!$C$40","v":0},{"$f":"'Челябинская обл.'!$C$41","v":0},{"$f":"'Челябинская обл.'!$C$44","v":1142.9000000000001},{"$f":"'Челябинская обл.'!$C$45","v":1066.98},{"$f":"'Челябинская обл.'!$C$46","v":0},{"$f":"'Челябинская обл.'!$C$47","v":0},{"$f":"'Челябинская обл.'!$C$48","v":0},{"$f":"'Челябинская обл.'!$C$50","v":1081.3599999999999},{"$f":"'Челябинская обл.'!$C$51","v":1328.18},{"$f":"'Челябинская обл.'!$C$52","v":0},{"$f":"'Челябинская обл.'!$C$53","v":0},{"$f":"'Челябинская обл.'!$C$54","v":0},{"$f":"'Челябинская обл.'!$C$55","v":0},{"$f":"'Челябинская обл.'!$C$56","v":243.71}]
["2","МУП \"Тепловые системы\"",null,{"$f":"'Челябинская обл.'!$C$7","v":"13,23"},{"$f":"'Челябинская обл.'!$C$10","v":1005.74},{"$f":"'Челябинская обл.'!$C$11","v":0},{"$f":"'Челябинская обл.'!$C$12","v":0},{"$f":"'Челябинская обл.'!$C$13","v":0},{"$f":"'Челябинская обл.'!$C$14","v":0},{"$f":"'Челябинская обл.'!$C$17","v":1987.75},{"$f":"'Челябинская обл.'!$C$18","v":0},{"$f":"'Челябинская обл.'!$C$19","v":0},{"$f":"'Челябинская обл.'!$C$20","v":0},{"$f":"'Челябинская обл.'!$C$21","v":0},{"$f":"'Челябинская обл.'!$C$23","v":1493.77},{"$f":"'Челябинская обл.'!$C$24","v":0},{"$f":"'Челябинская обл.'!$C$25","v":0},{"$f":"'Челябинская обл.'!$C$26","v":0},{"$f":"'Челябинская обл.'!$C$27","v":0},{"$f":"'Челябинская обл.'!$C$28","v":0},{"$f":"'Челябинская обл.'!$C$29","v":377.24},{"$f":"'Челябинская обл.'!$C$34","v":13.23},{"$f":"'Челябинская обл.'!$C$37","v":352.76},{"$f":"'Челябинская обл.'!$C$38","v":825.59},{"$f":"'Челябинская обл.'!$C$39","v":0},{"$f":"'Челябинская обл.'!$C$40","v":0},{"$f":"'Челябинская обл.'!$C$41","v":0},{"$f":"'Челябинская обл.'!$C$44","v":1142.9000000000001},{"$f":"'Челябинская обл.'!$C$45","v":1066.98},{"$f":"'Челябинская обл.'!$C$46","v":0},{"$f":"'Челябинская обл.'!$C$47","v":0},{"$f":"'Челябинская обл.'!$C$48","v":0},{"$f":"'Челябинская обл.'!$C$50","v":1081.3599999999999},{"$f":"'Челябинская обл.'!$C$51","v":1328.18},{"$f":"'Челябинская обл.'!$C$52","v":0},{"$f":"'Челябинская обл.'!$C$53","v":0},{"$f":"'Челябинская обл.'!$C$54","v":0},{"$f":"'Челябинская обл.'!$C$55","v":0},{"$f":"'Челябинская обл.'!$C$56","v":243.71}]
["3","ОАО \"Асбестоцемент\"",null,{"$f":"'Челябинская обл.'!$C$7","v":"13,23"},{"$f":"'Челябинская обл.'!$C$10","v":1005.74},{"$f":"'Челябинская обл.'!$C$11","v":0},{"$f":"'Челябинская обл.'!$C$12","v":0},{"$f":"'Челябинская обл.'!$C$13","v":0},{"$f":"'Челябинская обл.'!$C$14","v":0},{"$f":"'Челябинская обл.'!$C$17","v":1987.75},{"$f":"'Челябинская обл.'!$C$18","v":0},{"$f":"'Челябинская обл.'!$C$19","v":0},{"$f":"'Челябинская обл.'!$C$20","v":0},{"$f":"'Челябинская обл.'!$C$21","v":0},{"$f":"'Челябинская обл.'!$C$23","v":1493.77},{"$f":"'Челябинская обл.'!$C$24","v":0},{"$f":"'Челябинская обл.'!$C$25","v":0},{"$f":"'Челябинская обл.'!$C$26","v":0},{"$f":"'Челябинская обл.'!$C$27","v":0},{"$f":"'Челябинская обл.'!$C$28","v":0},{"$f":"'Челябинская обл.'!$C$29","v":377.24},{"$f":"'Челябинская обл.'!$C$34","v":13.23},{"$f":"'Челябинская обл.'!$C$37","v":352.76},{"$f":"'Челябинская обл.'!$C$38","v":825.59},{"$f":"'Челябинская обл.'!$C$39","v":0},{"$f":"'Челябинская обл.'!$C$40","v":0},{"$f":"'Челябинская обл.'!$C$41","v":0},{"$f":"'Челябинская обл.'!$C$44","v":1142.9000000000001},{"$f":"'Челябинская обл.'!$C$45","v":1066.98},{"$f":"'Челябинская обл.'!$C$46","v":0},{"$f":"'Челябинская обл.'!$C$47","v":0},{"$f":"'Челябинская обл.'!$C$48","v":0},{"$f":"'Челябинская обл.'!$C$50","v":1081.3599999999999},{"$f":"'Челябинская обл.'!$C$51","v":1328.18},{"$f":"'Челябинская обл.'!$C$52","v":0},{"$f":"'Челябинская обл.'!$C$53","v":0},{"$f":"'Челябинская обл.'!$C$54","v":0},{"$f":"'Челябинская обл.'!$C$55","v":0},{"$f":"'Челябинская обл.'!$C$56","v":243.71}]
["4","ООО \"Коркинское производственное объединение\"",null,{"$f":"'Челябинская обл.'!$C$7","v":"13,23"},{"$f":"'Челябинская обл.'!$C$10","v":1005.74},{"$f":"'Челябинская обл.'!$C$11","v":0},{"$f":"'Челябинская обл.'!$C$12","v":0},{"$f":"'Челябинская обл.'!$C$13","v":0},{"$f":"'Челябинская обл.'!$C$14","v":0},{"$f":"'Челябинская обл.'!$C$17","v":1987.75},{"$f":"'Челябинская обл.'!$C$18","v":0},{"$f":"'Челябинская обл.'!$C$19","v":0},{"$f":"'Челябинская обл.'!$C$20","v":0},{"$f":"'Челябинская обл.'!$C$21","v":0},{"$f":"'Челябинская обл.'!$C$23","v":1493.77},{"$f":"'Челябинская обл.'!$C$24","v":0},{"$f":"'Челябинская обл.'!$C$25","v":0},{"$f":"'Челябинская обл.'!$C$26","v":0},{"$f":"'Челябинская обл.'!$C$27","v":0},{"$f":"'Челябинская обл.'!$C$28","v":0},{"$f":"'Челябинская обл.'!$C$29","v":377.24},{"$f":"'Челябинская обл.'!$C$34","v":13.23},{"$f":"'Челябинская обл.'!$C$37","v":352.76},{"$f":"'Челябинская обл.'!$C$38","v":825.59},{"$f":"'Челябинская обл.'!$C$39","v":0},{"$f":"'Челябинская обл.'!$C$40","v":0},{"$f":"'Челябинская обл.'!$C$41","v":0},{"$f":"'Челябинская обл.'!$C$44","v":1142.9000000000001},{"$f":"'Челябинская обл.'!$C$45","v":1066.98},{"$f":"'Челябинская обл.'!$C$46","v":0},{"$f":"'Челябинская обл.'!$C$47","v":0},{"$f":"'Челябинская обл.'!$C$48","v":0},{"$f":"'Челябинская обл.'!$C$50","v":1081.3599999999999},{"$f":"'Челябинская обл.'!$C$51","v":1328.18},{"$f":"'Челябинская обл.'!$C$52","v":0},{"$f":"'Челябинская обл.'!$C$53","v":0},{"$f":"'Челябинская обл.'!$C$54","v":0},{"$f":"'Челябинская обл.'!$C$55","v":0},{"$f":"'Челябинская обл.'!$C$56","v":243.71}]
["5","ООО \"Тепловые сети \"Дубровка\"",null,{"$f":"'Челябинская обл.'!$C$7","v":"13,23"},{"$f":"'Челябинская обл.'!$C$10","v":1005.74},{"$f":"'Челябинская обл.'!$C$11","v":0},{"$f":"'Челябинская обл.'!$C$12","v":0},{"$f":"'Челябинская обл.'!$C$13","v":0},{"$f":"'Челябинская обл.'!$C$14","v":0},{"$f":"'Челябинская обл.'!$C$17","v":1987.75},{"$f":"'Челябинская обл.'!$C$18","v":0},{"$f":"'Челябинская обл.'!$C$19","v":0},{"$f":"'Челябинская обл.'!$C$20","v":0},{"$f":"'Челябинская обл.'!$C$21","v":0},{"$f":"'Челябинская обл.'!$C$23","v":1493.77},{"$f":"'Челябинская обл.'!$C$24","v":0},{"$f":"'Челябинская обл.'!$C$25","v":0},{"$f":"'Челябинская обл.'!$C$26","v":0},{"$f":"'Челябинская обл.'!$C$27","v":0},{"$f":"'Челябинская обл.'!$C$28","v":0},{"$f":"'Челябинская обл.'!$C$29","v":377.24},{"$f":"'Челябинская обл.'!$C$34","v":13.23},{"$f":"'Челябинская обл.'!$C$37","v":352.76},{"$f":"'Челябинская обл.'!$C$38","v":825.59},{"$f":"'Челябинская обл.'!$C$39","v":0},{"$f":"'Челябинская обл.'!$C$40","v":0},{"$f":"'Челябинская обл.'!$C$41","v":0},{"$f":"'Челябинская обл.'!$C$44","v":1142.9000000000001},{"$f":"'Челябинская обл.'!$C$45","v":1066.98},{"$f":"'Челябинская обл.'!$C$46","v":0},{"$f":"'Челябинская обл.'!$C$47","v":0},{"$f":"'Челябинская обл.'!$C$48","v":0},{"$f":"'Челябинская обл.'!$C$50","v":1081.3599999999999},{"$f":"'Челябинская обл.'!$C$51","v":1328.18},{"$f":"'Челябинская обл.'!$C$52","v":0},{"$f":"'Челябинская обл.'!$C$53","v":0},{"$f":"'Челябинская обл.'!$C$54","v":0},{"$f":"'Челябинская обл.'!$C$55","v":0},{"$f":"'Челябинская обл.'!$C$56","v":243.71}]
["6","ООО \"Теплосервис\"",null,{"$f":"'Челябинская обл.'!$C$7","v":"13,23"},{"$f":"'Челябинская обл.'!$C$10","v":1005.74},{"$f":"'Челябинская обл.'!$C$11","v":0},{"$f":"'Челябинская обл.'!$C$12","v":0},{"$f":"'Челябинская обл.'!$C$13","v":0},{"$f":"'Челябинская обл.'!$C$14","v":0},{"$f":"'Челябинская обл.'!$C$17","v":1987.75},{"$f":"'Челябинская обл.'!$C$18","v":0},{"$f":"'Челябинская обл.'!$C$19","v":0},{"$f":"'Челябинская обл.'!$C$20","v":0},{"$f":"'Челябинская обл.'!$C$21","v":0},{"$f":"'Челябинская обл.'!$C$23","v":1493.77},{"$f":"'Челябинская обл.'!$C$24","v":0},{"$f":"'Челябинская обл.'!$C$25","v":0},{"$f":"'Челябинская обл.'!$C$26","v":0},{"$f":"'Челябинская обл.'!$C$27","v":0},{"$f":"'Челябинская обл.'!$C$28","v":0},{"$f":"'Челябинская обл.'!$C$29","v":377.24},{"$f":"'Челябинская обл.'!$C$34","v":13.23},{"$f":"'Челябинская обл.'!$C$37","v":352.76},{"$f":"'Челябинская обл.'!$C$38","v":825.59},{"$f":"'Челябинская обл.'!$C$39","v":0},{"$f":"'Челябинская обл.'!$C$40","v":0},{"$f":"'Челябинская обл.'!$C$41","v":0},{"$f":"'Челябинская обл.'!$C$44","v":1142.9000000000001},{"$f":"'Челябинская обл.'!$C$45","v":1066.98},{"$f":"'Челябинская обл.'!$C$46","v":0},{"$f":"'Челябинская обл.'!$C$47","v":0},{"$f":"'Челябинская обл.'!$C$48","v":0},{"$f":"'Челябинская обл.'!$C$50","v":1081.3599999999999},{"$f":"'Челябинская обл.'!$C$51","v":1328.18},{"$f":"'Челябинская обл.'!$C$52","v":0},{"$f":"'Челябинская обл.'!$C$53","v":0},{"$f":"'Челябинская обл.'!$C$54","v":0},{"$f":"'Челябинская обл.'!$C$55","v":0},{"$f":"'Челябинская обл.'!$C$56","v":243.71}]
["7","ООО \"Фабрика Южуралкартон\"",null,{"$f":"'Челябинская обл.'!$C$7","v":"13,23"},{"$f":"'Челябинская обл.'!$C$10","v":1005.74},{"$f":"'Челябинская обл.'!$C$11","v":0},{"$f":"'Челябинская обл.'!$C$12","v":0},{"$f":"'Челябинская обл.'!$C$13","v":0},{"$f":"'Челябинская обл.'!$C$14","v":0},{"$f":"'Челябинская обл.'!$C$17","v":1987.75},{"$f":"'Челябинская обл.'!$C$18","v":0},{"$f":"'Челябинская обл.'!$C$19","v":0},{"$f":"'Челябинская обл.'!$C$20","v":0},{"$f":"'Челябинская обл.'!$C$21","v":0},{"$f":"'Челябинская обл.'!$C$23","v":1493.77},{"$f":"'Челябинская обл.'!$C$24","v":0},{"$f":"'Челябинская обл.'!$C$25","v":0},{"$f":"'Челябинская обл.'!$C$26","v":0},{"$f":"'Челябинская обл.'!$C$27","v":0},{"$f":"'Челябинская обл.'!$C$28","v":0},{"$f":"'Челябинская обл.'!$C$29","v":377.24},{"$f":"'Челябинская обл.'!$C$34","v":13.23},{"$f":"'Челябинская обл.'!$C$37","v":352.76},{"$f":"'Челябинская обл.'!$C$38","v":825.59},{"$f":"'Челябинская обл.'!$C$39","v":0},{"$f":"'Челябинская обл.'!$C$40","v":0},{"$f":"'Челябинская обл.'!$C$41","v":0},{"$f":"'Челябинская обл.'!$C$44","v":1142.9000000000001},{"$f":"'Челябинская обл.'!$C$45","v":1066.98},{"$f":"'Челябинская обл.'!$C$46","v":0},{"$f":"'Челябинская обл.'!$C$47","v":0},{"$f":"'Челябинская обл.'!$C$48","v":0},{"$f":"'Челябинская обл.'!$C$50","v":1081.3599999999999},{"$f":"'Челябинская обл.'!$C$51","v":1328.18},{"$f":"'Челябинская обл.'!$C$52","v":0},{"$f":"'Челябинская обл.'!$C$53","v":0},{"$f":"'Челябинская обл.'!$C$54","v":0},{"$f":"'Челябинская обл.'!$C$55","v":0},{"$f":"'Челябинская обл.'!$C$56","v":243.71}]
[8,"ООО \"ЭЛЕВКОН\"",null,{"$f":"'Челябинская обл.'!$C$7","v":"13,23"},{"$f":"'Челябинская обл.'!$C$10","v":1005.74},{"$f":"'Челябинская обл.'!$C$11","v":0},{"$f":"'Челябинская обл.'!$C$12","v":0},{"$f":"'Челябинская обл.'!$C$13","v":0},{"$f":"'Челябинская обл.'!$C$14","v":0},{"$f":"'Челябинская обл.'!$C$17","v":1987.75},{"$f":"'Челябинская обл.'!$C$18","v":0},{"$f":"'Челябинская обл.'!$C$19","v":0},{"$f":"'Челябинская обл.'!$C$20","v":0},{"$f":"'Челябинская обл.'!$C$21","v":0},{"$f":"'Челябинская обл.'!$C$23","v":1493.77},{"$f":"'Челябинская обл.'!$C$24","v":0},{"$f":"'Челябинская обл.'!$C$25","v":0},{"$f":"'Челябинская обл.'!$C$26","v":0},{"$f":"'Челябинская обл.'!$C$27","v":0},{"$f":"'Челябинская обл.'!$C$28","v":0},{"$f":"'Челябинская обл.'!$C$29","v":377.24},{"$f":"'Челябинская обл.'!$C$34","v":13.23},{"$f":"'Челябинская обл.'!$C$37","v":352.76},{"$f":"'Челябинская обл.'!$C$38","v":825.59},{"$f":"'Челябинская обл.'!$C$39","v":0},{"$f":"'Челябинская обл.'!$C$40","v":0},{"$f":"'Челябинская обл.'!$C$41","v":0},{"$f":"'Челябинская обл.'!$C$44","v":1142.9000000000001},{"$f":"'Челябинская обл.'!$C$45","v":1066.98},{"$f":"'Челябинская обл.'!$C$46","v":0},{"$f":"'Челябинская обл.'!$C$47","v":0},{"$f":"'Челябинская обл.'!$C$48","v":0},{"$f":"'Челябинская обл.'!$C$50","v":1081.3599999999999},{"$f":"'Челябинская обл.'!$C$51","v":1328.18},{"$f":"'Челябинская обл.'!$C$52","v":0},{"$f":"'Челябинская обл.'!$C$53","v":0},{"$f":"'Челябинская обл.'!$C$54","v":0},{"$f":"'Челябинская обл.'!$C$55","v":0},{"$f":"'Челябинская обл.'!$C$56","v":243.71}]
["30","Красноармейский муниципальный район"]
["1","МУП ЖКХ \"Шумовское\"",null,{"$f":"'Челябинская обл.'!$C$7","v":"13,23"},{"$f":"'Челябинская обл.'!$C$10","v":1005.74},{"$f":"'Челябинская обл.'!$C$11","v":0},{"$f":"'Челябинская обл.'!$C$12","v":0},{"$f":"'Челябинская обл.'!$C$13","v":0},{"$f":"'Челябинская обл.'!$C$14","v":0},{"$f":"'Челябинская обл.'!$C$17","v":1987.75},{"$f":"'Челябинская обл.'!$C$18","v":0},{"$f":"'Челябинская обл.'!$C$19","v":0},{"$f":"'Челябинская обл.'!$C$20","v":0},{"$f":"'Челябинская обл.'!$C$21","v":0},{"$f":"'Челябинская обл.'!$C$23","v":1493.77},{"$f":"'Челябинская обл.'!$C$24","v":0},{"$f":"'Челябинская обл.'!$C$25","v":0},{"$f":"'Челябинская обл.'!$C$26","v":0},{"$f":"'Челябинская обл.'!$C$27","v":0},{"$f":"'Челябинская обл.'!$C$28","v":0},{"$f":"'Челябинская обл.'!$C$29","v":377.24},{"$f":"'Челябинская обл.'!$C$34","v":13.23},{"$f":"'Челябинская обл.'!$C$37","v":352.76},{"$f":"'Челябинская обл.'!$C$38","v":825.59},{"$f":"'Челябинская обл.'!$C$39","v":0},{"$f":"'Челябинская обл.'!$C$40","v":0},{"$f":"'Челябинская обл.'!$C$41","v":0},{"$f":"'Челябинская обл.'!$C$44","v":1142.9000000000001},{"$f":"'Челябинская обл.'!$C$45","v":1066.98},{"$f":"'Челябинская обл.'!$C$46","v":0},{"$f":"'Челябинская обл.'!$C$47","v":0},{"$f":"'Челябинская обл.'!$C$48","v":0},{"$f":"'Челябинская обл.'!$C$50","v":1081.3599999999999},{"$f":"'Челябинская обл.'!$C$51","v":1328.18},{"$f":"'Челябинская обл.'!$C$52","v":0},{"$f":"'Челябинская обл.'!$C$53","v":0},{"$f":"'Челябинская обл.'!$C$54","v":0},{"$f":"'Челябинская обл.'!$C$55","v":0},{"$f":"'Челябинская обл.'!$C$56","v":243.71}]
["2","ООО  \"Луговское\"",null,{"$f":"'Челябинская обл.'!$C$7","v":"13,23"},{"$f":"'Челябинская обл.'!$C$10","v":1005.74},{"$f":"'Челябинская обл.'!$C$11","v":0},{"$f":"'Челябинская обл.'!$C$12","v":0},{"$f":"'Челябинская обл.'!$C$13","v":0},{"$f":"'Челябинская обл.'!$C$14","v":0},{"$f":"'Челябинская обл.'!$C$17","v":1987.75},{"$f":"'Челябинская обл.'!$C$18","v":0},{"$f":"'Челябинская обл.'!$C$19","v":0},{"$f":"'Челябинская обл.'!$C$20","v":0},{"$f":"'Челябинская обл.'!$C$21","v":0},{"$f":"'Челябинская обл.'!$C$23","v":1493.77},{"$f":"'Челябинская обл.'!$C$24","v":0},{"$f":"'Челябинская обл.'!$C$25","v":0},{"$f":"'Челябинская обл.'!$C$26","v":0},{"$f":"'Челябинская обл.'!$C$27","v":0},{"$f":"'Челябинская обл.'!$C$28","v":0},{"$f":"'Челябинская обл.'!$C$29","v":377.24},{"$f":"'Челябинская обл.'!$C$34","v":13.23},{"$f":"'Челябинская обл.'!$C$37","v":352.76},{"$f":"'Челябинская обл.'!$C$38","v":825.59},{"$f":"'Челябинская обл.'!$C$39","v":0},{"$f":"'Челябинская обл.'!$C$40","v":0},{"$f":"'Челябинская обл.'!$C$41","v":0},{"$f":"'Челябинская обл.'!$C$44","v":1142.9000000000001},{"$f":"'Челябинская обл.'!$C$45","v":1066.98},{"$f":"'Челябинская обл.'!$C$46","v":0},{"$f":"'Челябинская обл.'!$C$47","v":0},{"$f":"'Челябинская обл.'!$C$48","v":0},{"$f":"'Челябинская обл.'!$C$50","v":1081.3599999999999},{"$f":"'Челябинская обл.'!$C$51","v":1328.18},{"$f":"'Челябинская обл.'!$C$52","v":0},{"$f":"'Челябинская обл.'!$C$53","v":0},{"$f":"'Челябинская обл.'!$C$54","v":0},{"$f":"'Челябинская обл.'!$C$55","v":0},{"$f":"'Челябинская обл.'!$C$56","v":243.71}]
["3","ООО \"Агрострой-М\"",null,{"$f":"'Челябинская обл.'!$C$7","v":"13,23"},{"$f":"'Челябинская обл.'!$C$10","v":1005.74},{"$f":"'Челябинская обл.'!$C$11","v":0},{"$f":"'Челябинская обл.'!$C$12","v":0},{"$f":"'Челябинская обл.'!$C$13","v":0},{"$f":"'Челябинская обл.'!$C$14","v":0},{"$f":"'Челябинская обл.'!$C$17","v":1987.75},{"$f":"'Челябинская обл.'!$C$18","v":0},{"$f":"'Челябинская обл.'!$C$19","v":0},{"$f":"'Челябинская обл.'!$C$20","v":0},{"$f":"'Челябинская обл.'!$C$21","v":0},{"$f":"'Челябинская обл.'!$C$23","v":1493.77},{"$f":"'Челябинская обл.'!$C$24","v":0},{"$f":"'Челябинская обл.'!$C$25","v":0},{"$f":"'Челябинская обл.'!$C$26","v":0},{"$f":"'Челябинская обл.'!$C$27","v":0},{"$f":"'Челябинская обл.'!$C$28","v":0},{"$f":"'Челябинская обл.'!$C$29","v":377.24},{"$f":"'Челябинская обл.'!$C$34","v":13.23},{"$f":"'Челябинская обл.'!$C$37","v":352.76},{"$f":"'Челябинская обл.'!$C$38","v":825.59},{"$f":"'Челябинская обл.'!$C$39","v":0},{"$f":"'Челябинская обл.'!$C$40","v":0},{"$f":"'Челябинская обл.'!$C$41","v":0},{"$f":"'Челябинская обл.'!$C$44","v":1142.9000000000001},{"$f":"'Челябинская обл.'!$C$45","v":1066.98},{"$f":"'Челябинская обл.'!$C$46","v":0},{"$f":"'Челябинская обл.'!$C$47","v":0},{"$f":"'Челябинская обл.'!$C$48","v":0},{"$f":"'Челябинская обл.'!$C$50","v":1081.3599999999999},{"$f":"'Челябинская обл.'!$C$51","v":1328.18},{"$f":"'Челябинская обл.'!$C$52","v":0},{"$f":"'Челябинская обл.'!$C$53","v":0},{"$f":"'Челябинская обл.'!$C$54","v":0},{"$f":"'Челябинская обл.'!$C$55","v":0},{"$f":"'Челябинская обл.'!$C$56","v":243.71}]
["4","ООО \"Бродокалмакское ЖКХ\"",null,{"$f":"'Челябинская обл.'!$C$7","v":"13,23"},{"$f":"'Челябинская обл.'!$C$10","v":1005.74},{"$f":"'Челябинская обл.'!$C$11","v":0},{"$f":"'Челябинская обл.'!$C$12","v":0},{"$f":"'Челябинская обл.'!$C$13","v":0},{"$f":"'Челябинская обл.'!$C$14","v":0},{"$f":"'Челябинская обл.'!$C$17","v":1987.75},{"$f":"'Челябинская обл.'!$C$18","v":0},{"$f":"'Челябинская обл.'!$C$19","v":0},{"$f":"'Челябинская обл.'!$C$20","v":0},{"$f":"'Челябинская обл.'!$C$21","v":0},{"$f":"'Челябинская обл.'!$C$23","v":1493.77},{"$f":"'Челябинская обл.'!$C$24","v":0},{"$f":"'Челябинская обл.'!$C$25","v":0},{"$f":"'Челябинская обл.'!$C$26","v":0},{"$f":"'Челябинская обл.'!$C$27","v":0},{"$f":"'Челябинская обл.'!$C$28","v":0},{"$f":"'Челябинская обл.'!$C$29","v":377.24},{"$f":"'Челябинская обл.'!$C$34","v":13.23},{"$f":"'Челябинская обл.'!$C$37","v":352.76},{"$f":"'Челябинская обл.'!$C$38","v":825.59},{"$f":"'Челябинская обл.'!$C$39","v":0},{"$f":"'Челябинская обл.'!$C$40","v":0},{"$f":"'Челябинская обл.'!$C$41","v":0},{"$f":"'Челябинская обл.'!$C$44","v":1142.9000000000001},{"$f":"'Челябинская обл.'!$C$45","v":1066.98},{"$f":"'Челябинская обл.'!$C$46","v":0},{"$f":"'Челябинская обл.'!$C$47","v":0},{"$f":"'Челябинская обл.'!$C$48","v":0},{"$f":"'Челябинская обл.'!$C$50","v":1081.3599999999999},{"$f":"'Челябинская обл.'!$C$51","v":1328.18},{"$f":"'Челябинская обл.'!$C$52","v":0},{"$f":"'Челябинская обл.'!$C$53","v":0},{"$f":"'Челябинская обл.'!$C$54","v":0},{"$f":"'Челябинская обл.'!$C$55","v":0},{"$f":"'Челябинская обл.'!$C$56","v":243.71}]
["5","ООО \"ИРМИ ЖКХ\" (Красноармейский м.р.)",null,{"$f":"'Челябинская обл.'!$C$7","v":"13,23"},{"$f":"'Челябинская обл.'!$C$10","v":1005.74},{"$f":"'Челябинская обл.'!$C$11","v":0},{"$f":"'Челябинская обл.'!$C$12","v":0},{"$f":"'Челябинская обл.'!$C$13","v":0},{"$f":"'Челябинская обл.'!$C$14","v":0},{"$f":"'Челябинская обл.'!$C$17","v":1987.75},{"$f":"'Челябинская обл.'!$C$18","v":0},{"$f":"'Челябинская обл.'!$C$19","v":0},{"$f":"'Челябинская обл.'!$C$20","v":0},{"$f":"'Челябинская обл.'!$C$21","v":0},{"$f":"'Челябинская обл.'!$C$23","v":1493.77},{"$f":"'Челябинская обл.'!$C$24","v":0},{"$f":"'Челябинская обл.'!$C$25","v":0},{"$f":"'Челябинская обл.'!$C$26","v":0},{"$f":"'Челябинская обл.'!$C$27","v":0},{"$f":"'Челябинская обл.'!$C$28","v":0},{"$f":"'Челябинская обл.'!$C$29","v":377.24},{"$f":"'Челябинская обл.'!$C$34","v":13.23},{"$f":"'Челябинская обл.'!$C$37","v":352.76},{"$f":"'Челябинская обл.'!$C$38","v":825.59},{"$f":"'Челябинская обл.'!$C$39","v":0},{"$f":"'Челябинская обл.'!$C$40","v":0},{"$f":"'Челябинская обл.'!$C$41","v":0},{"$f":"'Челябинская обл.'!$C$44","v":1142.9000000000001},{"$f":"'Челябинская обл.'!$C$45","v":1066.98},{"$f":"'Челябинская обл.'!$C$46","v":0},{"$f":"'Челябинская обл.'!$C$47","v":0},{"$f":"'Челябинская обл.'!$C$48","v":0},{"$f":"'Челябинская обл.'!$C$50","v":1081.3599999999999},{"$f":"'Челябинская обл.'!$C$51","v":1328.18},{"$f":"'Челябинская обл.'!$C$52","v":0},{"$f":"'Челябинская обл.'!$C$53","v":0},{"$f":"'Челябинская обл.'!$C$54","v":0},{"$f":"'Челябинская обл.'!$C$55","v":0},{"$f":"'Челябинская обл.'!$C$56","v":243.71}]
["6","ООО \"Русско-Теченское\"",null,{"$f":"'Челябинская обл.'!$C$7","v":"13,23"},{"$f":"'Челябинская обл.'!$C$10","v":1005.74},{"$f":"'Челябинская обл.'!$C$11","v":0},{"$f":"'Челябинская обл.'!$C$12","v":0},{"$f":"'Челябинская обл.'!$C$13","v":0},{"$f":"'Челябинская обл.'!$C$14","v":0},{"$f":"'Челябинская обл.'!$C$17","v":1987.75},{"$f":"'Челябинская обл.'!$C$18","v":0},{"$f":"'Челябинская обл.'!$C$19","v":0},{"$f":"'Челябинская обл.'!$C$20","v":0},{"$f":"'Челябинская обл.'!$C$21","v":0},{"$f":"'Челябинская обл.'!$C$23","v":1493.77},{"$f":"'Челябинская обл.'!$C$24","v":0},{"$f":"'Челябинская обл.'!$C$25","v":0},{"$f":"'Челябинская обл.'!$C$26","v":0},{"$f":"'Челябинская обл.'!$C$27","v":0},{"$f":"'Челябинская обл.'!$C$28","v":0},{"$f":"'Челябинская обл.'!$C$29","v":377.24},{"$f":"'Челябинская обл.'!$C$34","v":13.23},{"$f":"'Челябинская обл.'!$C$37","v":352.76},{"$f":"'Челябинская обл.'!$C$38","v":825.59},{"$f":"'Челябинская обл.'!$C$39","v":0},{"$f":"'Челябинская обл.'!$C$40","v":0},{"$f":"'Челябинская обл.'!$C$41","v":0},{"$f":"'Челябинская обл.'!$C$44","v":1142.9000000000001},{"$f":"'Челябинская обл.'!$C$45","v":1066.98},{"$f":"'Челябинская обл.'!$C$46","v":0},{"$f":"'Челябинская обл.'!$C$47","v":0},{"$f":"'Челябинская обл.'!$C$48","v":0},{"$f":"'Челябинская обл.'!$C$50","v":1081.3599999999999},{"$f":"'Челябинская обл.'!$C$51","v":1328.18},{"$f":"'Челябинская обл.'!$C$52","v":0},{"$f":"'Челябинская обл.'!$C$53","v":0},{"$f":"'Челябинская обл.'!$C$54","v":0},{"$f":"'Челябинская обл.'!$C$55","v":0},{"$f":"'Челябинская обл.'!$C$56","v":243.71}]
["7","ООО \"Сетевое Теплоэнергетическое Предприятие\" (Красноармейский м.р.)",null,{"$f":"'Челябинская обл.'!$C$7","v":"13,23"},{"$f":"'Челябинская обл.'!$C$10","v":1005.74},{"$f":"'Челябинская обл.'!$C$11","v":0},{"$f":"'Челябинская обл.'!$C$12","v":0},{"$f":"'Челябинская обл.'!$C$13","v":0},{"$f":"'Челябинская обл.'!$C$14","v":0},{"$f":"'Челябинская обл.'!$C$17","v":1987.75},{"$f":"'Челябинская обл.'!$C$18","v":0},{"$f":"'Челябинская обл.'!$C$19","v":0},{"$f":"'Челябинская обл.'!$C$20","v":0},{"$f":"'Челябинская обл.'!$C$21","v":0},{"$f":"'Челябинская обл.'!$C$23","v":1493.77},{"$f":"'Челябинская обл.'!$C$24","v":0},{"$f":"'Челябинская обл.'!$C$25","v":0},{"$f":"'Челябинская обл.'!$C$26","v":0},{"$f":"'Челябинская обл.'!$C$27","v":0},{"$f":"'Челябинская обл.'!$C$28","v":0},{"$f":"'Челябинская обл.'!$C$29","v":377.24},{"$f":"'Челябинская обл.'!$C$34","v":13.23},{"$f":"'Челябинская обл.'!$C$37","v":352.76},{"$f":"'Челябинская обл.'!$C$38","v":825.59},{"$f":"'Челябинская обл.'!$C$39","v":0},{"$f":"'Челябинская обл.'!$C$40","v":0},{"$f":"'Челябинская обл.'!$C$41","v":0},{"$f":"'Челябинская обл.'!$C$44","v":1142.9000000000001},{"$f":"'Челябинская обл.'!$C$45","v":1066.98},{"$f":"'Челябинская обл.'!$C$46","v":0},{"$f":"'Челябинская обл.'!$C$47","v":0},{"$f":"'Челябинская обл.'!$C$48","v":0},{"$f":"'Челябинская обл.'!$C$50","v":1081.3599999999999},{"$f":"'Челябинская обл.'!$C$51","v":1328.18},{"$f":"'Челябинская обл.'!$C$52","v":0},{"$f":"'Челябинская обл.'!$C$53","v":0},{"$f":"'Челябинская обл.'!$C$54","v":0},{"$f":"'Челябинская обл.'!$C$55","v":0},{"$f":"'Челябинская обл.'!$C$56","v":243.71}]
["8","ООО \"Тепло и Сервис\" (Красноармейский м.р.)",null,{"$f":"'Челябинская обл.'!$C$7","v":"13,23"},{"$f":"'Челябинская обл.'!$C$10","v":1005.74},{"$f":"'Челябинская обл.'!$C$11","v":0},{"$f":"'Челябинская обл.'!$C$12","v":0},{"$f":"'Челябинская обл.'!$C$13","v":0},{"$f":"'Челябинская обл.'!$C$14","v":0},{"$f":"'Челябинская обл.'!$C$17","v":1987.75},{"$f":"'Челябинская обл.'!$C$18","v":0},{"$f":"'Челябинская обл.'!$C$19","v":0},{"$f":"'Челябинская обл.'!$C$20","v":0},{"$f":"'Челябинская обл.'!$C$21","v":0},{"$f":"'Челябинская обл.'!$C$23","v":1493.77},{"$f":"'Челябинская обл.'!$C$24","v":0},{"$f":"'Челябинская обл.'!$C$25","v":0},{"$f":"'Челябинская обл.'!$C$26","v":0},{"$f":"'Челябинская обл.'!$C$27","v":0},{"$f":"'Челябинская обл.'!$C$28","v":0},{"$f":"'Челябинская обл.'!$C$29","v":377.24},{"$f":"'Челябинская обл.'!$C$34","v":13.23},{"$f":"'Челябинская обл.'!$C$37","v":352.76},{"$f":"'Челябинская обл.'!$C$38","v":825.59},{"$f":"'Челябинская обл.'!$C$39","v":0},{"$f":"'Челябинская обл.'!$C$40","v":0},{"$f":"'Челябинская обл.'!$C$41","v":0},{"$f":"'Челябинская обл.'!$C$44","v":1142.9000000000001},{"$f":"'Челябинская обл.'!$C$45","v":1066.98},{"$f":"'Челябинская обл.'!$C$46","v":0},{"$f":"'Челябинская обл.'!$C$47","v":0},{"$f":"'Челябинская обл.'!$C$48","v":0},{"$f":"'Челябинская обл.'!$C$50","v":1081.3599999999999},{"$f":"'Челябинская обл.'!$C$51","v":1328.18},{"$f":"'Челябинская обл.'!$C$52","v":0},{"$f":"'Челябинская обл.'!$C$53","v":0},{"$f":"'Челябинская обл.'!$C$54","v":0},{"$f":"'Челябинская обл.'!$C$55","v":0},{"$f":"'Челябинская обл.'!$C$56","v":243.71}]
["9","ООО \"Теплосервис-Урал\"",null,{"$f":"'Челябинская обл.'!$C$7","v":"13,23"},{"$f":"'Челябинская обл.'!$C$10","v":1005.74},{"$f":"'Челябинская обл.'!$C$11","v":0},{"$f":"'Челябинская обл.'!$C$12","v":0},{"$f":"'Челябинская обл.'!$C$13","v":0},{"$f":"'Челябинская обл.'!$C$14","v":0},{"$f":"'Челябинская обл.'!$C$17","v":1987.75},{"$f":"'Челябинская обл.'!$C$18","v":0},{"$f":"'Челябинская обл.'!$C$19","v":0},{"$f":"'Челябинская обл.'!$C$20","v":0},{"$f":"'Челябинская обл.'!$C$21","v":0},{"$f":"'Челябинская обл.'!$C$23","v":1493.77},{"$f":"'Челябинская обл.'!$C$24","v":0},{"$f":"'Челябинская обл.'!$C$25","v":0},{"$f":"'Челябинская обл.'!$C$26","v":0},{"$f":"'Челябинская обл.'!$C$27","v":0},{"$f":"'Челябинская обл.'!$C$28","v":0},{"$f":"'Челябинская обл.'!$C$29","v":377.24},{"$f":"'Челябинская обл.'!$C$34","v":13.23},{"$f":"'Челябинская обл.'!$C$37","v":352.76},{"$f":"'Челябинская обл.'!$C$38","v":825.59},{"$f":"'Челябинская обл.'!$C$39","v":0},{"$f":"'Челябинская обл.'!$C$40","v":0},{"$f":"'Челябинская обл.'!$C$41","v":0},{"$f":"'Челябинская обл.'!$C$44","v":1142.9000000000001},{"$f":"'Челябинская обл.'!$C$45","v":1066.98},{"$f":"'Челябинская обл.'!$C$46","v":0},{"$f":"'Челябинская обл.'!$C$47","v":0},{"$f":"'Челябинская обл.'!$C$48","v":0},{"$f":"'Челябинская обл.'!$C$50","v":1081.3599999999999},{"$f":"'Челябинская обл.'!$C$51","v":1328.18},{"$f":"'Челябинская обл.'!$C$52","v":0},{"$f":"'Челябинская обл.'!$C$53","v":0},{"$f":"'Челябинская обл.'!$C$54","v":0},{"$f":"'Челябинская обл.'!$C$55","v":0},{"$f":"'Челябинская обл.'!$C$56","v":243.71}]
["10","ООО \"ЭСКО\"",null,{"$f":"'Челябинская обл.'!$C$7","v":"13,23"},{"$f":"'Челябинская обл.'!$C$10","v":1005.74},{"$f":"'Челябинская обл.'!$C$11","v":0},{"$f":"'Челябинская обл.'!$C$12","v":0},{"$f":"'Челябинская обл.'!$C$13","v":0},{"$f":"'Челябинская обл.'!$C$14","v":0},{"$f":"'Челябинская обл.'!$C$17","v":1987.75},{"$f":"'Челябинская обл.'!$C$18","v":0},{"$f":"'Челябинская обл.'!$C$19","v":0},{"$f":"'Челябинская обл.'!$C$20","v":0},{"$f":"'Челябинская обл.'!$C$21","v":0},{"$f":"'Челябинская обл.'!$C$23","v":1493.77},{"$f":"'Челябинская обл.'!$C$24","v":0},{"$f":"'Челябинская обл.'!$C$25","v":0},{"$f":"'Челябинская обл.'!$C$26","v":0},{"$f":"'Челябинская обл.'!$C$27","v":0},{"$f":"'Челябинская обл.'!$C$28","v":0},{"$f":"'Челябинская обл.'!$C$29","v":377.24},{"$f":"'Челябинская обл.'!$C$34","v":13.23},{"$f":"'Челябинская обл.'!$C$37","v":352.76},{"$f":"'Челябинская обл.'!$C$38","v":825.59},{"$f":"'Челябинская обл.'!$C$39","v":0},{"$f":"'Челябинская обл.'!$C$40","v":0},{"$f":"'Челябинская обл.'!$C$41","v":0},{"$f":"'Челябинская обл.'!$C$44","v":1142.9000000000001},{"$f":"'Челябинская обл.'!$C$45","v":1066.98},{"$f":"'Челябинская обл.'!$C$46","v":0},{"$f":"'Челябинская обл.'!$C$47","v":0},{"$f":"'Челябинская обл.'!$C$48","v":0},{"$f":"'Челябинская обл.'!$C$50","v":1081.3599999999999},{"$f":"'Челябинская обл.'!$C$51","v":1328.18},{"$f":"'Челябинская обл.'!$C$52","v":0},{"$f":"'Челябинская обл.'!$C$53","v":0},{"$f":"'Челябинская обл.'!$C$54","v":0},{"$f":"'Челябинская обл.'!$C$55","v":0},{"$f":"'Челябинская обл.'!$C$56","v":243.71}]
[11,"ООО «Перспектива» (Красноармейский м.р.)",null,{"$f":"'Челябинская обл.'!$C$7","v":"13,23"},{"$f":"'Челябинская обл.'!$C$10","v":1005.74},{"$f":"'Челябинская обл.'!$C$11","v":0},{"$f":"'Челябинская обл.'!$C$12","v":0},{"$f":"'Челябинская обл.'!$C$13","v":0},{"$f":"'Челябинская обл.'!$C$14","v":0},{"$f":"'Челябинская обл.'!$C$17","v":1987.75},{"$f":"'Челябинская обл.'!$C$18","v":0},{"$f":"'Челябинская обл.'!$C$19","v":0},{"$f":"'Челябинская обл.'!$C$20","v":0},{"$f":"'Челябинская обл.'!$C$21","v":0},{"$f":"'Челябинская обл.'!$C$23","v":1493.77},{"$f":"'Челябинская обл.'!$C$24","v":0},{"$f":"'Челябинская обл.'!$C$25","v":0},{"$f":"'Челябинская обл.'!$C$26","v":0},{"$f":"'Челябинская обл.'!$C$27","v":0},{"$f":"'Челябинская обл.'!$C$28","v":0},{"$f":"'Челябинская обл.'!$C$29","v":377.24},{"$f":"'Челябинская обл.'!$C$34","v":13.23},{"$f":"'Челябинская обл.'!$C$37","v":352.76},{"$f":"'Челябинская обл.'!$C$38","v":825.59},{"$f":"'Челябинская обл.'!$C$39","v":0},{"$f":"'Челябинская обл.'!$C$40","v":0},{"$f":"'Челябинская обл.'!$C$41","v":0},{"$f":"'Челябинская обл.'!$C$44","v":1142.9000000000001},{"$f":"'Челябинская обл.'!$C$45","v":1066.98},{"$f":"'Челябинская обл.'!$C$46","v":0},{"$f":"'Челябинская обл.'!$C$47","v":0},{"$f":"'Челябинская обл.'!$C$48","v":0},{"$f":"'Челябинская обл.'!$C$50","v":1081.3599999999999},{"$f":"'Челябинская обл.'!$C$51","v":1328.18},{"$f":"'Челябинская обл.'!$C$52","v":0},{"$f":"'Челябинская обл.'!$C$53","v":0},{"$f":"'Челябинская обл.'!$C$54","v":0},{"$f":"'Челябинская обл.'!$C$55","v":0},{"$f":"'Челябинская обл.'!$C$56","v":243.71}]
[31,"Кунашакский муниципальный район"]
["1","АО \"Челябоблкоммунэнерго\" (Челябинская область)",null,{"$f":"'Челябинская обл.'!$C$7","v":"13,23"},{"$f":"'Челябинская обл.'!$C$10","v":1005.74},{"$f":"'Челябинская обл.'!$C$11","v":0},{"$f":"'Челябинская обл.'!$C$12","v":0},{"$f":"'Челябинская обл.'!$C$13","v":0},{"$f":"'Челябинская обл.'!$C$14","v":0},{"$f":"'Челябинская обл.'!$C$17","v":1987.75},{"$f":"'Челябинская обл.'!$C$18","v":0},{"$f":"'Челябинская обл.'!$C$19","v":0},{"$f":"'Челябинская обл.'!$C$20","v":0},{"$f":"'Челябинская обл.'!$C$21","v":0},{"$f":"'Челябинская обл.'!$C$23","v":1493.77},{"$f":"'Челябинская обл.'!$C$24","v":0},{"$f":"'Челябинская обл.'!$C$25","v":0},{"$f":"'Челябинская обл.'!$C$26","v":0},{"$f":"'Челябинская обл.'!$C$27","v":0},{"$f":"'Челябинская обл.'!$C$28","v":0},{"$f":"'Челябинская обл.'!$C$29","v":377.24},{"$f":"'Челябинская обл.'!$C$34","v":13.23},{"$f":"'Челябинская обл.'!$C$37","v":352.76},{"$f":"'Челябинская обл.'!$C$38","v":825.59},{"$f":"'Челябинская обл.'!$C$39","v":0},{"$f":"'Челябинская обл.'!$C$40","v":0},{"$f":"'Челябинская обл.'!$C$41","v":0},{"$f":"'Челябинская обл.'!$C$44","v":1142.9000000000001},{"$f":"'Челябинская обл.'!$C$45","v":1066.98},{"$f":"'Челябинская обл.'!$C$46","v":0},{"$f":"'Челябинская обл.'!$C$47","v":0},{"$f":"'Челябинская обл.'!$C$48","v":0},{"$f":"'Челябинская обл.'!$C$50","v":1081.3599999999999},{"$f":"'Челябинская обл.'!$C$51","v":1328.18},{"$f":"'Челябинская обл.'!$C$52","v":0},{"$f":"'Челябинская обл.'!$C$53","v":0},{"$f":"'Челябинская обл.'!$C$54","v":0},{"$f":"'Челябинская обл.'!$C$55","v":0},{"$f":"'Челябинская обл.'!$C$56","v":243.71}]
["2","МУП \"Кунашак Сервис\"",null,{"$f":"'Челябинская обл.'!$C$7","v":"13,23"},{"$f":"'Челябинская обл.'!$C$10","v":1005.74},{"$f":"'Челябинская обл.'!$C$11","v":0},{"$f":"'Челябинская обл.'!$C$12","v":0},{"$f":"'Челябинская обл.'!$C$13","v":0},{"$f":"'Челябинская обл.'!$C$14","v":0},{"$f":"'Челябинская обл.'!$C$17","v":1987.75},{"$f":"'Челябинская обл.'!$C$18","v":0},{"$f":"'Челябинская обл.'!$C$19","v":0},{"$f":"'Челябинская обл.'!$C$20","v":0},{"$f":"'Челябинская обл.'!$C$21","v":0},{"$f":"'Челябинская обл.'!$C$23","v":1493.77},{"$f":"'Челябинская обл.'!$C$24","v":0},{"$f":"'Челябинская обл.'!$C$25","v":0},{"$f":"'Челябинская обл.'!$C$26","v":0},{"$f":"'Челябинская обл.'!$C$27","v":0},{"$f":"'Челябинская обл.'!$C$28","v":0},{"$f":"'Челябинская обл.'!$C$29","v":377.24},{"$f":"'Челябинская обл.'!$C$34","v":13.23},{"$f":"'Челябинская обл.'!$C$37","v":352.76},{"$f":"'Челябинская обл.'!$C$38","v":825.59},{"$f":"'Челябинская обл.'!$C$39","v":0},{"$f":"'Челябинская обл.'!$C$40","v":0},{"$f":"'Челябинская обл.'!$C$41","v":0},{"$f":"'Челябинская обл.'!$C$44","v":1142.9000000000001},{"$f":"'Челябинская обл.'!$C$45","v":1066.98},{"$f":"'Челябинская обл.'!$C$46","v":0},{"$f":"'Челябинская обл.'!$C$47","v":0},{"$f":"'Челябинская обл.'!$C$48","v":0},{"$f":"'Челябинская обл.'!$C$50","v":1081.3599999999999},{"$f":"'Челябинская обл.'!$C$51","v":1328.18},{"$f":"'Челябинская обл.'!$C$52","v":0},{"$f":"'Челябинская обл.'!$C$53","v":0},{"$f":"'Челябинская обл.'!$C$54","v":0},{"$f":"'Челябинская обл.'!$C$55","v":0},{"$f":"'Челябинская обл.'!$C$56","v":243.71}]
["3","ООО \"Ресурс\"",null,{"$f":"'Челябинская обл.'!$C$7","v":"13,23"},{"$f":"'Челябинская обл.'!$C$10","v":1005.74},{"$f":"'Челябинская обл.'!$C$11","v":0},{"$f":"'Челябинская обл.'!$C$12","v":0},{"$f":"'Челябинская обл.'!$C$13","v":0},{"$f":"'Челябинская обл.'!$C$14","v":0},{"$f":"'Челябинская обл.'!$C$17","v":1987.75},{"$f":"'Челябинская обл.'!$C$18","v":0},{"$f":"'Челябинская обл.'!$C$19","v":0},{"$f":"'Челябинская обл.'!$C$20","v":0},{"$f":"'Челябинская обл.'!$C$21","v":0},{"$f":"'Челябинская обл.'!$C$23","v":1493.77},{"$f":"'Челябинская обл.'!$C$24","v":0},{"$f":"'Челябинская обл.'!$C$25","v":0},{"$f":"'Челябинская обл.'!$C$26","v":0},{"$f":"'Челябинская обл.'!$C$27","v":0},{"$f":"'Челябинская обл.'!$C$28","v":0},{"$f":"'Челябинская обл.'!$C$29","v":377.24},{"$f":"'Челябинская обл.'!$C$34","v":13.23},{"$f":"'Челябинская обл.'!$C$37","v":352.76},{"$f":"'Челябинская обл.'!$C$38","v":825.59},{"$f":"'Челябинская обл.'!$C$39","v":0},{"$f":"'Челябинская обл.'!$C$40","v":0},{"$f":"'Челябинская обл.'!$C$41","v":0},{"$f":"'Челябинская обл.'!$C$44","v":1142.9000000000001},{"$f":"'Челябинская обл.'!$C$45","v":1066.98},{"$f":"'Челябинская обл.'!$C$46","v":0},{"$f":"'Челябинская обл.'!$C$47","v":0},{"$f":"'Челябинская обл.'!$C$48","v":0},{"$f":"'Челябинская обл.'!$C$50","v":1081.3599999999999},{"$f":"'Челябинская обл.'!$C$51","v":1328.18},{"$f":"'Челябинская обл.'!$C$52","v":0},{"$f":"'Челябинская обл.'!$C$53","v":0},{"$f":"'Челябинская обл.'!$C$54","v":0},{"$f":"'Челябинская обл.'!$C$55","v":0},{"$f":"'Челябинская обл.'!$C$56","v":243.71}]
["4","ООО \"Стрела\"",null,{"$f":"'Челябинская обл.'!$C$7","v":"13,23"},{"$f":"'Челябинская обл.'!$C$10","v":1005.74},{"$f":"'Челябинская обл.'!$C$11","v":0},{"$f":"'Челябинская обл.'!$C$12","v":0},{"$f":"'Челябинская обл.'!$C$13","v":0},{"$f":"'Челябинская обл.'!$C$14","v":0},{"$f":"'Челябинская обл.'!$C$17","v":1987.75},{"$f":"'Челябинская обл.'!$C$18","v":0},{"$f":"'Челябинская обл.'!$C$19","v":0},{"$f":"'Челябинская обл.'!$C$20","v":0},{"$f":"'Челябинская обл.'!$C$21","v":0},{"$f":"'Челябинская обл.'!$C$23","v":1493.77},{"$f":"'Челябинская обл.'!$C$24","v":0},{"$f":"'Челябинская обл.'!$C$25","v":0},{"$f":"'Челябинская обл.'!$C$26","v":0},{"$f":"'Челябинская обл.'!$C$27","v":0},{"$f":"'Челябинская обл.'!$C$28","v":0},{"$f":"'Челябинская обл.'!$C$29","v":377.24},{"$f":"'Челябинская обл.'!$C$34","v":13.23},{"$f":"'Челябинская обл.'!$C$37","v":352.76},{"$f":"'Челябинская обл.'!$C$38","v":825.59},{"$f":"'Челябинская обл.'!$C$39","v":0},{"$f":"'Челябинская обл.'!$C$40","v":0},{"$f":"'Челябинская обл.'!$C$41","v":0},{"$f":"'Челябинская обл.'!$C$44","v":1142.9000000000001},{"$f":"'Челябинская обл.'!$C$45","v":1066.98},{"$f":"'Челябинская обл.'!$C$46","v":0},{"$f":"'Челябинская обл.'!$C$47","v":0},{"$f":"'Челябинская обл.'!$C$48","v":0},{"$f":"'Челябинская обл.'!$C$50","v":1081.3599999999999},{"$f":"'Челябинская обл.'!$C$51","v":1328.18},{"$f":"'Челябинская обл.'!$C$52","v":0},{"$f":"'Челябинская обл.'!$C$53","v":0},{"$f":"'Челябинская обл.'!$C$54","v":0},{"$f":"'Челябинская обл.'!$C$55","v":0},{"$f":"'Челябинская обл.'!$C$56","v":243.71}]
["5","ООО \"Уральская энергия - Южный Урал\" (Кунашакский м.р.)",null,{"$f":"'Челябинская обл.'!$C$7","v":"13,23"},{"$f":"'Челябинская обл.'!$C$10","v":1005.74},{"$f":"'Челябинская обл.'!$C$11","v":0},{"$f":"'Челябинская обл.'!$C$12","v":0},{"$f":"'Челябинская обл.'!$C$13","v":0},{"$f":"'Челябинская обл.'!$C$14","v":0},{"$f":"'Челябинская обл.'!$C$17","v":1987.75},{"$f":"'Челябинская обл.'!$C$18","v":0},{"$f":"'Челябинская обл.'!$C$19","v":0},{"$f":"'Челябинская обл.'!$C$20","v":0},{"$f":"'Челябинская обл.'!$C$21","v":0},{"$f":"'Челябинская обл.'!$C$23","v":1493.77},{"$f":"'Челябинская обл.'!$C$24","v":0},{"$f":"'Челябинская обл.'!$C$25","v":0},{"$f":"'Челябинская обл.'!$C$26","v":0},{"$f":"'Челябинская обл.'!$C$27","v":0},{"$f":"'Челябинская обл.'!$C$28","v":0},{"$f":"'Челябинская обл.'!$C$29","v":377.24},{"$f":"'Челябинская обл.'!$C$34","v":13.23},{"$f":"'Челябинская обл.'!$C$37","v":352.76},{"$f":"'Челябинская обл.'!$C$38","v":825.59},{"$f":"'Челябинская обл.'!$C$39","v":0},{"$f":"'Челябинская обл.'!$C$40","v":0},{"$f":"'Челябинская обл.'!$C$41","v":0},{"$f":"'Челябинская обл.'!$C$44","v":1142.9000000000001},{"$f":"'Челябинская обл.'!$C$45","v":1066.98},{"$f":"'Челябинская обл.'!$C$46","v":0},{"$f":"'Челябинская обл.'!$C$47","v":0},{"$f":"'Челябинская обл.'!$C$48","v":0},{"$f":"'Челябинская обл.'!$C$50","v":1081.3599999999999},{"$f":"'Челябинская обл.'!$C$51","v":1328.18},{"$f":"'Челябинская обл.'!$C$52","v":0},{"$f":"'Челябинская обл.'!$C$53","v":0},{"$f":"'Челябинская обл.'!$C$54","v":0},{"$f":"'Челябинская обл.'!$C$55","v":0},{"$f":"'Челябинская обл.'!$C$56","v":243.71}]
[6,"ООО ГК \"Уральская энергия\" (Кунашакский м.р.)",null,{"$f":"'Челябинская обл.'!$C$7","v":"13,23"},{"$f":"'Челябинская обл.'!$C$10","v":1005.74},{"$f":"'Челябинская обл.'!$C$11","v":0},{"$f":"'Челябинская обл.'!$C$12","v":0},{"$f":"'Челябинская обл.'!$C$13","v":0},{"$f":"'Челябинская обл.'!$C$14","v":0},{"$f":"'Челябинская обл.'!$C$17","v":1987.75},{"$f":"'Челябинская обл.'!$C$18","v":0},{"$f":"'Челябинская обл.'!$C$19","v":0},{"$f":"'Челябинская обл.'!$C$20","v":0},{"$f":"'Челябинская обл.'!$C$21","v":0},{"$f":"'Челябинская обл.'!$C$23","v":1493.77},{"$f":"'Челябинская обл.'!$C$24","v":0},{"$f":"'Челябинская обл.'!$C$25","v":0},{"$f":"'Челябинская обл.'!$C$26","v":0},{"$f":"'Челябинская обл.'!$C$27","v":0},{"$f":"'Челябинская обл.'!$C$28","v":0},{"$f":"'Челябинская обл.'!$C$29","v":377.24},{"$f":"'Челябинская обл.'!$C$34","v":13.23},{"$f":"'Челябинская обл.'!$C$37","v":352.76},{"$f":"'Челябинская обл.'!$C$38","v":825.59},{"$f":"'Челябинская обл.'!$C$39","v":0},{"$f":"'Челябинская обл.'!$C$40","v":0},{"$f":"'Челябинская обл.'!$C$41","v":0},{"$f":"'Челябинская обл.'!$C$44","v":1142.9000000000001},{"$f":"'Челябинская обл.'!$C$45","v":1066.98},{"$f":"'Челябинская обл.'!$C$46","v":0},{"$f":"'Челябинская обл.'!$C$47","v":0},{"$f":"'Челябинская обл.'!$C$48","v":0},{"$f":"'Челябинская обл.'!$C$50","v":1081.3599999999999},{"$f":"'Челябинская обл.'!$C$51","v":1328.18},{"$f":"'Челябинская обл.'!$C$52","v":0},{"$f":"'Челябинская обл.'!$C$53","v":0},{"$f":"'Челябинская обл.'!$C$54","v":0},{"$f":"'Челябинская обл.'!$C$55","v":0},{"$f":"'Челябинская обл.'!$C$56","v":243.71}]
[32,"Кусинский муниципальный район"]
[1,"ООО \"Тепловые сети\"",null,{"$f":"'Челябинская обл.'!$C$7","v":"13,23"},{"$f":"'Челябинская обл.'!$C$10","v":1005.74},{"$f":"'Челябинская обл.'!$C$11","v":0},{"$f":"'Челябинская обл.'!$C$12","v":0},{"$f":"'Челябинская обл.'!$C$13","v":0},{"$f":"'Челябинская обл.'!$C$14","v":0},{"$f":"'Челябинская обл.'!$C$17","v":1987.75},{"$f":"'Челябинская обл.'!$C$18","v":0},{"$f":"'Челябинская обл.'!$C$19","v":0},{"$f":"'Челябинская обл.'!$C$20","v":0},{"$f":"'Челябинская обл.'!$C$21","v":0},{"$f":"'Челябинская обл.'!$C$23","v":1493.77},{"$f":"'Челябинская обл.'!$C$24","v":0},{"$f":"'Челябинская обл.'!$C$25","v":0},{"$f":"'Челябинская обл.'!$C$26","v":0},{"$f":"'Челябинская обл.'!$C$27","v":0},{"$f":"'Челябинская обл.'!$C$28","v":0},{"$f":"'Челябинская обл.'!$C$29","v":377.24},{"$f":"'Челябинская обл.'!$C$34","v":13.23},{"$f":"'Челябинская обл.'!$C$37","v":352.76},{"$f":"'Челябинская обл.'!$C$38","v":825.59},{"$f":"'Челябинская обл.'!$C$39","v":0},{"$f":"'Челябинская обл.'!$C$40","v":0},{"$f":"'Челябинская обл.'!$C$41","v":0},{"$f":"'Челябинская обл.'!$C$44","v":1142.9000000000001},{"$f":"'Челябинская обл.'!$C$45","v":1066.98},{"$f":"'Челябинская обл.'!$C$46","v":0},{"$f":"'Челябинская обл.'!$C$47","v":0},{"$f":"'Челябинская обл.'!$C$48","v":0},{"$f":"'Челябинская обл.'!$C$50","v":1081.3599999999999},{"$f":"'Челябинская обл.'!$C$51","v":1328.18},{"$f":"'Челябинская обл.'!$C$52","v":0},{"$f":"'Челябинская обл.'!$C$53","v":0},{"$f":"'Челябинская обл.'!$C$54","v":0},{"$f":"'Челябинская обл.'!$C$55","v":0},{"$f":"'Челябинская обл.'!$C$56","v":243.71}]
["33","Нагайбакский муниципальный район"]
["1","АО \"Челябоблкоммунэнерго\" (Челябинская область)",null,{"$f":"'Челябинская обл.'!$C$7","v":"13,23"},{"$f":"'Челябинская обл.'!$C$10","v":1005.74},{"$f":"'Челябинская обл.'!$C$11","v":0},{"$f":"'Челябинская обл.'!$C$12","v":0},{"$f":"'Челябинская обл.'!$C$13","v":0},{"$f":"'Челябинская обл.'!$C$14","v":0},{"$f":"'Челябинская обл.'!$C$17","v":1987.75},{"$f":"'Челябинская обл.'!$C$18","v":0},{"$f":"'Челябинская обл.'!$C$19","v":0},{"$f":"'Челябинская обл.'!$C$20","v":0},{"$f":"'Челябинская обл.'!$C$21","v":0},{"$f":"'Челябинская обл.'!$C$23","v":1493.77},{"$f":"'Челябинская обл.'!$C$24","v":0},{"$f":"'Челябинская обл.'!$C$25","v":0},{"$f":"'Челябинская обл.'!$C$26","v":0},{"$f":"'Челябинская обл.'!$C$27","v":0},{"$f":"'Челябинская обл.'!$C$28","v":0},{"$f":"'Челябинская обл.'!$C$29","v":377.24},{"$f":"'Челябинская обл.'!$C$34","v":13.23},{"$f":"'Челябинская обл.'!$C$37","v":352.76},{"$f":"'Челябинская обл.'!$C$38","v":825.59},{"$f":"'Челябинская обл.'!$C$39","v":0},{"$f":"'Челябинская обл.'!$C$40","v":0},{"$f":"'Челябинская обл.'!$C$41","v":0},{"$f":"'Челябинская обл.'!$C$44","v":1142.9000000000001},{"$f":"'Челябинская обл.'!$C$45","v":1066.98},{"$f":"'Челябинская обл.'!$C$46","v":0},{"$f":"'Челябинская обл.'!$C$47","v":0},{"$f":"'Челябинская обл.'!$C$48","v":0},{"$f":"'Челябинская обл.'!$C$50","v":1081.3599999999999},{"$f":"'Челябинская обл.'!$C$51","v":1328.18},{"$f":"'Челябинская обл.'!$C$52","v":0},{"$f":"'Челябинская обл.'!$C$53","v":0},{"$f":"'Челябинская обл.'!$C$54","v":0},{"$f":"'Челябинская обл.'!$C$55","v":0},{"$f":"'Челябинская обл.'!$C$56","v":243.71}]
["2","МУП \"Арсинское ЖКХ\"",null,{"$f":"'Челябинская обл.'!$C$7","v":"13,23"},{"$f":"'Челябинская обл.'!$C$10","v":1005.74},{"$f":"'Челябинская обл.'!$C$11","v":0},{"$f":"'Челябинская обл.'!$C$12","v":0},{"$f":"'Челябинская обл.'!$C$13","v":0},{"$f":"'Челябинская обл.'!$C$14","v":0},{"$f":"'Челябинская обл.'!$C$17","v":1987.75},{"$f":"'Челябинская обл.'!$C$18","v":0},{"$f":"'Челябинская обл.'!$C$19","v":0},{"$f":"'Челябинская обл.'!$C$20","v":0},{"$f":"'Челябинская обл.'!$C$21","v":0},{"$f":"'Челябинская обл.'!$C$23","v":1493.77},{"$f":"'Челябинская обл.'!$C$24","v":0},{"$f":"'Челябинская обл.'!$C$25","v":0},{"$f":"'Челябинская обл.'!$C$26","v":0},{"$f":"'Челябинская обл.'!$C$27","v":0},{"$f":"'Челябинская обл.'!$C$28","v":0},{"$f":"'Челябинская обл.'!$C$29","v":377.24},{"$f":"'Челябинская обл.'!$C$34","v":13.23},{"$f":"'Челябинская обл.'!$C$37","v":352.76},{"$f":"'Челябинская обл.'!$C$38","v":825.59},{"$f":"'Челябинская обл.'!$C$39","v":0},{"$f":"'Челябинская обл.'!$C$40","v":0},{"$f":"'Челябинская обл.'!$C$41","v":0},{"$f":"'Челябинская обл.'!$C$44","v":1142.9000000000001},{"$f":"'Челябинская обл.'!$C$45","v":1066.98},{"$f":"'Челябинская обл.'!$C$46","v":0},{"$f":"'Челябинская обл.'!$C$47","v":0},{"$f":"'Челябинская обл.'!$C$48","v":0},{"$f":"'Челябинская обл.'!$C$50","v":1081.3599999999999},{"$f":"'Челябинская обл.'!$C$51","v":1328.18},{"$f":"'Челябинская обл.'!$C$52","v":0},{"$f":"'Челябинская обл.'!$C$53","v":0},{"$f":"'Челябинская обл.'!$C$54","v":0},{"$f":"'Челябинская обл.'!$C$55","v":0},{"$f":"'Челябинская обл.'!$C$56","v":243.71}]
["3","МУП \"Кассельское ЖКХ\"",null,{"$f":"'Челябинская обл.'!$C$7","v":"13,23"},{"$f":"'Челябинская обл.'!$C$10","v":1005.74},{"$f":"'Челябинская обл.'!$C$11","v":0},{"$f":"'Челябинская обл.'!$C$12","v":0},{"$f":"'Челябинская обл.'!$C$13","v":0},{"$f":"'Челябинская обл.'!$C$14","v":0},{"$f":"'Челябинская обл.'!$C$17","v":1987.75},{"$f":"'Челябинская обл.'!$C$18","v":0},{"$f":"'Челябинская обл.'!$C$19","v":0},{"$f":"'Челябинская обл.'!$C$20","v":0},{"$f":"'Челябинская обл.'!$C$21","v":0},{"$f":"'Челябинская обл.'!$C$23","v":1493.77},{"$f":"'Челябинская обл.'!$C$24","v":0},{"$f":"'Челябинская обл.'!$C$25","v":0},{"$f":"'Челябинская обл.'!$C$26","v":0},{"$f":"'Челябинская обл.'!$C$27","v":0},{"$f":"'Челябинская обл.'!$C$28","v":0},{"$f":"'Челябинская обл.'!$C$29","v":377.24},{"$f":"'Челябинская обл.'!$C$34","v":13.23},{"$f":"'Челябинская обл.'!$C$37","v":352.76},{"$f":"'Челябинская обл.'!$C$38","v":825.59},{"$f":"'Челябинская обл.'!$C$39","v":0},{"$f":"'Челябинская обл.'!$C$40","v":0},{"$f":"'Челябинская обл.'!$C$41","v":0},{"$f":"'Челябинская обл.'!$C$44","v":1142.9000000000001},{"$f":"'Челябинская обл.'!$C$45","v":1066.98},{"$f":"'Челябинская обл.'!$C$46","v":0},{"$f":"'Челябинская обл.'!$C$47","v":0},{"$f":"'Челябинская обл.'!$C$48","v":0},{"$f":"'Челябинская обл.'!$C$50","v":1081.3599999999999},{"$f":"'Челябинская обл.'!$C$51","v":1328.18},{"$f":"'Челябинская обл.'!$C$52","v":0},{"$f":"'Челябинская обл.'!$C$53","v":0},{"$f":"'Челябинская обл.'!$C$54","v":0},{"$f":"'Челябинская обл.'!$C$55","v":0},{"$f":"'Челябинская обл.'!$C$56","v":243.71}]
["4","ОАО \"Челябкоммунэнерго\" (Нагайбакский м.р.)",null,{"$f":"'Челябинская обл.'!$C$7","v":"13,23"},{"$f":"'Челябинская обл.'!$C$10","v":1005.74},{"$f":"'Челябинская обл.'!$C$11","v":0},{"$f":"'Челябинская обл.'!$C$12","v":0},{"$f":"'Челябинская обл.'!$C$13","v":0},{"$f":"'Челябинская обл.'!$C$14","v":0},{"$f":"'Челябинская обл.'!$C$17","v":1987.75},{"$f":"'Челябинская обл.'!$C$18","v":0},{"$f":"'Челябинская обл.'!$C$19","v":0},{"$f":"'Челябинская обл.'!$C$20","v":0},{"$f":"'Челябинская обл.'!$C$21","v":0},{"$f":"'Челябинская обл.'!$C$23","v":1493.77},{"$f":"'Челябинская обл.'!$C$24","v":0},{"$f":"'Челябинская обл.'!$C$25","v":0},{"$f":"'Челябинская обл.'!$C$26","v":0},{"$f":"'Челябинская обл.'!$C$27","v":0},{"$f":"'Челябинская обл.'!$C$28","v":0},{"$f":"'Челябинская обл.'!$C$29","v":377.24},{"$f":"'Челябинская обл.'!$C$34","v":13.23},{"$f":"'Челябинская обл.'!$C$37","v":352.76},{"$f":"'Челябинская обл.'!$C$38","v":825.59},{"$f":"'Челябинская обл.'!$C$39","v":0},{"$f":"'Челябинская обл.'!$C$40","v":0},{"$f":"'Челябинская обл.'!$C$41","v":0},{"$f":"'Челябинская обл.'!$C$44","v":1142.9000000000001},{"$f":"'Челябинская обл.'!$C$45","v":1066.98},{"$f":"'Челябинская обл.'!$C$46","v":0},{"$f":"'Челябинская обл.'!$C$47","v":0},{"$f":"'Челябинская обл.'!$C$48","v":0},{"$f":"'Челябинская обл.'!$C$50","v":1081.3599999999999},{"$f":"'Челябинская обл.'!$C$51","v":1328.18},{"$f":"'Челябинская обл.'!$C$52","v":0},{"$f":"'Челябинская обл.'!$C$53","v":0},{"$f":"'Челябинская обл.'!$C$54","v":0},{"$f":"'Челябинская обл.'!$C$55","v":0},{"$f":"'Челябинская обл.'!$C$56","v":243.71}]
["5","ООО \"Вектор\"",null,{"$f":"'Челябинская обл.'!$C$7","v":"13,23"},{"$f":"'Челябинская обл.'!$C$10","v":1005.74},{"$f":"'Челябинская обл.'!$C$11","v":0},{"$f":"'Челябинская обл.'!$C$12","v":0},{"$f":"'Челябинская обл.'!$C$13","v":0},{"$f":"'Челябинская обл.'!$C$14","v":0},{"$f":"'Челябинская обл.'!$C$17","v":1987.75},{"$f":"'Челябинская обл.'!$C$18","v":0},{"$f":"'Челябинская обл.'!$C$19","v":0},{"$f":"'Челябинская обл.'!$C$20","v":0},{"$f":"'Челябинская обл.'!$C$21","v":0},{"$f":"'Челябинская обл.'!$C$23","v":1493.77},{"$f":"'Челябинская обл.'!$C$24","v":0},{"$f":"'Челябинская обл.'!$C$25","v":0},{"$f":"'Челябинская обл.'!$C$26","v":0},{"$f":"'Челябинская обл.'!$C$27","v":0},{"$f":"'Челябинская обл.'!$C$28","v":0},{"$f":"'Челябинская обл.'!$C$29","v":377.24},{"$f":"'Челябинская обл.'!$C$34","v":13.23},{"$f":"'Челябинская обл.'!$C$37","v":352.76},{"$f":"'Челябинская обл.'!$C$38","v":825.59},{"$f":"'Челябинская обл.'!$C$39","v":0},{"$f":"'Челябинская обл.'!$C$40","v":0},{"$f":"'Челябинская обл.'!$C$41","v":0},{"$f":"'Челябинская обл.'!$C$44","v":1142.9000000000001},{"$f":"'Челябинская обл.'!$C$45","v":1066.98},{"$f":"'Челябинская обл.'!$C$46","v":0},{"$f":"'Челябинская обл.'!$C$47","v":0},{"$f":"'Челябинская обл.'!$C$48","v":0},{"$f":"'Челябинская обл.'!$C$50","v":1081.3599999999999},{"$f":"'Челябинская обл.'!$C$51","v":1328.18},{"$f":"'Челябинская обл.'!$C$52","v":0},{"$f":"'Челябинская обл.'!$C$53","v":0},{"$f":"'Челябинская обл.'!$C$54","v":0},{"$f":"'Челябинская обл.'!$C$55","v":0},{"$f":"'Челябинская обл.'!$C$56","v":243.71}]
["6","ООО \"Уральская энергия\" (Нагайбакский м.р.)",null,{"$f":"'Челябинская обл.'!$C$7","v":"13,23"},{"$f":"'Челябинская обл.'!$C$10","v":1005.74},{"$f":"'Челябинская обл.'!$C$11","v":0},{"$f":"'Челябинская обл.'!$C$12","v":0},{"$f":"'Челябинская обл.'!$C$13","v":0},{"$f":"'Челябинская обл.'!$C$14","v":0},{"$f":"'Челябинская обл.'!$C$17","v":1987.75},{"$f":"'Челябинская обл.'!$C$18","v":0},{"$f":"'Челябинская обл.'!$C$19","v":0},{"$f":"'Челябинская обл.'!$C$20","v":0},{"$f":"'Челябинская обл.'!$C$21","v":0},{"$f":"'Челябинская обл.'!$C$23","v":1493.77},{"$f":"'Челябинская обл.'!$C$24","v":0},{"$f":"'Челябинская обл.'!$C$25","v":0},{"$f":"'Челябинская обл.'!$C$26","v":0},{"$f":"'Челябинская обл.'!$C$27","v":0},{"$f":"'Челябинская обл.'!$C$28","v":0},{"$f":"'Челябинская обл.'!$C$29","v":377.24},{"$f":"'Челябинская обл.'!$C$34","v":13.23},{"$f":"'Челябинская обл.'!$C$37","v":352.76},{"$f":"'Челябинская обл.'!$C$38","v":825.59},{"$f":"'Челябинская обл.'!$C$39","v":0},{"$f":"'Челябинская обл.'!$C$40","v":0},{"$f":"'Челябинская обл.'!$C$41","v":0},{"$f":"'Челябинская обл.'!$C$44","v":1142.9000000000001},{"$f":"'Челябинская обл.'!$C$45","v":1066.98},{"$f":"'Челябинская обл.'!$C$46","v":0},{"$f":"'Челябинская обл.'!$C$47","v":0},{"$f":"'Челябинская обл.'!$C$48","v":0},{"$f":"'Челябинская обл.'!$C$50","v":1081.3599999999999},{"$f":"'Челябинская обл.'!$C$51","v":1328.18},{"$f":"'Челябинская обл.'!$C$52","v":0},{"$f":"'Челябинская обл.'!$C$53","v":0},{"$f":"'Челябинская обл.'!$C$54","v":0},{"$f":"'Челябинская обл.'!$C$55","v":0},{"$f":"'Челябинская обл.'!$C$56","v":243.71}]
[7,"ООО \"Эффективная теплоэнергетика\" (Нагайбакский м.р.)",null,{"$f":"'Челябинская обл.'!$C$7","v":"13,23"},{"$f":"'Челябинская обл.'!$C$10","v":1005.74},{"$f":"'Челябинская обл.'!$C$11","v":0},{"$f":"'Челябинская обл.'!$C$12","v":0},{"$f":"'Челябинская обл.'!$C$13","v":0},{"$f":"'Челябинская обл.'!$C$14","v":0},{"$f":"'Челябинская обл.'!$C$17","v":1987.75},{"$f":"'Челябинская обл.'!$C$18","v":0},{"$f":"'Челябинская обл.'!$C$19","v":0},{"$f":"'Челябинская обл.'!$C$20","v":0},{"$f":"'Челябинская обл.'!$C$21","v":0},{"$f":"'Челябинская обл.'!$C$23","v":1493.77},{"$f":"'Челябинская обл.'!$C$24","v":0},{"$f":"'Челябинская обл.'!$C$25","v":0},{"$f":"'Челябинская обл.'!$C$26","v":0},{"$f":"'Челябинская обл.'!$C$27","v":0},{"$f":"'Челябинская обл.'!$C$28","v":0},{"$f":"'Челябинская обл.'!$C$29","v":377.24},{"$f":"'Челябинская обл.'!$C$34","v":13.23},{"$f":"'Челябинская обл.'!$C$37","v":352.76},{"$f":"'Челябинская обл.'!$C$38","v":825.59},{"$f":"'Челябинская обл.'!$C$39","v":0},{"$f":"'Челябинская обл.'!$C$40","v":0},{"$f":"'Челябинская обл.'!$C$41","v":0},{"$f":"'Челябинская обл.'!$C$44","v":1142.9000000000001},{"$f":"'Челябинская обл.'!$C$45","v":1066.98},{"$f":"'Челябинская обл.'!$C$46","v":0},{"$f":"'Челябинская обл.'!$C$47","v":0},{"$f":"'Челябинская обл.'!$C$48","v":0},{"$f":"'Челябинская обл.'!$C$50","v":1081.3599999999999},{"$f":"'Челябинская обл.'!$C$51","v":1328.18},{"$f":"'Челябинская обл.'!$C$52","v":0},{"$f":"'Челябинская обл.'!$C$53","v":0},{"$f":"'Челябинская обл.'!$C$54","v":0},{"$f":"'Челябинская обл.'!$C$55","v":0},{"$f":"'Челябинская обл.'!$C$56","v":243.71}]
["34","Нязепетровский муниципальный район"]
["1","АО \"Челябоблкоммунэнерго\" (Челябинская область)",null,{"$f":"'Челябинская обл.'!$C$7","v":"13,23"},{"$f":"'Челябинская обл.'!$C$10","v":1005.74},{"$f":"'Челябинская обл.'!$C$11","v":0},{"$f":"'Челябинская обл.'!$C$12","v":0},{"$f":"'Челябинская обл.'!$C$13","v":0},{"$f":"'Челябинская обл.'!$C$14","v":0},{"$f":"'Челябинская обл.'!$C$17","v":1987.75},{"$f":"'Челябинская обл.'!$C$18","v":0},{"$f":"'Челябинская обл.'!$C$19","v":0},{"$f":"'Челябинская обл.'!$C$20","v":0},{"$f":"'Челябинская обл.'!$C$21","v":0},{"$f":"'Челябинская обл.'!$C$23","v":1493.77},{"$f":"'Челябинская обл.'!$C$24","v":0},{"$f":"'Челябинская обл.'!$C$25","v":0},{"$f":"'Челябинская обл.'!$C$26","v":0},{"$f":"'Челябинская обл.'!$C$27","v":0},{"$f":"'Челябинская обл.'!$C$28","v":0},{"$f":"'Челябинская обл.'!$C$29","v":377.24},{"$f":"'Челябинская обл.'!$C$34","v":13.23},{"$f":"'Челябинская обл.'!$C$37","v":352.76},{"$f":"'Челябинская обл.'!$C$38","v":825.59},{"$f":"'Челябинская обл.'!$C$39","v":0},{"$f":"'Челябинская обл.'!$C$40","v":0},{"$f":"'Челябинская обл.'!$C$41","v":0},{"$f":"'Челябинская обл.'!$C$44","v":1142.9000000000001},{"$f":"'Челябинская обл.'!$C$45","v":1066.98},{"$f":"'Челябинская обл.'!$C$46","v":0},{"$f":"'Челябинская обл.'!$C$47","v":0},{"$f":"'Челябинская обл.'!$C$48","v":0},{"$f":"'Челябинская обл.'!$C$50","v":1081.3599999999999},{"$f":"'Челябинская обл.'!$C$51","v":1328.18},{"$f":"'Челябинская обл.'!$C$52","v":0},{"$f":"'Челябинская обл.'!$C$53","v":0},{"$f":"'Челябинская обл.'!$C$54","v":0},{"$f":"'Челябинская обл.'!$C$55","v":0},{"$f":"'Челябинская обл.'!$C$56","v":243.71}]
["2","ООО \"Минигидро\"",null,{"$f":"'Челябинская обл.'!$C$7","v":"13,23"},{"$f":"'Челябинская обл.'!$C$10","v":1005.74},{"$f":"'Челябинская обл.'!$C$11","v":0},{"$f":"'Челябинская обл.'!$C$12","v":0},{"$f":"'Челябинская обл.'!$C$13","v":0},{"$f":"'Челябинская обл.'!$C$14","v":0},{"$f":"'Челябинская обл.'!$C$17","v":1987.75},{"$f":"'Челябинская обл.'!$C$18","v":0},{"$f":"'Челябинская обл.'!$C$19","v":0},{"$f":"'Челябинская обл.'!$C$20","v":0},{"$f":"'Челябинская обл.'!$C$21","v":0},{"$f":"'Челябинская обл.'!$C$23","v":1493.77},{"$f":"'Челябинская обл.'!$C$24","v":0},{"$f":"'Челябинская обл.'!$C$25","v":0},{"$f":"'Челябинская обл.'!$C$26","v":0},{"$f":"'Челябинская обл.'!$C$27","v":0},{"$f":"'Челябинская обл.'!$C$28","v":0},{"$f":"'Челябинская обл.'!$C$29","v":377.24},{"$f":"'Челябинская обл.'!$C$34","v":13.23},{"$f":"'Челябинская обл.'!$C$37","v":352.76},{"$f":"'Челябинская обл.'!$C$38","v":825.59},{"$f":"'Челябинская обл.'!$C$39","v":0},{"$f":"'Челябинская обл.'!$C$40","v":0},{"$f":"'Челябинская обл.'!$C$41","v":0},{"$f":"'Челябинская обл.'!$C$44","v":1142.9000000000001},{"$f":"'Челябинская обл.'!$C$45","v":1066.98},{"$f":"'Челябинская обл.'!$C$46","v":0},{"$f":"'Челябинская обл.'!$C$47","v":0},{"$f":"'Челябинская обл.'!$C$48","v":0},{"$f":"'Челябинская обл.'!$C$50","v":1081.3599999999999},{"$f":"'Челябинская обл.'!$C$51","v":1328.18},{"$f":"'Челябинская обл.'!$C$52","v":0},{"$f":"'Челябинская обл.'!$C$53","v":0},{"$f":"'Челябинская обл.'!$C$54","v":0},{"$f":"'Челябинская обл.'!$C$55","v":0},{"$f":"'Челябинская обл.'!$C$56","v":243.71}]
["3","ООО \"Нязепетровская Тепло-Энергетическая Компания\"",null,{"$f":"'Челябинская обл.'!$C$7","v":"13,23"},{"$f":"'Челябинская обл.'!$C$10","v":1005.74},{"$f":"'Челябинская обл.'!$C$11","v":0},{"$f":"'Челябинская обл.'!$C$12","v":0},{"$f":"'Челябинская обл.'!$C$13","v":0},{"$f":"'Челябинская обл.'!$C$14","v":0},{"$f":"'Челябинская обл.'!$C$17","v":1987.75},{"$f":"'Челябинская обл.'!$C$18","v":0},{"$f":"'Челябинская обл.'!$C$19","v":0},{"$f":"'Челябинская обл.'!$C$20","v":0},{"$f":"'Челябинская обл.'!$C$21","v":0},{"$f":"'Челябинская обл.'!$C$23","v":1493.77},{"$f":"'Челябинская обл.'!$C$24","v":0},{"$f":"'Челябинская обл.'!$C$25","v":0},{"$f":"'Челябинская обл.'!$C$26","v":0},{"$f":"'Челябинская обл.'!$C$27","v":0},{"$f":"'Челябинская обл.'!$C$28","v":0},{"$f":"'Челябинская обл.'!$C$29","v":377.24},{"$f":"'Челябинская обл.'!$C$34","v":13.23},{"$f":"'Челябинская обл.'!$C$37","v":352.76},{"$f":"'Челябинская обл.'!$C$38","v":825.59},{"$f":"'Челябинская обл.'!$C$39","v":0},{"$f":"'Челябинская обл.'!$C$40","v":0},{"$f":"'Челябинская обл.'!$C$41","v":0},{"$f":"'Челябинская обл.'!$C$44","v":1142.9000000000001},{"$f":"'Челябинская обл.'!$C$45","v":1066.98},{"$f":"'Челябинская обл.'!$C$46","v":0},{"$f":"'Челябинская обл.'!$C$47","v":0},{"$f":"'Челябинская обл.'!$C$48","v":0},{"$f":"'Челябинская обл.'!$C$50","v":1081.3599999999999},{"$f":"'Челябинская обл.'!$C$51","v":1328.18},{"$f":"'Челябинская обл.'!$C$52","v":0},{"$f":"'Челябинская обл.'!$C$53","v":0},{"$f":"'Челябинская обл.'!$C$54","v":0},{"$f":"'Челябинская обл.'!$C$55","v":0},{"$f":"'Челябинская обл.'!$C$56","v":243.71}]
["4","ООО \"Теплоснаб\", г.Екатеринбург",null,{"$f":"'Челябинская обл.'!$C$7","v":"13,23"},{"$f":"'Челябинская обл.'!$C$10","v":1005.74},{"$f":"'Челябинская обл.'!$C$11","v":0},{"$f":"'Челябинская обл.'!$C$12","v":0},{"$f":"'Челябинская обл.'!$C$13","v":0},{"$f":"'Челябинская обл.'!$C$14","v":0},{"$f":"'Челябинская обл.'!$C$17","v":1987.75},{"$f":"'Челябинская обл.'!$C$18","v":0},{"$f":"'Челябинская обл.'!$C$19","v":0},{"$f":"'Челябинская обл.'!$C$20","v":0},{"$f":"'Челябинская обл.'!$C$21","v":0},{"$f":"'Челябинская обл.'!$C$23","v":1493.77},{"$f":"'Челябинская обл.'!$C$24","v":0},{"$f":"'Челябинская обл.'!$C$25","v":0},{"$f":"'Челябинская обл.'!$C$26","v":0},{"$f":"'Челябинская обл.'!$C$27","v":0},{"$f":"'Челябинская обл.'!$C$28","v":0},{"$f":"'Челябинская обл.'!$C$29","v":377.24},{"$f":"'Челябинская обл.'!$C$34","v":13.23},{"$f":"'Челябинская обл.'!$C$37","v":352.76},{"$f":"'Челябинская обл.'!$C$38","v":825.59},{"$f":"'Челябинская обл.'!$C$39","v":0},{"$f":"'Челябинская обл.'!$C$40","v":0},{"$f":"'Челябинская обл.'!$C$41","v":0},{"$f":"'Челябинская обл.'!$C$44","v":1142.9000000000001},{"$f":"'Челябинская обл.'!$C$45","v":1066.98},{"$f":"'Челябинская обл.'!$C$46","v":0},{"$f":"'Челябинская обл.'!$C$47","v":0},{"$f":"'Челябинская обл.'!$C$48","v":0},{"$f":"'Челябинская обл.'!$C$50","v":1081.3599999999999},{"$f":"'Челябинская обл.'!$C$51","v":1328.18},{"$f":"'Челябинская обл.'!$C$52","v":0},{"$f":"'Челябинская обл.'!$C$53","v":0},{"$f":"'Челябинская обл.'!$C$54","v":0},{"$f":"'Челябинская обл.'!$C$55","v":0},{"$f":"'Челябинская обл.'!$C$56","v":243.71}]
[5,"Южно-Уральская дирекция по тепловодоснабжению - структурное подразделение Центральной дирекции по тепловодоснабжению - филиала ОАО \"РЖД\" (Нязепетровский м.р.)",null,{"$f":"'Челябинская обл.'!$C$7","v":"13,23"},{"$f":"'Челябинская обл.'!$C$10","v":1005.74},{"$f":"'Челябинская обл.'!$C$11","v":0},{"$f":"'Челябинская обл.'!$C$12","v":0},{"$f":"'Челябинская обл.'!$C$13","v":0},{"$f":"'Челябинская обл.'!$C$14","v":0},{"$f":"'Челябинская обл.'!$C$17","v":1987.75},{"$f":"'Челябинская обл.'!$C$18","v":0},{"$f":"'Челябинская обл.'!$C$19","v":0},{"$f":"'Челябинская обл.'!$C$20","v":0},{"$f":"'Челябинская обл.'!$C$21","v":0},{"$f":"'Челябинская обл.'!$C$23","v":1493.77},{"$f":"'Челябинская обл.'!$C$24","v":0},{"$f":"'Челябинская обл.'!$C$25","v":0},{"$f":"'Челябинская обл.'!$C$26","v":0},{"$f":"'Челябинская обл.'!$C$27","v":0},{"$f":"'Челябинская обл.'!$C$28","v":0},{"$f":"'Челябинская обл.'!$C$29","v":377.24},{"$f":"'Челябинская обл.'!$C$34","v":13.23},{"$f":"'Челябинская обл.'!$C$37","v":352.76},{"$f":"'Челябинская обл.'!$C$38","v":825.59},{"$f":"'Челябинская обл.'!$C$39","v":0},{"$f":"'Челябинская обл.'!$C$40","v":0},{"$f":"'Челябинская обл.'!$C$41","v":0},{"$f":"'Челябинская обл.'!$C$44","v":1142.9000000000001},{"$f":"'Челябинская обл.'!$C$45","v":1066.98},{"$f":"'Челябинская обл.'!$C$46","v":0},{"$f":"'Челябинская обл.'!$C$47","v":0},{"$f":"'Челябинская обл.'!$C$48","v":0},{"$f":"'Челябинская обл.'!$C$50","v":1081.3599999999999},{"$f":"'Челябинская обл.'!$C$51","v":1328.18},{"$f":"'Челябинская обл.'!$C$52","v":0},{"$f":"'Челябинская обл.'!$C$53","v":0},{"$f":"'Челябинская обл.'!$C$54","v":0},{"$f":"'Челябинская обл.'!$C$55","v":0},{"$f":"'Челябинская обл.'!$C$56","v":243.71}]
["35","Октябрьский муниципальный район"]
["1","АО \"ГУ ЖКХ\"  (Октябрьский м.р.)",null,{"$f":"'Челябинская обл.'!$C$7","v":"13,23"},{"$f":"'Челябинская обл.'!$C$10","v":1005.74},{"$f":"'Челябинская обл.'!$C$11","v":0},{"$f":"'Челябинская обл.'!$C$12","v":0},{"$f":"'Челябинская обл.'!$C$13","v":0},{"$f":"'Челябинская обл.'!$C$14","v":0},{"$f":"'Челябинская обл.'!$C$17","v":1987.75},{"$f":"'Челябинская обл.'!$C$18","v":0},{"$f":"'Челябинская обл.'!$C$19","v":0},{"$f":"'Челябинская обл.'!$C$20","v":0},{"$f":"'Челябинская обл.'!$C$21","v":0},{"$f":"'Челябинская обл.'!$C$23","v":1493.77},{"$f":"'Челябинская обл.'!$C$24","v":0},{"$f":"'Челябинская обл.'!$C$25","v":0},{"$f":"'Челябинская обл.'!$C$26","v":0},{"$f":"'Челябинская обл.'!$C$27","v":0},{"$f":"'Челябинская обл.'!$C$28","v":0},{"$f":"'Челябинская обл.'!$C$29","v":377.24},{"$f":"'Челябинская обл.'!$C$34","v":13.23},{"$f":"'Челябинская обл.'!$C$37","v":352.76},{"$f":"'Челябинская обл.'!$C$38","v":825.59},{"$f":"'Челябинская обл.'!$C$39","v":0},{"$f":"'Челябинская обл.'!$C$40","v":0},{"$f":"'Челябинская обл.'!$C$41","v":0},{"$f":"'Челябинская обл.'!$C$44","v":1142.9000000000001},{"$f":"'Челябинская обл.'!$C$45","v":1066.98},{"$f":"'Челябинская обл.'!$C$46","v":0},{"$f":"'Челябинская обл.'!$C$47","v":0},{"$f":"'Челябинская обл.'!$C$48","v":0},{"$f":"'Челябинская обл.'!$C$50","v":1081.3599999999999},{"$f":"'Челябинская обл.'!$C$51","v":1328.18},{"$f":"'Челябинская обл.'!$C$52","v":0},{"$f":"'Челябинская обл.'!$C$53","v":0},{"$f":"'Челябинская обл.'!$C$54","v":0},{"$f":"'Челябинская обл.'!$C$55","v":0},{"$f":"'Челябинская обл.'!$C$56","v":243.71}]
["2","АО \"Челябоблкоммунэнерго\" (Челябинская область)",null,{"$f":"'Челябинская обл.'!$C$7","v":"13,23"},{"$f":"'Челябинская обл.'!$C$10","v":1005.74},{"$f":"'Челябинская обл.'!$C$11","v":0},{"$f":"'Челябинская обл.'!$C$12","v":0},{"$f":"'Челябинская обл.'!$C$13","v":0},{"$f":"'Челябинская обл.'!$C$14","v":0},{"$f":"'Челябинская обл.'!$C$17","v":1987.75},{"$f":"'Челябинская обл.'!$C$18","v":0},{"$f":"'Челябинская обл.'!$C$19","v":0},{"$f":"'Челябинская обл.'!$C$20","v":0},{"$f":"'Челябинская обл.'!$C$21","v":0},{"$f":"'Челябинская обл.'!$C$23","v":1493.77},{"$f":"'Челябинская обл.'!$C$24","v":0},{"$f":"'Челябинская обл.'!$C$25","v":0},{"$f":"'Челябинская обл.'!$C$26","v":0},{"$f":"'Челябинская обл.'!$C$27","v":0},{"$f":"'Челябинская обл.'!$C$28","v":0},{"$f":"'Челябинская обл.'!$C$29","v":377.24},{"$f":"'Челябинская обл.'!$C$34","v":13.23},{"$f":"'Челябинская обл.'!$C$37","v":352.76},{"$f":"'Челябинская обл.'!$C$38","v":825.59},{"$f":"'Челябинская обл.'!$C$39","v":0},{"$f":"'Челябинская обл.'!$C$40","v":0},{"$f":"'Челябинская обл.'!$C$41","v":0},{"$f":"'Челябинская обл.'!$C$44","v":1142.9000000000001},{"$f":"'Челябинская обл.'!$C$45","v":1066.98},{"$f":"'Челябинская обл.'!$C$46","v":0},{"$f":"'Челябинская обл.'!$C$47","v":0},{"$f":"'Челябинская обл.'!$C$48","v":0},{"$f":"'Челябинская обл.'!$C$50","v":1081.3599999999999},{"$f":"'Челябинская обл.'!$C$51","v":1328.18},{"$f":"'Челябинская обл.'!$C$52","v":0},{"$f":"'Челябинская обл.'!$C$53","v":0},{"$f":"'Челябинская обл.'!$C$54","v":0},{"$f":"'Челябинская обл.'!$C$55","v":0},{"$f":"'Челябинская обл.'!$C$56","v":243.71}]
["3","МУП \"Каракульский Жилкомсервис\"",null,{"$f":"'Челябинская обл.'!$C$7","v":"13,23"},{"$f":"'Челябинская обл.'!$C$10","v":1005.74},{"$f":"'Челябинская обл.'!$C$11","v":0},{"$f":"'Челябинская обл.'!$C$12","v":0},{"$f":"'Челябинская обл.'!$C$13","v":0},{"$f":"'Челябинская обл.'!$C$14","v":0},{"$f":"'Челябинская обл.'!$C$17","v":1987.75},{"$f":"'Челябинская обл.'!$C$18","v":0},{"$f":"'Челябинская обл.'!$C$19","v":0},{"$f":"'Челябинская обл.'!$C$20","v":0},{"$f":"'Челябинская обл.'!$C$21","v":0},{"$f":"'Челябинская обл.'!$C$23","v":1493.77},{"$f":"'Челябинская обл.'!$C$24","v":0},{"$f":"'Челябинская обл.'!$C$25","v":0},{"$f":"'Челябинская обл.'!$C$26","v":0},{"$f":"'Челябинская обл.'!$C$27","v":0},{"$f":"'Челябинская обл.'!$C$28","v":0},{"$f":"'Челябинская обл.'!$C$29","v":377.24},{"$f":"'Челябинская обл.'!$C$34","v":13.23},{"$f":"'Челябинская обл.'!$C$37","v":352.76},{"$f":"'Челябинская обл.'!$C$38","v":825.59},{"$f":"'Челябинская обл.'!$C$39","v":0},{"$f":"'Челябинская обл.'!$C$40","v":0},{"$f":"'Челябинская обл.'!$C$41","v":0},{"$f":"'Челябинская обл.'!$C$44","v":1142.9000000000001},{"$f":"'Челябинская обл.'!$C$45","v":1066.98},{"$f":"'Челябинская обл.'!$C$46","v":0},{"$f":"'Челябинская обл.'!$C$47","v":0},{"$f":"'Челябинская обл.'!$C$48","v":0},{"$f":"'Челябинская обл.'!$C$50","v":1081.3599999999999},{"$f":"'Челябинская обл.'!$C$51","v":1328.18},{"$f":"'Челябинская обл.'!$C$52","v":0},{"$f":"'Челябинская обл.'!$C$53","v":0},{"$f":"'Челябинская обл.'!$C$54","v":0},{"$f":"'Челябинская обл.'!$C$55","v":0},{"$f":"'Челябинская обл.'!$C$56","v":243.71}]
["4","МУП \"Кочердыкское ЖКХ\"",null,{"$f":"'Челябинская обл.'!$C$7","v":"13,23"},{"$f":"'Челябинская обл.'!$C$10","v":1005.74},{"$f":"'Челябинская обл.'!$C$11","v":0},{"$f":"'Челябинская обл.'!$C$12","v":0},{"$f":"'Челябинская обл.'!$C$13","v":0},{"$f":"'Челябинская обл.'!$C$14","v":0},{"$f":"'Челябинская обл.'!$C$17","v":1987.75},{"$f":"'Челябинская обл.'!$C$18","v":0},{"$f":"'Челябинская обл.'!$C$19","v":0},{"$f":"'Челябинская обл.'!$C$20","v":0},{"$f":"'Челябинская обл.'!$C$21","v":0},{"$f":"'Челябинская обл.'!$C$23","v":1493.77},{"$f":"'Челябинская обл.'!$C$24","v":0},{"$f":"'Челябинская обл.'!$C$25","v":0},{"$f":"'Челябинская обл.'!$C$26","v":0},{"$f":"'Челябинская обл.'!$C$27","v":0},{"$f":"'Челябинская обл.'!$C$28","v":0},{"$f":"'Челябинская обл.'!$C$29","v":377.24},{"$f":"'Челябинская обл.'!$C$34","v":13.23},{"$f":"'Челябинская обл.'!$C$37","v":352.76},{"$f":"'Челябинская обл.'!$C$38","v":825.59},{"$f":"'Челябинская обл.'!$C$39","v":0},{"$f":"'Челябинская обл.'!$C$40","v":0},{"$f":"'Челябинская обл.'!$C$41","v":0},{"$f":"'Челябинская обл.'!$C$44","v":1142.9000000000001},{"$f":"'Челябинская обл.'!$C$45","v":1066.98},{"$f":"'Челябинская обл.'!$C$46","v":0},{"$f":"'Челябинская обл.'!$C$47","v":0},{"$f":"'Челябинская обл.'!$C$48","v":0},{"$f":"'Челябинская обл.'!$C$50","v":1081.3599999999999},{"$f":"'Челябинская обл.'!$C$51","v":1328.18},{"$f":"'Челябинская обл.'!$C$52","v":0},{"$f":"'Челябинская обл.'!$C$53","v":0},{"$f":"'Челябинская обл.'!$C$54","v":0},{"$f":"'Челябинская обл.'!$C$55","v":0},{"$f":"'Челябинская обл.'!$C$56","v":243.71}]
[5,"Федеральное государственное казенное учреждение  \"Пограничное управление ФСБ России по Челябинской области\" (Октябрьский м.р.)",null,{"$f":"'Челябинская обл.'!$C$7","v":"13,23"},{"$f":"'Челябинская обл.'!$C$10","v":1005.74},{"$f":"'Челябинская обл.'!$C$11","v":0},{"$f":"'Челябинская обл.'!$C$12","v":0},{"$f":"'Челябинская обл.'!$C$13","v":0},{"$f":"'Челябинская обл.'!$C$14","v":0},{"$f":"'Челябинская обл.'!$C$17","v":1987.75},{"$f":"'Челябинская обл.'!$C$18","v":0},{"$f":"'Челябинская обл.'!$C$19","v":0},{"$f":"'Челябинская обл.'!$C$20","v":0},{"$f":"'Челябинская обл.'!$C$21","v":0},{"$f":"'Челябинская обл.'!$C$23","v":1493.77},{"$f":"'Челябинская обл.'!$C$24","v":0},{"$f":"'Челябинская обл.'!$C$25","v":0},{"$f":"'Челябинская обл.'!$C$26","v":0},{"$f":"'Челябинская обл.'!$C$27","v":0},{"$f":"'Челябинская обл.'!$C$28","v":0},{"$f":"'Челябинская обл.'!$C$29","v":377.24},{"$f":"'Челябинская обл.'!$C$34","v":13.23},{"$f":"'Челябинская обл.'!$C$37","v":352.76},{"$f":"'Челябинская обл.'!$C$38","v":825.59},{"$f":"'Челябинская обл.'!$C$39","v":0},{"$f":"'Челябинская обл.'!$C$40","v":0},{"$f":"'Челябинская обл.'!$C$41","v":0},{"$f":"'Челябинская обл.'!$C$44","v":1142.9000000000001},{"$f":"'Челябинская обл.'!$C$45","v":1066.98},{"$f":"'Челябинская обл.'!$C$46","v":0},{"$f":"'Челябинская обл.'!$C$47","v":0},{"$f":"'Челябинская обл.'!$C$48","v":0},{"$f":"'Челябинская обл.'!$C$50","v":1081.3599999999999},{"$f":"'Челябинская обл.'!$C$51","v":1328.18},{"$f":"'Челябинская обл.'!$C$52","v":0},{"$f":"'Челябинская обл.'!$C$53","v":0},{"$f":"'Челябинская обл.'!$C$54","v":0},{"$f":"'Челябинская обл.'!$C$55","v":0},{"$f":"'Челябинская обл.'!$C$56","v":243.71}]
["36","Пластовский муниципальный район"]
["1","ОАО \"Южуралзолото Группа Компаний\"",null,{"$f":"'Челябинская обл.'!$C$7","v":"13,23"},{"$f":"'Челябинская обл.'!$C$10","v":1005.74},{"$f":"'Челябинская обл.'!$C$11","v":0},{"$f":"'Челябинская обл.'!$C$12","v":0},{"$f":"'Челябинская обл.'!$C$13","v":0},{"$f":"'Челябинская обл.'!$C$14","v":0},{"$f":"'Челябинская обл.'!$C$17","v":1987.75},{"$f":"'Челябинская обл.'!$C$18","v":0},{"$f":"'Челябинская обл.'!$C$19","v":0},{"$f":"'Челябинская обл.'!$C$20","v":0},{"$f":"'Челябинская обл.'!$C$21","v":0},{"$f":"'Челябинская обл.'!$C$23","v":1493.77},{"$f":"'Челябинская обл.'!$C$24","v":0},{"$f":"'Челябинская обл.'!$C$25","v":0},{"$f":"'Челябинская обл.'!$C$26","v":0},{"$f":"'Челябинская обл.'!$C$27","v":0},{"$f":"'Челябинская обл.'!$C$28","v":0},{"$f":"'Челябинская обл.'!$C$29","v":377.24},{"$f":"'Челябинская обл.'!$C$34","v":13.23},{"$f":"'Челябинская обл.'!$C$37","v":352.76},{"$f":"'Челябинская обл.'!$C$38","v":825.59},{"$f":"'Челябинская обл.'!$C$39","v":0},{"$f":"'Челябинская обл.'!$C$40","v":0},{"$f":"'Челябинская обл.'!$C$41","v":0},{"$f":"'Челябинская обл.'!$C$44","v":1142.9000000000001},{"$f":"'Челябинская обл.'!$C$45","v":1066.98},{"$f":"'Челябинская обл.'!$C$46","v":0},{"$f":"'Челябинская обл.'!$C$47","v":0},{"$f":"'Челябинская обл.'!$C$48","v":0},{"$f":"'Челябинская обл.'!$C$50","v":1081.3599999999999},{"$f":"'Челябинская обл.'!$C$51","v":1328.18},{"$f":"'Челябинская обл.'!$C$52","v":0},{"$f":"'Челябинская обл.'!$C$53","v":0},{"$f":"'Челябинская обл.'!$C$54","v":0},{"$f":"'Челябинская обл.'!$C$55","v":0},{"$f":"'Челябинская обл.'!$C$56","v":243.71}]
["2","ООО \"Теплосервис\"",null,{"$f":"'Челябинская обл.'!$C$7","v":"13,23"},{"$f":"'Челябинская обл.'!$C$10","v":1005.74},{"$f":"'Челябинская обл.'!$C$11","v":0},{"$f":"'Челябинская обл.'!$C$12","v":0},{"$f":"'Челябинская обл.'!$C$13","v":0},{"$f":"'Челябинская обл.'!$C$14","v":0},{"$f":"'Челябинская обл.'!$C$17","v":1987.75},{"$f":"'Челябинская обл.'!$C$18","v":0},{"$f":"'Челябинская обл.'!$C$19","v":0},{"$f":"'Челябинская обл.'!$C$20","v":0},{"$f":"'Челябинская обл.'!$C$21","v":0},{"$f":"'Челябинская обл.'!$C$23","v":1493.77},{"$f":"'Челябинская обл.'!$C$24","v":0},{"$f":"'Челябинская обл.'!$C$25","v":0},{"$f":"'Челябинская обл.'!$C$26","v":0},{"$f":"'Челябинская обл.'!$C$27","v":0},{"$f":"'Челябинская обл.'!$C$28","v":0},{"$f":"'Челябинская обл.'!$C$29","v":377.24},{"$f":"'Челябинская обл.'!$C$34","v":13.23},{"$f":"'Челябинская обл.'!$C$37","v":352.76},{"$f":"'Челябинская обл.'!$C$38","v":825.59},{"$f":"'Челябинская обл.'!$C$39","v":0},{"$f":"'Челябинская обл.'!$C$40","v":0},{"$f":"'Челябинская обл.'!$C$41","v":0},{"$f":"'Челябинская обл.'!$C$44","v":1142.9000000000001},{"$f":"'Челябинская обл.'!$C$45","v":1066.98},{"$f":"'Челябинская обл.'!$C$46","v":0},{"$f":"'Челябинская обл.'!$C$47","v":0},{"$f":"'Челябинская обл.'!$C$48","v":0},{"$f":"'Челябинская обл.'!$C$50","v":1081.3599999999999},{"$f":"'Челябинская обл.'!$C$51","v":1328.18},{"$f":"'Челябинская обл.'!$C$52","v":0},{"$f":"'Челябинская обл.'!$C$53","v":0},{"$f":"'Челябинская обл.'!$C$54","v":0},{"$f":"'Челябинская обл.'!$C$55","v":0},{"$f":"'Челябинская обл.'!$C$56","v":243.71}]
[3,"ООО \"Теплоснабжение\"",null,{"$f":"'Челябинская обл.'!$C$7","v":"13,23"},{"$f":"'Челябинская обл.'!$C$10","v":1005.74},{"$f":"'Челябинская обл.'!$C$11","v":0},{"$f":"'Челябинская обл.'!$C$12","v":0},{"$f":"'Челябинская обл.'!$C$13","v":0},{"$f":"'Челябинская обл.'!$C$14","v":0},{"$f":"'Челябинская обл.'!$C$17","v":1987.75},{"$f":"'Челябинская обл.'!$C$18","v":0},{"$f":"'Челябинская обл.'!$C$19","v":0},{"$f":"'Челябинская обл.'!$C$20","v":0},{"$f":"'Челябинская обл.'!$C$21","v":0},{"$f":"'Челябинская обл.'!$C$23","v":1493.77},{"$f":"'Челябинская обл.'!$C$24","v":0},{"$f":"'Челябинская обл.'!$C$25","v":0},{"$f":"'Челябинская обл.'!$C$26","v":0},{"$f":"'Челябинская обл.'!$C$27","v":0},{"$f":"'Челябинская обл.'!$C$28","v":0},{"$f":"'Челябинская обл.'!$C$29","v":377.24},{"$f":"'Челябинская обл.'!$C$34","v":13.23},{"$f":"'Челябинская обл.'!$C$37","v":352.76},{"$f":"'Челябинская обл.'!$C$38","v":825.59},{"$f":"'Челябинская обл.'!$C$39","v":0},{"$f":"'Челябинская обл.'!$C$40","v":0},{"$f":"'Челябинская обл.'!$C$41","v":0},{"$f":"'Челябинская обл.'!$C$44","v":1142.9000000000001},{"$f":"'Челябинская обл.'!$C$45","v":1066.98},{"$f":"'Челябинская обл.'!$C$46","v":0},{"$f":"'Челябинская обл.'!$C$47","v":0},{"$f":"'Челябинская обл.'!$C$48","v":0},{"$f":"'Челябинская обл.'!$C$50","v":1081.3599999999999},{"$f":"'Челябинская обл.'!$C$51","v":1328.18},{"$f":"'Челябинская обл.'!$C$52","v":0},{"$f":"'Челябинская обл.'!$C$53","v":0},{"$f":"'Челябинская обл.'!$C$54","v":0},{"$f":"'Челябинская обл.'!$C$55","v":0},{"$f":"'Челябинская обл.'!$C$56","v":243.71}]
["37","Саткинский муниципальный район"]
["1","ООО \"ЖилКоммунСервис\"",null,{"$f":"'Челябинская обл.'!$C$7","v":"13,23"},{"$f":"'Челябинская обл.'!$C$10","v":1005.74},{"$f":"'Челябинская обл.'!$C$11","v":0},{"$f":"'Челябинская обл.'!$C$12","v":0},{"$f":"'Челябинская обл.'!$C$13","v":0},{"$f":"'Челябинская обл.'!$C$14","v":0},{"$f":"'Челябинская обл.'!$C$17","v":1987.75},{"$f":"'Челябинская обл.'!$C$18","v":0},{"$f":"'Челябинская обл.'!$C$19","v":0},{"$f":"'Челябинская обл.'!$C$20","v":0},{"$f":"'Челябинская обл.'!$C$21","v":0},{"$f":"'Челябинская обл.'!$C$23","v":1493.77},{"$f":"'Челябинская обл.'!$C$24","v":0},{"$f":"'Челябинская обл.'!$C$25","v":0},{"$f":"'Челябинская обл.'!$C$26","v":0},{"$f":"'Челябинская обл.'!$C$27","v":0},{"$f":"'Челябинская обл.'!$C$28","v":0},{"$f":"'Челябинская обл.'!$C$29","v":377.24},{"$f":"'Челябинская обл.'!$C$34","v":13.23},{"$f":"'Челябинская обл.'!$C$37","v":352.76},{"$f":"'Челябинская обл.'!$C$38","v":825.59},{"$f":"'Челябинская обл.'!$C$39","v":0},{"$f":"'Челябинская обл.'!$C$40","v":0},{"$f":"'Челябинская обл.'!$C$41","v":0},{"$f":"'Челябинская обл.'!$C$44","v":1142.9000000000001},{"$f":"'Челябинская обл.'!$C$45","v":1066.98},{"$f":"'Челябинская обл.'!$C$46","v":0},{"$f":"'Челябинская обл.'!$C$47","v":0},{"$f":"'Челябинская обл.'!$C$48","v":0},{"$f":"'Челябинская обл.'!$C$50","v":1081.3599999999999},{"$f":"'Челябинская обл.'!$C$51","v":1328.18},{"$f":"'Челябинская обл.'!$C$52","v":0},{"$f":"'Челябинская обл.'!$C$53","v":0},{"$f":"'Челябинская обл.'!$C$54","v":0},{"$f":"'Челябинская обл.'!$C$55","v":0},{"$f":"'Челябинская обл.'!$C$56","v":243.71}]
["2","ООО \"Реммонтаж Сервис\"",null,{"$f":"'Челябинская обл.'!$C$7","v":"13,23"},{"$f":"'Челябинская обл.'!$C$10","v":1005.74},{"$f":"'Челябинская обл.'!$C$11","v":0},{"$f":"'Челябинская обл.'!$C$12","v":0},{"$f":"'Челябинская обл.'!$C$13","v":0},{"$f":"'Челябинская обл.'!$C$14","v":0},{"$f":"'Челябинская обл.'!$C$17","v":1987.75},{"$f":"'Челябинская обл.'!$C$18","v":0},{"$f":"'Челябинская обл.'!$C$19","v":0},{"$f":"'Челябинская обл.'!$C$20","v":0},{"$f":"'Челябинская обл.'!$C$21","v":0},{"$f":"'Челябинская обл.'!$C$23","v":1493.77},{"$f":"'Челябинская обл.'!$C$24","v":0},{"$f":"'Челябинская обл.'!$C$25","v":0},{"$f":"'Челябинская обл.'!$C$26","v":0},{"$f":"'Челябинская обл.'!$C$27","v":0},{"$f":"'Челябинская обл.'!$C$28","v":0},{"$f":"'Челябинская обл.'!$C$29","v":377.24},{"$f":"'Челябинская обл.'!$C$34","v":13.23},{"$f":"'Челябинская обл.'!$C$37","v":352.76},{"$f":"'Челябинская обл.'!$C$38","v":825.59},{"$f":"'Челябинская обл.'!$C$39","v":0},{"$f":"'Челябинская обл.'!$C$40","v":0},{"$f":"'Челябинская обл.'!$C$41","v":0},{"$f":"'Челябинская обл.'!$C$44","v":1142.9000000000001},{"$f":"'Челябинская обл.'!$C$45","v":1066.98},{"$f":"'Челябинская обл.'!$C$46","v":0},{"$f":"'Челябинская обл.'!$C$47","v":0},{"$f":"'Челябинская обл.'!$C$48","v":0},{"$f":"'Челябинская обл.'!$C$50","v":1081.3599999999999},{"$f":"'Челябинская обл.'!$C$51","v":1328.18},{"$f":"'Челябинская обл.'!$C$52","v":0},{"$f":"'Челябинская обл.'!$C$53","v":0},{"$f":"'Челябинская обл.'!$C$54","v":0},{"$f":"'Челябинская обл.'!$C$55","v":0},{"$f":"'Челябинская обл.'!$C$56","v":243.71}]
["3","АО \"Саткинский чугуноплавильный завод\"",null,{"$f":"'Челябинская обл.'!$C$7","v":"13,23"},{"$f":"'Челябинская обл.'!$C$10","v":1005.74},{"$f":"'Челябинская обл.'!$C$11","v":0},{"$f":"'Челябинская обл.'!$C$12","v":0},{"$f":"'Челябинская обл.'!$C$13","v":0},{"$f":"'Челябинская обл.'!$C$14","v":0},{"$f":"'Челябинская обл.'!$C$17","v":1987.75},{"$f":"'Челябинская обл.'!$C$18","v":0},{"$f":"'Челябинская обл.'!$C$19","v":0},{"$f":"'Челябинская обл.'!$C$20","v":0},{"$f":"'Челябинская обл.'!$C$21","v":0},{"$f":"'Челябинская обл.'!$C$23","v":1493.77},{"$f":"'Челябинская обл.'!$C$24","v":0},{"$f":"'Челябинская обл.'!$C$25","v":0},{"$f":"'Челябинская обл.'!$C$26","v":0},{"$f":"'Челябинская обл.'!$C$27","v":0},{"$f":"'Челябинская обл.'!$C$28","v":0},{"$f":"'Челябинская обл.'!$C$29","v":377.24},{"$f":"'Челябинская обл.'!$C$34","v":13.23},{"$f":"'Челябинская обл.'!$C$37","v":352.76},{"$f":"'Челябинская обл.'!$C$38","v":825.59},{"$f":"'Челябинская обл.'!$C$39","v":0},{"$f":"'Челябинская обл.'!$C$40","v":0},{"$f":"'Челябинская обл.'!$C$41","v":0},{"$f":"'Челябинская обл.'!$C$44","v":1142.9000000000001},{"$f":"'Челябинская обл.'!$C$45","v":1066.98},{"$f":"'Челябинская обл.'!$C$46","v":0},{"$f":"'Челябинская обл.'!$C$47","v":0},{"$f":"'Челябинская обл.'!$C$48","v":0},{"$f":"'Челябинская обл.'!$C$50","v":1081.3599999999999},{"$f":"'Челябинская обл.'!$C$51","v":1328.18},{"$f":"'Челябинская обл.'!$C$52","v":0},{"$f":"'Челябинская обл.'!$C$53","v":0},{"$f":"'Челябинская обл.'!$C$54","v":0},{"$f":"'Челябинская обл.'!$C$55","v":0},{"$f":"'Челябинская обл.'!$C$56","v":243.71}]
["4","ОАО \"Энергосистемы\"",null,{"$f":"'Челябинская обл.'!$C$7","v":"13,23"},{"$f":"'Челябинская обл.'!$C$10","v":1005.74},{"$f":"'Челябинская обл.'!$C$11","v":0},{"$f":"'Челябинская обл.'!$C$12","v":0},{"$f":"'Челябинская обл.'!$C$13","v":0},{"$f":"'Челябинская обл.'!$C$14","v":0},{"$f":"'Челябинская обл.'!$C$17","v":1987.75},{"$f":"'Челябинская обл.'!$C$18","v":0},{"$f":"'Челябинская обл.'!$C$19","v":0},{"$f":"'Челябинская обл.'!$C$20","v":0},{"$f":"'Челябинская обл.'!$C$21","v":0},{"$f":"'Челябинская обл.'!$C$23","v":1493.77},{"$f":"'Челябинская обл.'!$C$24","v":0},{"$f":"'Челябинская обл.'!$C$25","v":0},{"$f":"'Челябинская обл.'!$C$26","v":0},{"$f":"'Челябинская обл.'!$C$27","v":0},{"$f":"'Челябинская обл.'!$C$28","v":0},{"$f":"'Челябинская обл.'!$C$29","v":377.24},{"$f":"'Челябинская обл.'!$C$34","v":13.23},{"$f":"'Челябинская обл.'!$C$37","v":352.76},{"$f":"'Челябинская обл.'!$C$38","v":825.59},{"$f":"'Челябинская обл.'!$C$39","v":0},{"$f":"'Челябинская обл.'!$C$40","v":0},{"$f":"'Челябинская обл.'!$C$41","v":0},{"$f":"'Челябинская обл.'!$C$44","v":1142.9000000000001},{"$f":"'Челябинская обл.'!$C$45","v":1066.98},{"$f":"'Челябинская обл.'!$C$46","v":0},{"$f":"'Челябинская обл.'!$C$47","v":0},{"$f":"'Челябинская обл.'!$C$48","v":0},{"$f":"'Челябинская обл.'!$C$50","v":1081.3599999999999},{"$f":"'Челябинская обл.'!$C$51","v":1328.18},{"$f":"'Челябинская обл.'!$C$52","v":0},{"$f":"'Челябинская обл.'!$C$53","v":0},{"$f":"'Челябинская обл.'!$C$54","v":0},{"$f":"'Челябинская обл.'!$C$55","v":0},{"$f":"'Челябинская обл.'!$C$56","v":243.71}]
["5","ООО \"МАГ- Энерго\"",null,{"$f":"'Челябинская обл.'!$C$7","v":"13,23"},{"$f":"'Челябинская обл.'!$C$10","v":1005.74},{"$f":"'Челябинская обл.'!$C$11","v":0},{"$f":"'Челябинская обл.'!$C$12","v":0},{"$f":"'Челябинская обл.'!$C$13","v":0},{"$f":"'Челябинская обл.'!$C$14","v":0},{"$f":"'Челябинская обл.'!$C$17","v":1987.75},{"$f":"'Челябинская обл.'!$C$18","v":0},{"$f":"'Челябинская обл.'!$C$19","v":0},{"$f":"'Челябинская обл.'!$C$20","v":0},{"$f":"'Челябинская обл.'!$C$21","v":0},{"$f":"'Челябинская обл.'!$C$23","v":1493.77},{"$f":"'Челябинская обл.'!$C$24","v":0},{"$f":"'Челябинская обл.'!$C$25","v":0},{"$f":"'Челябинская обл.'!$C$26","v":0},{"$f":"'Челябинская обл.'!$C$27","v":0},{"$f":"'Челябинская обл.'!$C$28","v":0},{"$f":"'Челябинская обл.'!$C$29","v":377.24},{"$f":"'Челябинская обл.'!$C$34","v":13.23},{"$f":"'Челябинская обл.'!$C$37","v":352.76},{"$f":"'Челябинская обл.'!$C$38","v":825.59},{"$f":"'Челябинская обл.'!$C$39","v":0},{"$f":"'Челябинская обл.'!$C$40","v":0},{"$f":"'Челябинская обл.'!$C$41","v":0},{"$f":"'Челябинская обл.'!$C$44","v":1142.9000000000001},{"$f":"'Челябинская обл.'!$C$45","v":1066.98},{"$f":"'Челябинская обл.'!$C$46","v":0},{"$f":"'Челябинская обл.'!$C$47","v":0},{"$f":"'Челябинская обл.'!$C$48","v":0},{"$f":"'Челябинская обл.'!$C$50","v":1081.3599999999999},{"$f":"'Челябинская обл.'!$C$51","v":1328.18},{"$f":"'Челябинская обл.'!$C$52","v":0},{"$f":"'Челябинская обл.'!$C$53","v":0},{"$f":"'Челябинская обл.'!$C$54","v":0},{"$f":"'Челябинская обл.'!$C$55","v":0},{"$f":"'Челябинская обл.'!$C$56","v":243.71}]
["6","МУП \"ЖКХ\" п.Жукатау",null,{"$f":"'Челябинская обл.'!$C$7","v":"13,23"},{"$f":"'Челябинская обл.'!$C$10","v":1005.74},{"$f":"'Челябинская обл.'!$C$11","v":0},{"$f":"'Челябинская обл.'!$C$12","v":0},{"$f":"'Челябинская обл.'!$C$13","v":0},{"$f":"'Челябинская обл.'!$C$14","v":0},{"$f":"'Челябинская обл.'!$C$17","v":1987.75},{"$f":"'Челябинская обл.'!$C$18","v":0},{"$f":"'Челябинская обл.'!$C$19","v":0},{"$f":"'Челябинская обл.'!$C$20","v":0},{"$f":"'Челябинская обл.'!$C$21","v":0},{"$f":"'Челябинская обл.'!$C$23","v":1493.77},{"$f":"'Челябинская обл.'!$C$24","v":0},{"$f":"'Челябинская обл.'!$C$25","v":0},{"$f":"'Челябинская обл.'!$C$26","v":0},{"$f":"'Челябинская обл.'!$C$27","v":0},{"$f":"'Челябинская обл.'!$C$28","v":0},{"$f":"'Челябинская обл.'!$C$29","v":377.24},{"$f":"'Челябинская обл.'!$C$34","v":13.23},{"$f":"'Челябинская обл.'!$C$37","v":352.76},{"$f":"'Челябинская обл.'!$C$38","v":825.59},{"$f":"'Челябинская обл.'!$C$39","v":0},{"$f":"'Челябинская обл.'!$C$40","v":0},{"$f":"'Челябинская обл.'!$C$41","v":0},{"$f":"'Челябинская обл.'!$C$44","v":1142.9000000000001},{"$f":"'Челябинская обл.'!$C$45","v":1066.98},{"$f":"'Челябинская обл.'!$C$46","v":0},{"$f":"'Челябинская обл.'!$C$47","v":0},{"$f":"'Челябинская обл.'!$C$48","v":0},{"$f":"'Челябинская обл.'!$C$50","v":1081.3599999999999},{"$f":"'Челябинская обл.'!$C$51","v":1328.18},{"$f":"'Челябинская обл.'!$C$52","v":0},{"$f":"'Челябинская обл.'!$C$53","v":0},{"$f":"'Челябинская обл.'!$C$54","v":0},{"$f":"'Челябинская обл.'!$C$55","v":0},{"$f":"'Челябинская обл.'!$C$56","v":243.71}]
["7","Южно-Уральская дирекция по тепловодоснабжению - структурное подразделение Центральной дирекции по тепловодоснабжению - филиала ОАО \"РЖД\" (Саткинский м.р.)",null,{"$f":"'Челябинская обл.'!$C$7","v":"13,23"},{"$f":"'Челябинская обл.'!$C$10","v":1005.74},{"$f":"'Челябинская обл.'!$C$11","v":0},{"$f":"'Челябинская обл.'!$C$12","v":0},{"$f":"'Челябинская обл.'!$C$13","v":0},{"$f":"'Челябинская обл.'!$C$14","v":0},{"$f":"'Челябинская обл.'!$C$17","v":1987.75},{"$f":"'Челябинская обл.'!$C$18","v":0},{"$f":"'Челябинская обл.'!$C$19","v":0},{"$f":"'Челябинская обл.'!$C$20","v":0},{"$f":"'Челябинская обл.'!$C$21","v":0},{"$f":"'Челябинская обл.'!$C$23","v":1493.77},{"$f":"'Челябинская обл.'!$C$24","v":0},{"$f":"'Челябинская обл.'!$C$25","v":0},{"$f":"'Челябинская обл.'!$C$26","v":0},{"$f":"'Челябинская обл.'!$C$27","v":0},{"$f":"'Челябинская обл.'!$C$28","v":0},{"$f":"'Челябинская обл.'!$C$29","v":377.24},{"$f":"'Челябинская обл.'!$C$34","v":13.23},{"$f":"'Челябинская обл.'!$C$37","v":352.76},{"$f":"'Челябинская обл.'!$C$38","v":825.59},{"$f":"'Челябинская обл.'!$C$39","v":0},{"$f":"'Челябинская обл.'!$C$40","v":0},{"$f":"'Челябинская обл.'!$C$41","v":0},{"$f":"'Челябинская обл.'!$C$44","v":1142.9000000000001},{"$f":"'Челябинская обл.'!$C$45","v":1066.98},{"$f":"'Челябинская обл.'!$C$46","v":0},{"$f":"'Челябинская обл.'!$C$47","v":0},{"$f":"'Челябинская обл.'!$C$48","v":0},{"$f":"'Челябинская обл.'!$C$50","v":1081.3599999999999},{"$f":"'Челябинская обл.'!$C$51","v":1328.18},{"$f":"'Челябинская обл.'!$C$52","v":0},{"$f":"'Челябинская обл.'!$C$53","v":0},{"$f":"'Челябинская обл.'!$C$54","v":0},{"$f":"'Челябинская обл.'!$C$55","v":0},{"$f":"'Челябинская обл.'!$C$56","v":243.71}]
["8","ВУ Бердяуш ВЧДР Златоуст - ОСП АО \"ВРК -3\"",null,{"$f":"'Челябинская обл.'!$C$7","v":"13,23"},{"$f":"'Челябинская обл.'!$C$10","v":1005.74},{"$f":"'Челябинская обл.'!$C$11","v":0},{"$f":"'Челябинская обл.'!$C$12","v":0},{"$f":"'Челябинская обл.'!$C$13","v":0},{"$f":"'Челябинская обл.'!$C$14","v":0},{"$f":"'Челябинская обл.'!$C$17","v":1987.75},{"$f":"'Челябинская обл.'!$C$18","v":0},{"$f":"'Челябинская обл.'!$C$19","v":0},{"$f":"'Челябинская обл.'!$C$20","v":0},{"$f":"'Челябинская обл.'!$C$21","v":0},{"$f":"'Челябинская обл.'!$C$23","v":1493.77},{"$f":"'Челябинская обл.'!$C$24","v":0},{"$f":"'Челябинская обл.'!$C$25","v":0},{"$f":"'Челябинская обл.'!$C$26","v":0},{"$f":"'Челябинская обл.'!$C$27","v":0},{"$f":"'Челябинская обл.'!$C$28","v":0},{"$f":"'Челябинская обл.'!$C$29","v":377.24},{"$f":"'Челябинская обл.'!$C$34","v":13.23},{"$f":"'Челябинская обл.'!$C$37","v":352.76},{"$f":"'Челябинская обл.'!$C$38","v":825.59},{"$f":"'Челябинская обл.'!$C$39","v":0},{"$f":"'Челябинская обл.'!$C$40","v":0},{"$f":"'Челябинская обл.'!$C$41","v":0},{"$f":"'Челябинская обл.'!$C$44","v":1142.9000000000001},{"$f":"'Челябинская обл.'!$C$45","v":1066.98},{"$f":"'Челябинская обл.'!$C$46","v":0},{"$f":"'Челябинская обл.'!$C$47","v":0},{"$f":"'Челябинская обл.'!$C$48","v":0},{"$f":"'Челябинская обл.'!$C$50","v":1081.3599999999999},{"$f":"'Челябинская обл.'!$C$51","v":1328.18},{"$f":"'Челябинская обл.'!$C$52","v":0},{"$f":"'Челябинская обл.'!$C$53","v":0},{"$f":"'Челябинская обл.'!$C$54","v":0},{"$f":"'Челябинская обл.'!$C$55","v":0},{"$f":"'Челябинская обл.'!$C$56","v":243.71}]
["9","ООО \"ЖКХ-Бердяуш\"",null,{"$f":"'Челябинская обл.'!$C$7","v":"13,23"},{"$f":"'Челябинская обл.'!$C$10","v":1005.74},{"$f":"'Челябинская обл.'!$C$11","v":0},{"$f":"'Челябинская обл.'!$C$12","v":0},{"$f":"'Челябинская обл.'!$C$13","v":0},{"$f":"'Челябинская обл.'!$C$14","v":0},{"$f":"'Челябинская обл.'!$C$17","v":1987.75},{"$f":"'Челябинская обл.'!$C$18","v":0},{"$f":"'Челябинская обл.'!$C$19","v":0},{"$f":"'Челябинская обл.'!$C$20","v":0},{"$f":"'Челябинская обл.'!$C$21","v":0},{"$f":"'Челябинская обл.'!$C$23","v":1493.77},{"$f":"'Челябинская обл.'!$C$24","v":0},{"$f":"'Челябинская обл.'!$C$25","v":0},{"$f":"'Челябинская обл.'!$C$26","v":0},{"$f":"'Челябинская обл.'!$C$27","v":0},{"$f":"'Челябинская обл.'!$C$28","v":0},{"$f":"'Челябинская обл.'!$C$29","v":377.24},{"$f":"'Челябинская обл.'!$C$34","v":13.23},{"$f":"'Челябинская обл.'!$C$37","v":352.76},{"$f":"'Челябинская обл.'!$C$38","v":825.59},{"$f":"'Челябинская обл.'!$C$39","v":0},{"$f":"'Челябинская обл.'!$C$40","v":0},{"$f":"'Челябинская обл.'!$C$41","v":0},{"$f":"'Челябинская обл.'!$C$44","v":1142.9000000000001},{"$f":"'Челябинская обл.'!$C$45","v":1066.98},{"$f":"'Челябинская обл.'!$C$46","v":0},{"$f":"'Челябинская обл.'!$C$47","v":0},{"$f":"'Челябинская обл.'!$C$48","v":0},{"$f":"'Челябинская обл.'!$C$50","v":1081.3599999999999},{"$f":"'Челябинская обл.'!$C$51","v":1328.18},{"$f":"'Челябинская обл.'!$C$52","v":0},{"$f":"'Челябинская обл.'!$C$53","v":0},{"$f":"'Челябинская обл.'!$C$54","v":0},{"$f":"'Челябинская обл.'!$C$55","v":0},{"$f":"'Челябинская обл.'!$C$56","v":243.71}]
["10","ООО \"Коммунальное обеспечение населения и сервис\"",null,{"$f":"'Челябинская обл.'!$C$7","v":"13,23"},{"$f":"'Челябинская обл.'!$C$10","v":1005.74},{"$f":"'Челябинская обл.'!$C$11","v":0},{"$f":"'Челябинская обл.'!$C$12","v":0},{"$f":"'Челябинская обл.'!$C$13","v":0},{"$f":"'Челябинская обл.'!$C$14","v":0},{"$f":"'Челябинская обл.'!$C$17","v":1987.75},{"$f":"'Челябинская обл.'!$C$18","v":0},{"$f":"'Челябинская обл.'!$C$19","v":0},{"$f":"'Челябинская обл.'!$C$20","v":0},{"$f":"'Челябинская обл.'!$C$21","v":0},{"$f":"'Челябинская обл.'!$C$23","v":1493.77},{"$f":"'Челябинская обл.'!$C$24","v":0},{"$f":"'Челябинская обл.'!$C$25","v":0},{"$f":"'Челябинская обл.'!$C$26","v":0},{"$f":"'Челябинская обл.'!$C$27","v":0},{"$f":"'Челябинская обл.'!$C$28","v":0},{"$f":"'Челябинская обл.'!$C$29","v":377.24},{"$f":"'Челябинская обл.'!$C$34","v":13.23},{"$f":"'Челябинская обл.'!$C$37","v":352.76},{"$f":"'Челябинская обл.'!$C$38","v":825.59},{"$f":"'Челябинская обл.'!$C$39","v":0},{"$f":"'Челябинская обл.'!$C$40","v":0},{"$f":"'Челябинская обл.'!$C$41","v":0},{"$f":"'Челябинская обл.'!$C$44","v":1142.9000000000001},{"$f":"'Челябинская обл.'!$C$45","v":1066.98},{"$f":"'Челябинская обл.'!$C$46","v":0},{"$f":"'Челябинская обл.'!$C$47","v":0},{"$f":"'Челябинская обл.'!$C$48","v":0},{"$f":"'Челябинская обл.'!$C$50","v":1081.3599999999999},{"$f":"'Челябинская обл.'!$C$51","v":1328.18},{"$f":"'Челябинская обл.'!$C$52","v":0},{"$f":"'Челябинская обл.'!$C$53","v":0},{"$f":"'Челябинская обл.'!$C$54","v":0},{"$f":"'Челябинская обл.'!$C$55","v":0},{"$f":"'Челябинская обл.'!$C$56","v":243.71}]
["11","ООО \"ЖКХ\" п. Сулея",null,{"$f":"'Челябинская обл.'!$C$7","v":"13,23"},{"$f":"'Челябинская обл.'!$C$10","v":1005.74},{"$f":"'Челябинская обл.'!$C$11","v":0},{"$f":"'Челябинская обл.'!$C$12","v":0},{"$f":"'Челябинская обл.'!$C$13","v":0},{"$f":"'Челябинская обл.'!$C$14","v":0},{"$f":"'Челябинская обл.'!$C$17","v":1987.75},{"$f":"'Челябинская обл.'!$C$18","v":0},{"$f":"'Челябинская обл.'!$C$19","v":0},{"$f":"'Челябинская обл.'!$C$20","v":0},{"$f":"'Челябинская обл.'!$C$21","v":0},{"$f":"'Челябинская обл.'!$C$23","v":1493.77},{"$f":"'Челябинская обл.'!$C$24","v":0},{"$f":"'Челябинская обл.'!$C$25","v":0},{"$f":"'Челябинская обл.'!$C$26","v":0},{"$f":"'Челябинская обл.'!$C$27","v":0},{"$f":"'Челябинская обл.'!$C$28","v":0},{"$f":"'Челябинская обл.'!$C$29","v":377.24},{"$f":"'Челябинская обл.'!$C$34","v":13.23},{"$f":"'Челябинская обл.'!$C$37","v":352.76},{"$f":"'Челябинская обл.'!$C$38","v":825.59},{"$f":"'Челябинская обл.'!$C$39","v":0},{"$f":"'Челябинская обл.'!$C$40","v":0},{"$f":"'Челябинская обл.'!$C$41","v":0},{"$f":"'Челябинская обл.'!$C$44","v":1142.9000000000001},{"$f":"'Челябинская обл.'!$C$45","v":1066.98},{"$f":"'Челябинская обл.'!$C$46","v":0},{"$f":"'Челябинская обл.'!$C$47","v":0},{"$f":"'Челябинская обл.'!$C$48","v":0},{"$f":"'Челябинская обл.'!$C$50","v":1081.3599999999999},{"$f":"'Челябинская обл.'!$C$51","v":1328.18},{"$f":"'Челябинская обл.'!$C$52","v":0},{"$f":"'Челябинская обл.'!$C$53","v":0},{"$f":"'Челябинская обл.'!$C$54","v":0},{"$f":"'Челябинская обл.'!$C$55","v":0},{"$f":"'Челябинская обл.'!$C$56","v":243.71}]
["12","Государственное стационарное учреждение социального обслуживания системы социальной защиты населения \"Саткинский психоневрологический интернат\"",null,{"$f":"'Челябинская обл.'!$C$7","v":"13,23"},{"$f":"'Челябинская обл.'!$C$10","v":1005.74},{"$f":"'Челябинская обл.'!$C$11","v":0},{"$f":"'Челябинская обл.'!$C$12","v":0},{"$f":"'Челябинская обл.'!$C$13","v":0},{"$f":"'Челябинская обл.'!$C$14","v":0},{"$f":"'Челябинская обл.'!$C$17","v":1987.75},{"$f":"'Челябинская обл.'!$C$18","v":0},{"$f":"'Челябинская обл.'!$C$19","v":0},{"$f":"'Челябинская обл.'!$C$20","v":0},{"$f":"'Челябинская обл.'!$C$21","v":0},{"$f":"'Челябинская обл.'!$C$23","v":1493.77},{"$f":"'Челябинская обл.'!$C$24","v":0},{"$f":"'Челябинская обл.'!$C$25","v":0},{"$f":"'Челябинская обл.'!$C$26","v":0},{"$f":"'Челябинская обл.'!$C$27","v":0},{"$f":"'Челябинская обл.'!$C$28","v":0},{"$f":"'Челябинская обл.'!$C$29","v":377.24},{"$f":"'Челябинская обл.'!$C$34","v":13.23},{"$f":"'Челябинская обл.'!$C$37","v":352.76},{"$f":"'Челябинская обл.'!$C$38","v":825.59},{"$f":"'Челябинская обл.'!$C$39","v":0},{"$f":"'Челябинская обл.'!$C$40","v":0},{"$f":"'Челябинская обл.'!$C$41","v":0},{"$f":"'Челябинская обл.'!$C$44","v":1142.9000000000001},{"$f":"'Челябинская обл.'!$C$45","v":1066.98},{"$f":"'Челябинская обл.'!$C$46","v":0},{"$f":"'Челябинская обл.'!$C$47","v":0},{"$f":"'Челябинская обл.'!$C$48","v":0},{"$f":"'Челябинская обл.'!$C$50","v":1081.3599999999999},{"$f":"'Челябинская обл.'!$C$51","v":1328.18},{"$f":"'Челябинская обл.'!$C$52","v":0},{"$f":"'Челябинская обл.'!$C$53","v":0},{"$f":"'Челябинская обл.'!$C$54","v":0},{"$f":"'Челябинская обл.'!$C$55","v":0},{"$f":"'Челябинская обл.'!$C$56","v":243.71}]
["13","ООО \"Урал Энерго Девелопмент\"",null,{"$f":"'Челябинская обл.'!$C$7","v":"13,23"},{"$f":"'Челябинская обл.'!$C$10","v":1005.74},{"$f":"'Челябинская обл.'!$C$11","v":0},{"$f":"'Челябинская обл.'!$C$12","v":0},{"$f":"'Челябинская обл.'!$C$13","v":0},{"$f":"'Челябинская обл.'!$C$14","v":0},{"$f":"'Челябинская обл.'!$C$17","v":1987.75},{"$f":"'Челябинская обл.'!$C$18","v":0},{"$f":"'Челябинская обл.'!$C$19","v":0},{"$f":"'Челябинская обл.'!$C$20","v":0},{"$f":"'Челябинская обл.'!$C$21","v":0},{"$f":"'Челябинская обл.'!$C$23","v":1493.77},{"$f":"'Челябинская обл.'!$C$24","v":0},{"$f":"'Челябинская обл.'!$C$25","v":0},{"$f":"'Челябинская обл.'!$C$26","v":0},{"$f":"'Челябинская обл.'!$C$27","v":0},{"$f":"'Челябинская обл.'!$C$28","v":0},{"$f":"'Челябинская обл.'!$C$29","v":377.24},{"$f":"'Челябинская обл.'!$C$34","v":13.23},{"$f":"'Челябинская обл.'!$C$37","v":352.76},{"$f":"'Челябинская обл.'!$C$38","v":825.59},{"$f":"'Челябинская обл.'!$C$39","v":0},{"$f":"'Челябинская обл.'!$C$40","v":0},{"$f":"'Челябинская обл.'!$C$41","v":0},{"$f":"'Челябинская обл.'!$C$44","v":1142.9000000000001},{"$f":"'Челябинская обл.'!$C$45","v":1066.98},{"$f":"'Челябинская обл.'!$C$46","v":0},{"$f":"'Челябинская обл.'!$C$47","v":0},{"$f":"'Челябинская обл.'!$C$48","v":0},{"$f":"'Челябинская обл.'!$C$50","v":1081.3599999999999},{"$f":"'Челябинская обл.'!$C$51","v":1328.18},{"$f":"'Челябинская обл.'!$C$52","v":0},{"$f":"'Челябинская обл.'!$C$53","v":0},{"$f":"'Челябинская обл.'!$C$54","v":0},{"$f":"'Челябинская обл.'!$C$55","v":0},{"$f":"'Челябинская обл.'!$C$56","v":243.71}]
["14","ООО \"Тепловодоканал\"",null,{"$f":"'Челябинская обл.'!$C$7","v":"13,23"},{"$f":"'Челябинская обл.'!$C$10","v":1005.74},{"$f":"'Челябинская обл.'!$C$11","v":0},{"$f":"'Челябинская обл.'!$C$12","v":0},{"$f":"'Челябинская обл.'!$C$13","v":0},{"$f":"'Челябинская обл.'!$C$14","v":0},{"$f":"'Челябинская обл.'!$C$17","v":1987.75},{"$f":"'Челябинская обл.'!$C$18","v":0},{"$f":"'Челябинская обл.'!$C$19","v":0},{"$f":"'Челябинская обл.'!$C$20","v":0},{"$f":"'Челябинская обл.'!$C$21","v":0},{"$f":"'Челябинская обл.'!$C$23","v":1493.77},{"$f":"'Челябинская обл.'!$C$24","v":0},{"$f":"'Челябинская обл.'!$C$25","v":0},{"$f":"'Челябинская обл.'!$C$26","v":0},{"$f":"'Челябинская обл.'!$C$27","v":0},{"$f":"'Челябинская обл.'!$C$28","v":0},{"$f":"'Челябинская обл.'!$C$29","v":377.24},{"$f":"'Челябинская обл.'!$C$34","v":13.23},{"$f":"'Челябинская обл.'!$C$37","v":352.76},{"$f":"'Челябинская обл.'!$C$38","v":825.59},{"$f":"'Челябинская обл.'!$C$39","v":0},{"$f":"'Челябинская обл.'!$C$40","v":0},{"$f":"'Челябинская обл.'!$C$41","v":0},{"$f":"'Челябинская обл.'!$C$44","v":1142.9000000000001},{"$f":"'Челябинская обл.'!$C$45","v":1066.98},{"$f":"'Челябинская обл.'!$C$46","v":0},{"$f":"'Челябинская обл.'!$C$47","v":0},{"$f":"'Челябинская обл.'!$C$48","v":0},{"$f":"'Челябинская обл.'!$C$50","v":1081.3599999999999},{"$f":"'Челябинская обл.'!$C$51","v":1328.18},{"$f":"'Челябинская обл.'!$C$52","v":0},{"$f":"'Челябинская обл.'!$C$53","v":0},{"$f":"'Челябинская обл.'!$C$54","v":0},{"$f":"'Челябинская обл.'!$C$55","v":0},{"$f":"'Челябинская обл.'!$C$56","v":243.71}]
["15","ООО \"Теплосервис\" (Саткинский м.р.)",null,{"$f":"'Челябинская обл.'!$C$7","v":"13,23"},{"$f":"'Челябинская обл.'!$C$10","v":1005.74},{"$f":"'Челябинская обл.'!$C$11","v":0},{"$f":"'Челябинская обл.'!$C$12","v":0},{"$f":"'Челябинская обл.'!$C$13","v":0},{"$f":"'Челябинская обл.'!$C$14","v":0},{"$f":"'Челябинская обл.'!$C$17","v":1987.75},{"$f":"'Челябинская обл.'!$C$18","v":0},{"$f":"'Челябинская обл.'!$C$19","v":0},{"$f":"'Челябинская обл.'!$C$20","v":0},{"$f":"'Челябинская обл.'!$C$21","v":0},{"$f":"'Челябинская обл.'!$C$23","v":1493.77},{"$f":"'Челябинская обл.'!$C$24","v":0},{"$f":"'Челябинская обл.'!$C$25","v":0},{"$f":"'Челябинская обл.'!$C$26","v":0},{"$f":"'Челябинская обл.'!$C$27","v":0},{"$f":"'Челябинская обл.'!$C$28","v":0},{"$f":"'Челябинская обл.'!$C$29","v":377.24},{"$f":"'Челябинская обл.'!$C$34","v":13.23},{"$f":"'Челябинская обл.'!$C$37","v":352.76},{"$f":"'Челябинская обл.'!$C$38","v":825.59},{"$f":"'Челябинская обл.'!$C$39","v":0},{"$f":"'Челябинская обл.'!$C$40","v":0},{"$f":"'Челябинская обл.'!$C$41","v":0},{"$f":"'Челябинская обл.'!$C$44","v":1142.9000000000001},{"$f":"'Челябинская обл.'!$C$45","v":1066.98},{"$f":"'Челябинская обл.'!$C$46","v":0},{"$f":"'Челябинская обл.'!$C$47","v":0},{"$f":"'Челябинская обл.'!$C$48","v":0},{"$f":"'Челябинская обл.'!$C$50","v":1081.3599999999999},{"$f":"'Челябинская обл.'!$C$51","v":1328.18},{"$f":"'Челябинская обл.'!$C$52","v":0},{"$f":"'Челябинская обл.'!$C$53","v":0},{"$f":"'Челябинская обл.'!$C$54","v":0},{"$f":"'Челябинская обл.'!$C$55","v":0},{"$f":"'Челябинская обл.'!$C$56","v":243.71}]
["16","МУП \"Теплосервис\"",null,{"$f":"'Челябинская обл.'!$C$7","v":"13,23"},{"$f":"'Челябинская обл.'!$C$10","v":1005.74},{"$f":"'Челябинская обл.'!$C$11","v":0},{"$f":"'Челябинская обл.'!$C$12","v":0},{"$f":"'Челябинская обл.'!$C$13","v":0},{"$f":"'Челябинская обл.'!$C$14","v":0},{"$f":"'Челябинская обл.'!$C$17","v":1987.75},{"$f":"'Челябинская обл.'!$C$18","v":0},{"$f":"'Челябинская обл.'!$C$19","v":0},{"$f":"'Челябинская обл.'!$C$20","v":0},{"$f":"'Челябинская обл.'!$C$21","v":0},{"$f":"'Челябинская обл.'!$C$23","v":1493.77},{"$f":"'Челябинская обл.'!$C$24","v":0},{"$f":"'Челябинская обл.'!$C$25","v":0},{"$f":"'Челябинская обл.'!$C$26","v":0},{"$f":"'Челябинская обл.'!$C$27","v":0},{"$f":"'Челябинская обл.'!$C$28","v":0},{"$f":"'Челябинская обл.'!$C$29","v":377.24},{"$f":"'Челябинская обл.'!$C$34","v":13.23},{"$f":"'Челябинская обл.'!$C$37","v":352.76},{"$f":"'Челябинская обл.'!$C$38","v":825.59},{"$f":"'Челябинская обл.'!$C$39","v":0},{"$f":"'Челябинская обл.'!$C$40","v":0},{"$f":"'Челябинская обл.'!$C$41","v":0},{"$f":"'Челябинская обл.'!$C$44","v":1142.9000000000001},{"$f":"'Челябинская обл.'!$C$45","v":1066.98},{"$f":"'Челябинская обл.'!$C$46","v":0},{"$f":"'Челябинская обл.'!$C$47","v":0},{"$f":"'Челябинская обл.'!$C$48","v":0},{"$f":"'Челябинская обл.'!$C$50","v":1081.3599999999999},{"$f":"'Челябинская обл.'!$C$51","v":1328.18},{"$f":"'Челябинская обл.'!$C$52","v":0},{"$f":"'Челябинская обл.'!$C$53","v":0},{"$f":"'Челябинская обл.'!$C$54","v":0},{"$f":"'Челябинская обл.'!$C$55","v":0},{"$f":"'Челябинская обл.'!$C$56","v":243.71}]
["17","ООО \"Эффективная теплоэнергетика\" (Саткинский м.р.)",null,{"$f":"'Челябинская обл.'!$C$7","v":"13,23"},{"$f":"'Челябинская обл.'!$C$10","v":1005.74},{"$f":"'Челябинская обл.'!$C$11","v":0},{"$f":"'Челябинская обл.'!$C$12","v":0},{"$f":"'Челябинская обл.'!$C$13","v":0},{"$f":"'Челябинская обл.'!$C$14","v":0},{"$f":"'Челябинская обл.'!$C$17","v":1987.75},{"$f":"'Челябинская обл.'!$C$18","v":0},{"$f":"'Челябинская обл.'!$C$19","v":0},{"$f":"'Челябинская обл.'!$C$20","v":0},{"$f":"'Челябинская обл.'!$C$21","v":0},{"$f":"'Челябинская обл.'!$C$23","v":1493.77},{"$f":"'Челябинская обл.'!$C$24","v":0},{"$f":"'Челябинская обл.'!$C$25","v":0},{"$f":"'Челябинская обл.'!$C$26","v":0},{"$f":"'Челябинская обл.'!$C$27","v":0},{"$f":"'Челябинская обл.'!$C$28","v":0},{"$f":"'Челябинская обл.'!$C$29","v":377.24},{"$f":"'Челябинская обл.'!$C$34","v":13.23},{"$f":"'Челябинская обл.'!$C$37","v":352.76},{"$f":"'Челябинская обл.'!$C$38","v":825.59},{"$f":"'Челябинская обл.'!$C$39","v":0},{"$f":"'Челябинская обл.'!$C$40","v":0},{"$f":"'Челябинская обл.'!$C$41","v":0},{"$f":"'Челябинская обл.'!$C$44","v":1142.9000000000001},{"$f":"'Челябинская обл.'!$C$45","v":1066.98},{"$f":"'Челябинская обл.'!$C$46","v":0},{"$f":"'Челябинская обл.'!$C$47","v":0},{"$f":"'Челябинская обл.'!$C$48","v":0},{"$f":"'Челябинская обл.'!$C$50","v":1081.3599999999999},{"$f":"'Челябинская обл.'!$C$51","v":1328.18},{"$f":"'Челябинская обл.'!$C$52","v":0},{"$f":"'Челябинская обл.'!$C$53","v":0},{"$f":"'Челябинская обл.'!$C$54","v":0},{"$f":"'Челябинская обл.'!$C$55","v":0},{"$f":"'Челябинская обл.'!$C$56","v":243.71}]
["18","ООО \"ЖЭК\"",null,{"$f":"'Челябинская обл.'!$C$7","v":"13,23"},{"$f":"'Челябинская обл.'!$C$10","v":1005.74},{"$f":"'Челябинская обл.'!$C$11","v":0},{"$f":"'Челябинская обл.'!$C$12","v":0},{"$f":"'Челябинская обл.'!$C$13","v":0},{"$f":"'Челябинская обл.'!$C$14","v":0},{"$f":"'Челябинская обл.'!$C$17","v":1987.75},{"$f":"'Челябинская обл.'!$C$18","v":0},{"$f":"'Челябинская обл.'!$C$19","v":0},{"$f":"'Челябинская обл.'!$C$20","v":0},{"$f":"'Челябинская обл.'!$C$21","v":0},{"$f":"'Челябинская обл.'!$C$23","v":1493.77},{"$f":"'Челябинская обл.'!$C$24","v":0},{"$f":"'Челябинская обл.'!$C$25","v":0},{"$f":"'Челябинская обл.'!$C$26","v":0},{"$f":"'Челябинская обл.'!$C$27","v":0},{"$f":"'Челябинская обл.'!$C$28","v":0},{"$f":"'Челябинская обл.'!$C$29","v":377.24},{"$f":"'Челябинская обл.'!$C$34","v":13.23},{"$f":"'Челябинская обл.'!$C$37","v":352.76},{"$f":"'Челябинская обл.'!$C$38","v":825.59},{"$f":"'Челябинская обл.'!$C$39","v":0},{"$f":"'Челябинская обл.'!$C$40","v":0},{"$f":"'Челябинская обл.'!$C$41","v":0},{"$f":"'Челябинская обл.'!$C$44","v":1142.9000000000001},{"$f":"'Челябинская обл.'!$C$45","v":1066.98},{"$f":"'Челябинская обл.'!$C$46","v":0},{"$f":"'Челябинская обл.'!$C$47","v":0},{"$f":"'Челябинская обл.'!$C$48","v":0},{"$f":"'Челябинская обл.'!$C$50","v":1081.3599999999999},{"$f":"'Челябинская обл.'!$C$51","v":1328.18},{"$f":"'Челябинская обл.'!$C$52","v":0},{"$f":"'Челябинская обл.'!$C$53","v":0},{"$f":"'Челябинская обл.'!$C$54","v":0},{"$f":"'Челябинская обл.'!$C$55","v":0},{"$f":"'Челябинская обл.'!$C$56","v":243.71}]
[19,"ООО \"ЭкоТехнологии\" (Саткинский м.р.)",null,{"$f":"'Челябинская обл.'!$C$7","v":"13,23"},{"$f":"'Челябинская обл.'!$C$10","v":1005.74},{"$f":"'Челябинская обл.'!$C$11","v":0},{"$f":"'Челябинская обл.'!$C$12","v":0},{"$f":"'Челябинская обл.'!$C$13","v":0},{"$f":"'Челябинская обл.'!$C$14","v":0},{"$f":"'Челябинская обл.'!$C$17","v":1987.75},{"$f":"'Челябинская обл.'!$C$18","v":0},{"$f":"'Челябинская обл.'!$C$19","v":0},{"$f":"'Челябинская обл.'!$C$20","v":0},{"$f":"'Челябинская обл.'!$C$21","v":0},{"$f":"'Челябинская обл.'!$C$23","v":1493.77},{"$f":"'Челябинская обл.'!$C$24","v":0},{"$f":"'Челябинская обл.'!$C$25","v":0},{"$f":"'Челябинская обл.'!$C$26","v":0},{"$f":"'Челябинская обл.'!$C$27","v":0},{"$f":"'Челябинская обл.'!$C$28","v":0},{"$f":"'Челябинская обл.'!$C$29","v":377.24},{"$f":"'Челябинская обл.'!$C$34","v":13.23},{"$f":"'Челябинская обл.'!$C$37","v":352.76},{"$f":"'Челябинская обл.'!$C$38","v":825.59},{"$f":"'Челябинская обл.'!$C$39","v":0},{"$f":"'Челябинская обл.'!$C$40","v":0},{"$f":"'Челябинская обл.'!$C$41","v":0},{"$f":"'Челябинская обл.'!$C$44","v":1142.9000000000001},{"$f":"'Челябинская обл.'!$C$45","v":1066.98},{"$f":"'Челябинская обл.'!$C$46","v":0},{"$f":"'Челябинская обл.'!$C$47","v":0},{"$f":"'Челябинская обл.'!$C$48","v":0},{"$f":"'Челябинская обл.'!$C$50","v":1081.3599999999999},{"$f":"'Челябинская обл.'!$C$51","v":1328.18},{"$f":"'Челябинская обл.'!$C$52","v":0},{"$f":"'Челябинская обл.'!$C$53","v":0},{"$f":"'Челябинская обл.'!$C$54","v":0},{"$f":"'Челябинская обл.'!$C$55","v":0},{"$f":"'Челябинская обл.'!$C$56","v":243.71}]
["38","Сосновский муниципальный район"]
["1","\"Дистанция инженерных сооруженией структурного подразделения Южно-Уральской дирекции инфраструктуры Центральной дирекции инфраструктуры - филиала ОАО \"РЖД\"\" (Сосновский м.р.)",null,{"$f":"'Челябинская обл.'!$C$7","v":"13,23"},{"$f":"'Челябинская обл.'!$C$10","v":1005.74},{"$f":"'Челябинская обл.'!$C$11","v":0},{"$f":"'Челябинская обл.'!$C$12","v":0},{"$f":"'Челябинская обл.'!$C$13","v":0},{"$f":"'Челябинская обл.'!$C$14","v":0},{"$f":"'Челябинская обл.'!$C$17","v":1987.75},{"$f":"'Челябинская обл.'!$C$18","v":0},{"$f":"'Челябинская обл.'!$C$19","v":0},{"$f":"'Челябинская обл.'!$C$20","v":0},{"$f":"'Челябинская обл.'!$C$21","v":0},{"$f":"'Челябинская обл.'!$C$23","v":1493.77},{"$f":"'Челябинская обл.'!$C$24","v":0},{"$f":"'Челябинская обл.'!$C$25","v":0},{"$f":"'Челябинская обл.'!$C$26","v":0},{"$f":"'Челябинская обл.'!$C$27","v":0},{"$f":"'Челябинская обл.'!$C$28","v":0},{"$f":"'Челябинская обл.'!$C$29","v":377.24},{"$f":"'Челябинская обл.'!$C$34","v":13.23},{"$f":"'Челябинская обл.'!$C$37","v":352.76},{"$f":"'Челябинская обл.'!$C$38","v":825.59},{"$f":"'Челябинская обл.'!$C$39","v":0},{"$f":"'Челябинская обл.'!$C$40","v":0},{"$f":"'Челябинская обл.'!$C$41","v":0},{"$f":"'Челябинская обл.'!$C$44","v":1142.9000000000001},{"$f":"'Челябинская обл.'!$C$45","v":1066.98},{"$f":"'Челябинская обл.'!$C$46","v":0},{"$f":"'Челябинская обл.'!$C$47","v":0},{"$f":"'Челябинская обл.'!$C$48","v":0},{"$f":"'Челябинская обл.'!$C$50","v":1081.3599999999999},{"$f":"'Челябинская обл.'!$C$51","v":1328.18},{"$f":"'Челябинская обл.'!$C$52","v":0},{"$f":"'Челябинская обл.'!$C$53","v":0},{"$f":"'Челябинская обл.'!$C$54","v":0},{"$f":"'Челябинская обл.'!$C$55","v":0},{"$f":"'Челябинская обл.'!$C$56","v":243.71}]
["2","АО \"Челябоблкоммунэнерго\" (Челябинская область)",null,{"$f":"'Челябинская обл.'!$C$7","v":"13,23"},{"$f":"'Челябинская обл.'!$C$10","v":1005.74},{"$f":"'Челябинская обл.'!$C$11","v":0},{"$f":"'Челябинская обл.'!$C$12","v":0},{"$f":"'Челябинская обл.'!$C$13","v":0},{"$f":"'Челябинская обл.'!$C$14","v":0},{"$f":"'Челябинская обл.'!$C$17","v":1987.75},{"$f":"'Челябинская обл.'!$C$18","v":0},{"$f":"'Челябинская обл.'!$C$19","v":0},{"$f":"'Челябинская обл.'!$C$20","v":0},{"$f":"'Челябинская обл.'!$C$21","v":0},{"$f":"'Челябинская обл.'!$C$23","v":1493.77},{"$f":"'Челябинская обл.'!$C$24","v":0},{"$f":"'Челябинская обл.'!$C$25","v":0},{"$f":"'Челябинская обл.'!$C$26","v":0},{"$f":"'Челябинская обл.'!$C$27","v":0},{"$f":"'Челябинская обл.'!$C$28","v":0},{"$f":"'Челябинская обл.'!$C$29","v":377.24},{"$f":"'Челябинская обл.'!$C$34","v":13.23},{"$f":"'Челябинская обл.'!$C$37","v":352.76},{"$f":"'Челябинская обл.'!$C$38","v":825.59},{"$f":"'Челябинская обл.'!$C$39","v":0},{"$f":"'Челябинская обл.'!$C$40","v":0},{"$f":"'Челябинская обл.'!$C$41","v":0},{"$f":"'Челябинская обл.'!$C$44","v":1142.9000000000001},{"$f":"'Челябинская обл.'!$C$45","v":1066.98},{"$f":"'Челябинская обл.'!$C$46","v":0},{"$f":"'Челябинская обл.'!$C$47","v":0},{"$f":"'Челябинская обл.'!$C$48","v":0},{"$f":"'Челябинская обл.'!$C$50","v":1081.3599999999999},{"$f":"'Челябинская обл.'!$C$51","v":1328.18},{"$f":"'Челябинская обл.'!$C$52","v":0},{"$f":"'Челябинская обл.'!$C$53","v":0},{"$f":"'Челябинская обл.'!$C$54","v":0},{"$f":"'Челябинская обл.'!$C$55","v":0},{"$f":"'Челябинская обл.'!$C$56","v":243.71}]
["3","МУП \"Кременкульские коммунальные системы\" ",null,{"$f":"'Челябинская обл.'!$C$7","v":"13,23"},{"$f":"'Челябинская обл.'!$C$10","v":1005.74},{"$f":"'Челябинская обл.'!$C$11","v":0},{"$f":"'Челябинская обл.'!$C$12","v":0},{"$f":"'Челябинская обл.'!$C$13","v":0},{"$f":"'Челябинская обл.'!$C$14","v":0},{"$f":"'Челябинская обл.'!$C$17","v":1987.75},{"$f":"'Челябинская обл.'!$C$18","v":0},{"$f":"'Челябинская обл.'!$C$19","v":0},{"$f":"'Челябинская обл.'!$C$20","v":0},{"$f":"'Челябинская обл.'!$C$21","v":0},{"$f":"'Челябинская обл.'!$C$23","v":1493.77},{"$f":"'Челябинская обл.'!$C$24","v":0},{"$f":"'Челябинская обл.'!$C$25","v":0},{"$f":"'Челябинская обл.'!$C$26","v":0},{"$f":"'Челябинская обл.'!$C$27","v":0},{"$f":"'Челябинская обл.'!$C$28","v":0},{"$f":"'Челябинская обл.'!$C$29","v":377.24},{"$f":"'Челябинская обл.'!$C$34","v":13.23},{"$f":"'Челябинская обл.'!$C$37","v":352.76},{"$f":"'Челябинская обл.'!$C$38","v":825.59},{"$f":"'Челябинская обл.'!$C$39","v":0},{"$f":"'Челябинская обл.'!$C$40","v":0},{"$f":"'Челябинская обл.'!$C$41","v":0},{"$f":"'Челябинская обл.'!$C$44","v":1142.9000000000001},{"$f":"'Челябинская обл.'!$C$45","v":1066.98},{"$f":"'Челябинская обл.'!$C$46","v":0},{"$f":"'Челябинская обл.'!$C$47","v":0},{"$f":"'Челябинская обл.'!$C$48","v":0},{"$f":"'Челябинская обл.'!$C$50","v":1081.3599999999999},{"$f":"'Челябинская обл.'!$C$51","v":1328.18},{"$f":"'Челябинская обл.'!$C$52","v":0},{"$f":"'Челябинская обл.'!$C$53","v":0},{"$f":"'Челябинская обл.'!$C$54","v":0},{"$f":"'Челябинская обл.'!$C$55","v":0},{"$f":"'Челябинская обл.'!$C$56","v":243.71}]
["4","ОАО \"Есаульское ремонтно-техническое предприятие\"",null,{"$f":"'Челябинская обл.'!$C$7","v":"13,23"},{"$f":"'Челябинская обл.'!$C$10","v":1005.74},{"$f":"'Челябинская обл.'!$C$11","v":0},{"$f":"'Челябинская обл.'!$C$12","v":0},{"$f":"'Челябинская обл.'!$C$13","v":0},{"$f":"'Челябинская обл.'!$C$14","v":0},{"$f":"'Челябинская обл.'!$C$17","v":1987.75},{"$f":"'Челябинская обл.'!$C$18","v":0},{"$f":"'Челябинская обл.'!$C$19","v":0},{"$f":"'Челябинская обл.'!$C$20","v":0},{"$f":"'Челябинская обл.'!$C$21","v":0},{"$f":"'Челябинская обл.'!$C$23","v":1493.77},{"$f":"'Челябинская обл.'!$C$24","v":0},{"$f":"'Челябинская обл.'!$C$25","v":0},{"$f":"'Челябинская обл.'!$C$26","v":0},{"$f":"'Челябинская обл.'!$C$27","v":0},{"$f":"'Челябинская обл.'!$C$28","v":0},{"$f":"'Челябинская обл.'!$C$29","v":377.24},{"$f":"'Челябинская обл.'!$C$34","v":13.23},{"$f":"'Челябинская обл.'!$C$37","v":352.76},{"$f":"'Челябинская обл.'!$C$38","v":825.59},{"$f":"'Челябинская обл.'!$C$39","v":0},{"$f":"'Челябинская обл.'!$C$40","v":0},{"$f":"'Челябинская обл.'!$C$41","v":0},{"$f":"'Челябинская обл.'!$C$44","v":1142.9000000000001},{"$f":"'Челябинская обл.'!$C$45","v":1066.98},{"$f":"'Челябинская обл.'!$C$46","v":0},{"$f":"'Челябинская обл.'!$C$47","v":0},{"$f":"'Челябинская обл.'!$C$48","v":0},{"$f":"'Челябинская обл.'!$C$50","v":1081.3599999999999},{"$f":"'Челябинская обл.'!$C$51","v":1328.18},{"$f":"'Челябинская обл.'!$C$52","v":0},{"$f":"'Челябинская обл.'!$C$53","v":0},{"$f":"'Челябинская обл.'!$C$54","v":0},{"$f":"'Челябинская обл.'!$C$55","v":0},{"$f":"'Челябинская обл.'!$C$56","v":243.71}]
["5","ОАО \"Челябинское\" по племенной работе",null,{"$f":"'Челябинская обл.'!$C$7","v":"13,23"},{"$f":"'Челябинская обл.'!$C$10","v":1005.74},{"$f":"'Челябинская обл.'!$C$11","v":0},{"$f":"'Челябинская обл.'!$C$12","v":0},{"$f":"'Челябинская обл.'!$C$13","v":0},{"$f":"'Челябинская обл.'!$C$14","v":0},{"$f":"'Челябинская обл.'!$C$17","v":1987.75},{"$f":"'Челябинская обл.'!$C$18","v":0},{"$f":"'Челябинская обл.'!$C$19","v":0},{"$f":"'Челябинская обл.'!$C$20","v":0},{"$f":"'Челябинская обл.'!$C$21","v":0},{"$f":"'Челябинская обл.'!$C$23","v":1493.77},{"$f":"'Челябинская обл.'!$C$24","v":0},{"$f":"'Челябинская обл.'!$C$25","v":0},{"$f":"'Челябинская обл.'!$C$26","v":0},{"$f":"'Челябинская обл.'!$C$27","v":0},{"$f":"'Челябинская обл.'!$C$28","v":0},{"$f":"'Челябинская обл.'!$C$29","v":377.24},{"$f":"'Челябинская обл.'!$C$34","v":13.23},{"$f":"'Челябинская обл.'!$C$37","v":352.76},{"$f":"'Челябинская обл.'!$C$38","v":825.59},{"$f":"'Челябинская обл.'!$C$39","v":0},{"$f":"'Челябинская обл.'!$C$40","v":0},{"$f":"'Челябинская обл.'!$C$41","v":0},{"$f":"'Челябинская обл.'!$C$44","v":1142.9000000000001},{"$f":"'Челябинская обл.'!$C$45","v":1066.98},{"$f":"'Челябинская обл.'!$C$46","v":0},{"$f":"'Челябинская обл.'!$C$47","v":0},{"$f":"'Челябинская обл.'!$C$48","v":0},{"$f":"'Челябинская обл.'!$C$50","v":1081.3599999999999},{"$f":"'Челябинская обл.'!$C$51","v":1328.18},{"$f":"'Челябинская обл.'!$C$52","v":0},{"$f":"'Челябинская обл.'!$C$53","v":0},{"$f":"'Челябинская обл.'!$C$54","v":0},{"$f":"'Челябинская обл.'!$C$55","v":0},{"$f":"'Челябинская обл.'!$C$56","v":243.71}]
["6","ООО \"Вознесенское ЖКХ\"",null,{"$f":"'Челябинская обл.'!$C$7","v":"13,23"},{"$f":"'Челябинская обл.'!$C$10","v":1005.74},{"$f":"'Челябинская обл.'!$C$11","v":0},{"$f":"'Челябинская обл.'!$C$12","v":0},{"$f":"'Челябинская обл.'!$C$13","v":0},{"$f":"'Челябинская обл.'!$C$14","v":0},{"$f":"'Челябинская обл.'!$C$17","v":1987.75},{"$f":"'Челябинская обл.'!$C$18","v":0},{"$f":"'Челябинская обл.'!$C$19","v":0},{"$f":"'Челябинская обл.'!$C$20","v":0},{"$f":"'Челябинская обл.'!$C$21","v":0},{"$f":"'Челябинская обл.'!$C$23","v":1493.77},{"$f":"'Челябинская обл.'!$C$24","v":0},{"$f":"'Челябинская обл.'!$C$25","v":0},{"$f":"'Челябинская обл.'!$C$26","v":0},{"$f":"'Челябинская обл.'!$C$27","v":0},{"$f":"'Челябинская обл.'!$C$28","v":0},{"$f":"'Челябинская обл.'!$C$29","v":377.24},{"$f":"'Челябинская обл.'!$C$34","v":13.23},{"$f":"'Челябинская обл.'!$C$37","v":352.76},{"$f":"'Челябинская обл.'!$C$38","v":825.59},{"$f":"'Челябинская обл.'!$C$39","v":0},{"$f":"'Челябинская обл.'!$C$40","v":0},{"$f":"'Челябинская обл.'!$C$41","v":0},{"$f":"'Челябинская обл.'!$C$44","v":1142.9000000000001},{"$f":"'Челябинская обл.'!$C$45","v":1066.98},{"$f":"'Челябинская обл.'!$C$46","v":0},{"$f":"'Челябинская обл.'!$C$47","v":0},{"$f":"'Челябинская обл.'!$C$48","v":0},{"$f":"'Челябинская обл.'!$C$50","v":1081.3599999999999},{"$f":"'Челябинская обл.'!$C$51","v":1328.18},{"$f":"'Челябинская обл.'!$C$52","v":0},{"$f":"'Челябинская обл.'!$C$53","v":0},{"$f":"'Челябинская обл.'!$C$54","v":0},{"$f":"'Челябинская обл.'!$C$55","v":0},{"$f":"'Челябинская обл.'!$C$56","v":243.71}]
["7","ООО \"Жил-Сервис\"",null,{"$f":"'Челябинская обл.'!$C$7","v":"13,23"},{"$f":"'Челябинская обл.'!$C$10","v":1005.74},{"$f":"'Челябинская обл.'!$C$11","v":0},{"$f":"'Челябинская обл.'!$C$12","v":0},{"$f":"'Челябинская обл.'!$C$13","v":0},{"$f":"'Челябинская обл.'!$C$14","v":0},{"$f":"'Челябинская обл.'!$C$17","v":1987.75},{"$f":"'Челябинская обл.'!$C$18","v":0},{"$f":"'Челябинская обл.'!$C$19","v":0},{"$f":"'Челябинская обл.'!$C$20","v":0},{"$f":"'Челябинская обл.'!$C$21","v":0},{"$f":"'Челябинская обл.'!$C$23","v":1493.77},{"$f":"'Челябинская обл.'!$C$24","v":0},{"$f":"'Челябинская обл.'!$C$25","v":0},{"$f":"'Челябинская обл.'!$C$26","v":0},{"$f":"'Челябинская обл.'!$C$27","v":0},{"$f":"'Челябинская обл.'!$C$28","v":0},{"$f":"'Челябинская обл.'!$C$29","v":377.24},{"$f":"'Челябинская обл.'!$C$34","v":13.23},{"$f":"'Челябинская обл.'!$C$37","v":352.76},{"$f":"'Челябинская обл.'!$C$38","v":825.59},{"$f":"'Челябинская обл.'!$C$39","v":0},{"$f":"'Челябинская обл.'!$C$40","v":0},{"$f":"'Челябинская обл.'!$C$41","v":0},{"$f":"'Челябинская обл.'!$C$44","v":1142.9000000000001},{"$f":"'Челябинская обл.'!$C$45","v":1066.98},{"$f":"'Челябинская обл.'!$C$46","v":0},{"$f":"'Челябинская обл.'!$C$47","v":0},{"$f":"'Челябинская обл.'!$C$48","v":0},{"$f":"'Челябинская обл.'!$C$50","v":1081.3599999999999},{"$f":"'Челябинская обл.'!$C$51","v":1328.18},{"$f":"'Челябинская обл.'!$C$52","v":0},{"$f":"'Челябинская обл.'!$C$53","v":0},{"$f":"'Челябинская обл.'!$C$54","v":0},{"$f":"'Челябинская обл.'!$C$55","v":0},{"$f":"'Челябинская обл.'!$C$56","v":243.71}]
["8","ООО \"Здоровый дух\"",null,{"$f":"'Челябинская обл.'!$C$7","v":"13,23"},{"$f":"'Челябинская обл.'!$C$10","v":1005.74},{"$f":"'Челябинская обл.'!$C$11","v":0},{"$f":"'Челябинская обл.'!$C$12","v":0},{"$f":"'Челябинская обл.'!$C$13","v":0},{"$f":"'Челябинская обл.'!$C$14","v":0},{"$f":"'Челябинская обл.'!$C$17","v":1987.75},{"$f":"'Челябинская обл.'!$C$18","v":0},{"$f":"'Челябинская обл.'!$C$19","v":0},{"$f":"'Челябинская обл.'!$C$20","v":0},{"$f":"'Челябинская обл.'!$C$21","v":0},{"$f":"'Челябинская обл.'!$C$23","v":1493.77},{"$f":"'Челябинская обл.'!$C$24","v":0},{"$f":"'Челябинская обл.'!$C$25","v":0},{"$f":"'Челябинская обл.'!$C$26","v":0},{"$f":"'Челябинская обл.'!$C$27","v":0},{"$f":"'Челябинская обл.'!$C$28","v":0},{"$f":"'Челябинская обл.'!$C$29","v":377.24},{"$f":"'Челябинская обл.'!$C$34","v":13.23},{"$f":"'Челябинская обл.'!$C$37","v":352.76},{"$f":"'Челябинская обл.'!$C$38","v":825.59},{"$f":"'Челябинская обл.'!$C$39","v":0},{"$f":"'Челябинская обл.'!$C$40","v":0},{"$f":"'Челябинская обл.'!$C$41","v":0},{"$f":"'Челябинская обл.'!$C$44","v":1142.9000000000001},{"$f":"'Челябинская обл.'!$C$45","v":1066.98},{"$f":"'Челябинская обл.'!$C$46","v":0},{"$f":"'Челябинская обл.'!$C$47","v":0},{"$f":"'Челябинская обл.'!$C$48","v":0},{"$f":"'Челябинская обл.'!$C$50","v":1081.3599999999999},{"$f":"'Челябинская обл.'!$C$51","v":1328.18},{"$f":"'Челябинская обл.'!$C$52","v":0},{"$f":"'Челябинская обл.'!$C$53","v":0},{"$f":"'Челябинская обл.'!$C$54","v":0},{"$f":"'Челябинская обл.'!$C$55","v":0},{"$f":"'Челябинская обл.'!$C$56","v":243.71}]
["9","ООО \"Импульс\"",null,{"$f":"'Челябинская обл.'!$C$7","v":"13,23"},{"$f":"'Челябинская обл.'!$C$10","v":1005.74},{"$f":"'Челябинская обл.'!$C$11","v":0},{"$f":"'Челябинская обл.'!$C$12","v":0},{"$f":"'Челябинская обл.'!$C$13","v":0},{"$f":"'Челябинская обл.'!$C$14","v":0},{"$f":"'Челябинская обл.'!$C$17","v":1987.75},{"$f":"'Челябинская обл.'!$C$18","v":0},{"$f":"'Челябинская обл.'!$C$19","v":0},{"$f":"'Челябинская обл.'!$C$20","v":0},{"$f":"'Челябинская обл.'!$C$21","v":0},{"$f":"'Челябинская обл.'!$C$23","v":1493.77},{"$f":"'Челябинская обл.'!$C$24","v":0},{"$f":"'Челябинская обл.'!$C$25","v":0},{"$f":"'Челябинская обл.'!$C$26","v":0},{"$f":"'Челябинская обл.'!$C$27","v":0},{"$f":"'Челябинская обл.'!$C$28","v":0},{"$f":"'Челябинская обл.'!$C$29","v":377.24},{"$f":"'Челябинская обл.'!$C$34","v":13.23},{"$f":"'Челябинская обл.'!$C$37","v":352.76},{"$f":"'Челябинская обл.'!$C$38","v":825.59},{"$f":"'Челябинская обл.'!$C$39","v":0},{"$f":"'Челябинская обл.'!$C$40","v":0},{"$f":"'Челябинская обл.'!$C$41","v":0},{"$f":"'Челябинская обл.'!$C$44","v":1142.9000000000001},{"$f":"'Челябинская обл.'!$C$45","v":1066.98},{"$f":"'Челябинская обл.'!$C$46","v":0},{"$f":"'Челябинская обл.'!$C$47","v":0},{"$f":"'Челябинская обл.'!$C$48","v":0},{"$f":"'Челябинская обл.'!$C$50","v":1081.3599999999999},{"$f":"'Челябинская обл.'!$C$51","v":1328.18},{"$f":"'Челябинская обл.'!$C$52","v":0},{"$f":"'Челябинская обл.'!$C$53","v":0},{"$f":"'Челябинская обл.'!$C$54","v":0},{"$f":"'Челябинская обл.'!$C$55","v":0},{"$f":"'Челябинская обл.'!$C$56","v":243.71}]
["10","ООО \"Инжиниринговая компания\" Модернизация коммунальных систем\"",null,{"$f":"'Челябинская обл.'!$C$7","v":"13,23"},{"$f":"'Челябинская обл.'!$C$10","v":1005.74},{"$f":"'Челябинская обл.'!$C$11","v":0},{"$f":"'Челябинская обл.'!$C$12","v":0},{"$f":"'Челябинская обл.'!$C$13","v":0},{"$f":"'Челябинская обл.'!$C$14","v":0},{"$f":"'Челябинская обл.'!$C$17","v":1987.75},{"$f":"'Челябинская обл.'!$C$18","v":0},{"$f":"'Челябинская обл.'!$C$19","v":0},{"$f":"'Челябинская обл.'!$C$20","v":0},{"$f":"'Челябинская обл.'!$C$21","v":0},{"$f":"'Челябинская обл.'!$C$23","v":1493.77},{"$f":"'Челябинская обл.'!$C$24","v":0},{"$f":"'Челябинская обл.'!$C$25","v":0},{"$f":"'Челябинская обл.'!$C$26","v":0},{"$f":"'Челябинская обл.'!$C$27","v":0},{"$f":"'Челябинская обл.'!$C$28","v":0},{"$f":"'Челябинская обл.'!$C$29","v":377.24},{"$f":"'Челябинская обл.'!$C$34","v":13.23},{"$f":"'Челябинская обл.'!$C$37","v":352.76},{"$f":"'Челябинская обл.'!$C$38","v":825.59},{"$f":"'Челябинская обл.'!$C$39","v":0},{"$f":"'Челябинская обл.'!$C$40","v":0},{"$f":"'Челябинская обл.'!$C$41","v":0},{"$f":"'Челябинская обл.'!$C$44","v":1142.9000000000001},{"$f":"'Челябинская обл.'!$C$45","v":1066.98},{"$f":"'Челябинская обл.'!$C$46","v":0},{"$f":"'Челябинская обл.'!$C$47","v":0},{"$f":"'Челябинская обл.'!$C$48","v":0},{"$f":"'Челябинская обл.'!$C$50","v":1081.3599999999999},{"$f":"'Челябинская обл.'!$C$51","v":1328.18},{"$f":"'Челябинская обл.'!$C$52","v":0},{"$f":"'Челябинская обл.'!$C$53","v":0},{"$f":"'Челябинская обл.'!$C$54","v":0},{"$f":"'Челябинская обл.'!$C$55","v":0},{"$f":"'Челябинская обл.'!$C$56","v":243.71}]
["11","ООО \"КН-Сервис\"",null,{"$f":"'Челябинская обл.'!$C$7","v":"13,23"},{"$f":"'Челябинская обл.'!$C$10","v":1005.74},{"$f":"'Челябинская обл.'!$C$11","v":0},{"$f":"'Челябинская обл.'!$C$12","v":0},{"$f":"'Челябинская обл.'!$C$13","v":0},{"$f":"'Челябинская обл.'!$C$14","v":0},{"$f":"'Челябинская обл.'!$C$17","v":1987.75},{"$f":"'Челябинская обл.'!$C$18","v":0},{"$f":"'Челябинская обл.'!$C$19","v":0},{"$f":"'Челябинская обл.'!$C$20","v":0},{"$f":"'Челябинская обл.'!$C$21","v":0},{"$f":"'Челябинская обл.'!$C$23","v":1493.77},{"$f":"'Челябинская обл.'!$C$24","v":0},{"$f":"'Челябинская обл.'!$C$25","v":0},{"$f":"'Челябинская обл.'!$C$26","v":0},{"$f":"'Челябинская обл.'!$C$27","v":0},{"$f":"'Челябинская обл.'!$C$28","v":0},{"$f":"'Челябинская обл.'!$C$29","v":377.24},{"$f":"'Челябинская обл.'!$C$34","v":13.23},{"$f":"'Челябинская обл.'!$C$37","v":352.76},{"$f":"'Челябинская обл.'!$C$38","v":825.59},{"$f":"'Челябинская обл.'!$C$39","v":0},{"$f":"'Челябинская обл.'!$C$40","v":0},{"$f":"'Челябинская обл.'!$C$41","v":0},{"$f":"'Челябинская обл.'!$C$44","v":1142.9000000000001},{"$f":"'Челябинская обл.'!$C$45","v":1066.98},{"$f":"'Челябинская обл.'!$C$46","v":0},{"$f":"'Челябинская обл.'!$C$47","v":0},{"$f":"'Челябинская обл.'!$C$48","v":0},{"$f":"'Челябинская обл.'!$C$50","v":1081.3599999999999},{"$f":"'Челябинская обл.'!$C$51","v":1328.18},{"$f":"'Челябинская обл.'!$C$52","v":0},{"$f":"'Челябинская обл.'!$C$53","v":0},{"$f":"'Челябинская обл.'!$C$54","v":0},{"$f":"'Челябинская обл.'!$C$55","v":0},{"$f":"'Челябинская обл.'!$C$56","v":243.71}]
["12","ООО \"ПлазаДевелопментСервис\" (Сосновский м.р.)",null,{"$f":"'Челябинская обл.'!$C$7","v":"13,23"},{"$f":"'Челябинская обл.'!$C$10","v":1005.74},{"$f":"'Челябинская обл.'!$C$11","v":0},{"$f":"'Челябинская обл.'!$C$12","v":0},{"$f":"'Челябинская обл.'!$C$13","v":0},{"$f":"'Челябинская обл.'!$C$14","v":0},{"$f":"'Челябинская обл.'!$C$17","v":1987.75},{"$f":"'Челябинская обл.'!$C$18","v":0},{"$f":"'Челябинская обл.'!$C$19","v":0},{"$f":"'Челябинская обл.'!$C$20","v":0},{"$f":"'Челябинская обл.'!$C$21","v":0},{"$f":"'Челябинская обл.'!$C$23","v":1493.77},{"$f":"'Челябинская обл.'!$C$24","v":0},{"$f":"'Челябинская обл.'!$C$25","v":0},{"$f":"'Челябинская обл.'!$C$26","v":0},{"$f":"'Челябинская обл.'!$C$27","v":0},{"$f":"'Челябинская обл.'!$C$28","v":0},{"$f":"'Челябинская обл.'!$C$29","v":377.24},{"$f":"'Челябинская обл.'!$C$34","v":13.23},{"$f":"'Челябинская обл.'!$C$37","v":352.76},{"$f":"'Челябинская обл.'!$C$38","v":825.59},{"$f":"'Челябинская обл.'!$C$39","v":0},{"$f":"'Челябинская обл.'!$C$40","v":0},{"$f":"'Челябинская обл.'!$C$41","v":0},{"$f":"'Челябинская обл.'!$C$44","v":1142.9000000000001},{"$f":"'Челябинская обл.'!$C$45","v":1066.98},{"$f":"'Челябинская обл.'!$C$46","v":0},{"$f":"'Челябинская обл.'!$C$47","v":0},{"$f":"'Челябинская обл.'!$C$48","v":0},{"$f":"'Челябинская обл.'!$C$50","v":1081.3599999999999},{"$f":"'Челябинская обл.'!$C$51","v":1328.18},{"$f":"'Челябинская обл.'!$C$52","v":0},{"$f":"'Челябинская обл.'!$C$53","v":0},{"$f":"'Челябинская обл.'!$C$54","v":0},{"$f":"'Челябинская обл.'!$C$55","v":0},{"$f":"'Челябинская обл.'!$C$56","v":243.71}]
["13","ООО \"Русбио\"",null,{"$f":"'Челябинская обл.'!$C$7","v":"13,23"},{"$f":"'Челябинская обл.'!$C$10","v":1005.74},{"$f":"'Челябинская обл.'!$C$11","v":0},{"$f":"'Челябинская обл.'!$C$12","v":0},{"$f":"'Челябинская обл.'!$C$13","v":0},{"$f":"'Челябинская обл.'!$C$14","v":0},{"$f":"'Челябинская обл.'!$C$17","v":1987.75},{"$f":"'Челябинская обл.'!$C$18","v":0},{"$f":"'Челябинская обл.'!$C$19","v":0},{"$f":"'Челябинская обл.'!$C$20","v":0},{"$f":"'Челябинская обл.'!$C$21","v":0},{"$f":"'Челябинская обл.'!$C$23","v":1493.77},{"$f":"'Челябинская обл.'!$C$24","v":0},{"$f":"'Челябинская обл.'!$C$25","v":0},{"$f":"'Челябинская обл.'!$C$26","v":0},{"$f":"'Челябинская обл.'!$C$27","v":0},{"$f":"'Челябинская обл.'!$C$28","v":0},{"$f":"'Челябинская обл.'!$C$29","v":377.24},{"$f":"'Челябинская обл.'!$C$34","v":13.23},{"$f":"'Челябинская обл.'!$C$37","v":352.76},{"$f":"'Челябинская обл.'!$C$38","v":825.59},{"$f":"'Челябинская обл.'!$C$39","v":0},{"$f":"'Челябинская обл.'!$C$40","v":0},{"$f":"'Челябинская обл.'!$C$41","v":0},{"$f":"'Челябинская обл.'!$C$44","v":1142.9000000000001},{"$f":"'Челябинская обл.'!$C$45","v":1066.98},{"$f":"'Челябинская обл.'!$C$46","v":0},{"$f":"'Челябинская обл.'!$C$47","v":0},{"$f":"'Челябинская обл.'!$C$48","v":0},{"$f":"'Челябинская обл.'!$C$50","v":1081.3599999999999},{"$f":"'Челябинская обл.'!$C$51","v":1328.18},{"$f":"'Челябинская обл.'!$C$52","v":0},{"$f":"'Челябинская обл.'!$C$53","v":0},{"$f":"'Челябинская обл.'!$C$54","v":0},{"$f":"'Челябинская обл.'!$C$55","v":0},{"$f":"'Челябинская обл.'!$C$56","v":243.71}]
["14","ООО \"Тепловые электрические сети и системы\" (Сосновский м.р.)",null,{"$f":"'Челябинская обл.'!$C$7","v":"13,23"},{"$f":"'Челябинская обл.'!$C$10","v":1005.74},{"$f":"'Челябинская обл.'!$C$11","v":0},{"$f":"'Челябинская обл.'!$C$12","v":0},{"$f":"'Челябинская обл.'!$C$13","v":0},{"$f":"'Челябинская обл.'!$C$14","v":0},{"$f":"'Челябинская обл.'!$C$17","v":1987.75},{"$f":"'Челябинская обл.'!$C$18","v":0},{"$f":"'Челябинская обл.'!$C$19","v":0},{"$f":"'Челябинская обл.'!$C$20","v":0},{"$f":"'Челябинская обл.'!$C$21","v":0},{"$f":"'Челябинская обл.'!$C$23","v":1493.77},{"$f":"'Челябинская обл.'!$C$24","v":0},{"$f":"'Челябинская обл.'!$C$25","v":0},{"$f":"'Челябинская обл.'!$C$26","v":0},{"$f":"'Челябинская обл.'!$C$27","v":0},{"$f":"'Челябинская обл.'!$C$28","v":0},{"$f":"'Челябинская обл.'!$C$29","v":377.24},{"$f":"'Челябинская обл.'!$C$34","v":13.23},{"$f":"'Челябинская обл.'!$C$37","v":352.76},{"$f":"'Челябинская обл.'!$C$38","v":825.59},{"$f":"'Челябинская обл.'!$C$39","v":0},{"$f":"'Челябинская обл.'!$C$40","v":0},{"$f":"'Челябинская обл.'!$C$41","v":0},{"$f":"'Челябинская обл.'!$C$44","v":1142.9000000000001},{"$f":"'Челябинская обл.'!$C$45","v":1066.98},{"$f":"'Челябинская обл.'!$C$46","v":0},{"$f":"'Челябинская обл.'!$C$47","v":0},{"$f":"'Челябинская обл.'!$C$48","v":0},{"$f":"'Челябинская обл.'!$C$50","v":1081.3599999999999},{"$f":"'Челябинская обл.'!$C$51","v":1328.18},{"$f":"'Челябинская обл.'!$C$52","v":0},{"$f":"'Челябинская обл.'!$C$53","v":0},{"$f":"'Челябинская обл.'!$C$54","v":0},{"$f":"'Челябинская обл.'!$C$55","v":0},{"$f":"'Челябинская обл.'!$C$56","v":243.71}]
["15","ООО \"ТеплоЭнергоМастер\"",null,{"$f":"'Челябинская обл.'!$C$7","v":"13,23"},{"$f":"'Челябинская обл.'!$C$10","v":1005.74},{"$f":"'Челябинская обл.'!$C$11","v":0},{"$f":"'Челябинская обл.'!$C$12","v":0},{"$f":"'Челябинская обл.'!$C$13","v":0},{"$f":"'Челябинская обл.'!$C$14","v":0},{"$f":"'Челябинская обл.'!$C$17","v":1987.75},{"$f":"'Челябинская обл.'!$C$18","v":0},{"$f":"'Челябинская обл.'!$C$19","v":0},{"$f":"'Челябинская обл.'!$C$20","v":0},{"$f":"'Челябинская обл.'!$C$21","v":0},{"$f":"'Челябинская обл.'!$C$23","v":1493.77},{"$f":"'Челябинская обл.'!$C$24","v":0},{"$f":"'Челябинская обл.'!$C$25","v":0},{"$f":"'Челябинская обл.'!$C$26","v":0},{"$f":"'Челябинская обл.'!$C$27","v":0},{"$f":"'Челябинская обл.'!$C$28","v":0},{"$f":"'Челябинская обл.'!$C$29","v":377.24},{"$f":"'Челябинская обл.'!$C$34","v":13.23},{"$f":"'Челябинская обл.'!$C$37","v":352.76},{"$f":"'Челябинская обл.'!$C$38","v":825.59},{"$f":"'Челябинская обл.'!$C$39","v":0},{"$f":"'Челябинская обл.'!$C$40","v":0},{"$f":"'Челябинская обл.'!$C$41","v":0},{"$f":"'Челябинская обл.'!$C$44","v":1142.9000000000001},{"$f":"'Челябинская обл.'!$C$45","v":1066.98},{"$f":"'Челябинская обл.'!$C$46","v":0},{"$f":"'Челябинская обл.'!$C$47","v":0},{"$f":"'Челябинская обл.'!$C$48","v":0},{"$f":"'Челябинская обл.'!$C$50","v":1081.3599999999999},{"$f":"'Челябинская обл.'!$C$51","v":1328.18},{"$f":"'Челябинская обл.'!$C$52","v":0},{"$f":"'Челябинская обл.'!$C$53","v":0},{"$f":"'Челябинская обл.'!$C$54","v":0},{"$f":"'Челябинская обл.'!$C$55","v":0},{"$f":"'Челябинская обл.'!$C$56","v":243.71}]
["16","ООО \"Теченское ЖКХ\"",null,{"$f":"'Челябинская обл.'!$C$7","v":"13,23"},{"$f":"'Челябинская обл.'!$C$10","v":1005.74},{"$f":"'Челябинская обл.'!$C$11","v":0},{"$f":"'Челябинская обл.'!$C$12","v":0},{"$f":"'Челябинская обл.'!$C$13","v":0},{"$f":"'Челябинская обл.'!$C$14","v":0},{"$f":"'Челябинская обл.'!$C$17","v":1987.75},{"$f":"'Челябинская обл.'!$C$18","v":0},{"$f":"'Челябинская обл.'!$C$19","v":0},{"$f":"'Челябинская обл.'!$C$20","v":0},{"$f":"'Челябинская обл.'!$C$21","v":0},{"$f":"'Челябинская обл.'!$C$23","v":1493.77},{"$f":"'Челябинская обл.'!$C$24","v":0},{"$f":"'Челябинская обл.'!$C$25","v":0},{"$f":"'Челябинская обл.'!$C$26","v":0},{"$f":"'Челябинская обл.'!$C$27","v":0},{"$f":"'Челябинская обл.'!$C$28","v":0},{"$f":"'Челябинская обл.'!$C$29","v":377.24},{"$f":"'Челябинская обл.'!$C$34","v":13.23},{"$f":"'Челябинская обл.'!$C$37","v":352.76},{"$f":"'Челябинская обл.'!$C$38","v":825.59},{"$f":"'Челябинская обл.'!$C$39","v":0},{"$f":"'Челябинская обл.'!$C$40","v":0},{"$f":"'Челябинская обл.'!$C$41","v":0},{"$f":"'Челябинская обл.'!$C$44","v":1142.9000000000001},{"$f":"'Челябинская обл.'!$C$45","v":1066.98},{"$f":"'Челябинская обл.'!$C$46","v":0},{"$f":"'Челябинская обл.'!$C$47","v":0},{"$f":"'Челябинская обл.'!$C$48","v":0},{"$f":"'Челябинская обл.'!$C$50","v":1081.3599999999999},{"$f":"'Челябинская обл.'!$C$51","v":1328.18},{"$f":"'Челябинская обл.'!$C$52","v":0},{"$f":"'Челябинская обл.'!$C$53","v":0},{"$f":"'Челябинская обл.'!$C$54","v":0},{"$f":"'Челябинская обл.'!$C$55","v":0},{"$f":"'Челябинская обл.'!$C$56","v":243.71}]
["17","ООО \"Центр\"",null,{"$f":"'Челябинская обл.'!$C$7","v":"13,23"},{"$f":"'Челябинская обл.'!$C$10","v":1005.74},{"$f":"'Челябинская обл.'!$C$11","v":0},{"$f":"'Челябинская обл.'!$C$12","v":0},{"$f":"'Челябинская обл.'!$C$13","v":0},{"$f":"'Челябинская обл.'!$C$14","v":0},{"$f":"'Челябинская обл.'!$C$17","v":1987.75},{"$f":"'Челябинская обл.'!$C$18","v":0},{"$f":"'Челябинская обл.'!$C$19","v":0},{"$f":"'Челябинская обл.'!$C$20","v":0},{"$f":"'Челябинская обл.'!$C$21","v":0},{"$f":"'Челябинская обл.'!$C$23","v":1493.77},{"$f":"'Челябинская обл.'!$C$24","v":0},{"$f":"'Челябинская обл.'!$C$25","v":0},{"$f":"'Челябинская обл.'!$C$26","v":0},{"$f":"'Челябинская обл.'!$C$27","v":0},{"$f":"'Челябинская обл.'!$C$28","v":0},{"$f":"'Челябинская обл.'!$C$29","v":377.24},{"$f":"'Челябинская обл.'!$C$34","v":13.23},{"$f":"'Челябинская обл.'!$C$37","v":352.76},{"$f":"'Челябинская обл.'!$C$38","v":825.59},{"$f":"'Челябинская обл.'!$C$39","v":0},{"$f":"'Челябинская обл.'!$C$40","v":0},{"$f":"'Челябинская обл.'!$C$41","v":0},{"$f":"'Челябинская обл.'!$C$44","v":1142.9000000000001},{"$f":"'Челябинская обл.'!$C$45","v":1066.98},{"$f":"'Челябинская обл.'!$C$46","v":0},{"$f":"'Челябинская обл.'!$C$47","v":0},{"$f":"'Челябинская обл.'!$C$48","v":0},{"$f":"'Челябинская обл.'!$C$50","v":1081.3599999999999},{"$f":"'Челябинская обл.'!$C$51","v":1328.18},{"$f":"'Челябинская обл.'!$C$52","v":0},{"$f":"'Челябинская обл.'!$C$53","v":0},{"$f":"'Челябинская обл.'!$C$54","v":0},{"$f":"'Челябинская обл.'!$C$55","v":0},{"$f":"'Челябинская обл.'!$C$56","v":243.71}]
["18","ООО \"ЭНГЕКО\"  (Сосновский м.р.)",null,{"$f":"'Челябинская обл.'!$C$7","v":"13,23"},{"$f":"'Челябинская обл.'!$C$10","v":1005.74},{"$f":"'Челябинская обл.'!$C$11","v":0},{"$f":"'Челябинская обл.'!$C$12","v":0},{"$f":"'Челябинская обл.'!$C$13","v":0},{"$f":"'Челябинская обл.'!$C$14","v":0},{"$f":"'Челябинская обл.'!$C$17","v":1987.75},{"$f":"'Челябинская обл.'!$C$18","v":0},{"$f":"'Челябинская обл.'!$C$19","v":0},{"$f":"'Челябинская обл.'!$C$20","v":0},{"$f":"'Челябинская обл.'!$C$21","v":0},{"$f":"'Челябинская обл.'!$C$23","v":1493.77},{"$f":"'Челябинская обл.'!$C$24","v":0},{"$f":"'Челябинская обл.'!$C$25","v":0},{"$f":"'Челябинская обл.'!$C$26","v":0},{"$f":"'Челябинская обл.'!$C$27","v":0},{"$f":"'Челябинская обл.'!$C$28","v":0},{"$f":"'Челябинская обл.'!$C$29","v":377.24},{"$f":"'Челябинская обл.'!$C$34","v":13.23},{"$f":"'Челябинская обл.'!$C$37","v":352.76},{"$f":"'Челябинская обл.'!$C$38","v":825.59},{"$f":"'Челябинская обл.'!$C$39","v":0},{"$f":"'Челябинская обл.'!$C$40","v":0},{"$f":"'Челябинская обл.'!$C$41","v":0},{"$f":"'Челябинская обл.'!$C$44","v":1142.9000000000001},{"$f":"'Челябинская обл.'!$C$45","v":1066.98},{"$f":"'Челябинская обл.'!$C$46","v":0},{"$f":"'Челябинская обл.'!$C$47","v":0},{"$f":"'Челябинская обл.'!$C$48","v":0},{"$f":"'Челябинская обл.'!$C$50","v":1081.3599999999999},{"$f":"'Челябинская обл.'!$C$51","v":1328.18},{"$f":"'Челябинская обл.'!$C$52","v":0},{"$f":"'Челябинская обл.'!$C$53","v":0},{"$f":"'Челябинская обл.'!$C$54","v":0},{"$f":"'Челябинская обл.'!$C$55","v":0},{"$f":"'Челябинская обл.'!$C$56","v":243.71}]
["19","ООО \"Энергия\"",null,{"$f":"'Челябинская обл.'!$C$7","v":"13,23"},{"$f":"'Челябинская обл.'!$C$10","v":1005.74},{"$f":"'Челябинская обл.'!$C$11","v":0},{"$f":"'Челябинская обл.'!$C$12","v":0},{"$f":"'Челябинская обл.'!$C$13","v":0},{"$f":"'Челябинская обл.'!$C$14","v":0},{"$f":"'Челябинская обл.'!$C$17","v":1987.75},{"$f":"'Челябинская обл.'!$C$18","v":0},{"$f":"'Челябинская обл.'!$C$19","v":0},{"$f":"'Челябинская обл.'!$C$20","v":0},{"$f":"'Челябинская обл.'!$C$21","v":0},{"$f":"'Челябинская обл.'!$C$23","v":1493.77},{"$f":"'Челябинская обл.'!$C$24","v":0},{"$f":"'Челябинская обл.'!$C$25","v":0},{"$f":"'Челябинская обл.'!$C$26","v":0},{"$f":"'Челябинская обл.'!$C$27","v":0},{"$f":"'Челябинская обл.'!$C$28","v":0},{"$f":"'Челябинская обл.'!$C$29","v":377.24},{"$f":"'Челябинская обл.'!$C$34","v":13.23},{"$f":"'Челябинская обл.'!$C$37","v":352.76},{"$f":"'Челябинская обл.'!$C$38","v":825.59},{"$f":"'Челябинская обл.'!$C$39","v":0},{"$f":"'Челябинская обл.'!$C$40","v":0},{"$f":"'Челябинская обл.'!$C$41","v":0},{"$f":"'Челябинская обл.'!$C$44","v":1142.9000000000001},{"$f":"'Челябинская обл.'!$C$45","v":1066.98},{"$f":"'Челябинская обл.'!$C$46","v":0},{"$f":"'Челябинская обл.'!$C$47","v":0},{"$f":"'Челябинская обл.'!$C$48","v":0},{"$f":"'Челябинская обл.'!$C$50","v":1081.3599999999999},{"$f":"'Челябинская обл.'!$C$51","v":1328.18},{"$f":"'Челябинская обл.'!$C$52","v":0},{"$f":"'Челябинская обл.'!$C$53","v":0},{"$f":"'Челябинская обл.'!$C$54","v":0},{"$f":"'Челябинская обл.'!$C$55","v":0},{"$f":"'Челябинская обл.'!$C$56","v":243.71}]
["20","ООО \"Эффективная теплоэнергетика\" (Сосновский м.р.)",null,{"$f":"'Челябинская обл.'!$C$7","v":"13,23"},{"$f":"'Челябинская обл.'!$C$10","v":1005.74},{"$f":"'Челябинская обл.'!$C$11","v":0},{"$f":"'Челябинская обл.'!$C$12","v":0},{"$f":"'Челябинская обл.'!$C$13","v":0},{"$f":"'Челябинская обл.'!$C$14","v":0},{"$f":"'Челябинская обл.'!$C$17","v":1987.75},{"$f":"'Челябинская обл.'!$C$18","v":0},{"$f":"'Челябинская обл.'!$C$19","v":0},{"$f":"'Челябинская обл.'!$C$20","v":0},{"$f":"'Челябинская обл.'!$C$21","v":0},{"$f":"'Челябинская обл.'!$C$23","v":1493.77},{"$f":"'Челябинская обл.'!$C$24","v":0},{"$f":"'Челябинская обл.'!$C$25","v":0},{"$f":"'Челябинская обл.'!$C$26","v":0},{"$f":"'Челябинская обл.'!$C$27","v":0},{"$f":"'Челябинская обл.'!$C$28","v":0},{"$f":"'Челябинская обл.'!$C$29","v":377.24},{"$f":"'Челябинская обл.'!$C$34","v":13.23},{"$f":"'Челябинская обл.'!$C$37","v":352.76},{"$f":"'Челябинская обл.'!$C$38","v":825.59},{"$f":"'Челябинская обл.'!$C$39","v":0},{"$f":"'Челябинская обл.'!$C$40","v":0},{"$f":"'Челябинская обл.'!$C$41","v":0},{"$f":"'Челябинская обл.'!$C$44","v":1142.9000000000001},{"$f":"'Челябинская обл.'!$C$45","v":1066.98},{"$f":"'Челябинская обл.'!$C$46","v":0},{"$f":"'Челябинская обл.'!$C$47","v":0},{"$f":"'Челябинская обл.'!$C$48","v":0},{"$f":"'Челябинская обл.'!$C$50","v":1081.3599999999999},{"$f":"'Челябинская обл.'!$C$51","v":1328.18},{"$f":"'Челябинская обл.'!$C$52","v":0},{"$f":"'Челябинская обл.'!$C$53","v":0},{"$f":"'Челябинская обл.'!$C$54","v":0},{"$f":"'Челябинская обл.'!$C$55","v":0},{"$f":"'Челябинская обл.'!$C$56","v":243.71}]
["21","ООО ТГК \"Восход\"",null,{"$f":"'Челябинская обл.'!$C$7","v":"13,23"},{"$f":"'Челябинская обл.'!$C$10","v":1005.74},{"$f":"'Челябинская обл.'!$C$11","v":0},{"$f":"'Челябинская обл.'!$C$12","v":0},{"$f":"'Челябинская обл.'!$C$13","v":0},{"$f":"'Челябинская обл.'!$C$14","v":0},{"$f":"'Челябинская обл.'!$C$17","v":1987.75},{"$f":"'Челябинская обл.'!$C$18","v":0},{"$f":"'Челябинская обл.'!$C$19","v":0},{"$f":"'Челябинская обл.'!$C$20","v":0},{"$f":"'Челябинская обл.'!$C$21","v":0},{"$f":"'Челябинская обл.'!$C$23","v":1493.77},{"$f":"'Челябинская обл.'!$C$24","v":0},{"$f":"'Челябинская обл.'!$C$25","v":0},{"$f":"'Челябинская обл.'!$C$26","v":0},{"$f":"'Челябинская обл.'!$C$27","v":0},{"$f":"'Челябинская обл.'!$C$28","v":0},{"$f":"'Челябинская обл.'!$C$29","v":377.24},{"$f":"'Челябинская обл.'!$C$34","v":13.23},{"$f":"'Челябинская обл.'!$C$37","v":352.76},{"$f":"'Челябинская обл.'!$C$38","v":825.59},{"$f":"'Челябинская обл.'!$C$39","v":0},{"$f":"'Челябинская обл.'!$C$40","v":0},{"$f":"'Челябинская обл.'!$C$41","v":0},{"$f":"'Челябинская обл.'!$C$44","v":1142.9000000000001},{"$f":"'Челябинская обл.'!$C$45","v":1066.98},{"$f":"'Челябинская обл.'!$C$46","v":0},{"$f":"'Челябинская обл.'!$C$47","v":0},{"$f":"'Челябинская обл.'!$C$48","v":0},{"$f":"'Челябинская обл.'!$C$50","v":1081.3599999999999},{"$f":"'Челябинская обл.'!$C$51","v":1328.18},{"$f":"'Челябинская обл.'!$C$52","v":0},{"$f":"'Челябинская обл.'!$C$53","v":0},{"$f":"'Челябинская обл.'!$C$54","v":0},{"$f":"'Челябинская обл.'!$C$55","v":0},{"$f":"'Челябинская обл.'!$C$56","v":243.71}]
["22","ООО УК \"АККТиВ\"",null,{"$f":"'Челябинская обл.'!$C$7","v":"13,23"},{"$f":"'Челябинская обл.'!$C$10","v":1005.74},{"$f":"'Челябинская обл.'!$C$11","v":0},{"$f":"'Челябинская обл.'!$C$12","v":0},{"$f":"'Челябинская обл.'!$C$13","v":0},{"$f":"'Челябинская обл.'!$C$14","v":0},{"$f":"'Челябинская обл.'!$C$17","v":1987.75},{"$f":"'Челябинская обл.'!$C$18","v":0},{"$f":"'Челябинская обл.'!$C$19","v":0},{"$f":"'Челябинская обл.'!$C$20","v":0},{"$f":"'Челябинская обл.'!$C$21","v":0},{"$f":"'Челябинская обл.'!$C$23","v":1493.77},{"$f":"'Челябинская обл.'!$C$24","v":0},{"$f":"'Челябинская обл.'!$C$25","v":0},{"$f":"'Челябинская обл.'!$C$26","v":0},{"$f":"'Челябинская обл.'!$C$27","v":0},{"$f":"'Челябинская обл.'!$C$28","v":0},{"$f":"'Челябинская обл.'!$C$29","v":377.24},{"$f":"'Челябинская обл.'!$C$34","v":13.23},{"$f":"'Челябинская обл.'!$C$37","v":352.76},{"$f":"'Челябинская обл.'!$C$38","v":825.59},{"$f":"'Челябинская обл.'!$C$39","v":0},{"$f":"'Челябинская обл.'!$C$40","v":0},{"$f":"'Челябинская обл.'!$C$41","v":0},{"$f":"'Челябинская обл.'!$C$44","v":1142.9000000000001},{"$f":"'Челябинская обл.'!$C$45","v":1066.98},{"$f":"'Челябинская обл.'!$C$46","v":0},{"$f":"'Челябинская обл.'!$C$47","v":0},{"$f":"'Челябинская обл.'!$C$48","v":0},{"$f":"'Челябинская обл.'!$C$50","v":1081.3599999999999},{"$f":"'Челябинская обл.'!$C$51","v":1328.18},{"$f":"'Челябинская обл.'!$C$52","v":0},{"$f":"'Челябинская обл.'!$C$53","v":0},{"$f":"'Челябинская обл.'!$C$54","v":0},{"$f":"'Челябинская обл.'!$C$55","v":0},{"$f":"'Челябинская обл.'!$C$56","v":243.71}]
["23","ООО УК \"Солнечный\"",null,{"$f":"'Челябинская обл.'!$C$7","v":"13,23"},{"$f":"'Челябинская обл.'!$C$10","v":1005.74},{"$f":"'Челябинская обл.'!$C$11","v":0},{"$f":"'Челябинская обл.'!$C$12","v":0},{"$f":"'Челябинская обл.'!$C$13","v":0},{"$f":"'Челябинская обл.'!$C$14","v":0},{"$f":"'Челябинская обл.'!$C$17","v":1987.75},{"$f":"'Челябинская обл.'!$C$18","v":0},{"$f":"'Челябинская обл.'!$C$19","v":0},{"$f":"'Челябинская обл.'!$C$20","v":0},{"$f":"'Челябинская обл.'!$C$21","v":0},{"$f":"'Челябинская обл.'!$C$23","v":1493.77},{"$f":"'Челябинская обл.'!$C$24","v":0},{"$f":"'Челябинская обл.'!$C$25","v":0},{"$f":"'Челябинская обл.'!$C$26","v":0},{"$f":"'Челябинская обл.'!$C$27","v":0},{"$f":"'Челябинская обл.'!$C$28","v":0},{"$f":"'Челябинская обл.'!$C$29","v":377.24},{"$f":"'Челябинская обл.'!$C$34","v":13.23},{"$f":"'Челябинская обл.'!$C$37","v":352.76},{"$f":"'Челябинская обл.'!$C$38","v":825.59},{"$f":"'Челябинская обл.'!$C$39","v":0},{"$f":"'Челябинская обл.'!$C$40","v":0},{"$f":"'Челябинская обл.'!$C$41","v":0},{"$f":"'Челябинская обл.'!$C$44","v":1142.9000000000001},{"$f":"'Челябинская обл.'!$C$45","v":1066.98},{"$f":"'Челябинская обл.'!$C$46","v":0},{"$f":"'Челябинская обл.'!$C$47","v":0},{"$f":"'Челябинская обл.'!$C$48","v":0},{"$f":"'Челябинская обл.'!$C$50","v":1081.3599999999999},{"$f":"'Челябинская обл.'!$C$51","v":1328.18},{"$f":"'Челябинская обл.'!$C$52","v":0},{"$f":"'Челябинская обл.'!$C$53","v":0},{"$f":"'Челябинская обл.'!$C$54","v":0},{"$f":"'Челябинская обл.'!$C$55","v":0},{"$f":"'Челябинская обл.'!$C$56","v":243.71}]
[24,"Южно-Уральская дирекция по тепловодоснабжению - структурное подразделение Центральной дирекции по тепловодоснабжению - филиала ОАО \"РЖД\" (Сосновский м.р.)",null,{"$f":"'Челябинская обл.'!$C$7","v":"13,23"},{"$f":"'Челябинская обл.'!$C$10","v":1005.74},{"$f":"'Челябинская обл.'!$C$11","v":0},{"$f":"'Челябинская обл.'!$C$12","v":0},{"$f":"'Челябинская обл.'!$C$13","v":0},{"$f":"'Челябинская обл.'!$C$14","v":0},{"$f":"'Челябинская обл.'!$C$17","v":1987.75},{"$f":"'Челябинская обл.'!$C$18","v":0},{"$f":"'Челябинская обл.'!$C$19","v":0},{"$f":"'Челябинская обл.'!$C$20","v":0},{"$f":"'Челябинская обл.'!$C$21","v":0},{"$f":"'Челябинская обл.'!$C$23","v":1493.77},{"$f":"'Челябинская обл.'!$C$24","v":0},{"$f":"'Челябинская обл.'!$C$25","v":0},{"$f":"'Челябинская обл.'!$C$26","v":0},{"$f":"'Челябинская обл.'!$C$27","v":0},{"$f":"'Челябинская обл.'!$C$28","v":0},{"$f":"'Челябинская обл.'!$C$29","v":377.24},{"$f":"'Челябинская обл.'!$C$34","v":13.23},{"$f":"'Челябинская обл.'!$C$37","v":352.76},{"$f":"'Челябинская обл.'!$C$38","v":825.59},{"$f":"'Челябинская обл.'!$C$39","v":0},{"$f":"'Челябинская обл.'!$C$40","v":0},{"$f":"'Челябинская обл.'!$C$41","v":0},{"$f":"'Челябинская обл.'!$C$44","v":1142.9000000000001},{"$f":"'Челябинская обл.'!$C$45","v":1066.98},{"$f":"'Челябинская обл.'!$C$46","v":0},{"$f":"'Челябинская обл.'!$C$47","v":0},{"$f":"'Челябинская обл.'!$C$48","v":0},{"$f":"'Челябинская обл.'!$C$50","v":1081.3599999999999},{"$f":"'Челябинская обл.'!$C$51","v":1328.18},{"$f":"'Челябинская обл.'!$C$52","v":0},{"$f":"'Челябинская обл.'!$C$53","v":0},{"$f":"'Челябинская обл.'!$C$54","v":0},{"$f":"'Челябинская обл.'!$C$55","v":0},{"$f":"'Челябинская обл.'!$C$56","v":243.71}]
["39","Троицкий муниципальный район"]
["1","ЗАО \"Троицкая энергетическая компания\" (Троицкий м.р.)",null,{"$f":"'Челябинская обл.'!$C$7","v":"13,23"},{"$f":"'Челябинская обл.'!$C$10","v":1005.74},{"$f":"'Челябинская обл.'!$C$11","v":0},{"$f":"'Челябинская обл.'!$C$12","v":0},{"$f":"'Челябинская обл.'!$C$13","v":0},{"$f":"'Челябинская обл.'!$C$14","v":0},{"$f":"'Челябинская обл.'!$C$17","v":1987.75},{"$f":"'Челябинская обл.'!$C$18","v":0},{"$f":"'Челябинская обл.'!$C$19","v":0},{"$f":"'Челябинская обл.'!$C$20","v":0},{"$f":"'Челябинская обл.'!$C$21","v":0},{"$f":"'Челябинская обл.'!$C$23","v":1493.77},{"$f":"'Челябинская обл.'!$C$24","v":0},{"$f":"'Челябинская обл.'!$C$25","v":0},{"$f":"'Челябинская обл.'!$C$26","v":0},{"$f":"'Челябинская обл.'!$C$27","v":0},{"$f":"'Челябинская обл.'!$C$28","v":0},{"$f":"'Челябинская обл.'!$C$29","v":377.24},{"$f":"'Челябинская обл.'!$C$34","v":13.23},{"$f":"'Челябинская обл.'!$C$37","v":352.76},{"$f":"'Челябинская обл.'!$C$38","v":825.59},{"$f":"'Челябинская обл.'!$C$39","v":0},{"$f":"'Челябинская обл.'!$C$40","v":0},{"$f":"'Челябинская обл.'!$C$41","v":0},{"$f":"'Челябинская обл.'!$C$44","v":1142.9000000000001},{"$f":"'Челябинская обл.'!$C$45","v":1066.98},{"$f":"'Челябинская обл.'!$C$46","v":0},{"$f":"'Челябинская обл.'!$C$47","v":0},{"$f":"'Челябинская обл.'!$C$48","v":0},{"$f":"'Челябинская обл.'!$C$50","v":1081.3599999999999},{"$f":"'Челябинская обл.'!$C$51","v":1328.18},{"$f":"'Челябинская обл.'!$C$52","v":0},{"$f":"'Челябинская обл.'!$C$53","v":0},{"$f":"'Челябинская обл.'!$C$54","v":0},{"$f":"'Челябинская обл.'!$C$55","v":0},{"$f":"'Челябинская обл.'!$C$56","v":243.71}]
["2","МУП Скалистское ЖКХ \"Троицко-совхозное сельское поселение\"",null,{"$f":"'Челябинская обл.'!$C$7","v":"13,23"},{"$f":"'Челябинская обл.'!$C$10","v":1005.74},{"$f":"'Челябинская обл.'!$C$11","v":0},{"$f":"'Челябинская обл.'!$C$12","v":0},{"$f":"'Челябинская обл.'!$C$13","v":0},{"$f":"'Челябинская обл.'!$C$14","v":0},{"$f":"'Челябинская обл.'!$C$17","v":1987.75},{"$f":"'Челябинская обл.'!$C$18","v":0},{"$f":"'Челябинская обл.'!$C$19","v":0},{"$f":"'Челябинская обл.'!$C$20","v":0},{"$f":"'Челябинская обл.'!$C$21","v":0},{"$f":"'Челябинская обл.'!$C$23","v":1493.77},{"$f":"'Челябинская обл.'!$C$24","v":0},{"$f":"'Челябинская обл.'!$C$25","v":0},{"$f":"'Челябинская обл.'!$C$26","v":0},{"$f":"'Челябинская обл.'!$C$27","v":0},{"$f":"'Челябинская обл.'!$C$28","v":0},{"$f":"'Челябинская обл.'!$C$29","v":377.24},{"$f":"'Челябинская обл.'!$C$34","v":13.23},{"$f":"'Челябинская обл.'!$C$37","v":352.76},{"$f":"'Челябинская обл.'!$C$38","v":825.59},{"$f":"'Челябинская обл.'!$C$39","v":0},{"$f":"'Челябинская обл.'!$C$40","v":0},{"$f":"'Челябинская обл.'!$C$41","v":0},{"$f":"'Челябинская обл.'!$C$44","v":1142.9000000000001},{"$f":"'Челябинская обл.'!$C$45","v":1066.98},{"$f":"'Челябинская обл.'!$C$46","v":0},{"$f":"'Челябинская обл.'!$C$47","v":0},{"$f":"'Челябинская обл.'!$C$48","v":0},{"$f":"'Челябинская обл.'!$C$50","v":1081.3599999999999},{"$f":"'Челябинская обл.'!$C$51","v":1328.18},{"$f":"'Челябинская обл.'!$C$52","v":0},{"$f":"'Челябинская обл.'!$C$53","v":0},{"$f":"'Челябинская обл.'!$C$54","v":0},{"$f":"'Челябинская обл.'!$C$55","v":0},{"$f":"'Челябинская обл.'!$C$56","v":243.71}]
["3","ООО \"Белозерское ЖКХ № 2\"",null,{"$f":"'Челябинская обл.'!$C$7","v":"13,23"},{"$f":"'Челябинская обл.'!$C$10","v":1005.74},{"$f":"'Челябинская обл.'!$C$11","v":0},{"$f":"'Челябинская обл.'!$C$12","v":0},{"$f":"'Челябинская обл.'!$C$13","v":0},{"$f":"'Челябинская обл.'!$C$14","v":0},{"$f":"'Челябинская обл.'!$C$17","v":1987.75},{"$f":"'Челябинская обл.'!$C$18","v":0},{"$f":"'Челябинская обл.'!$C$19","v":0},{"$f":"'Челябинская обл.'!$C$20","v":0},{"$f":"'Челябинская обл.'!$C$21","v":0},{"$f":"'Челябинская обл.'!$C$23","v":1493.77},{"$f":"'Челябинская обл.'!$C$24","v":0},{"$f":"'Челябинская обл.'!$C$25","v":0},{"$f":"'Челябинская обл.'!$C$26","v":0},{"$f":"'Челябинская обл.'!$C$27","v":0},{"$f":"'Челябинская обл.'!$C$28","v":0},{"$f":"'Челябинская обл.'!$C$29","v":377.24},{"$f":"'Челябинская обл.'!$C$34","v":13.23},{"$f":"'Челябинская обл.'!$C$37","v":352.76},{"$f":"'Челябинская обл.'!$C$38","v":825.59},{"$f":"'Челябинская обл.'!$C$39","v":0},{"$f":"'Челябинская обл.'!$C$40","v":0},{"$f":"'Челябинская обл.'!$C$41","v":0},{"$f":"'Челябинская обл.'!$C$44","v":1142.9000000000001},{"$f":"'Челябинская обл.'!$C$45","v":1066.98},{"$f":"'Челябинская обл.'!$C$46","v":0},{"$f":"'Челябинская обл.'!$C$47","v":0},{"$f":"'Челябинская обл.'!$C$48","v":0},{"$f":"'Челябинская обл.'!$C$50","v":1081.3599999999999},{"$f":"'Челябинская обл.'!$C$51","v":1328.18},{"$f":"'Челябинская обл.'!$C$52","v":0},{"$f":"'Челябинская обл.'!$C$53","v":0},{"$f":"'Челябинская обл.'!$C$54","v":0},{"$f":"'Челябинская обл.'!$C$55","v":0},{"$f":"'Челябинская обл.'!$C$56","v":243.71}]
["4","ООО \"Новые коммунальные системы - Троицк\"",null,{"$f":"'Челябинская обл.'!$C$7","v":"13,23"},{"$f":"'Челябинская обл.'!$C$10","v":1005.74},{"$f":"'Челябинская обл.'!$C$11","v":0},{"$f":"'Челябинская обл.'!$C$12","v":0},{"$f":"'Челябинская обл.'!$C$13","v":0},{"$f":"'Челябинская обл.'!$C$14","v":0},{"$f":"'Челябинская обл.'!$C$17","v":1987.75},{"$f":"'Челябинская обл.'!$C$18","v":0},{"$f":"'Челябинская обл.'!$C$19","v":0},{"$f":"'Челябинская обл.'!$C$20","v":0},{"$f":"'Челябинская обл.'!$C$21","v":0},{"$f":"'Челябинская обл.'!$C$23","v":1493.77},{"$f":"'Челябинская обл.'!$C$24","v":0},{"$f":"'Челябинская обл.'!$C$25","v":0},{"$f":"'Челябинская обл.'!$C$26","v":0},{"$f":"'Челябинская обл.'!$C$27","v":0},{"$f":"'Челябинская обл.'!$C$28","v":0},{"$f":"'Челябинская обл.'!$C$29","v":377.24},{"$f":"'Челябинская обл.'!$C$34","v":13.23},{"$f":"'Челябинская обл.'!$C$37","v":352.76},{"$f":"'Челябинская обл.'!$C$38","v":825.59},{"$f":"'Челябинская обл.'!$C$39","v":0},{"$f":"'Челябинская обл.'!$C$40","v":0},{"$f":"'Челябинская обл.'!$C$41","v":0},{"$f":"'Челябинская обл.'!$C$44","v":1142.9000000000001},{"$f":"'Челябинская обл.'!$C$45","v":1066.98},{"$f":"'Челябинская обл.'!$C$46","v":0},{"$f":"'Челябинская обл.'!$C$47","v":0},{"$f":"'Челябинская обл.'!$C$48","v":0},{"$f":"'Челябинская обл.'!$C$50","v":1081.3599999999999},{"$f":"'Челябинская обл.'!$C$51","v":1328.18},{"$f":"'Челябинская обл.'!$C$52","v":0},{"$f":"'Челябинская обл.'!$C$53","v":0},{"$f":"'Челябинская обл.'!$C$54","v":0},{"$f":"'Челябинская обл.'!$C$55","v":0},{"$f":"'Челябинская обл.'!$C$56","v":243.71}]
["5","ООО \"Районные Тепловые Сети\" (Троицкий м.р.)",null,{"$f":"'Челябинская обл.'!$C$7","v":"13,23"},{"$f":"'Челябинская обл.'!$C$10","v":1005.74},{"$f":"'Челябинская обл.'!$C$11","v":0},{"$f":"'Челябинская обл.'!$C$12","v":0},{"$f":"'Челябинская обл.'!$C$13","v":0},{"$f":"'Челябинская обл.'!$C$14","v":0},{"$f":"'Челябинская обл.'!$C$17","v":1987.75},{"$f":"'Челябинская обл.'!$C$18","v":0},{"$f":"'Челябинская обл.'!$C$19","v":0},{"$f":"'Челябинская обл.'!$C$20","v":0},{"$f":"'Челябинская обл.'!$C$21","v":0},{"$f":"'Челябинская обл.'!$C$23","v":1493.77},{"$f":"'Челябинская обл.'!$C$24","v":0},{"$f":"'Челябинская обл.'!$C$25","v":0},{"$f":"'Челябинская обл.'!$C$26","v":0},{"$f":"'Челябинская обл.'!$C$27","v":0},{"$f":"'Челябинская обл.'!$C$28","v":0},{"$f":"'Челябинская обл.'!$C$29","v":377.24},{"$f":"'Челябинская обл.'!$C$34","v":13.23},{"$f":"'Челябинская обл.'!$C$37","v":352.76},{"$f":"'Челябинская обл.'!$C$38","v":825.59},{"$f":"'Челябинская обл.'!$C$39","v":0},{"$f":"'Челябинская обл.'!$C$40","v":0},{"$f":"'Челябинская обл.'!$C$41","v":0},{"$f":"'Челябинская обл.'!$C$44","v":1142.9000000000001},{"$f":"'Челябинская обл.'!$C$45","v":1066.98},{"$f":"'Челябинская обл.'!$C$46","v":0},{"$f":"'Челябинская обл.'!$C$47","v":0},{"$f":"'Челябинская обл.'!$C$48","v":0},{"$f":"'Челябинская обл.'!$C$50","v":1081.3599999999999},{"$f":"'Челябинская обл.'!$C$51","v":1328.18},{"$f":"'Челябинская обл.'!$C$52","v":0},{"$f":"'Челябинская обл.'!$C$53","v":0},{"$f":"'Челябинская обл.'!$C$54","v":0},{"$f":"'Челябинская обл.'!$C$55","v":0},{"$f":"'Челябинская обл.'!$C$56","v":243.71}]
["6","ООО \"Родниковское ЖКХ\"",null,{"$f":"'Челябинская обл.'!$C$7","v":"13,23"},{"$f":"'Челябинская обл.'!$C$10","v":1005.74},{"$f":"'Челябинская обл.'!$C$11","v":0},{"$f":"'Челябинская обл.'!$C$12","v":0},{"$f":"'Челябинская обл.'!$C$13","v":0},{"$f":"'Челябинская обл.'!$C$14","v":0},{"$f":"'Челябинская обл.'!$C$17","v":1987.75},{"$f":"'Челябинская обл.'!$C$18","v":0},{"$f":"'Челябинская обл.'!$C$19","v":0},{"$f":"'Челябинская обл.'!$C$20","v":0},{"$f":"'Челябинская обл.'!$C$21","v":0},{"$f":"'Челябинская обл.'!$C$23","v":1493.77},{"$f":"'Челябинская обл.'!$C$24","v":0},{"$f":"'Челябинская обл.'!$C$25","v":0},{"$f":"'Челябинская обл.'!$C$26","v":0},{"$f":"'Челябинская обл.'!$C$27","v":0},{"$f":"'Челябинская обл.'!$C$28","v":0},{"$f":"'Челябинская обл.'!$C$29","v":377.24},{"$f":"'Челябинская обл.'!$C$34","v":13.23},{"$f":"'Челябинская обл.'!$C$37","v":352.76},{"$f":"'Челябинская обл.'!$C$38","v":825.59},{"$f":"'Челябинская обл.'!$C$39","v":0},{"$f":"'Челябинская обл.'!$C$40","v":0},{"$f":"'Челябинская обл.'!$C$41","v":0},{"$f":"'Челябинская обл.'!$C$44","v":1142.9000000000001},{"$f":"'Челябинская обл.'!$C$45","v":1066.98},{"$f":"'Челябинская обл.'!$C$46","v":0},{"$f":"'Челябинская обл.'!$C$47","v":0},{"$f":"'Челябинская обл.'!$C$48","v":0},{"$f":"'Челябинская обл.'!$C$50","v":1081.3599999999999},{"$f":"'Челябинская обл.'!$C$51","v":1328.18},{"$f":"'Челябинская обл.'!$C$52","v":0},{"$f":"'Челябинская обл.'!$C$53","v":0},{"$f":"'Челябинская обл.'!$C$54","v":0},{"$f":"'Челябинская обл.'!$C$55","v":0},{"$f":"'Челябинская обл.'!$C$56","v":243.71}]
["7","ООО \"Строительство, монтаж, наладка, ремонт\"",null,{"$f":"'Челябинская обл.'!$C$7","v":"13,23"},{"$f":"'Челябинская обл.'!$C$10","v":1005.74},{"$f":"'Челябинская обл.'!$C$11","v":0},{"$f":"'Челябинская обл.'!$C$12","v":0},{"$f":"'Челябинская обл.'!$C$13","v":0},{"$f":"'Челябинская обл.'!$C$14","v":0},{"$f":"'Челябинская обл.'!$C$17","v":1987.75},{"$f":"'Челябинская обл.'!$C$18","v":0},{"$f":"'Челябинская обл.'!$C$19","v":0},{"$f":"'Челябинская обл.'!$C$20","v":0},{"$f":"'Челябинская обл.'!$C$21","v":0},{"$f":"'Челябинская обл.'!$C$23","v":1493.77},{"$f":"'Челябинская обл.'!$C$24","v":0},{"$f":"'Челябинская обл.'!$C$25","v":0},{"$f":"'Челябинская обл.'!$C$26","v":0},{"$f":"'Челябинская обл.'!$C$27","v":0},{"$f":"'Челябинская обл.'!$C$28","v":0},{"$f":"'Челябинская обл.'!$C$29","v":377.24},{"$f":"'Челябинская обл.'!$C$34","v":13.23},{"$f":"'Челябинская обл.'!$C$37","v":352.76},{"$f":"'Челябинская обл.'!$C$38","v":825.59},{"$f":"'Челябинская обл.'!$C$39","v":0},{"$f":"'Челябинская обл.'!$C$40","v":0},{"$f":"'Челябинская обл.'!$C$41","v":0},{"$f":"'Челябинская обл.'!$C$44","v":1142.9000000000001},{"$f":"'Челябинская обл.'!$C$45","v":1066.98},{"$f":"'Челябинская обл.'!$C$46","v":0},{"$f":"'Челябинская обл.'!$C$47","v":0},{"$f":"'Челябинская обл.'!$C$48","v":0},{"$f":"'Челябинская обл.'!$C$50","v":1081.3599999999999},{"$f":"'Челябинская обл.'!$C$51","v":1328.18},{"$f":"'Челябинская обл.'!$C$52","v":0},{"$f":"'Челябинская обл.'!$C$53","v":0},{"$f":"'Челябинская обл.'!$C$54","v":0},{"$f":"'Челябинская обл.'!$C$55","v":0},{"$f":"'Челябинская обл.'!$C$56","v":243.71}]
["8","ООО \"Теплоснабжающая компания-7\"",null,{"$f":"'Челябинская обл.'!$C$7","v":"13,23"},{"$f":"'Челябинская обл.'!$C$10","v":1005.74},{"$f":"'Челябинская обл.'!$C$11","v":0},{"$f":"'Челябинская обл.'!$C$12","v":0},{"$f":"'Челябинская обл.'!$C$13","v":0},{"$f":"'Челябинская обл.'!$C$14","v":0},{"$f":"'Челябинская обл.'!$C$17","v":1987.75},{"$f":"'Челябинская обл.'!$C$18","v":0},{"$f":"'Челябинская обл.'!$C$19","v":0},{"$f":"'Челябинская обл.'!$C$20","v":0},{"$f":"'Челябинская обл.'!$C$21","v":0},{"$f":"'Челябинская обл.'!$C$23","v":1493.77},{"$f":"'Челябинская обл.'!$C$24","v":0},{"$f":"'Челябинская обл.'!$C$25","v":0},{"$f":"'Челябинская обл.'!$C$26","v":0},{"$f":"'Челябинская обл.'!$C$27","v":0},{"$f":"'Челябинская обл.'!$C$28","v":0},{"$f":"'Челябинская обл.'!$C$29","v":377.24},{"$f":"'Челябинская обл.'!$C$34","v":13.23},{"$f":"'Челябинская обл.'!$C$37","v":352.76},{"$f":"'Челябинская обл.'!$C$38","v":825.59},{"$f":"'Челябинская обл.'!$C$39","v":0},{"$f":"'Челябинская обл.'!$C$40","v":0},{"$f":"'Челябинская обл.'!$C$41","v":0},{"$f":"'Челябинская обл.'!$C$44","v":1142.9000000000001},{"$f":"'Челябинская обл.'!$C$45","v":1066.98},{"$f":"'Челябинская обл.'!$C$46","v":0},{"$f":"'Челябинская обл.'!$C$47","v":0},{"$f":"'Челябинская обл.'!$C$48","v":0},{"$f":"'Челябинская обл.'!$C$50","v":1081.3599999999999},{"$f":"'Челябинская обл.'!$C$51","v":1328.18},{"$f":"'Челябинская обл.'!$C$52","v":0},{"$f":"'Челябинская обл.'!$C$53","v":0},{"$f":"'Челябинская обл.'!$C$54","v":0},{"$f":"'Челябинская обл.'!$C$55","v":0},{"$f":"'Челябинская обл.'!$C$56","v":243.71}]
["9","ООО \"Целинное ЖКХ\"",null,{"$f":"'Челябинская обл.'!$C$7","v":"13,23"},{"$f":"'Челябинская обл.'!$C$10","v":1005.74},{"$f":"'Челябинская обл.'!$C$11","v":0},{"$f":"'Челябинская обл.'!$C$12","v":0},{"$f":"'Челябинская обл.'!$C$13","v":0},{"$f":"'Челябинская обл.'!$C$14","v":0},{"$f":"'Челябинская обл.'!$C$17","v":1987.75},{"$f":"'Челябинская обл.'!$C$18","v":0},{"$f":"'Челябинская обл.'!$C$19","v":0},{"$f":"'Челябинская обл.'!$C$20","v":0},{"$f":"'Челябинская обл.'!$C$21","v":0},{"$f":"'Челябинская обл.'!$C$23","v":1493.77},{"$f":"'Челябинская обл.'!$C$24","v":0},{"$f":"'Челябинская обл.'!$C$25","v":0},{"$f":"'Челябинская обл.'!$C$26","v":0},{"$f":"'Челябинская обл.'!$C$27","v":0},{"$f":"'Челябинская обл.'!$C$28","v":0},{"$f":"'Челябинская обл.'!$C$29","v":377.24},{"$f":"'Челябинская обл.'!$C$34","v":13.23},{"$f":"'Челябинская обл.'!$C$37","v":352.76},{"$f":"'Челябинская обл.'!$C$38","v":825.59},{"$f":"'Челябинская обл.'!$C$39","v":0},{"$f":"'Челябинская обл.'!$C$40","v":0},{"$f":"'Челябинская обл.'!$C$41","v":0},{"$f":"'Челябинская обл.'!$C$44","v":1142.9000000000001},{"$f":"'Челябинская обл.'!$C$45","v":1066.98},{"$f":"'Челябинская обл.'!$C$46","v":0},{"$f":"'Челябинская обл.'!$C$47","v":0},{"$f":"'Челябинская обл.'!$C$48","v":0},{"$f":"'Челябинская обл.'!$C$50","v":1081.3599999999999},{"$f":"'Челябинская обл.'!$C$51","v":1328.18},{"$f":"'Челябинская обл.'!$C$52","v":0},{"$f":"'Челябинская обл.'!$C$53","v":0},{"$f":"'Челябинская обл.'!$C$54","v":0},{"$f":"'Челябинская обл.'!$C$55","v":0},{"$f":"'Челябинская обл.'!$C$56","v":243.71}]
["10","ООО \"Эффективная теплоэнергетика\" (Троицкий м.р.)",null,{"$f":"'Челябинская обл.'!$C$7","v":"13,23"},{"$f":"'Челябинская обл.'!$C$10","v":1005.74},{"$f":"'Челябинская обл.'!$C$11","v":0},{"$f":"'Челябинская обл.'!$C$12","v":0},{"$f":"'Челябинская обл.'!$C$13","v":0},{"$f":"'Челябинская обл.'!$C$14","v":0},{"$f":"'Челябинская обл.'!$C$17","v":1987.75},{"$f":"'Челябинская обл.'!$C$18","v":0},{"$f":"'Челябинская обл.'!$C$19","v":0},{"$f":"'Челябинская обл.'!$C$20","v":0},{"$f":"'Челябинская обл.'!$C$21","v":0},{"$f":"'Челябинская обл.'!$C$23","v":1493.77},{"$f":"'Челябинская обл.'!$C$24","v":0},{"$f":"'Челябинская обл.'!$C$25","v":0},{"$f":"'Челябинская обл.'!$C$26","v":0},{"$f":"'Челябинская обл.'!$C$27","v":0},{"$f":"'Челябинская обл.'!$C$28","v":0},{"$f":"'Челябинская обл.'!$C$29","v":377.24},{"$f":"'Челябинская обл.'!$C$34","v":13.23},{"$f":"'Челябинская обл.'!$C$37","v":352.76},{"$f":"'Челябинская обл.'!$C$38","v":825.59},{"$f":"'Челябинская обл.'!$C$39","v":0},{"$f":"'Челябинская обл.'!$C$40","v":0},{"$f":"'Челябинская обл.'!$C$41","v":0},{"$f":"'Челябинская обл.'!$C$44","v":1142.9000000000001},{"$f":"'Челябинская обл.'!$C$45","v":1066.98},{"$f":"'Челябинская обл.'!$C$46","v":0},{"$f":"'Челябинская обл.'!$C$47","v":0},{"$f":"'Челябинская обл.'!$C$48","v":0},{"$f":"'Челябинская обл.'!$C$50","v":1081.3599999999999},{"$f":"'Челябинская обл.'!$C$51","v":1328.18},{"$f":"'Челябинская обл.'!$C$52","v":0},{"$f":"'Челябинская обл.'!$C$53","v":0},{"$f":"'Челябинская обл.'!$C$54","v":0},{"$f":"'Челябинская обл.'!$C$55","v":0},{"$f":"'Челябинская обл.'!$C$56","v":243.71}]
["11","ТСЖ \"Кумысное\"",null,{"$f":"'Челябинская обл.'!$C$7","v":"13,23"},{"$f":"'Челябинская обл.'!$C$10","v":1005.74},{"$f":"'Челябинская обл.'!$C$11","v":0},{"$f":"'Челябинская обл.'!$C$12","v":0},{"$f":"'Челябинская обл.'!$C$13","v":0},{"$f":"'Челябинская обл.'!$C$14","v":0},{"$f":"'Челябинская обл.'!$C$17","v":1987.75},{"$f":"'Челябинская обл.'!$C$18","v":0},{"$f":"'Челябинская обл.'!$C$19","v":0},{"$f":"'Челябинская обл.'!$C$20","v":0},{"$f":"'Челябинская обл.'!$C$21","v":0},{"$f":"'Челябинская обл.'!$C$23","v":1493.77},{"$f":"'Челябинская обл.'!$C$24","v":0},{"$f":"'Челябинская обл.'!$C$25","v":0},{"$f":"'Челябинская обл.'!$C$26","v":0},{"$f":"'Челябинская обл.'!$C$27","v":0},{"$f":"'Челябинская обл.'!$C$28","v":0},{"$f":"'Челябинская обл.'!$C$29","v":377.24},{"$f":"'Челябинская обл.'!$C$34","v":13.23},{"$f":"'Челябинская обл.'!$C$37","v":352.76},{"$f":"'Челябинская обл.'!$C$38","v":825.59},{"$f":"'Челябинская обл.'!$C$39","v":0},{"$f":"'Челябинская обл.'!$C$40","v":0},{"$f":"'Челябинская обл.'!$C$41","v":0},{"$f":"'Челябинская обл.'!$C$44","v":1142.9000000000001},{"$f":"'Челябинская обл.'!$C$45","v":1066.98},{"$f":"'Челябинская обл.'!$C$46","v":0},{"$f":"'Челябинская обл.'!$C$47","v":0},{"$f":"'Челябинская обл.'!$C$48","v":0},{"$f":"'Челябинская обл.'!$C$50","v":1081.3599999999999},{"$f":"'Челябинская обл.'!$C$51","v":1328.18},{"$f":"'Челябинская обл.'!$C$52","v":0},{"$f":"'Челябинская обл.'!$C$53","v":0},{"$f":"'Челябинская обл.'!$C$54","v":0},{"$f":"'Челябинская обл.'!$C$55","v":0},{"$f":"'Челябинская обл.'!$C$56","v":243.71}]
["12","ФГКУ Комбинат \"Уральский\" Росрезерва",null,{"$f":"'Челябинская обл.'!$C$7","v":"13,23"},{"$f":"'Челябинская обл.'!$C$10","v":1005.74},{"$f":"'Челябинская обл.'!$C$11","v":0},{"$f":"'Челябинская обл.'!$C$12","v":0},{"$f":"'Челябинская обл.'!$C$13","v":0},{"$f":"'Челябинская обл.'!$C$14","v":0},{"$f":"'Челябинская обл.'!$C$17","v":1987.75},{"$f":"'Челябинская обл.'!$C$18","v":0},{"$f":"'Челябинская обл.'!$C$19","v":0},{"$f":"'Челябинская обл.'!$C$20","v":0},{"$f":"'Челябинская обл.'!$C$21","v":0},{"$f":"'Челябинская обл.'!$C$23","v":1493.77},{"$f":"'Челябинская обл.'!$C$24","v":0},{"$f":"'Челябинская обл.'!$C$25","v":0},{"$f":"'Челябинская обл.'!$C$26","v":0},{"$f":"'Челябинская обл.'!$C$27","v":0},{"$f":"'Челябинская обл.'!$C$28","v":0},{"$f":"'Челябинская обл.'!$C$29","v":377.24},{"$f":"'Челябинская обл.'!$C$34","v":13.23},{"$f":"'Челябинская обл.'!$C$37","v":352.76},{"$f":"'Челябинская обл.'!$C$38","v":825.59},{"$f":"'Челябинская обл.'!$C$39","v":0},{"$f":"'Челябинская обл.'!$C$40","v":0},{"$f":"'Челябинская обл.'!$C$41","v":0},{"$f":"'Челябинская обл.'!$C$44","v":1142.9000000000001},{"$f":"'Челябинская обл.'!$C$45","v":1066.98},{"$f":"'Челябинская обл.'!$C$46","v":0},{"$f":"'Челябинская обл.'!$C$47","v":0},{"$f":"'Челябинская обл.'!$C$48","v":0},{"$f":"'Челябинская обл.'!$C$50","v":1081.3599999999999},{"$f":"'Челябинская обл.'!$C$51","v":1328.18},{"$f":"'Челябинская обл.'!$C$52","v":0},{"$f":"'Челябинская обл.'!$C$53","v":0},{"$f":"'Челябинская обл.'!$C$54","v":0},{"$f":"'Челябинская обл.'!$C$55","v":0},{"$f":"'Челябинская обл.'!$C$56","v":243.71}]
[13,"Федеральное государственное казенное учреждение  \"Пограничное управление ФСБ России по Челябинской области\" (Троицкий м.р.)",null,{"$f":"'Челябинская обл.'!$C$7","v":"13,23"},{"$f":"'Челябинская обл.'!$C$10","v":1005.74},{"$f":"'Челябинская обл.'!$C$11","v":0},{"$f":"'Челябинская обл.'!$C$12","v":0},{"$f":"'Челябинская обл.'!$C$13","v":0},{"$f":"'Челябинская обл.'!$C$14","v":0},{"$f":"'Челябинская обл.'!$C$17","v":1987.75},{"$f":"'Челябинская обл.'!$C$18","v":0},{"$f":"'Челябинская обл.'!$C$19","v":0},{"$f":"'Челябинская обл.'!$C$20","v":0},{"$f":"'Челябинская обл.'!$C$21","v":0},{"$f":"'Челябинская обл.'!$C$23","v":1493.77},{"$f":"'Челябинская обл.'!$C$24","v":0},{"$f":"'Челябинская обл.'!$C$25","v":0},{"$f":"'Челябинская обл.'!$C$26","v":0},{"$f":"'Челябинская обл.'!$C$27","v":0},{"$f":"'Челябинская обл.'!$C$28","v":0},{"$f":"'Челябинская обл.'!$C$29","v":377.24},{"$f":"'Челябинская обл.'!$C$34","v":13.23},{"$f":"'Челябинская обл.'!$C$37","v":352.76},{"$f":"'Челябинская обл.'!$C$38","v":825.59},{"$f":"'Челябинская обл.'!$C$39","v":0},{"$f":"'Челябинская обл.'!$C$40","v":0},{"$f":"'Челябинская обл.'!$C$41","v":0},{"$f":"'Челябинская обл.'!$C$44","v":1142.9000000000001},{"$f":"'Челябинская обл.'!$C$45","v":1066.98},{"$f":"'Челябинская обл.'!$C$46","v":0},{"$f":"'Челябинская обл.'!$C$47","v":0},{"$f":"'Челябинская обл.'!$C$48","v":0},{"$f":"'Челябинская обл.'!$C$50","v":1081.3599999999999},{"$f":"'Челябинская обл.'!$C$51","v":1328.18},{"$f":"'Челябинская обл.'!$C$52","v":0},{"$f":"'Челябинская обл.'!$C$53","v":0},{"$f":"'Челябинская обл.'!$C$54","v":0},{"$f":"'Челябинская обл.'!$C$55","v":0},{"$f":"'Челябинская обл.'!$C$56","v":243.71}]
["40","Увельский муниципальный район"]
["1","АО \"ГУ ЖКХ\" (Увельский м.р.)",null,{"$f":"'Челябинская обл.'!$C$7","v":"13,23"},{"$f":"'Челябинская обл.'!$C$10","v":1005.74},{"$f":"'Челябинская обл.'!$C$11","v":0},{"$f":"'Челябинская обл.'!$C$12","v":0},{"$f":"'Челябинская обл.'!$C$13","v":0},{"$f":"'Челябинская обл.'!$C$14","v":0},{"$f":"'Челябинская обл.'!$C$17","v":1987.75},{"$f":"'Челябинская обл.'!$C$18","v":0},{"$f":"'Челябинская обл.'!$C$19","v":0},{"$f":"'Челябинская обл.'!$C$20","v":0},{"$f":"'Челябинская обл.'!$C$21","v":0},{"$f":"'Челябинская обл.'!$C$23","v":1493.77},{"$f":"'Челябинская обл.'!$C$24","v":0},{"$f":"'Челябинская обл.'!$C$25","v":0},{"$f":"'Челябинская обл.'!$C$26","v":0},{"$f":"'Челябинская обл.'!$C$27","v":0},{"$f":"'Челябинская обл.'!$C$28","v":0},{"$f":"'Челябинская обл.'!$C$29","v":377.24},{"$f":"'Челябинская обл.'!$C$34","v":13.23},{"$f":"'Челябинская обл.'!$C$37","v":352.76},{"$f":"'Челябинская обл.'!$C$38","v":825.59},{"$f":"'Челябинская обл.'!$C$39","v":0},{"$f":"'Челябинская обл.'!$C$40","v":0},{"$f":"'Челябинская обл.'!$C$41","v":0},{"$f":"'Челябинская обл.'!$C$44","v":1142.9000000000001},{"$f":"'Челябинская обл.'!$C$45","v":1066.98},{"$f":"'Челябинская обл.'!$C$46","v":0},{"$f":"'Челябинская обл.'!$C$47","v":0},{"$f":"'Челябинская обл.'!$C$48","v":0},{"$f":"'Челябинская обл.'!$C$50","v":1081.3599999999999},{"$f":"'Челябинская обл.'!$C$51","v":1328.18},{"$f":"'Челябинская обл.'!$C$52","v":0},{"$f":"'Челябинская обл.'!$C$53","v":0},{"$f":"'Челябинская обл.'!$C$54","v":0},{"$f":"'Челябинская обл.'!$C$55","v":0},{"$f":"'Челябинская обл.'!$C$56","v":243.71}]
["2","АО \"Челябоблкоммунэнерго\" (Челябинская область)",null,{"$f":"'Челябинская обл.'!$C$7","v":"13,23"},{"$f":"'Челябинская обл.'!$C$10","v":1005.74},{"$f":"'Челябинская обл.'!$C$11","v":0},{"$f":"'Челябинская обл.'!$C$12","v":0},{"$f":"'Челябинская обл.'!$C$13","v":0},{"$f":"'Челябинская обл.'!$C$14","v":0},{"$f":"'Челябинская обл.'!$C$17","v":1987.75},{"$f":"'Челябинская обл.'!$C$18","v":0},{"$f":"'Челябинская обл.'!$C$19","v":0},{"$f":"'Челябинская обл.'!$C$20","v":0},{"$f":"'Челябинская обл.'!$C$21","v":0},{"$f":"'Челябинская обл.'!$C$23","v":1493.77},{"$f":"'Челябинская обл.'!$C$24","v":0},{"$f":"'Челябинская обл.'!$C$25","v":0},{"$f":"'Челябинская обл.'!$C$26","v":0},{"$f":"'Челябинская обл.'!$C$27","v":0},{"$f":"'Челябинская обл.'!$C$28","v":0},{"$f":"'Челябинская обл.'!$C$29","v":377.24},{"$f":"'Челябинская обл.'!$C$34","v":13.23},{"$f":"'Челябинская обл.'!$C$37","v":352.76},{"$f":"'Челябинская обл.'!$C$38","v":825.59},{"$f":"'Челябинская обл.'!$C$39","v":0},{"$f":"'Челябинская обл.'!$C$40","v":0},{"$f":"'Челябинская обл.'!$C$41","v":0},{"$f":"'Челябинская обл.'!$C$44","v":1142.9000000000001},{"$f":"'Челябинская обл.'!$C$45","v":1066.98},{"$f":"'Челябинская обл.'!$C$46","v":0},{"$f":"'Челябинская обл.'!$C$47","v":0},{"$f":"'Челябинская обл.'!$C$48","v":0},{"$f":"'Челябинская обл.'!$C$50","v":1081.3599999999999},{"$f":"'Челябинская обл.'!$C$51","v":1328.18},{"$f":"'Челябинская обл.'!$C$52","v":0},{"$f":"'Челябинская обл.'!$C$53","v":0},{"$f":"'Челябинская обл.'!$C$54","v":0},{"$f":"'Челябинская обл.'!$C$55","v":0},{"$f":"'Челябинская обл.'!$C$56","v":243.71}]
["3","АО работников \"Народное предприятие\" Челябинское рудоуправление\"",null,{"$f":"'Челябинская обл.'!$C$7","v":"13,23"},{"$f":"'Челябинская обл.'!$C$10","v":1005.74},{"$f":"'Челябинская обл.'!$C$11","v":0},{"$f":"'Челябинская обл.'!$C$12","v":0},{"$f":"'Челябинская обл.'!$C$13","v":0},{"$f":"'Челябинская обл.'!$C$14","v":0},{"$f":"'Челябинская обл.'!$C$17","v":1987.75},{"$f":"'Челябинская обл.'!$C$18","v":0},{"$f":"'Челябинская обл.'!$C$19","v":0},{"$f":"'Челябинская обл.'!$C$20","v":0},{"$f":"'Челябинская обл.'!$C$21","v":0},{"$f":"'Челябинская обл.'!$C$23","v":1493.77},{"$f":"'Челябинская обл.'!$C$24","v":0},{"$f":"'Челябинская обл.'!$C$25","v":0},{"$f":"'Челябинская обл.'!$C$26","v":0},{"$f":"'Челябинская обл.'!$C$27","v":0},{"$f":"'Челябинская обл.'!$C$28","v":0},{"$f":"'Челябинская обл.'!$C$29","v":377.24},{"$f":"'Челябинская обл.'!$C$34","v":13.23},{"$f":"'Челябинская обл.'!$C$37","v":352.76},{"$f":"'Челябинская обл.'!$C$38","v":825.59},{"$f":"'Челябинская обл.'!$C$39","v":0},{"$f":"'Челябинская обл.'!$C$40","v":0},{"$f":"'Челябинская обл.'!$C$41","v":0},{"$f":"'Челябинская обл.'!$C$44","v":1142.9000000000001},{"$f":"'Челябинская обл.'!$C$45","v":1066.98},{"$f":"'Челябинская обл.'!$C$46","v":0},{"$f":"'Челябинская обл.'!$C$47","v":0},{"$f":"'Челябинская обл.'!$C$48","v":0},{"$f":"'Челябинская обл.'!$C$50","v":1081.3599999999999},{"$f":"'Челябинская обл.'!$C$51","v":1328.18},{"$f":"'Челябинская обл.'!$C$52","v":0},{"$f":"'Челябинская обл.'!$C$53","v":0},{"$f":"'Челябинская обл.'!$C$54","v":0},{"$f":"'Челябинская обл.'!$C$55","v":0},{"$f":"'Челябинская обл.'!$C$56","v":243.71}]
["4","ЗАО КХП \"Злак\"",null,{"$f":"'Челябинская обл.'!$C$7","v":"13,23"},{"$f":"'Челябинская обл.'!$C$10","v":1005.74},{"$f":"'Челябинская обл.'!$C$11","v":0},{"$f":"'Челябинская обл.'!$C$12","v":0},{"$f":"'Челябинская обл.'!$C$13","v":0},{"$f":"'Челябинская обл.'!$C$14","v":0},{"$f":"'Челябинская обл.'!$C$17","v":1987.75},{"$f":"'Челябинская обл.'!$C$18","v":0},{"$f":"'Челябинская обл.'!$C$19","v":0},{"$f":"'Челябинская обл.'!$C$20","v":0},{"$f":"'Челябинская обл.'!$C$21","v":0},{"$f":"'Челябинская обл.'!$C$23","v":1493.77},{"$f":"'Челябинская обл.'!$C$24","v":0},{"$f":"'Челябинская обл.'!$C$25","v":0},{"$f":"'Челябинская обл.'!$C$26","v":0},{"$f":"'Челябинская обл.'!$C$27","v":0},{"$f":"'Челябинская обл.'!$C$28","v":0},{"$f":"'Челябинская обл.'!$C$29","v":377.24},{"$f":"'Челябинская обл.'!$C$34","v":13.23},{"$f":"'Челябинская обл.'!$C$37","v":352.76},{"$f":"'Челябинская обл.'!$C$38","v":825.59},{"$f":"'Челябинская обл.'!$C$39","v":0},{"$f":"'Челябинская обл.'!$C$40","v":0},{"$f":"'Челябинская обл.'!$C$41","v":0},{"$f":"'Челябинская обл.'!$C$44","v":1142.9000000000001},{"$f":"'Челябинская обл.'!$C$45","v":1066.98},{"$f":"'Челябинская обл.'!$C$46","v":0},{"$f":"'Челябинская обл.'!$C$47","v":0},{"$f":"'Челябинская обл.'!$C$48","v":0},{"$f":"'Челябинская обл.'!$C$50","v":1081.3599999999999},{"$f":"'Челябинская обл.'!$C$51","v":1328.18},{"$f":"'Челябинская обл.'!$C$52","v":0},{"$f":"'Челябинская обл.'!$C$53","v":0},{"$f":"'Челябинская обл.'!$C$54","v":0},{"$f":"'Челябинская обл.'!$C$55","v":0},{"$f":"'Челябинская обл.'!$C$56","v":243.71}]
["5","МУП \"Кичигинское ЖКХ\"",null,{"$f":"'Челябинская обл.'!$C$7","v":"13,23"},{"$f":"'Челябинская обл.'!$C$10","v":1005.74},{"$f":"'Челябинская обл.'!$C$11","v":0},{"$f":"'Челябинская обл.'!$C$12","v":0},{"$f":"'Челябинская обл.'!$C$13","v":0},{"$f":"'Челябинская обл.'!$C$14","v":0},{"$f":"'Челябинская обл.'!$C$17","v":1987.75},{"$f":"'Челябинская обл.'!$C$18","v":0},{"$f":"'Челябинская обл.'!$C$19","v":0},{"$f":"'Челябинская обл.'!$C$20","v":0},{"$f":"'Челябинская обл.'!$C$21","v":0},{"$f":"'Челябинская обл.'!$C$23","v":1493.77},{"$f":"'Челябинская обл.'!$C$24","v":0},{"$f":"'Челябинская обл.'!$C$25","v":0},{"$f":"'Челябинская обл.'!$C$26","v":0},{"$f":"'Челябинская обл.'!$C$27","v":0},{"$f":"'Челябинская обл.'!$C$28","v":0},{"$f":"'Челябинская обл.'!$C$29","v":377.24},{"$f":"'Челябинская обл.'!$C$34","v":13.23},{"$f":"'Челябинская обл.'!$C$37","v":352.76},{"$f":"'Челябинская обл.'!$C$38","v":825.59},{"$f":"'Челябинская обл.'!$C$39","v":0},{"$f":"'Челябинская обл.'!$C$40","v":0},{"$f":"'Челябинская обл.'!$C$41","v":0},{"$f":"'Челябинская обл.'!$C$44","v":1142.9000000000001},{"$f":"'Челябинская обл.'!$C$45","v":1066.98},{"$f":"'Челябинская обл.'!$C$46","v":0},{"$f":"'Челябинская обл.'!$C$47","v":0},{"$f":"'Челябинская обл.'!$C$48","v":0},{"$f":"'Челябинская обл.'!$C$50","v":1081.3599999999999},{"$f":"'Челябинская обл.'!$C$51","v":1328.18},{"$f":"'Челябинская обл.'!$C$52","v":0},{"$f":"'Челябинская обл.'!$C$53","v":0},{"$f":"'Челябинская обл.'!$C$54","v":0},{"$f":"'Челябинская обл.'!$C$55","v":0},{"$f":"'Челябинская обл.'!$C$56","v":243.71}]
["6","МУП \"Коммунальные услуги\"",null,{"$f":"'Челябинская обл.'!$C$7","v":"13,23"},{"$f":"'Челябинская обл.'!$C$10","v":1005.74},{"$f":"'Челябинская обл.'!$C$11","v":0},{"$f":"'Челябинская обл.'!$C$12","v":0},{"$f":"'Челябинская обл.'!$C$13","v":0},{"$f":"'Челябинская обл.'!$C$14","v":0},{"$f":"'Челябинская обл.'!$C$17","v":1987.75},{"$f":"'Челябинская обл.'!$C$18","v":0},{"$f":"'Челябинская обл.'!$C$19","v":0},{"$f":"'Челябинская обл.'!$C$20","v":0},{"$f":"'Челябинская обл.'!$C$21","v":0},{"$f":"'Челябинская обл.'!$C$23","v":1493.77},{"$f":"'Челябинская обл.'!$C$24","v":0},{"$f":"'Челябинская обл.'!$C$25","v":0},{"$f":"'Челябинская обл.'!$C$26","v":0},{"$f":"'Челябинская обл.'!$C$27","v":0},{"$f":"'Челябинская обл.'!$C$28","v":0},{"$f":"'Челябинская обл.'!$C$29","v":377.24},{"$f":"'Челябинская обл.'!$C$34","v":13.23},{"$f":"'Челябинская обл.'!$C$37","v":352.76},{"$f":"'Челябинская обл.'!$C$38","v":825.59},{"$f":"'Челябинская обл.'!$C$39","v":0},{"$f":"'Челябинская обл.'!$C$40","v":0},{"$f":"'Челябинская обл.'!$C$41","v":0},{"$f":"'Челябинская обл.'!$C$44","v":1142.9000000000001},{"$f":"'Челябинская обл.'!$C$45","v":1066.98},{"$f":"'Челябинская обл.'!$C$46","v":0},{"$f":"'Челябинская обл.'!$C$47","v":0},{"$f":"'Челябинская обл.'!$C$48","v":0},{"$f":"'Челябинская обл.'!$C$50","v":1081.3599999999999},{"$f":"'Челябинская обл.'!$C$51","v":1328.18},{"$f":"'Челябинская обл.'!$C$52","v":0},{"$f":"'Челябинская обл.'!$C$53","v":0},{"$f":"'Челябинская обл.'!$C$54","v":0},{"$f":"'Челябинская обл.'!$C$55","v":0},{"$f":"'Челябинская обл.'!$C$56","v":243.71}]
["7","ОАО \"Санаторий Урал\"",null,{"$f":"'Челябинская обл.'!$C$7","v":"13,23"},{"$f":"'Челябинская обл.'!$C$10","v":1005.74},{"$f":"'Челябинская обл.'!$C$11","v":0},{"$f":"'Челябинская обл.'!$C$12","v":0},{"$f":"'Челябинская обл.'!$C$13","v":0},{"$f":"'Челябинская обл.'!$C$14","v":0},{"$f":"'Челябинская обл.'!$C$17","v":1987.75},{"$f":"'Челябинская обл.'!$C$18","v":0},{"$f":"'Челябинская обл.'!$C$19","v":0},{"$f":"'Челябинская обл.'!$C$20","v":0},{"$f":"'Челябинская обл.'!$C$21","v":0},{"$f":"'Челябинская обл.'!$C$23","v":1493.77},{"$f":"'Челябинская обл.'!$C$24","v":0},{"$f":"'Челябинская обл.'!$C$25","v":0},{"$f":"'Челябинская обл.'!$C$26","v":0},{"$f":"'Челябинская обл.'!$C$27","v":0},{"$f":"'Челябинская обл.'!$C$28","v":0},{"$f":"'Челябинская обл.'!$C$29","v":377.24},{"$f":"'Челябинская обл.'!$C$34","v":13.23},{"$f":"'Челябинская обл.'!$C$37","v":352.76},{"$f":"'Челябинская обл.'!$C$38","v":825.59},{"$f":"'Челябинская обл.'!$C$39","v":0},{"$f":"'Челябинская обл.'!$C$40","v":0},{"$f":"'Челябинская обл.'!$C$41","v":0},{"$f":"'Челябинская обл.'!$C$44","v":1142.9000000000001},{"$f":"'Челябинская обл.'!$C$45","v":1066.98},{"$f":"'Челябинская обл.'!$C$46","v":0},{"$f":"'Челябинская обл.'!$C$47","v":0},{"$f":"'Челябинская обл.'!$C$48","v":0},{"$f":"'Челябинская обл.'!$C$50","v":1081.3599999999999},{"$f":"'Челябинская обл.'!$C$51","v":1328.18},{"$f":"'Челябинская обл.'!$C$52","v":0},{"$f":"'Челябинская обл.'!$C$53","v":0},{"$f":"'Челябинская обл.'!$C$54","v":0},{"$f":"'Челябинская обл.'!$C$55","v":0},{"$f":"'Челябинская обл.'!$C$56","v":243.71}]
["8","ООО \"Каменское ЖКХ\"",null,{"$f":"'Челябинская обл.'!$C$7","v":"13,23"},{"$f":"'Челябинская обл.'!$C$10","v":1005.74},{"$f":"'Челябинская обл.'!$C$11","v":0},{"$f":"'Челябинская обл.'!$C$12","v":0},{"$f":"'Челябинская обл.'!$C$13","v":0},{"$f":"'Челябинская обл.'!$C$14","v":0},{"$f":"'Челябинская обл.'!$C$17","v":1987.75},{"$f":"'Челябинская обл.'!$C$18","v":0},{"$f":"'Челябинская обл.'!$C$19","v":0},{"$f":"'Челябинская обл.'!$C$20","v":0},{"$f":"'Челябинская обл.'!$C$21","v":0},{"$f":"'Челябинская обл.'!$C$23","v":1493.77},{"$f":"'Челябинская обл.'!$C$24","v":0},{"$f":"'Челябинская обл.'!$C$25","v":0},{"$f":"'Челябинская обл.'!$C$26","v":0},{"$f":"'Челябинская обл.'!$C$27","v":0},{"$f":"'Челябинская обл.'!$C$28","v":0},{"$f":"'Челябинская обл.'!$C$29","v":377.24},{"$f":"'Челябинская обл.'!$C$34","v":13.23},{"$f":"'Челябинская обл.'!$C$37","v":352.76},{"$f":"'Челябинская обл.'!$C$38","v":825.59},{"$f":"'Челябинская обл.'!$C$39","v":0},{"$f":"'Челябинская обл.'!$C$40","v":0},{"$f":"'Челябинская обл.'!$C$41","v":0},{"$f":"'Челябинская обл.'!$C$44","v":1142.9000000000001},{"$f":"'Челябинская обл.'!$C$45","v":1066.98},{"$f":"'Челябинская обл.'!$C$46","v":0},{"$f":"'Челябинская обл.'!$C$47","v":0},{"$f":"'Челябинская обл.'!$C$48","v":0},{"$f":"'Челябинская обл.'!$C$50","v":1081.3599999999999},{"$f":"'Челябинская обл.'!$C$51","v":1328.18},{"$f":"'Челябинская обл.'!$C$52","v":0},{"$f":"'Челябинская обл.'!$C$53","v":0},{"$f":"'Челябинская обл.'!$C$54","v":0},{"$f":"'Челябинская обл.'!$C$55","v":0},{"$f":"'Челябинская обл.'!$C$56","v":243.71}]
["9","ООО \"Мордвиновское ЖКХ\"",null,{"$f":"'Челябинская обл.'!$C$7","v":"13,23"},{"$f":"'Челябинская обл.'!$C$10","v":1005.74},{"$f":"'Челябинская обл.'!$C$11","v":0},{"$f":"'Челябинская обл.'!$C$12","v":0},{"$f":"'Челябинская обл.'!$C$13","v":0},{"$f":"'Челябинская обл.'!$C$14","v":0},{"$f":"'Челябинская обл.'!$C$17","v":1987.75},{"$f":"'Челябинская обл.'!$C$18","v":0},{"$f":"'Челябинская обл.'!$C$19","v":0},{"$f":"'Челябинская обл.'!$C$20","v":0},{"$f":"'Челябинская обл.'!$C$21","v":0},{"$f":"'Челябинская обл.'!$C$23","v":1493.77},{"$f":"'Челябинская обл.'!$C$24","v":0},{"$f":"'Челябинская обл.'!$C$25","v":0},{"$f":"'Челябинская обл.'!$C$26","v":0},{"$f":"'Челябинская обл.'!$C$27","v":0},{"$f":"'Челябинская обл.'!$C$28","v":0},{"$f":"'Челябинская обл.'!$C$29","v":377.24},{"$f":"'Челябинская обл.'!$C$34","v":13.23},{"$f":"'Челябинская обл.'!$C$37","v":352.76},{"$f":"'Челябинская обл.'!$C$38","v":825.59},{"$f":"'Челябинская обл.'!$C$39","v":0},{"$f":"'Челябинская обл.'!$C$40","v":0},{"$f":"'Челябинская обл.'!$C$41","v":0},{"$f":"'Челябинская обл.'!$C$44","v":1142.9000000000001},{"$f":"'Челябинская обл.'!$C$45","v":1066.98},{"$f":"'Челябинская обл.'!$C$46","v":0},{"$f":"'Челябинская обл.'!$C$47","v":0},{"$f":"'Челябинская обл.'!$C$48","v":0},{"$f":"'Челябинская обл.'!$C$50","v":1081.3599999999999},{"$f":"'Челябинская обл.'!$C$51","v":1328.18},{"$f":"'Челябинская обл.'!$C$52","v":0},{"$f":"'Челябинская обл.'!$C$53","v":0},{"$f":"'Челябинская обл.'!$C$54","v":0},{"$f":"'Челябинская обл.'!$C$55","v":0},{"$f":"'Челябинская обл.'!$C$56","v":243.71}]
["10","ООО \"Петровское ЖКХ\"",null,{"$f":"'Челябинская обл.'!$C$7","v":"13,23"},{"$f":"'Челябинская обл.'!$C$10","v":1005.74},{"$f":"'Челябинская обл.'!$C$11","v":0},{"$f":"'Челябинская обл.'!$C$12","v":0},{"$f":"'Челябинская обл.'!$C$13","v":0},{"$f":"'Челябинская обл.'!$C$14","v":0},{"$f":"'Челябинская обл.'!$C$17","v":1987.75},{"$f":"'Челябинская обл.'!$C$18","v":0},{"$f":"'Челябинская обл.'!$C$19","v":0},{"$f":"'Челябинская обл.'!$C$20","v":0},{"$f":"'Челябинская обл.'!$C$21","v":0},{"$f":"'Челябинская обл.'!$C$23","v":1493.77},{"$f":"'Челябинская обл.'!$C$24","v":0},{"$f":"'Челябинская обл.'!$C$25","v":0},{"$f":"'Челябинская обл.'!$C$26","v":0},{"$f":"'Челябинская обл.'!$C$27","v":0},{"$f":"'Челябинская обл.'!$C$28","v":0},{"$f":"'Челябинская обл.'!$C$29","v":377.24},{"$f":"'Челябинская обл.'!$C$34","v":13.23},{"$f":"'Челябинская обл.'!$C$37","v":352.76},{"$f":"'Челябинская обл.'!$C$38","v":825.59},{"$f":"'Челябинская обл.'!$C$39","v":0},{"$f":"'Челябинская обл.'!$C$40","v":0},{"$f":"'Челябинская обл.'!$C$41","v":0},{"$f":"'Челябинская обл.'!$C$44","v":1142.9000000000001},{"$f":"'Челябинская обл.'!$C$45","v":1066.98},{"$f":"'Челябинская обл.'!$C$46","v":0},{"$f":"'Челябинская обл.'!$C$47","v":0},{"$f":"'Челябинская обл.'!$C$48","v":0},{"$f":"'Челябинская обл.'!$C$50","v":1081.3599999999999},{"$f":"'Челябинская обл.'!$C$51","v":1328.18},{"$f":"'Челябинская обл.'!$C$52","v":0},{"$f":"'Челябинская обл.'!$C$53","v":0},{"$f":"'Челябинская обл.'!$C$54","v":0},{"$f":"'Челябинская обл.'!$C$55","v":0},{"$f":"'Челябинская обл.'!$C$56","v":243.71}]
["11","ООО \"Половинское ЖКХ\"",null,{"$f":"'Челябинская обл.'!$C$7","v":"13,23"},{"$f":"'Челябинская обл.'!$C$10","v":1005.74},{"$f":"'Челябинская обл.'!$C$11","v":0},{"$f":"'Челябинская обл.'!$C$12","v":0},{"$f":"'Челябинская обл.'!$C$13","v":0},{"$f":"'Челябинская обл.'!$C$14","v":0},{"$f":"'Челябинская обл.'!$C$17","v":1987.75},{"$f":"'Челябинская обл.'!$C$18","v":0},{"$f":"'Челябинская обл.'!$C$19","v":0},{"$f":"'Челябинская обл.'!$C$20","v":0},{"$f":"'Челябинская обл.'!$C$21","v":0},{"$f":"'Челябинская обл.'!$C$23","v":1493.77},{"$f":"'Челябинская обл.'!$C$24","v":0},{"$f":"'Челябинская обл.'!$C$25","v":0},{"$f":"'Челябинская обл.'!$C$26","v":0},{"$f":"'Челябинская обл.'!$C$27","v":0},{"$f":"'Челябинская обл.'!$C$28","v":0},{"$f":"'Челябинская обл.'!$C$29","v":377.24},{"$f":"'Челябинская обл.'!$C$34","v":13.23},{"$f":"'Челябинская обл.'!$C$37","v":352.76},{"$f":"'Челябинская обл.'!$C$38","v":825.59},{"$f":"'Челябинская обл.'!$C$39","v":0},{"$f":"'Челябинская обл.'!$C$40","v":0},{"$f":"'Челябинская обл.'!$C$41","v":0},{"$f":"'Челябинская обл.'!$C$44","v":1142.9000000000001},{"$f":"'Челябинская обл.'!$C$45","v":1066.98},{"$f":"'Челябинская обл.'!$C$46","v":0},{"$f":"'Челябинская обл.'!$C$47","v":0},{"$f":"'Челябинская обл.'!$C$48","v":0},{"$f":"'Челябинская обл.'!$C$50","v":1081.3599999999999},{"$f":"'Челябинская обл.'!$C$51","v":1328.18},{"$f":"'Челябинская обл.'!$C$52","v":0},{"$f":"'Челябинская обл.'!$C$53","v":0},{"$f":"'Челябинская обл.'!$C$54","v":0},{"$f":"'Челябинская обл.'!$C$55","v":0},{"$f":"'Челябинская обл.'!$C$56","v":243.71}]
["12","ООО \"Пром-тепло\"",null,{"$f":"'Челябинская обл.'!$C$7","v":"13,23"},{"$f":"'Челябинская обл.'!$C$10","v":1005.74},{"$f":"'Челябинская обл.'!$C$11","v":0},{"$f":"'Челябинская обл.'!$C$12","v":0},{"$f":"'Челябинская обл.'!$C$13","v":0},{"$f":"'Челябинская обл.'!$C$14","v":0},{"$f":"'Челябинская обл.'!$C$17","v":1987.75},{"$f":"'Челябинская обл.'!$C$18","v":0},{"$f":"'Челябинская обл.'!$C$19","v":0},{"$f":"'Челябинская обл.'!$C$20","v":0},{"$f":"'Челябинская обл.'!$C$21","v":0},{"$f":"'Челябинская обл.'!$C$23","v":1493.77},{"$f":"'Челябинская обл.'!$C$24","v":0},{"$f":"'Челябинская обл.'!$C$25","v":0},{"$f":"'Челябинская обл.'!$C$26","v":0},{"$f":"'Челябинская обл.'!$C$27","v":0},{"$f":"'Челябинская обл.'!$C$28","v":0},{"$f":"'Челябинская обл.'!$C$29","v":377.24},{"$f":"'Челябинская обл.'!$C$34","v":13.23},{"$f":"'Челябинская обл.'!$C$37","v":352.76},{"$f":"'Челябинская обл.'!$C$38","v":825.59},{"$f":"'Челябинская обл.'!$C$39","v":0},{"$f":"'Челябинская обл.'!$C$40","v":0},{"$f":"'Челябинская обл.'!$C$41","v":0},{"$f":"'Челябинская обл.'!$C$44","v":1142.9000000000001},{"$f":"'Челябинская обл.'!$C$45","v":1066.98},{"$f":"'Челябинская обл.'!$C$46","v":0},{"$f":"'Челябинская обл.'!$C$47","v":0},{"$f":"'Челябинская обл.'!$C$48","v":0},{"$f":"'Челябинская обл.'!$C$50","v":1081.3599999999999},{"$f":"'Челябинская обл.'!$C$51","v":1328.18},{"$f":"'Челябинская обл.'!$C$52","v":0},{"$f":"'Челябинская обл.'!$C$53","v":0},{"$f":"'Челябинская обл.'!$C$54","v":0},{"$f":"'Челябинская обл.'!$C$55","v":0},{"$f":"'Челябинская обл.'!$C$56","v":243.71}]
["13","ООО \"ПрофТерминал-Энерго\"",null,{"$f":"'Челябинская обл.'!$C$7","v":"13,23"},{"$f":"'Челябинская обл.'!$C$10","v":1005.74},{"$f":"'Челябинская обл.'!$C$11","v":0},{"$f":"'Челябинская обл.'!$C$12","v":0},{"$f":"'Челябинская обл.'!$C$13","v":0},{"$f":"'Челябинская обл.'!$C$14","v":0},{"$f":"'Челябинская обл.'!$C$17","v":1987.75},{"$f":"'Челябинская обл.'!$C$18","v":0},{"$f":"'Челябинская обл.'!$C$19","v":0},{"$f":"'Челябинская обл.'!$C$20","v":0},{"$f":"'Челябинская обл.'!$C$21","v":0},{"$f":"'Челябинская обл.'!$C$23","v":1493.77},{"$f":"'Челябинская обл.'!$C$24","v":0},{"$f":"'Челябинская обл.'!$C$25","v":0},{"$f":"'Челябинская обл.'!$C$26","v":0},{"$f":"'Челябинская обл.'!$C$27","v":0},{"$f":"'Челябинская обл.'!$C$28","v":0},{"$f":"'Челябинская обл.'!$C$29","v":377.24},{"$f":"'Челябинская обл.'!$C$34","v":13.23},{"$f":"'Челябинская обл.'!$C$37","v":352.76},{"$f":"'Челябинская обл.'!$C$38","v":825.59},{"$f":"'Челябинская обл.'!$C$39","v":0},{"$f":"'Челябинская обл.'!$C$40","v":0},{"$f":"'Челябинская обл.'!$C$41","v":0},{"$f":"'Челябинская обл.'!$C$44","v":1142.9000000000001},{"$f":"'Челябинская обл.'!$C$45","v":1066.98},{"$f":"'Челябинская обл.'!$C$46","v":0},{"$f":"'Челябинская обл.'!$C$47","v":0},{"$f":"'Челябинская обл.'!$C$48","v":0},{"$f":"'Челябинская обл.'!$C$50","v":1081.3599999999999},{"$f":"'Челябинская обл.'!$C$51","v":1328.18},{"$f":"'Челябинская обл.'!$C$52","v":0},{"$f":"'Челябинская обл.'!$C$53","v":0},{"$f":"'Челябинская обл.'!$C$54","v":0},{"$f":"'Челябинская обл.'!$C$55","v":0},{"$f":"'Челябинская обл.'!$C$56","v":243.71}]
["14","ООО \"Рождественское ЖКХ\"",null,{"$f":"'Челябинская обл.'!$C$7","v":"13,23"},{"$f":"'Челябинская обл.'!$C$10","v":1005.74},{"$f":"'Челябинская обл.'!$C$11","v":0},{"$f":"'Челябинская обл.'!$C$12","v":0},{"$f":"'Челябинская обл.'!$C$13","v":0},{"$f":"'Челябинская обл.'!$C$14","v":0},{"$f":"'Челябинская обл.'!$C$17","v":1987.75},{"$f":"'Челябинская обл.'!$C$18","v":0},{"$f":"'Челябинская обл.'!$C$19","v":0},{"$f":"'Челябинская обл.'!$C$20","v":0},{"$f":"'Челябинская обл.'!$C$21","v":0},{"$f":"'Челябинская обл.'!$C$23","v":1493.77},{"$f":"'Челябинская обл.'!$C$24","v":0},{"$f":"'Челябинская обл.'!$C$25","v":0},{"$f":"'Челябинская обл.'!$C$26","v":0},{"$f":"'Челябинская обл.'!$C$27","v":0},{"$f":"'Челябинская обл.'!$C$28","v":0},{"$f":"'Челябинская обл.'!$C$29","v":377.24},{"$f":"'Челябинская обл.'!$C$34","v":13.23},{"$f":"'Челябинская обл.'!$C$37","v":352.76},{"$f":"'Челябинская обл.'!$C$38","v":825.59},{"$f":"'Челябинская обл.'!$C$39","v":0},{"$f":"'Челябинская обл.'!$C$40","v":0},{"$f":"'Челябинская обл.'!$C$41","v":0},{"$f":"'Челябинская обл.'!$C$44","v":1142.9000000000001},{"$f":"'Челябинская обл.'!$C$45","v":1066.98},{"$f":"'Челябинская обл.'!$C$46","v":0},{"$f":"'Челябинская обл.'!$C$47","v":0},{"$f":"'Челябинская обл.'!$C$48","v":0},{"$f":"'Челябинская обл.'!$C$50","v":1081.3599999999999},{"$f":"'Челябинская обл.'!$C$51","v":1328.18},{"$f":"'Челябинская обл.'!$C$52","v":0},{"$f":"'Челябинская обл.'!$C$53","v":0},{"$f":"'Челябинская обл.'!$C$54","v":0},{"$f":"'Челябинская обл.'!$C$55","v":0},{"$f":"'Челябинская обл.'!$C$56","v":243.71}]
["15","ООО \"Уральская энергия - Южный Урал\" (Увельский м.р.)",null,{"$f":"'Челябинская обл.'!$C$7","v":"13,23"},{"$f":"'Челябинская обл.'!$C$10","v":1005.74},{"$f":"'Челябинская обл.'!$C$11","v":0},{"$f":"'Челябинская обл.'!$C$12","v":0},{"$f":"'Челябинская обл.'!$C$13","v":0},{"$f":"'Челябинская обл.'!$C$14","v":0},{"$f":"'Челябинская обл.'!$C$17","v":1987.75},{"$f":"'Челябинская обл.'!$C$18","v":0},{"$f":"'Челябинская обл.'!$C$19","v":0},{"$f":"'Челябинская обл.'!$C$20","v":0},{"$f":"'Челябинская обл.'!$C$21","v":0},{"$f":"'Челябинская обл.'!$C$23","v":1493.77},{"$f":"'Челябинская обл.'!$C$24","v":0},{"$f":"'Челябинская обл.'!$C$25","v":0},{"$f":"'Челябинская обл.'!$C$26","v":0},{"$f":"'Челябинская обл.'!$C$27","v":0},{"$f":"'Челябинская обл.'!$C$28","v":0},{"$f":"'Челябинская обл.'!$C$29","v":377.24},{"$f":"'Челябинская обл.'!$C$34","v":13.23},{"$f":"'Челябинская обл.'!$C$37","v":352.76},{"$f":"'Челябинская обл.'!$C$38","v":825.59},{"$f":"'Челябинская обл.'!$C$39","v":0},{"$f":"'Челябинская обл.'!$C$40","v":0},{"$f":"'Челябинская обл.'!$C$41","v":0},{"$f":"'Челябинская обл.'!$C$44","v":1142.9000000000001},{"$f":"'Челябинская обл.'!$C$45","v":1066.98},{"$f":"'Челябинская обл.'!$C$46","v":0},{"$f":"'Челябинская обл.'!$C$47","v":0},{"$f":"'Челябинская обл.'!$C$48","v":0},{"$f":"'Челябинская обл.'!$C$50","v":1081.3599999999999},{"$f":"'Челябинская обл.'!$C$51","v":1328.18},{"$f":"'Челябинская обл.'!$C$52","v":0},{"$f":"'Челябинская обл.'!$C$53","v":0},{"$f":"'Челябинская обл.'!$C$54","v":0},{"$f":"'Челябинская обл.'!$C$55","v":0},{"$f":"'Челябинская обл.'!$C$56","v":243.71}]
["16","ООО \"Хуторское ЖКХ\"",null,{"$f":"'Челябинская обл.'!$C$7","v":"13,23"},{"$f":"'Челябинская обл.'!$C$10","v":1005.74},{"$f":"'Челябинская обл.'!$C$11","v":0},{"$f":"'Челябинская обл.'!$C$12","v":0},{"$f":"'Челябинская обл.'!$C$13","v":0},{"$f":"'Челябинская обл.'!$C$14","v":0},{"$f":"'Челябинская обл.'!$C$17","v":1987.75},{"$f":"'Челябинская обл.'!$C$18","v":0},{"$f":"'Челябинская обл.'!$C$19","v":0},{"$f":"'Челябинская обл.'!$C$20","v":0},{"$f":"'Челябинская обл.'!$C$21","v":0},{"$f":"'Челябинская обл.'!$C$23","v":1493.77},{"$f":"'Челябинская обл.'!$C$24","v":0},{"$f":"'Челябинская обл.'!$C$25","v":0},{"$f":"'Челябинская обл.'!$C$26","v":0},{"$f":"'Челябинская обл.'!$C$27","v":0},{"$f":"'Челябинская обл.'!$C$28","v":0},{"$f":"'Челябинская обл.'!$C$29","v":377.24},{"$f":"'Челябинская обл.'!$C$34","v":13.23},{"$f":"'Челябинская обл.'!$C$37","v":352.76},{"$f":"'Челябинская обл.'!$C$38","v":825.59},{"$f":"'Челябинская обл.'!$C$39","v":0},{"$f":"'Челябинская обл.'!$C$40","v":0},{"$f":"'Челябинская обл.'!$C$41","v":0},{"$f":"'Челябинская обл.'!$C$44","v":1142.9000000000001},{"$f":"'Челябинская обл.'!$C$45","v":1066.98},{"$f":"'Челябинская обл.'!$C$46","v":0},{"$f":"'Челябинская обл.'!$C$47","v":0},{"$f":"'Челябинская обл.'!$C$48","v":0},{"$f":"'Челябинская обл.'!$C$50","v":1081.3599999999999},{"$f":"'Челябинская обл.'!$C$51","v":1328.18},{"$f":"'Челябинская обл.'!$C$52","v":0},{"$f":"'Челябинская обл.'!$C$53","v":0},{"$f":"'Челябинская обл.'!$C$54","v":0},{"$f":"'Челябинская обл.'!$C$55","v":0},{"$f":"'Челябинская обл.'!$C$56","v":243.71}]
["17","ООО ГК \"Уральская энергия\" (Увельский м.р.)",null,{"$f":"'Челябинская обл.'!$C$7","v":"13,23"},{"$f":"'Челябинская обл.'!$C$10","v":1005.74},{"$f":"'Челябинская обл.'!$C$11","v":0},{"$f":"'Челябинская обл.'!$C$12","v":0},{"$f":"'Челябинская обл.'!$C$13","v":0},{"$f":"'Челябинская обл.'!$C$14","v":0},{"$f":"'Челябинская обл.'!$C$17","v":1987.75},{"$f":"'Челябинская обл.'!$C$18","v":0},{"$f":"'Челябинская обл.'!$C$19","v":0},{"$f":"'Челябинская обл.'!$C$20","v":0},{"$f":"'Челябинская обл.'!$C$21","v":0},{"$f":"'Челябинская обл.'!$C$23","v":1493.77},{"$f":"'Челябинская обл.'!$C$24","v":0},{"$f":"'Челябинская обл.'!$C$25","v":0},{"$f":"'Челябинская обл.'!$C$26","v":0},{"$f":"'Челябинская обл.'!$C$27","v":0},{"$f":"'Челябинская обл.'!$C$28","v":0},{"$f":"'Челябинская обл.'!$C$29","v":377.24},{"$f":"'Челябинская обл.'!$C$34","v":13.23},{"$f":"'Челябинская обл.'!$C$37","v":352.76},{"$f":"'Челябинская обл.'!$C$38","v":825.59},{"$f":"'Челябинская обл.'!$C$39","v":0},{"$f":"'Челябинская обл.'!$C$40","v":0},{"$f":"'Челябинская обл.'!$C$41","v":0},{"$f":"'Челябинская обл.'!$C$44","v":1142.9000000000001},{"$f":"'Челябинская обл.'!$C$45","v":1066.98},{"$f":"'Челябинская обл.'!$C$46","v":0},{"$f":"'Челябинская обл.'!$C$47","v":0},{"$f":"'Челябинская обл.'!$C$48","v":0},{"$f":"'Челябинская обл.'!$C$50","v":1081.3599999999999},{"$f":"'Челябинская обл.'!$C$51","v":1328.18},{"$f":"'Челябинская обл.'!$C$52","v":0},{"$f":"'Челябинская обл.'!$C$53","v":0},{"$f":"'Челябинская обл.'!$C$54","v":0},{"$f":"'Челябинская обл.'!$C$55","v":0},{"$f":"'Челябинская обл.'!$C$56","v":243.71}]
[18,"ФГБУ \"ЦЖКУ\" МИНОБОРОНЫ РОССИИ (по ЦВО) (Увельский м.р.)",null,{"$f":"'Челябинская обл.'!$C$7","v":"13,23"},{"$f":"'Челябинская обл.'!$C$10","v":1005.74},{"$f":"'Челябинская обл.'!$C$11","v":0},{"$f":"'Челябинская обл.'!$C$12","v":0},{"$f":"'Челябинская обл.'!$C$13","v":0},{"$f":"'Челябинская обл.'!$C$14","v":0},{"$f":"'Челябинская обл.'!$C$17","v":1987.75},{"$f":"'Челябинская обл.'!$C$18","v":0},{"$f":"'Челябинская обл.'!$C$19","v":0},{"$f":"'Челябинская обл.'!$C$20","v":0},{"$f":"'Челябинская обл.'!$C$21","v":0},{"$f":"'Челябинская обл.'!$C$23","v":1493.77},{"$f":"'Челябинская обл.'!$C$24","v":0},{"$f":"'Челябинская обл.'!$C$25","v":0},{"$f":"'Челябинская обл.'!$C$26","v":0},{"$f":"'Челябинская обл.'!$C$27","v":0},{"$f":"'Челябинская обл.'!$C$28","v":0},{"$f":"'Челябинская обл.'!$C$29","v":377.24},{"$f":"'Челябинская обл.'!$C$34","v":13.23},{"$f":"'Челябинская обл.'!$C$37","v":352.76},{"$f":"'Челябинская обл.'!$C$38","v":825.59},{"$f":"'Челябинская обл.'!$C$39","v":0},{"$f":"'Челябинская обл.'!$C$40","v":0},{"$f":"'Челябинская обл.'!$C$41","v":0},{"$f":"'Челябинская обл.'!$C$44","v":1142.9000000000001},{"$f":"'Челябинская обл.'!$C$45","v":1066.98},{"$f":"'Челябинская обл.'!$C$46","v":0},{"$f":"'Челябинская обл.'!$C$47","v":0},{"$f":"'Челябинская обл.'!$C$48","v":0},{"$f":"'Челябинская обл.'!$C$50","v":1081.3599999999999},{"$f":"'Челябинская обл.'!$C$51","v":1328.18},{"$f":"'Челябинская обл.'!$C$52","v":0},{"$f":"'Челябинская обл.'!$C$53","v":0},{"$f":"'Челябинская обл.'!$C$54","v":0},{"$f":"'Челябинская обл.'!$C$55","v":0},{"$f":"'Челябинская обл.'!$C$56","v":243.71}]
["41","Уйский муниципальный район"]
["1","АО \"Челябоблкоммунэнерго\" (Челябинская область)",null,{"$f":"'Челябинская обл.'!$C$7","v":"13,23"},{"$f":"'Челябинская обл.'!$C$10","v":1005.74},{"$f":"'Челябинская обл.'!$C$11","v":0},{"$f":"'Челябинская обл.'!$C$12","v":0},{"$f":"'Челябинская обл.'!$C$13","v":0},{"$f":"'Челябинская обл.'!$C$14","v":0},{"$f":"'Челябинская обл.'!$C$17","v":1987.75},{"$f":"'Челябинская обл.'!$C$18","v":0},{"$f":"'Челябинская обл.'!$C$19","v":0},{"$f":"'Челябинская обл.'!$C$20","v":0},{"$f":"'Челябинская обл.'!$C$21","v":0},{"$f":"'Челябинская обл.'!$C$23","v":1493.77},{"$f":"'Челябинская обл.'!$C$24","v":0},{"$f":"'Челябинская обл.'!$C$25","v":0},{"$f":"'Челябинская обл.'!$C$26","v":0},{"$f":"'Челябинская обл.'!$C$27","v":0},{"$f":"'Челябинская обл.'!$C$28","v":0},{"$f":"'Челябинская обл.'!$C$29","v":377.24},{"$f":"'Челябинская обл.'!$C$34","v":13.23},{"$f":"'Челябинская обл.'!$C$37","v":352.76},{"$f":"'Челябинская обл.'!$C$38","v":825.59},{"$f":"'Челябинская обл.'!$C$39","v":0},{"$f":"'Челябинская обл.'!$C$40","v":0},{"$f":"'Челябинская обл.'!$C$41","v":0},{"$f":"'Челябинская обл.'!$C$44","v":1142.9000000000001},{"$f":"'Челябинская обл.'!$C$45","v":1066.98},{"$f":"'Челябинская обл.'!$C$46","v":0},{"$f":"'Челябинская обл.'!$C$47","v":0},{"$f":"'Челябинская обл.'!$C$48","v":0},{"$f":"'Челябинская обл.'!$C$50","v":1081.3599999999999},{"$f":"'Челябинская обл.'!$C$51","v":1328.18},{"$f":"'Челябинская обл.'!$C$52","v":0},{"$f":"'Челябинская обл.'!$C$53","v":0},{"$f":"'Челябинская обл.'!$C$54","v":0},{"$f":"'Челябинская обл.'!$C$55","v":0},{"$f":"'Челябинская обл.'!$C$56","v":243.71}]
["2","МУП \"Кидышевская котельная и тепловые сети\"",null,{"$f":"'Челябинская обл.'!$C$7","v":"13,23"},{"$f":"'Челябинская обл.'!$C$10","v":1005.74},{"$f":"'Челябинская обл.'!$C$11","v":0},{"$f":"'Челябинская обл.'!$C$12","v":0},{"$f":"'Челябинская обл.'!$C$13","v":0},{"$f":"'Челябинская обл.'!$C$14","v":0},{"$f":"'Челябинская обл.'!$C$17","v":1987.75},{"$f":"'Челябинская обл.'!$C$18","v":0},{"$f":"'Челябинская обл.'!$C$19","v":0},{"$f":"'Челябинская обл.'!$C$20","v":0},{"$f":"'Челябинская обл.'!$C$21","v":0},{"$f":"'Челябинская обл.'!$C$23","v":1493.77},{"$f":"'Челябинская обл.'!$C$24","v":0},{"$f":"'Челябинская обл.'!$C$25","v":0},{"$f":"'Челябинская обл.'!$C$26","v":0},{"$f":"'Челябинская обл.'!$C$27","v":0},{"$f":"'Челябинская обл.'!$C$28","v":0},{"$f":"'Челябинская обл.'!$C$29","v":377.24},{"$f":"'Челябинская обл.'!$C$34","v":13.23},{"$f":"'Челябинская обл.'!$C$37","v":352.76},{"$f":"'Челябинская обл.'!$C$38","v":825.59},{"$f":"'Челябинская обл.'!$C$39","v":0},{"$f":"'Челябинская обл.'!$C$40","v":0},{"$f":"'Челябинская обл.'!$C$41","v":0},{"$f":"'Челябинская обл.'!$C$44","v":1142.9000000000001},{"$f":"'Челябинская обл.'!$C$45","v":1066.98},{"$f":"'Челябинская обл.'!$C$46","v":0},{"$f":"'Челябинская обл.'!$C$47","v":0},{"$f":"'Челябинская обл.'!$C$48","v":0},{"$f":"'Челябинская обл.'!$C$50","v":1081.3599999999999},{"$f":"'Челябинская обл.'!$C$51","v":1328.18},{"$f":"'Челябинская обл.'!$C$52","v":0},{"$f":"'Челябинская обл.'!$C$53","v":0},{"$f":"'Челябинская обл.'!$C$54","v":0},{"$f":"'Челябинская обл.'!$C$55","v":0},{"$f":"'Челябинская обл.'!$C$56","v":243.71}]
["3","ООО \"Альянс\"",null,{"$f":"'Челябинская обл.'!$C$7","v":"13,23"},{"$f":"'Челябинская обл.'!$C$10","v":1005.74},{"$f":"'Челябинская обл.'!$C$11","v":0},{"$f":"'Челябинская обл.'!$C$12","v":0},{"$f":"'Челябинская обл.'!$C$13","v":0},{"$f":"'Челябинская обл.'!$C$14","v":0},{"$f":"'Челябинская обл.'!$C$17","v":1987.75},{"$f":"'Челябинская обл.'!$C$18","v":0},{"$f":"'Челябинская обл.'!$C$19","v":0},{"$f":"'Челябинская обл.'!$C$20","v":0},{"$f":"'Челябинская обл.'!$C$21","v":0},{"$f":"'Челябинская обл.'!$C$23","v":1493.77},{"$f":"'Челябинская обл.'!$C$24","v":0},{"$f":"'Челябинская обл.'!$C$25","v":0},{"$f":"'Челябинская обл.'!$C$26","v":0},{"$f":"'Челябинская обл.'!$C$27","v":0},{"$f":"'Челябинская обл.'!$C$28","v":0},{"$f":"'Челябинская обл.'!$C$29","v":377.24},{"$f":"'Челябинская обл.'!$C$34","v":13.23},{"$f":"'Челябинская обл.'!$C$37","v":352.76},{"$f":"'Челябинская обл.'!$C$38","v":825.59},{"$f":"'Челябинская обл.'!$C$39","v":0},{"$f":"'Челябинская обл.'!$C$40","v":0},{"$f":"'Челябинская обл.'!$C$41","v":0},{"$f":"'Челябинская обл.'!$C$44","v":1142.9000000000001},{"$f":"'Челябинская обл.'!$C$45","v":1066.98},{"$f":"'Челябинская обл.'!$C$46","v":0},{"$f":"'Челябинская обл.'!$C$47","v":0},{"$f":"'Челябинская обл.'!$C$48","v":0},{"$f":"'Челябинская обл.'!$C$50","v":1081.3599999999999},{"$f":"'Челябинская обл.'!$C$51","v":1328.18},{"$f":"'Челябинская обл.'!$C$52","v":0},{"$f":"'Челябинская обл.'!$C$53","v":0},{"$f":"'Челябинская обл.'!$C$54","v":0},{"$f":"'Челябинская обл.'!$C$55","v":0},{"$f":"'Челябинская обл.'!$C$56","v":243.71}]
["4","ООО \"МУЖКП Тимирязевское\" (Уйский м.р.)",null,{"$f":"'Челябинская обл.'!$C$7","v":"13,23"},{"$f":"'Челябинская обл.'!$C$10","v":1005.74},{"$f":"'Челябинская обл.'!$C$11","v":0},{"$f":"'Челябинская обл.'!$C$12","v":0},{"$f":"'Челябинская обл.'!$C$13","v":0},{"$f":"'Челябинская обл.'!$C$14","v":0},{"$f":"'Челябинская обл.'!$C$17","v":1987.75},{"$f":"'Челябинская обл.'!$C$18","v":0},{"$f":"'Челябинская обл.'!$C$19","v":0},{"$f":"'Челябинская обл.'!$C$20","v":0},{"$f":"'Челябинская обл.'!$C$21","v":0},{"$f":"'Челябинская обл.'!$C$23","v":1493.77},{"$f":"'Челябинская обл.'!$C$24","v":0},{"$f":"'Челябинская обл.'!$C$25","v":0},{"$f":"'Челябинская обл.'!$C$26","v":0},{"$f":"'Челябинская обл.'!$C$27","v":0},{"$f":"'Челябинская обл.'!$C$28","v":0},{"$f":"'Челябинская обл.'!$C$29","v":377.24},{"$f":"'Челябинская обл.'!$C$34","v":13.23},{"$f":"'Челябинская обл.'!$C$37","v":352.76},{"$f":"'Челябинская обл.'!$C$38","v":825.59},{"$f":"'Челябинская обл.'!$C$39","v":0},{"$f":"'Челябинская обл.'!$C$40","v":0},{"$f":"'Челябинская обл.'!$C$41","v":0},{"$f":"'Челябинская обл.'!$C$44","v":1142.9000000000001},{"$f":"'Челябинская обл.'!$C$45","v":1066.98},{"$f":"'Челябинская обл.'!$C$46","v":0},{"$f":"'Челябинская обл.'!$C$47","v":0},{"$f":"'Челябинская обл.'!$C$48","v":0},{"$f":"'Челябинская обл.'!$C$50","v":1081.3599999999999},{"$f":"'Челябинская обл.'!$C$51","v":1328.18},{"$f":"'Челябинская обл.'!$C$52","v":0},{"$f":"'Челябинская обл.'!$C$53","v":0},{"$f":"'Челябинская обл.'!$C$54","v":0},{"$f":"'Челябинская обл.'!$C$55","v":0},{"$f":"'Челябинская обл.'!$C$56","v":243.71}]
["5","ООО \"Перспектива плюс\"",null,{"$f":"'Челябинская обл.'!$C$7","v":"13,23"},{"$f":"'Челябинская обл.'!$C$10","v":1005.74},{"$f":"'Челябинская обл.'!$C$11","v":0},{"$f":"'Челябинская обл.'!$C$12","v":0},{"$f":"'Челябинская обл.'!$C$13","v":0},{"$f":"'Челябинская обл.'!$C$14","v":0},{"$f":"'Челябинская обл.'!$C$17","v":1987.75},{"$f":"'Челябинская обл.'!$C$18","v":0},{"$f":"'Челябинская обл.'!$C$19","v":0},{"$f":"'Челябинская обл.'!$C$20","v":0},{"$f":"'Челябинская обл.'!$C$21","v":0},{"$f":"'Челябинская обл.'!$C$23","v":1493.77},{"$f":"'Челябинская обл.'!$C$24","v":0},{"$f":"'Челябинская обл.'!$C$25","v":0},{"$f":"'Челябинская обл.'!$C$26","v":0},{"$f":"'Челябинская обл.'!$C$27","v":0},{"$f":"'Челябинская обл.'!$C$28","v":0},{"$f":"'Челябинская обл.'!$C$29","v":377.24},{"$f":"'Челябинская обл.'!$C$34","v":13.23},{"$f":"'Челябинская обл.'!$C$37","v":352.76},{"$f":"'Челябинская обл.'!$C$38","v":825.59},{"$f":"'Челябинская обл.'!$C$39","v":0},{"$f":"'Челябинская обл.'!$C$40","v":0},{"$f":"'Челябинская обл.'!$C$41","v":0},{"$f":"'Челябинская обл.'!$C$44","v":1142.9000000000001},{"$f":"'Челябинская обл.'!$C$45","v":1066.98},{"$f":"'Челябинская обл.'!$C$46","v":0},{"$f":"'Челябинская обл.'!$C$47","v":0},{"$f":"'Челябинская обл.'!$C$48","v":0},{"$f":"'Челябинская обл.'!$C$50","v":1081.3599999999999},{"$f":"'Челябинская обл.'!$C$51","v":1328.18},{"$f":"'Челябинская обл.'!$C$52","v":0},{"$f":"'Челябинская обл.'!$C$53","v":0},{"$f":"'Челябинская обл.'!$C$54","v":0},{"$f":"'Челябинская обл.'!$C$55","v":0},{"$f":"'Челябинская обл.'!$C$56","v":243.71}]
[6,"ООО \"ЭкоТехнологии\" (Уйский м.р.)",null,{"$f":"'Челябинская обл.'!$C$7","v":"13,23"},{"$f":"'Челябинская обл.'!$C$10","v":1005.74},{"$f":"'Челябинская обл.'!$C$11","v":0},{"$f":"'Челябинская обл.'!$C$12","v":0},{"$f":"'Челябинская обл.'!$C$13","v":0},{"$f":"'Челябинская обл.'!$C$14","v":0},{"$f":"'Челябинская обл.'!$C$17","v":1987.75},{"$f":"'Челябинская обл.'!$C$18","v":0},{"$f":"'Челябинская обл.'!$C$19","v":0},{"$f":"'Челябинская обл.'!$C$20","v":0},{"$f":"'Челябинская обл.'!$C$21","v":0},{"$f":"'Челябинская обл.'!$C$23","v":1493.77},{"$f":"'Челябинская обл.'!$C$24","v":0},{"$f":"'Челябинская обл.'!$C$25","v":0},{"$f":"'Челябинская обл.'!$C$26","v":0},{"$f":"'Челябинская обл.'!$C$27","v":0},{"$f":"'Челябинская обл.'!$C$28","v":0},{"$f":"'Челябинская обл.'!$C$29","v":377.24},{"$f":"'Челябинская обл.'!$C$34","v":13.23},{"$f":"'Челябинская обл.'!$C$37","v":352.76},{"$f":"'Челябинская обл.'!$C$38","v":825.59},{"$f":"'Челябинская обл.'!$C$39","v":0},{"$f":"'Челябинская обл.'!$C$40","v":0},{"$f":"'Челябинская обл.'!$C$41","v":0},{"$f":"'Челябинская обл.'!$C$44","v":1142.9000000000001},{"$f":"'Челябинская обл.'!$C$45","v":1066.98},{"$f":"'Челябинская обл.'!$C$46","v":0},{"$f":"'Челябинская обл.'!$C$47","v":0},{"$f":"'Челябинская обл.'!$C$48","v":0},{"$f":"'Челябинская обл.'!$C$50","v":1081.3599999999999},{"$f":"'Челябинская обл.'!$C$51","v":1328.18},{"$f":"'Челябинская обл.'!$C$52","v":0},{"$f":"'Челябинская обл.'!$C$53","v":0},{"$f":"'Челябинская обл.'!$C$54","v":0},{"$f":"'Челябинская обл.'!$C$55","v":0},{"$f":"'Челябинская обл.'!$C$56","v":243.71}]
["42","Чебаркульский муниципальный район"]
["1","АО \"ГУ ЖКХ\" (Чебаркульский м.р.)",null,{"$f":"'Челябинская обл.'!$C$7","v":"13,23"},{"$f":"'Челябинская обл.'!$C$10","v":1005.74},{"$f":"'Челябинская обл.'!$C$11","v":0},{"$f":"'Челябинская обл.'!$C$12","v":0},{"$f":"'Челябинская обл.'!$C$13","v":0},{"$f":"'Челябинская обл.'!$C$14","v":0},{"$f":"'Челябинская обл.'!$C$17","v":1987.75},{"$f":"'Челябинская обл.'!$C$18","v":0},{"$f":"'Челябинская обл.'!$C$19","v":0},{"$f":"'Челябинская обл.'!$C$20","v":0},{"$f":"'Челябинская обл.'!$C$21","v":0},{"$f":"'Челябинская обл.'!$C$23","v":1493.77},{"$f":"'Челябинская обл.'!$C$24","v":0},{"$f":"'Челябинская обл.'!$C$25","v":0},{"$f":"'Челябинская обл.'!$C$26","v":0},{"$f":"'Челябинская обл.'!$C$27","v":0},{"$f":"'Челябинская обл.'!$C$28","v":0},{"$f":"'Челябинская обл.'!$C$29","v":377.24},{"$f":"'Челябинская обл.'!$C$34","v":13.23},{"$f":"'Челябинская обл.'!$C$37","v":352.76},{"$f":"'Челябинская обл.'!$C$38","v":825.59},{"$f":"'Челябинская обл.'!$C$39","v":0},{"$f":"'Челябинская обл.'!$C$40","v":0},{"$f":"'Челябинская обл.'!$C$41","v":0},{"$f":"'Челябинская обл.'!$C$44","v":1142.9000000000001},{"$f":"'Челябинская обл.'!$C$45","v":1066.98},{"$f":"'Челябинская обл.'!$C$46","v":0},{"$f":"'Челябинская обл.'!$C$47","v":0},{"$f":"'Челябинская обл.'!$C$48","v":0},{"$f":"'Челябинская обл.'!$C$50","v":1081.3599999999999},{"$f":"'Челябинская обл.'!$C$51","v":1328.18},{"$f":"'Челябинская обл.'!$C$52","v":0},{"$f":"'Челябинская обл.'!$C$53","v":0},{"$f":"'Челябинская обл.'!$C$54","v":0},{"$f":"'Челябинская обл.'!$C$55","v":0},{"$f":"'Челябинская обл.'!$C$56","v":243.71}]
["2","ООО \"Жилищный сервис\"",null,{"$f":"'Челябинская обл.'!$C$7","v":"13,23"},{"$f":"'Челябинская обл.'!$C$10","v":1005.74},{"$f":"'Челябинская обл.'!$C$11","v":0},{"$f":"'Челябинская обл.'!$C$12","v":0},{"$f":"'Челябинская обл.'!$C$13","v":0},{"$f":"'Челябинская обл.'!$C$14","v":0},{"$f":"'Челябинская обл.'!$C$17","v":1987.75},{"$f":"'Челябинская обл.'!$C$18","v":0},{"$f":"'Челябинская обл.'!$C$19","v":0},{"$f":"'Челябинская обл.'!$C$20","v":0},{"$f":"'Челябинская обл.'!$C$21","v":0},{"$f":"'Челябинская обл.'!$C$23","v":1493.77},{"$f":"'Челябинская обл.'!$C$24","v":0},{"$f":"'Челябинская обл.'!$C$25","v":0},{"$f":"'Челябинская обл.'!$C$26","v":0},{"$f":"'Челябинская обл.'!$C$27","v":0},{"$f":"'Челябинская обл.'!$C$28","v":0},{"$f":"'Челябинская обл.'!$C$29","v":377.24},{"$f":"'Челябинская обл.'!$C$34","v":13.23},{"$f":"'Челябинская обл.'!$C$37","v":352.76},{"$f":"'Челябинская обл.'!$C$38","v":825.59},{"$f":"'Челябинская обл.'!$C$39","v":0},{"$f":"'Челябинская обл.'!$C$40","v":0},{"$f":"'Челябинская обл.'!$C$41","v":0},{"$f":"'Челябинская обл.'!$C$44","v":1142.9000000000001},{"$f":"'Челябинская обл.'!$C$45","v":1066.98},{"$f":"'Челябинская обл.'!$C$46","v":0},{"$f":"'Челябинская обл.'!$C$47","v":0},{"$f":"'Челябинская обл.'!$C$48","v":0},{"$f":"'Челябинская обл.'!$C$50","v":1081.3599999999999},{"$f":"'Челябинская обл.'!$C$51","v":1328.18},{"$f":"'Челябинская обл.'!$C$52","v":0},{"$f":"'Челябинская обл.'!$C$53","v":0},{"$f":"'Челябинская обл.'!$C$54","v":0},{"$f":"'Челябинская обл.'!$C$55","v":0},{"$f":"'Челябинская обл.'!$C$56","v":243.71}]
["3","ООО \"КУНДРАВЫКОМ\"",null,{"$f":"'Челябинская обл.'!$C$7","v":"13,23"},{"$f":"'Челябинская обл.'!$C$10","v":1005.74},{"$f":"'Челябинская обл.'!$C$11","v":0},{"$f":"'Челябинская обл.'!$C$12","v":0},{"$f":"'Челябинская обл.'!$C$13","v":0},{"$f":"'Челябинская обл.'!$C$14","v":0},{"$f":"'Челябинская обл.'!$C$17","v":1987.75},{"$f":"'Челябинская обл.'!$C$18","v":0},{"$f":"'Челябинская обл.'!$C$19","v":0},{"$f":"'Челябинская обл.'!$C$20","v":0},{"$f":"'Челябинская обл.'!$C$21","v":0},{"$f":"'Челябинская обл.'!$C$23","v":1493.77},{"$f":"'Челябинская обл.'!$C$24","v":0},{"$f":"'Челябинская обл.'!$C$25","v":0},{"$f":"'Челябинская обл.'!$C$26","v":0},{"$f":"'Челябинская обл.'!$C$27","v":0},{"$f":"'Челябинская обл.'!$C$28","v":0},{"$f":"'Челябинская обл.'!$C$29","v":377.24},{"$f":"'Челябинская обл.'!$C$34","v":13.23},{"$f":"'Челябинская обл.'!$C$37","v":352.76},{"$f":"'Челябинская обл.'!$C$38","v":825.59},{"$f":"'Челябинская обл.'!$C$39","v":0},{"$f":"'Челябинская обл.'!$C$40","v":0},{"$f":"'Челябинская обл.'!$C$41","v":0},{"$f":"'Челябинская обл.'!$C$44","v":1142.9000000000001},{"$f":"'Челябинская обл.'!$C$45","v":1066.98},{"$f":"'Челябинская обл.'!$C$46","v":0},{"$f":"'Челябинская обл.'!$C$47","v":0},{"$f":"'Челябинская обл.'!$C$48","v":0},{"$f":"'Челябинская обл.'!$C$50","v":1081.3599999999999},{"$f":"'Челябинская обл.'!$C$51","v":1328.18},{"$f":"'Челябинская обл.'!$C$52","v":0},{"$f":"'Челябинская обл.'!$C$53","v":0},{"$f":"'Челябинская обл.'!$C$54","v":0},{"$f":"'Челябинская обл.'!$C$55","v":0},{"$f":"'Челябинская обл.'!$C$56","v":243.71}]
["4","ООО \"МУЖКП Тимирязевское\" (Чебаркульский м.р.)",null,{"$f":"'Челябинская обл.'!$C$7","v":"13,23"},{"$f":"'Челябинская обл.'!$C$10","v":1005.74},{"$f":"'Челябинская обл.'!$C$11","v":0},{"$f":"'Челябинская обл.'!$C$12","v":0},{"$f":"'Челябинская обл.'!$C$13","v":0},{"$f":"'Челябинская обл.'!$C$14","v":0},{"$f":"'Челябинская обл.'!$C$17","v":1987.75},{"$f":"'Челябинская обл.'!$C$18","v":0},{"$f":"'Челябинская обл.'!$C$19","v":0},{"$f":"'Челябинская обл.'!$C$20","v":0},{"$f":"'Челябинская обл.'!$C$21","v":0},{"$f":"'Челябинская обл.'!$C$23","v":1493.77},{"$f":"'Челябинская обл.'!$C$24","v":0},{"$f":"'Челябинская обл.'!$C$25","v":0},{"$f":"'Челябинская обл.'!$C$26","v":0},{"$f":"'Челябинская обл.'!$C$27","v":0},{"$f":"'Челябинская обл.'!$C$28","v":0},{"$f":"'Челябинская обл.'!$C$29","v":377.24},{"$f":"'Челябинская обл.'!$C$34","v":13.23},{"$f":"'Челябинская обл.'!$C$37","v":352.76},{"$f":"'Челябинская обл.'!$C$38","v":825.59},{"$f":"'Челябинская обл.'!$C$39","v":0},{"$f":"'Челябинская обл.'!$C$40","v":0},{"$f":"'Челябинская обл.'!$C$41","v":0},{"$f":"'Челябинская обл.'!$C$44","v":1142.9000000000001},{"$f":"'Челябинская обл.'!$C$45","v":1066.98},{"$f":"'Челябинская обл.'!$C$46","v":0},{"$f":"'Челябинская обл.'!$C$47","v":0},{"$f":"'Челябинская обл.'!$C$48","v":0},{"$f":"'Челябинская обл.'!$C$50","v":1081.3599999999999},{"$f":"'Челябинская обл.'!$C$51","v":1328.18},{"$f":"'Челябинская обл.'!$C$52","v":0},{"$f":"'Челябинская обл.'!$C$53","v":0},{"$f":"'Челябинская обл.'!$C$54","v":0},{"$f":"'Челябинская обл.'!$C$55","v":0},{"$f":"'Челябинская обл.'!$C$56","v":243.71}]
["5","ООО \"ТеплоЭнергоРесурс\"",null,{"$f":"'Челябинская обл.'!$C$7","v":"13,23"},{"$f":"'Челябинская обл.'!$C$10","v":1005.74},{"$f":"'Челябинская обл.'!$C$11","v":0},{"$f":"'Челябинская обл.'!$C$12","v":0},{"$f":"'Челябинская обл.'!$C$13","v":0},{"$f":"'Челябинская обл.'!$C$14","v":0},{"$f":"'Челябинская обл.'!$C$17","v":1987.75},{"$f":"'Челябинская обл.'!$C$18","v":0},{"$f":"'Челябинская обл.'!$C$19","v":0},{"$f":"'Челябинская обл.'!$C$20","v":0},{"$f":"'Челябинская обл.'!$C$21","v":0},{"$f":"'Челябинская обл.'!$C$23","v":1493.77},{"$f":"'Челябинская обл.'!$C$24","v":0},{"$f":"'Челябинская обл.'!$C$25","v":0},{"$f":"'Челябинская обл.'!$C$26","v":0},{"$f":"'Челябинская обл.'!$C$27","v":0},{"$f":"'Челябинская обл.'!$C$28","v":0},{"$f":"'Челябинская обл.'!$C$29","v":377.24},{"$f":"'Челябинская обл.'!$C$34","v":13.23},{"$f":"'Челябинская обл.'!$C$37","v":352.76},{"$f":"'Челябинская обл.'!$C$38","v":825.59},{"$f":"'Челябинская обл.'!$C$39","v":0},{"$f":"'Челябинская обл.'!$C$40","v":0},{"$f":"'Челябинская обл.'!$C$41","v":0},{"$f":"'Челябинская обл.'!$C$44","v":1142.9000000000001},{"$f":"'Челябинская обл.'!$C$45","v":1066.98},{"$f":"'Челябинская обл.'!$C$46","v":0},{"$f":"'Челябинская обл.'!$C$47","v":0},{"$f":"'Челябинская обл.'!$C$48","v":0},{"$f":"'Челябинская обл.'!$C$50","v":1081.3599999999999},{"$f":"'Челябинская обл.'!$C$51","v":1328.18},{"$f":"'Челябинская обл.'!$C$52","v":0},{"$f":"'Челябинская обл.'!$C$53","v":0},{"$f":"'Челябинская обл.'!$C$54","v":0},{"$f":"'Челябинская обл.'!$C$55","v":0},{"$f":"'Челябинская обл.'!$C$56","v":243.71}]
["6","ООО \"ТеплоЭнергоСервис\"",null,{"$f":"'Челябинская обл.'!$C$7","v":"13,23"},{"$f":"'Челябинская обл.'!$C$10","v":1005.74},{"$f":"'Челябинская обл.'!$C$11","v":0},{"$f":"'Челябинская обл.'!$C$12","v":0},{"$f":"'Челябинская обл.'!$C$13","v":0},{"$f":"'Челябинская обл.'!$C$14","v":0},{"$f":"'Челябинская обл.'!$C$17","v":1987.75},{"$f":"'Челябинская обл.'!$C$18","v":0},{"$f":"'Челябинская обл.'!$C$19","v":0},{"$f":"'Челябинская обл.'!$C$20","v":0},{"$f":"'Челябинская обл.'!$C$21","v":0},{"$f":"'Челябинская обл.'!$C$23","v":1493.77},{"$f":"'Челябинская обл.'!$C$24","v":0},{"$f":"'Челябинская обл.'!$C$25","v":0},{"$f":"'Челябинская обл.'!$C$26","v":0},{"$f":"'Челябинская обл.'!$C$27","v":0},{"$f":"'Челябинская обл.'!$C$28","v":0},{"$f":"'Челябинская обл.'!$C$29","v":377.24},{"$f":"'Челябинская обл.'!$C$34","v":13.23},{"$f":"'Челябинская обл.'!$C$37","v":352.76},{"$f":"'Челябинская обл.'!$C$38","v":825.59},{"$f":"'Челябинская обл.'!$C$39","v":0},{"$f":"'Челябинская обл.'!$C$40","v":0},{"$f":"'Челябинская обл.'!$C$41","v":0},{"$f":"'Челябинская обл.'!$C$44","v":1142.9000000000001},{"$f":"'Челябинская обл.'!$C$45","v":1066.98},{"$f":"'Челябинская обл.'!$C$46","v":0},{"$f":"'Челябинская обл.'!$C$47","v":0},{"$f":"'Челябинская обл.'!$C$48","v":0},{"$f":"'Челябинская обл.'!$C$50","v":1081.3599999999999},{"$f":"'Челябинская обл.'!$C$51","v":1328.18},{"$f":"'Челябинская обл.'!$C$52","v":0},{"$f":"'Челябинская обл.'!$C$53","v":0},{"$f":"'Челябинская обл.'!$C$54","v":0},{"$f":"'Челябинская обл.'!$C$55","v":0},{"$f":"'Челябинская обл.'!$C$56","v":243.71}]
["7","ООО \"ФилимоновоКом\"",null,{"$f":"'Челябинская обл.'!$C$7","v":"13,23"},{"$f":"'Челябинская обл.'!$C$10","v":1005.74},{"$f":"'Челябинская обл.'!$C$11","v":0},{"$f":"'Челябинская обл.'!$C$12","v":0},{"$f":"'Челябинская обл.'!$C$13","v":0},{"$f":"'Челябинская обл.'!$C$14","v":0},{"$f":"'Челябинская обл.'!$C$17","v":1987.75},{"$f":"'Челябинская обл.'!$C$18","v":0},{"$f":"'Челябинская обл.'!$C$19","v":0},{"$f":"'Челябинская обл.'!$C$20","v":0},{"$f":"'Челябинская обл.'!$C$21","v":0},{"$f":"'Челябинская обл.'!$C$23","v":1493.77},{"$f":"'Челябинская обл.'!$C$24","v":0},{"$f":"'Челябинская обл.'!$C$25","v":0},{"$f":"'Челябинская обл.'!$C$26","v":0},{"$f":"'Челябинская обл.'!$C$27","v":0},{"$f":"'Челябинская обл.'!$C$28","v":0},{"$f":"'Челябинская обл.'!$C$29","v":377.24},{"$f":"'Челябинская обл.'!$C$34","v":13.23},{"$f":"'Челябинская обл.'!$C$37","v":352.76},{"$f":"'Челябинская обл.'!$C$38","v":825.59},{"$f":"'Челябинская обл.'!$C$39","v":0},{"$f":"'Челябинская обл.'!$C$40","v":0},{"$f":"'Челябинская обл.'!$C$41","v":0},{"$f":"'Челябинская обл.'!$C$44","v":1142.9000000000001},{"$f":"'Челябинская обл.'!$C$45","v":1066.98},{"$f":"'Челябинская обл.'!$C$46","v":0},{"$f":"'Челябинская обл.'!$C$47","v":0},{"$f":"'Челябинская обл.'!$C$48","v":0},{"$f":"'Челябинская обл.'!$C$50","v":1081.3599999999999},{"$f":"'Челябинская обл.'!$C$51","v":1328.18},{"$f":"'Челябинская обл.'!$C$52","v":0},{"$f":"'Челябинская обл.'!$C$53","v":0},{"$f":"'Челябинская обл.'!$C$54","v":0},{"$f":"'Челябинская обл.'!$C$55","v":0},{"$f":"'Челябинская обл.'!$C$56","v":243.71}]
["8","ООО \"Эра Технологий\"",null,{"$f":"'Челябинская обл.'!$C$7","v":"13,23"},{"$f":"'Челябинская обл.'!$C$10","v":1005.74},{"$f":"'Челябинская обл.'!$C$11","v":0},{"$f":"'Челябинская обл.'!$C$12","v":0},{"$f":"'Челябинская обл.'!$C$13","v":0},{"$f":"'Челябинская обл.'!$C$14","v":0},{"$f":"'Челябинская обл.'!$C$17","v":1987.75},{"$f":"'Челябинская обл.'!$C$18","v":0},{"$f":"'Челябинская обл.'!$C$19","v":0},{"$f":"'Челябинская обл.'!$C$20","v":0},{"$f":"'Челябинская обл.'!$C$21","v":0},{"$f":"'Челябинская обл.'!$C$23","v":1493.77},{"$f":"'Челябинская обл.'!$C$24","v":0},{"$f":"'Челябинская обл.'!$C$25","v":0},{"$f":"'Челябинская обл.'!$C$26","v":0},{"$f":"'Челябинская обл.'!$C$27","v":0},{"$f":"'Челябинская обл.'!$C$28","v":0},{"$f":"'Челябинская обл.'!$C$29","v":377.24},{"$f":"'Челябинская обл.'!$C$34","v":13.23},{"$f":"'Челябинская обл.'!$C$37","v":352.76},{"$f":"'Челябинская обл.'!$C$38","v":825.59},{"$f":"'Челябинская обл.'!$C$39","v":0},{"$f":"'Челябинская обл.'!$C$40","v":0},{"$f":"'Челябинская обл.'!$C$41","v":0},{"$f":"'Челябинская обл.'!$C$44","v":1142.9000000000001},{"$f":"'Челябинская обл.'!$C$45","v":1066.98},{"$f":"'Челябинская обл.'!$C$46","v":0},{"$f":"'Челябинская обл.'!$C$47","v":0},{"$f":"'Челябинская обл.'!$C$48","v":0},{"$f":"'Челябинская обл.'!$C$50","v":1081.3599999999999},{"$f":"'Челябинская обл.'!$C$51","v":1328.18},{"$f":"'Челябинская обл.'!$C$52","v":0},{"$f":"'Челябинская обл.'!$C$53","v":0},{"$f":"'Челябинская обл.'!$C$54","v":0},{"$f":"'Челябинская обл.'!$C$55","v":0},{"$f":"'Челябинская обл.'!$C$56","v":243.71}]
["9","ООО УК \"КвадроИнвест\"",null,{"$f":"'Челябинская обл.'!$C$7","v":"13,23"},{"$f":"'Челябинская обл.'!$C$10","v":1005.74},{"$f":"'Челябинская обл.'!$C$11","v":0},{"$f":"'Челябинская обл.'!$C$12","v":0},{"$f":"'Челябинская обл.'!$C$13","v":0},{"$f":"'Челябинская обл.'!$C$14","v":0},{"$f":"'Челябинская обл.'!$C$17","v":1987.75},{"$f":"'Челябинская обл.'!$C$18","v":0},{"$f":"'Челябинская обл.'!$C$19","v":0},{"$f":"'Челябинская обл.'!$C$20","v":0},{"$f":"'Челябинская обл.'!$C$21","v":0},{"$f":"'Челябинская обл.'!$C$23","v":1493.77},{"$f":"'Челябинская обл.'!$C$24","v":0},{"$f":"'Челябинская обл.'!$C$25","v":0},{"$f":"'Челябинская обл.'!$C$26","v":0},{"$f":"'Челябинская обл.'!$C$27","v":0},{"$f":"'Челябинская обл.'!$C$28","v":0},{"$f":"'Челябинская обл.'!$C$29","v":377.24},{"$f":"'Челябинская обл.'!$C$34","v":13.23},{"$f":"'Челябинская обл.'!$C$37","v":352.76},{"$f":"'Челябинская обл.'!$C$38","v":825.59},{"$f":"'Челябинская обл.'!$C$39","v":0},{"$f":"'Челябинская обл.'!$C$40","v":0},{"$f":"'Челябинская обл.'!$C$41","v":0},{"$f":"'Челябинская обл.'!$C$44","v":1142.9000000000001},{"$f":"'Челябинская обл.'!$C$45","v":1066.98},{"$f":"'Челябинская обл.'!$C$46","v":0},{"$f":"'Челябинская обл.'!$C$47","v":0},{"$f":"'Челябинская обл.'!$C$48","v":0},{"$f":"'Челябинская обл.'!$C$50","v":1081.3599999999999},{"$f":"'Челябинская обл.'!$C$51","v":1328.18},{"$f":"'Челябинская обл.'!$C$52","v":0},{"$f":"'Челябинская обл.'!$C$53","v":0},{"$f":"'Челябинская обл.'!$C$54","v":0},{"$f":"'Челябинская обл.'!$C$55","v":0},{"$f":"'Челябинская обл.'!$C$56","v":243.71}]
[10,"ФГБУ \"ЦЖКУ\" МИНОБОРОНЫ РОССИИ (по ЦВО) (Чебаркульский м.р.)",null,{"$f":"'Челябинская обл.'!$C$7","v":"13,23"},{"$f":"'Челябинская обл.'!$C$10","v":1005.74},{"$f":"'Челябинская обл.'!$C$11","v":0},{"$f":"'Челябинская обл.'!$C$12","v":0},{"$f":"'Челябинская обл.'!$C$13","v":0},{"$f":"'Челябинская обл.'!$C$14","v":0},{"$f":"'Челябинская обл.'!$C$17","v":1987.75},{"$f":"'Челябинская обл.'!$C$18","v":0},{"$f":"'Челябинская обл.'!$C$19","v":0},{"$f":"'Челябинская обл.'!$C$20","v":0},{"$f":"'Челябинская обл.'!$C$21","v":0},{"$f":"'Челябинская обл.'!$C$23","v":1493.77},{"$f":"'Челябинская обл.'!$C$24","v":0},{"$f":"'Челябинская обл.'!$C$25","v":0},{"$f":"'Челябинская обл.'!$C$26","v":0},{"$f":"'Челябинская обл.'!$C$27","v":0},{"$f":"'Челябинская обл.'!$C$28","v":0},{"$f":"'Челябинская обл.'!$C$29","v":377.24},{"$f":"'Челябинская обл.'!$C$34","v":13.23},{"$f":"'Челябинская обл.'!$C$37","v":352.76},{"$f":"'Челябинская обл.'!$C$38","v":825.59},{"$f":"'Челябинская обл.'!$C$39","v":0},{"$f":"'Челябинская обл.'!$C$40","v":0},{"$f":"'Челябинская обл.'!$C$41","v":0},{"$f":"'Челябинская обл.'!$C$44","v":1142.9000000000001},{"$f":"'Челябинская обл.'!$C$45","v":1066.98},{"$f":"'Челябинская обл.'!$C$46","v":0},{"$f":"'Челябинская обл.'!$C$47","v":0},{"$f":"'Челябинская обл.'!$C$48","v":0},{"$f":"'Челябинская обл.'!$C$50","v":1081.3599999999999},{"$f":"'Челябинская обл.'!$C$51","v":1328.18},{"$f":"'Челябинская обл.'!$C$52","v":0},{"$f":"'Челябинская обл.'!$C$53","v":0},{"$f":"'Челябинская обл.'!$C$54","v":0},{"$f":"'Челябинская обл.'!$C$55","v":0},{"$f":"'Челябинская обл.'!$C$56","v":243.71}]
["43","Чесменский муниципальный район"]
["1","АО \"Челябоблкоммунэнерго\" (Челябинская область)",null,{"$f":"'Челябинская обл.'!$C$7","v":"13,23"},{"$f":"'Челябинская обл.'!$C$10","v":1005.74},{"$f":"'Челябинская обл.'!$C$11","v":0},{"$f":"'Челябинская обл.'!$C$12","v":0},{"$f":"'Челябинская обл.'!$C$13","v":0},{"$f":"'Челябинская обл.'!$C$14","v":0},{"$f":"'Челябинская обл.'!$C$17","v":1987.75},{"$f":"'Челябинская обл.'!$C$18","v":0},{"$f":"'Челябинская обл.'!$C$19","v":0},{"$f":"'Челябинская обл.'!$C$20","v":0},{"$f":"'Челябинская обл.'!$C$21","v":0},{"$f":"'Челябинская обл.'!$C$23","v":1493.77},{"$f":"'Челябинская обл.'!$C$24","v":0},{"$f":"'Челябинская обл.'!$C$25","v":0},{"$f":"'Челябинская обл.'!$C$26","v":0},{"$f":"'Челябинская обл.'!$C$27","v":0},{"$f":"'Челябинская обл.'!$C$28","v":0},{"$f":"'Челябинская обл.'!$C$29","v":377.24},{"$f":"'Челябинская обл.'!$C$34","v":13.23},{"$f":"'Челябинская обл.'!$C$37","v":352.76},{"$f":"'Челябинская обл.'!$C$38","v":825.59},{"$f":"'Челябинская обл.'!$C$39","v":0},{"$f":"'Челябинская обл.'!$C$40","v":0},{"$f":"'Челябинская обл.'!$C$41","v":0},{"$f":"'Челябинская обл.'!$C$44","v":1142.9000000000001},{"$f":"'Челябинская обл.'!$C$45","v":1066.98},{"$f":"'Челябинская обл.'!$C$46","v":0},{"$f":"'Челябинская обл.'!$C$47","v":0},{"$f":"'Челябинская обл.'!$C$48","v":0},{"$f":"'Челябинская обл.'!$C$50","v":1081.3599999999999},{"$f":"'Челябинская обл.'!$C$51","v":1328.18},{"$f":"'Челябинская обл.'!$C$52","v":0},{"$f":"'Челябинская обл.'!$C$53","v":0},{"$f":"'Челябинская обл.'!$C$54","v":0},{"$f":"'Челябинская обл.'!$C$55","v":0},{"$f":"'Челябинская обл.'!$C$56","v":243.71}]
["2","ООО \"Атлант\"",null,{"$f":"'Челябинская обл.'!$C$7","v":"13,23"},{"$f":"'Челябинская обл.'!$C$10","v":1005.74},{"$f":"'Челябинская обл.'!$C$11","v":0},{"$f":"'Челябинская обл.'!$C$12","v":0},{"$f":"'Челябинская обл.'!$C$13","v":0},{"$f":"'Челябинская обл.'!$C$14","v":0},{"$f":"'Челябинская обл.'!$C$17","v":1987.75},{"$f":"'Челябинская обл.'!$C$18","v":0},{"$f":"'Челябинская обл.'!$C$19","v":0},{"$f":"'Челябинская обл.'!$C$20","v":0},{"$f":"'Челябинская обл.'!$C$21","v":0},{"$f":"'Челябинская обл.'!$C$23","v":1493.77},{"$f":"'Челябинская обл.'!$C$24","v":0},{"$f":"'Челябинская обл.'!$C$25","v":0},{"$f":"'Челябинская обл.'!$C$26","v":0},{"$f":"'Челябинская обл.'!$C$27","v":0},{"$f":"'Челябинская обл.'!$C$28","v":0},{"$f":"'Челябинская обл.'!$C$29","v":377.24},{"$f":"'Челябинская обл.'!$C$34","v":13.23},{"$f":"'Челябинская обл.'!$C$37","v":352.76},{"$f":"'Челябинская обл.'!$C$38","v":825.59},{"$f":"'Челябинская обл.'!$C$39","v":0},{"$f":"'Челябинская обл.'!$C$40","v":0},{"$f":"'Челябинская обл.'!$C$41","v":0},{"$f":"'Челябинская обл.'!$C$44","v":1142.9000000000001},{"$f":"'Челябинская обл.'!$C$45","v":1066.98},{"$f":"'Челябинская обл.'!$C$46","v":0},{"$f":"'Челябинская обл.'!$C$47","v":0},{"$f":"'Челябинская обл.'!$C$48","v":0},{"$f":"'Челябинская обл.'!$C$50","v":1081.3599999999999},{"$f":"'Челябинская обл.'!$C$51","v":1328.18},{"$f":"'Челябинская обл.'!$C$52","v":0},{"$f":"'Челябинская обл.'!$C$53","v":0},{"$f":"'Челябинская обл.'!$C$54","v":0},{"$f":"'Челябинская обл.'!$C$55","v":0},{"$f":"'Челябинская обл.'!$C$56","v":243.71}]
["3","ООО \"СтройТеплоСервис\"",null,{"$f":"'Челябинская обл.'!$C$7","v":"13,23"},{"$f":"'Челябинская обл.'!$C$10","v":1005.74},{"$f":"'Челябинская обл.'!$C$11","v":0},{"$f":"'Челябинская обл.'!$C$12","v":0},{"$f":"'Челябинская обл.'!$C$13","v":0},{"$f":"'Челябинская обл.'!$C$14","v":0},{"$f":"'Челябинская обл.'!$C$17","v":1987.75},{"$f":"'Челябинская обл.'!$C$18","v":0},{"$f":"'Челябинская обл.'!$C$19","v":0},{"$f":"'Челябинская обл.'!$C$20","v":0},{"$f":"'Челябинская обл.'!$C$21","v":0},{"$f":"'Челябинская обл.'!$C$23","v":1493.77},{"$f":"'Челябинская обл.'!$C$24","v":0},{"$f":"'Челябинская обл.'!$C$25","v":0},{"$f":"'Челябинская обл.'!$C$26","v":0},{"$f":"'Челябинская обл.'!$C$27","v":0},{"$f":"'Челябинская обл.'!$C$28","v":0},{"$f":"'Челябинская обл.'!$C$29","v":377.24},{"$f":"'Челябинская обл.'!$C$34","v":13.23},{"$f":"'Челябинская обл.'!$C$37","v":352.76},{"$f":"'Челябинская обл.'!$C$38","v":825.59},{"$f":"'Челябинская обл.'!$C$39","v":0},{"$f":"'Челябинская обл.'!$C$40","v":0},{"$f":"'Челябинская обл.'!$C$41","v":0},{"$f":"'Челябинская обл.'!$C$44","v":1142.9000000000001},{"$f":"'Челябинская обл.'!$C$45","v":1066.98},{"$f":"'Челябинская обл.'!$C$46","v":0},{"$f":"'Челябинская обл.'!$C$47","v":0},{"$f":"'Челябинская обл.'!$C$48","v":0},{"$f":"'Челябинская обл.'!$C$50","v":1081.3599999999999},{"$f":"'Челябинская обл.'!$C$51","v":1328.18},{"$f":"'Челябинская обл.'!$C$52","v":0},{"$f":"'Челябинская обл.'!$C$53","v":0},{"$f":"'Челябинская обл.'!$C$54","v":0},{"$f":"'Челябинская обл.'!$C$55","v":0},{"$f":"'Челябинская обл.'!$C$56","v":243.71}]
["4","ООО \"Чесменское управление коммунального хозяйства\"",null,{"$f":"'Челябинская обл.'!$C$7","v":"13,23"},{"$f":"'Челябинская обл.'!$C$10","v":1005.74},{"$f":"'Челябинская обл.'!$C$11","v":0},{"$f":"'Челябинская обл.'!$C$12","v":0},{"$f":"'Челябинская обл.'!$C$13","v":0},{"$f":"'Челябинская обл.'!$C$14","v":0},{"$f":"'Челябинская обл.'!$C$17","v":1987.75},{"$f":"'Челябинская обл.'!$C$18","v":0},{"$f":"'Челябинская обл.'!$C$19","v":0},{"$f":"'Челябинская обл.'!$C$20","v":0},{"$f":"'Челябинская обл.'!$C$21","v":0},{"$f":"'Челябинская обл.'!$C$23","v":1493.77},{"$f":"'Челябинская обл.'!$C$24","v":0},{"$f":"'Челябинская обл.'!$C$25","v":0},{"$f":"'Челябинская обл.'!$C$26","v":0},{"$f":"'Челябинская обл.'!$C$27","v":0},{"$f":"'Челябинская обл.'!$C$28","v":0},{"$f":"'Челябинская обл.'!$C$29","v":377.24},{"$f":"'Челябинская обл.'!$C$34","v":13.23},{"$f":"'Челябинская обл.'!$C$37","v":352.76},{"$f":"'Челябинская обл.'!$C$38","v":825.59},{"$f":"'Челябинская обл.'!$C$39","v":0},{"$f":"'Челябинская обл.'!$C$40","v":0},{"$f":"'Челябинская обл.'!$C$41","v":0},{"$f":"'Челябинская обл.'!$C$44","v":1142.9000000000001},{"$f":"'Челябинская обл.'!$C$45","v":1066.98},{"$f":"'Челябинская обл.'!$C$46","v":0},{"$f":"'Челябинская обл.'!$C$47","v":0},{"$f":"'Челябинская обл.'!$C$48","v":0},{"$f":"'Челябинская обл.'!$C$50","v":1081.3599999999999},{"$f":"'Челябинская обл.'!$C$51","v":1328.18},{"$f":"'Челябинская обл.'!$C$52","v":0},{"$f":"'Челябинская обл.'!$C$53","v":0},{"$f":"'Челябинская обл.'!$C$54","v":0},{"$f":"'Челябинская обл.'!$C$55","v":0},{"$f":"'Челябинская обл.'!$C$56","v":243.71}]
["5","ООО \"ЭНЕРГИЯ-М\" (Чесменский м.р.)",null,{"$f":"'Челябинская обл.'!$C$7","v":"13,23"},{"$f":"'Челябинская обл.'!$C$10","v":1005.74},{"$f":"'Челябинская обл.'!$C$11","v":0},{"$f":"'Челябинская обл.'!$C$12","v":0},{"$f":"'Челябинская обл.'!$C$13","v":0},{"$f":"'Челябинская обл.'!$C$14","v":0},{"$f":"'Челябинская обл.'!$C$17","v":1987.75},{"$f":"'Челябинская обл.'!$C$18","v":0},{"$f":"'Челябинская обл.'!$C$19","v":0},{"$f":"'Челябинская обл.'!$C$20","v":0},{"$f":"'Челябинская обл.'!$C$21","v":0},{"$f":"'Челябинская обл.'!$C$23","v":1493.77},{"$f":"'Челябинская обл.'!$C$24","v":0},{"$f":"'Челябинская обл.'!$C$25","v":0},{"$f":"'Челябинская обл.'!$C$26","v":0},{"$f":"'Челябинская обл.'!$C$27","v":0},{"$f":"'Челябинская обл.'!$C$28","v":0},{"$f":"'Челябинская обл.'!$C$29","v":377.24},{"$f":"'Челябинская обл.'!$C$34","v":13.23},{"$f":"'Челябинская обл.'!$C$37","v":352.76},{"$f":"'Челябинская обл.'!$C$38","v":825.59},{"$f":"'Челябинская обл.'!$C$39","v":0},{"$f":"'Челябинская обл.'!$C$40","v":0},{"$f":"'Челябинская обл.'!$C$41","v":0},{"$f":"'Челябинская обл.'!$C$44","v":1142.9000000000001},{"$f":"'Челябинская обл.'!$C$45","v":1066.98},{"$f":"'Челябинская обл.'!$C$46","v":0},{"$f":"'Челябинская обл.'!$C$47","v":0},{"$f":"'Челябинская обл.'!$C$48","v":0},{"$f":"'Челябинская обл.'!$C$50","v":1081.3599999999999},{"$f":"'Челябинская обл.'!$C$51","v":1328.18},{"$f":"'Челябинская обл.'!$C$52","v":0},{"$f":"'Челябинская обл.'!$C$53","v":0},{"$f":"'Челябинская обл.'!$C$54","v":0},{"$f":"'Челябинская обл.'!$C$55","v":0},{"$f":"'Челябинская обл.'!$C$56","v":243.71}]
["6","ООО ГК \"Уральская энергия\" (Чесменский м.р.)",null,{"$f":"'Челябинская обл.'!$C$7","v":"13,23"},{"$f":"'Челябинская обл.'!$C$10","v":1005.74},{"$f":"'Челябинская обл.'!$C$11","v":0},{"$f":"'Челябинская обл.'!$C$12","v":0},{"$f":"'Челябинская обл.'!$C$13","v":0},{"$f":"'Челябинская обл.'!$C$14","v":0},{"$f":"'Челябинская обл.'!$C$17","v":1987.75},{"$f":"'Челябинская обл.'!$C$18","v":0},{"$f":"'Челябинская обл.'!$C$19","v":0},{"$f":"'Челябинская обл.'!$C$20","v":0},{"$f":"'Челябинская обл.'!$C$21","v":0},{"$f":"'Челябинская обл.'!$C$23","v":1493.77},{"$f":"'Челябинская обл.'!$C$24","v":0},{"$f":"'Челябинская обл.'!$C$25","v":0},{"$f":"'Челябинская обл.'!$C$26","v":0},{"$f":"'Челябинская обл.'!$C$27","v":0},{"$f":"'Челябинская обл.'!$C$28","v":0},{"$f":"'Челябинская обл.'!$C$29","v":377.24},{"$f":"'Челябинская обл.'!$C$34","v":13.23},{"$f":"'Челябинская обл.'!$C$37","v":352.76},{"$f":"'Челябинская обл.'!$C$38","v":825.59},{"$f":"'Челябинская обл.'!$C$39","v":0},{"$f":"'Челябинская обл.'!$C$40","v":0},{"$f":"'Челябинская обл.'!$C$41","v":0},{"$f":"'Челябинская обл.'!$C$44","v":1142.9000000000001},{"$f":"'Челябинская обл.'!$C$45","v":1066.98},{"$f":"'Челябинская обл.'!$C$46","v":0},{"$f":"'Челябинская обл.'!$C$47","v":0},{"$f":"'Челябинская обл.'!$C$48","v":0},{"$f":"'Челябинская обл.'!$C$50","v":1081.3599999999999},{"$f":"'Челябинская обл.'!$C$51","v":1328.18},{"$f":"'Челябинская обл.'!$C$52","v":0},{"$f":"'Челябинская обл.'!$C$53","v":0},{"$f":"'Челябинская обл.'!$C$54","v":0},{"$f":"'Челябинская обл.'!$C$55","v":0},{"$f":"'Челябинская обл.'!$C$56","v":243.71}]
[7,"Федеральное государственное казенное учреждение  \"Пограничное управление ФСБ России по Челябинской области\" (Чесменский м.р.)",null,{"$f":"'Челябинская обл.'!$C$7","v":"13,23"},{"$f":"'Челябинская обл.'!$C$10","v":1005.74},{"$f":"'Челябинская обл.'!$C$11","v":0},{"$f":"'Челябинская обл.'!$C$12","v":0},{"$f":"'Челябинская обл.'!$C$13","v":0},{"$f":"'Челябинская обл.'!$C$14","v":0},{"$f":"'Челябинская обл.'!$C$17","v":1987.75},{"$f":"'Челябинская обл.'!$C$18","v":0},{"$f":"'Челябинская обл.'!$C$19","v":0},{"$f":"'Челябинская обл.'!$C$20","v":0},{"$f":"'Челябинская обл.'!$C$21","v":0},{"$f":"'Челябинская обл.'!$C$23","v":1493.77},{"$f":"'Челябинская обл.'!$C$24","v":0},{"$f":"'Челябинская обл.'!$C$25","v":0},{"$f":"'Челябинская обл.'!$C$26","v":0},{"$f":"'Челябинская обл.'!$C$27","v":0},{"$f":"'Челябинская обл.'!$C$28","v":0},{"$f":"'Челябинская обл.'!$C$29","v":377.24},{"$f":"'Челябинская обл.'!$C$34","v":13.23},{"$f":"'Челябинская обл.'!$C$37","v":352.76},{"$f":"'Челябинская обл.'!$C$38","v":825.59},{"$f":"'Челябинская обл.'!$C$39","v":0},{"$f":"'Челябинская обл.'!$C$40","v":0},{"$f":"'Челябинская обл.'!$C$41","v":0},{"$f":"'Челябинская обл.'!$C$44","v":1142.9000000000001},{"$f":"'Челябинская обл.'!$C$45","v":1066.98},{"$f":"'Челябинская обл.'!$C$46","v":0},{"$f":"'Челябинская обл.'!$C$47","v":0},{"$f":"'Челябинская обл.'!$C$48","v":0},{"$f":"'Челябинская обл.'!$C$50","v":1081.3599999999999},{"$f":"'Челябинская обл.'!$C$51","v":1328.18},{"$f":"'Челябинская обл.'!$C$52","v":0},{"$f":"'Челябинская обл.'!$C$53","v":0},{"$f":"'Челябинская обл.'!$C$54","v":0},{"$f":"'Челябинская обл.'!$C$55","v":0},{"$f":"'Челябинская обл.'!$C$56","v":243.71}]

{"sheet":"УТСК","index":2,"n_rows":55,"n_cols":4,"rows_kept":55,"cut":false,"hidden":true,"merged":[[29,0,29,3],[30,0,31,0],[30,1,31,1],[30,2,30,3],[0,0,0,3],[1,0,1,3],[2,0,2,3],[3,0,3,3],[4,0,5,0],[4,1,5,1],[4,2,4,3]]}
["Постановление МТРиЭ от 19.12.2017 г. № 67/9"]
["Подключаемая тепловая нагрузка не превышает 0,1 Гкал/час"]
[" Размер платы за подключение - 550 рублей (с учетом НДС)"]
["Подключаемая тепловая нагрузка более 0,1 Гкал/ч и не превышает 1,5 Гкал/ч"]
["№п/п","Наименование","Размер ставки (тыс. руб./Гкал/ч)"]
[null,null,"без учета НДС","с учетом НДС"]
[1,"Расходы на проведение мероприятий по подключению объектов заявителей (П1)","13,72",16.190000000000001]
["2","Расходы на создание (реконструкцию) тепловых сетей (за исключением создания (реконструкции) тепловых пунктов) от существующих тепловых сетей или источников тепловой энергии до точек подключения объектов заявителей, подключаемая тепловая нагрузка которых более 0,1 Гкал/ч и не превышает 1,5 Гкал/ч (П2.1), в том числе:"]
["2.1","Надземная (наземная) прокладка, в том числе:"]
["2.1.1","50 - 250 мм",0]
["2.1.2","251-400 мм",0]
["2.1.3","401-550 мм",0]
["2.1.4","551-700 мм",0]
["2.1.5","701 мм и выше",0]
["2.2","Подземная прокладка, в том числе:"]
["2.2.1","канальная прокладка"]
["2.2.1.1","50 - 250 мм",3881.72,4580.43]
["2.2.1.2","251-400 мм","607,58",716.94]
["2.2.1.3","401-550 мм",0]
["2.2.1.4","551-700 мм",0]
["2.2.1.5","701 мм и выше","234,81",277.08]
["2.2.2","бесканальная прокладка"]
["2.2.2.1","50 - 250 мм",0]
["2.2.2.2","251-400 мм",0]
["2.2.2.3","401-550 мм",0]
["2.2.2.4","551-700 мм",0]
["2.2.2.5","701 мм и выше",0]
["3","Расходы на создание (реконструкцию) тепловых пунктов от существующих тепловых сетей или источников тепловой энергии до точек подключения объектов заявителей, подключаемая тепловая нагрузка которых более 0,1 Гкал/ч и не превышает 1,5 Гкал/ч (П2.2)","81,72",96.43]
["4","Налог на прибыль:","615,57",726.37]
["Подключаемая тепловая нагрузка превышает 1,5 Гкал/ч при наличии технической возможности"]
["№п/п","Наименование","Размер ставки (тыс. руб./Гкал/ч)"]
[null,null,"без учета НДС","с учетом НДС"]
["1","Расходы на проведение мероприятий по подключению объектов заявителей (П1)","13,72","16,19"]
["2","Расходы на создание (реконструкцию) тепловых сетей (за исключением создания (реконструкции) тепловых пунктов) от существующих тепловых сетей или источников тепловой энергии до точек подключения объектов заявителей, подключаемая тепловая нагрузка которых превышает 1,5 Гкал/ч (П2.1), в том числе:"]
["2.1","Надземная (наземная) прокладка, в том числе:"]
["2.1.1","50 - 250 мм",0]
["2.1.2","251-400 мм",0]
["2.1.3","401-550 мм",0]
["2.1.4","551-700 мм",0]
["2.1.5","701 мм и выше",0]
["2.2","Подземная прокладка, в том числе:"]
["2.2.1","канальная прокладка"]
["2.2.1.1","50 - 250 мм",3881.72,"4580,43"]
["2.2.1.2","251-400 мм",0]
["2.2.1.3","401-550 мм",0]
["2.2.1.4","551-700 мм",0]
["2.1.1.5","701 мм и выше","234,81","277,08"]
["2.2.2","бесканальная прокладка"]
["2.2.2.1","50 - 250 мм",0]
["2.2.2.2","251-400 мм",0]
["2.2.2.3","401-550 мм",0]
["2.2.2.4","551-700 мм",0]
["2.2.2.5","701 мм и выше",0]
["3","Расходы на создание (реконструкцию) тепловых пунктов от существующих тепловых сетей или источников тепловой энергии до точек подключения объектов заявителей, подключаемая тепловая нагрузка которых превышает 1,5 Гкал/ч (П2.2)","81,72",96.43]
["4","Налог на прибыль",700.23,"826,27"]

{"sheet":"МП трест «Теплофикация»","index":3,"n_rows":55,"n_cols":4,"rows_kept":55,"cut":false,"hidden":true,"merged":[[29,0,29,3],[30,0,31,0],[30,1,31,1],[30,2,30,3],[0,0,0,3],[2,0,2,3],[1,0,1,3],[4,2,4,3],[4,0,5,0],[4,1,5,1]]}
["Постановление МТРиЭ от 19.12.2017 г. № 67/12"]
["Подключаемая тепловая нагрузка не превышает 0,1 Гкал/час"]
[" Размер платы за подключение - 550 рублей (с учетом НДС)"]
[]
["№ п/п","Наименование","Размер ставки (тыс. руб./Гкал/ч)"]
[null,null,"без учета НДС","с учетом НДС"]
["1","Расходы на проведение мероприятий по подключению объектов заявителей (П1)","13,23","15,61"]
["2","Расходы на создание (реконструкцию) тепловых сетей (за исключением создания (реконструкции) тепловых пунктов) от существующих тепловых сетей или источников тепловой энергии до точек подключения объектов заявителей (П2.1), в случае если подключаемая тепловая нагрузка объекта заявителя более 0,1 Гкал/ч и не превышает 1,5 Гкал/ч, в том числе:",null,"-"]
["2.1","Надземная (наземная) прокладка, в том числе:"]
["2.1.1","50 - 250 мм",1005.74]
["2.1.2","251-400 мм",0]
["2.1.3","401-550 мм",0]
["2.1.4","551-700 мм",0]
["2.1.5","701 мм и выше",0]
["2.2","Подземная прокладка, в том числе:"]
["2.2.1","канальная прокладка"]
["2.2.1.1","50 - 250 мм",1987.75,4580.43]
["2.2.1.2","251-400 мм",0,716.94]
["2.2.1.3","401-550 мм",0]
["2.2.1.4","551-700 мм",0]
["2.2.1.5","701 мм и выше",2222.92,277.08]
["2.2.2","бесканальная прокладка"]
["2.2.2.1","50 - 250 мм",1493.77]
["2.2.2.2","251-400 мм",0]
["2.2.2.3","401-550 мм",0]
["2.2.2.4","551-700 мм",0]
["2.2.2.5","701 мм и выше",0]
["3","Расходы на создание (реконструкцию) тепловых пунктов от существующих тепловых сетей или источников тепловой энергии до точек подключения объектов заявителей, подключаемая тепловая нагрузка которых более 0,1 Гкал/ч и не превышает 1,5 Гкал/ч (П2.2)",0,96.43]
["4","Налог на прибыль:",466.37,726.37]
["Подключаемая тепловая нагрузка превышает 1,5 Гкал/ч при наличии технической возможности"]
["№п/п","Наименование","Размер ставки (тыс. руб./Гкал/ч)"]
[null,null,"без учета НДС","с учетом НДС"]
["1","Расходы на проведение мероприятий по подключению объектов заявителей (П1)",13.23,"16,19"]
["2","Расходы на создание (реконструкцию) тепловых сетей (за исключением создания (реконструкции) тепловых пунктов) от существующих тепловых сетей или источников тепловой энергии до точек подключения объектов заявителей, подключаемая тепловая нагрузка которых превышает 1,5 Гкал/ч (П2.1), в том числе:"]
["2.1","Надземная (наземная) прокладка, в том числе:"]
["2.1.1","50 - 250 мм",352.76]
["2.1.2","251-400 мм",825.59]
["2.1.3","401-550 мм",0]
["2.1.4","551-700 мм",0]
["2.1.5","701 мм и выше",0]
["2.2","Подземная прокладка, в том числе:"]
["2.2.1","канальная прокладка"]
["2.2.1.1","50 - 250 мм",1142.9000000000001,"4580,43"]
["2.2.1.2","251-400 мм",1066.98]
["2.2.1.3","401-550 мм",0]
["2.2.1.4","551-700 мм",0]
["2.1.1.5","701 мм и выше",2222.92,"277,08"]
["2.2.2","бесканальная прокладка"]
["2.2.2.1","50 - 250 мм",1081.3599999999999]
["2.2.2.2","251-400 мм",1328.18]
["2.2.2.3","401-550 мм",0]
["2.2.2.4","551-700 мм",0]
["2.2.2.5","701 мм и выше",0]
["3","Расходы на создание (реконструкцию) тепловых пунктов от существующих тепловых сетей или источников тепловой энергии до точек подключения объектов заявителей, подключаемая тепловая нагрузка которых превышает 1,5 Гкал/ч (П2.2)",0,96.43]
["4","Налог на прибыль",401.71,"826,27"]

{"sheet":"ОАО \"ЧОКЭ\"","index":4,"n_rows":58,"n_cols":10,"rows_kept":58,"cut":false,"hidden":true,"merged":[[32,0,32,3],[33,0,34,0],[33,1,34,1],[33,2,33,3],[32,6,32,9],[33,6,34,6],[33,7,34,7],[33,8,33,9],[0,0,0,9],[5,6,5,9],[6,6,6,9],[7,8,7,9],[7,6,8,6],[7,7,8,7],[2,0,2,3],[3,0,3,3],[5,0,5,3],[6,0,6,3],[7,0,8,0],[7,1,8,1],[7,2,7,3]]}
["Постановление МТРиЭ от 19.12.2017г. №67/11"]
[]
["Подключаемая тепловая нагрузка не превышает 0,1 Гкал/час"]
[" Размер платы за подключение - 550 рублей (с учетом НДС)"]
[]
["Подключаемый объект расположен на территории Копейского городского округа",null,null,null,null,null,"Подключаемый объект расположен на территории Челябинской области (за исключением Копейского городского округа)"]
["Подключаемая тепловая нагрузка более 0,1 Гкал/ч и не превышает 1,5 Гкал/ч",null,null,null,null,null,"Подключаемая тепловая нагрузка более 0,1 Гкал/ч и не превышает 1,5 Гкал/ч"]
["№ п/п","Наименование","Размер ставки (тыс. руб./Гкал/ч)",null,null,null,"№ п/п","Наименование","Размер ставки (тыс. руб./Гкал/ч)"]
[null,null,"без учета НДС","с учетом НДС",null,null,null,null,"без учета НДС","с учетом НДС"]
["1","Расходы на проведение мероприятий по подключению объектов заявителей (П1)","13,23","15,61",null,null,"1","Расходы на проведение мероприятий по подключению объектов заявителей (П1)","13,23","15,61"]
["2","Расходы на создание (реконструкцию) тепловых сетей (за исключением создания (реконструкции) тепловых пунктов) от существующих тепловых сетей или источников тепловой энергии до точек подключения объектов заявителей (П2.1), в случае если подключаемая тепловая нагрузка объекта заявителя более 0,1 Гкал/ч и не превышает 1,5 Гкал/ч, в том числе:",null,"-",null,null,"2","Расходы на создание (реконструкцию) тепловых сетей (за исключением создания (реконструкции) тепловых пунктов) от существующих тепловых сетей или источников тепловой энергии до точек подключения объектов заявителей (П2.1), в случае если подключаемая тепловая нагрузка объекта заявителя более 0,1 Гкал/ч и не превышает 1,5 Гкал/ч, в том числе:",null,"-"]
["2.1","Надземная (наземная) прокладка, в том числе:",null,null,null,null,"2.1","Надземная (наземная) прокладка, в том числе:"]
["2.1.1","50 - 250 мм",0,null,null,null,"2.1.1","50 - 250 мм",1005.74]
["2.1.2","251-400 мм",0,null,null,null,"2.1.2","251-400 мм",0]
["2.1.3","401-550 мм",0,null,null,null,"2.1.3","401-550 мм",0]
["2.1.4","551-700 мм",0,null,null,null,"2.1.4","551-700 мм",0]
["2.1.5","701 мм и выше",0,null,null,null,"2.1.5","701 мм и выше",0]
["2.2","Подземная прокладка, в том числе:",null,null,null,null,"2.2","Подземная прокладка, в том числе:"]
["2.2.1","канальная прокладка",null,null,null,null,"2.2.1","канальная прокладка"]
["2.2.1.1","50 - 250 мм",538.73,4580.43,null,null,"2.2.1.1","50 - 250 мм",1987.75,4580.43]
["2.2.1.2","251-400 мм",315.27999999999997,716.94,null,null,"2.2.1.2","251-400 мм",0,716.94]
["2.2.1.3","401-550 мм",0,null,null,null,"2.2.1.3","401-550 мм",0]
["2.2.1.4","551-700 мм",0,null,null,null,"2.2.1.4","551-700 мм",0]
["2.2.1.5","701 мм и выше",0,277.08,null,null,"2.2.1.5","701 мм и выше",0,277.08]
["2.2.2","бесканальная прокладка",null,null,null,null,"2.2.2","бесканальная прокладка"]
["2.2.2.1","50 - 250 мм",0,null,null,null,"2.2.2.1","50 - 250 мм",1493.77]
["2.2.2.2","251-400 мм",0,null,null,null,"2.2.2.2","251-400 мм",0]
["2.2.2.3","401-550 мм",0,null,null,null,"2.2.2.3","401-550 мм",0]
["2.2.2.4","551-700 мм",0,null,null,null,"2.2.2.4","551-700 мм",0]
["2.2.2.5","701 мм и выше",0,null,null,null,"2.2.2.5","701 мм и выше",0]
["3","Расходы на создание (реконструкцию) тепловых пунктов от существующих тепловых сетей или источников тепловой энергии до точек подключения объектов заявителей, подключаемая тепловая нагрузка которых более 0,1 Гкал/ч и не превышает 1,5 Гкал/ч (П2.2)",0,96.43,null,null,"3","Расходы на создание (реконструкцию) тепловых пунктов от существующих тепловых сетей или источников тепловой энергии до точек подключения объектов заявителей, подключаемая тепловая нагрузка которых более 0,1 Гкал/ч и не превышает 1,5 Гкал/ч (П2.2)",0,96.43]
["4","Налог на прибыль:",127.21,726.37,null,null,"4","Налог на прибыль:",377.24,726.37]
["Подключаемая тепловая нагрузка превышает 1,5 Гкал/ч при наличии технической возможности",null,null,null,null,null,"Подключаемая тепловая нагрузка превышает 1,5 Гкал/ч при наличии технической возможности"]
["№п/п","Наименование","Размер ставки (тыс. руб./Гкал/ч)",null,null,null,"№п/п","Наименование","Размер ставки (тыс. руб./Гкал/ч)"]
[null,null,"без учета НДС","с учетом НДС",null,null,null,null,"без учета НДС","с учетом НДС"]
["1","Расходы на проведение мероприятий по подключению объектов заявителей (П1)",13.23,"16,19",null,null,"1","Расходы на проведение мероприятий по подключению объектов заявителей (П1)",13.23,"16,19"]
["2","Расходы на создание (реконструкцию) тепловых сетей (за исключением создания (реконструкции) тепловых пунктов) от существующих тепловых сетей или источников тепловой энергии до точек подключения объектов заявителей, подключаемая тепловая нагрузка которых превышает 1,5 Гкал/ч (П2.1), в том числе:",null,null,null,null,"2","Расходы на создание (реконструкцию) тепловых сетей (за исключением создания (реконструкции) тепловых пунктов) от существующих тепловых сетей или источников тепловой энергии до точек подключения объектов заявителей, подключаемая тепловая нагрузка которых превышает 1,5 Гкал/ч (П2.1), в том числе:"]
["2.1","Надземная (наземная) прокладка, в том числе:",null,null,null,null,"2.1","Надземная (наземная) прокладка, в том числе:"]
["2.1.1","50 - 250 мм",0,null,null,null,"2.1.1","50 - 250 мм",352.76]
["2.1.2","251-400 мм",0,null,null,null,"2.1.2","251-400 мм",825.59]
["2.1.3","401-550 мм",0,null,null,null,"2.1.3","401-550 мм",0]
["2.1.4","551-700 мм",0,null,null,null,"2.1.4","551-700 мм",0]
["2.1.5","701 мм и выше",0,null,null,null,"2.1.5","701 мм и выше",0]
["2.2","Подземная прокладка, в том числе:",null,null,null,null,"2.2","Подземная прокладка, в том числе:"]
["2.2.1","канальная прокладка",null,null,null,null,"2.2.1","канальная прокладка"]
["2.2.1.1","50 - 250 мм",330.22,"4580,43",null,null,"2.2.1.1","50 - 250 мм",1142.9000000000001,"4580,43"]
["2.2.1.2","251-400 мм",476.66,null,null,null,"2.2.1.2","251-400 мм",1066.98]
["2.2.1.3","401-550 мм",0,null,null,null,"2.2.1.3","401-550 мм",0]
["2.2.1.4","551-700 мм",0,null,null,null,"2.2.1.4","551-700 мм",0]
["2.1.1.5","701 мм и выше",0,"277,08",null,null,"2.1.1.5","701 мм и выше",0,"277,08"]
["2.2.2","бесканальная прокладка",null,null,null,null,"2.2.2","бесканальная прокладка"]
["2.2.2.1","50 - 250 мм",0,null,null,null,"2.2.2.1","50 - 250 мм",1081.3599999999999]
["2.2.2.2","251-400 мм",0,null,null,null,"2.2.2.2","251-400 мм",1328.18]
["2.2.2.3","401-550 мм",0,null,null,null,"2.2.2.3","401-550 мм",0]
["2.2.2.4","551-700 мм",0,null,null,null,"2.2.2.4","551-700 мм",0]
["2.2.2.5","701 мм и выше",0,null,null,null,"2.2.2.5","701 мм и выше",0]
["3","Расходы на создание (реконструкцию) тепловых пунктов от существующих тепловых сетей или источников тепловой энергии до точек подключения объектов заявителей, подключаемая тепловая нагрузка которых превышает 1,5 Гкал/ч (П2.2)",0,96.43,null,null,"3","Расходы на создание (реконструкцию) тепловых пунктов от существующих тепловых сетей или источников тепловой энергии до точек подключения объектов заявителей, подключаемая тепловая нагрузка которых превышает 1,5 Гкал/ч (П2.2)",0,96.43]
["4","Налог на прибыль",107.05,"826,27",null,null,"4","Налог на прибыль",243.71,"826,27"]

{"sheet":"Челябинский г.о.","index":5,"n_rows":56,"n_cols":4,"rows_kept":56,"cut":false,"hidden":true,"merged":[[30,0,30,3],[31,0,32,0],[31,1,32,1],[31,2,31,3],[0,0,0,3],[4,1,5,1],[4,0,5,0],[4,2,4,3],[3,0,3,3],[1,0,1,3],[2,0,2,3]]}
["Постановление МТРиЭ от 19.12.2017 г. № 67/10"]
["Подключаемая тепловая нагрузка не превышает 0,1 Гкал/час"]
[" Размер платы за подключение - 550 рублей (с учетом НДС)"]
["Подключаемая тепловая нагрузка более 0,1 Гкал/ч и не превышает 1,5 Гкал/ч"]
["№п/п","Наименование","Размер ставки (тыс. руб./Гкал/ч)"]
[null,null,"без учета НДС","с учетом НДС"]
["1","Расходы на проведение мероприятий по подключению объектов заявителей (П1)","13,23","15,61"]
["2","Расходы на создание (реконструкцию) тепловых сетей (за исключением создания (реконструкции) тепловых пунктов) от существующих тепловых сетей или источников тепловой энергии до точек подключения объектов заявителей (П2.1), в случае если подключаемая тепловая нагрузка объекта заявителя более 0,1 Гкал/ч и не превышает 1,5 Гкал/ч, в том числе:",null,"-"]
["2.1","Надземная (наземная) прокладка, в том числе:"]
["2.1.1","50 - 250 мм",0]
["2.1.2","251-400 мм",0]
["2.1.3","401-550 мм",0]
["2.1.4","551-700 мм",0]
["2.1.5","701 мм и выше",0]
["2.2","Подземная прокладка, в том числе:"]
["2.2.1","канальная прокладка"]
["2.2.1.1","50 - 250 мм",2376.37,4580.43]
["2.2.1.2","251-400 мм",2243.6799999999998,716.94]
["2.2.1.3","401-550 мм",0]
["2.2.1.4","551-700 мм",0]
["2.2.1.5","701 мм и выше",0,277.08]
["2.2.2","бесканальная прокладка"]
["2.2.2.1","50 - 250 мм",0]
["2.2.2.2","251-400 мм",0]
["2.2.2.3","401-550 мм",0]
["2.2.2.4","551-700 мм",0]
["2.2.2.5","701 мм и выше",0]
["3","Расходы на создание (реконструкцию) тепловых пунктов от существующих тепловых сетей или источников тепловой энергии до точек подключения объектов заявителей, подключаемая тепловая нагрузка которых более 0,1 Гкал/ч и не превышает 1,5 Гкал/ч (П2.2)",0,96.43]
["4","Налог на прибыль:",577.51,726.37]
[]
["Подключаемая тепловая нагрузка превышает 1,5 Гкал/ч при наличии технической возможности"]
["№п/п","Наименование","Размер ставки (тыс. руб./Гкал/ч)"]
[null,null,"без учета НДС","с учетом НДС"]
["1","Расходы на проведение мероприятий по подключению объектов заявителей (П1)",13.23,"16,19"]
["2","Расходы на создание (реконструкцию) тепловых сетей (за исключением создания (реконструкции) тепловых пунктов) от существующих тепловых сетей или источников тепловой энергии до точек подключения объектов заявителей, подключаемая тепловая нагрузка которых превышает 1,5 Гкал/ч (П2.1), в том числе:"]
["2.1","Надземная (наземная) прокладка, в том числе:"]
["2.1.1","50 - 250 мм",0]
["2.1.2","251-400 мм",0]
["2.1.3","401-550 мм",0]
["2.1.4","551-700 мм",0]
["2.1.5","701 мм и выше",0]
["2.2","Подземная прокладка, в том числе:"]
["2.2.1","канальная прокладка"]
["2.2.1.1","50 - 250 мм",2177.34,"4580,43"]
["2.2.1.2","251-400 мм",2149.19]
["2.2.1.3","401-550 мм",0]
["2.2.1.4","551-700 мм",0]
["2.1.1.5","701 мм и выше",0,"277,08"]
["2.2.2","бесканальная прокладка"]
["2.2.2.1","50 - 250 мм",0]
["2.2.2.2","251-400 мм",0]
["2.2.2.3","401-550 мм",0]
["2.2.2.4","551-700 мм",0]
["2.2.2.5","701 мм и выше",0]
["3","Расходы на создание (реконструкцию) тепловых пунктов от существующих тепловых сетей или источников тепловой энергии до точек подключения объектов заявителей, подключаемая тепловая нагрузка которых превышает 1,5 Гкал/ч (П2.2)",0,96.43]
["4","Налог на прибыль",545.82000000000005,"826,27"]

{"sheet":"Челябинская обл.","index":6,"n_rows":56,"n_cols":4,"rows_kept":56,"cut":false,"hidden":true,"merged":[[30,0,30,3],[31,0,32,0],[31,1,32,1],[31,2,31,3],[0,0,0,3],[1,0,1,3],[2,0,2,3],[3,0,3,3],[4,0,5,0],[4,1,5,1],[4,2,4,3]]}
["Постановление МТРиЭ от 19.12.2017г. № 67/10"]
["Подключаемая тепловая нагрузка не превышает 0,1 Гкал/час"]
[" Размер платы за подключение - 550 рублей (с учетом НДС)"]
["Подключаемая тепловая нагрузка более 0,1 Гкал/ч и не превышает 1,5 Гкал/ч"]
["№п/п","Наименование","Размер ставки (тыс. руб./Гкал/ч)"]
[null,null,"без учета НДС","с учетом НДС"]
["1","Расходы на проведение мероприятий по подключению объектов заявителей (П1)","13,23","15,61"]
["2","Расходы на создание (реконструкцию) тепловых сетей (за исключением создания (реконструкции) тепловых пунктов) от существующих тепловых сетей или источников тепловой энергии до точек подключения объектов заявителей (П2.1), в случае если подключаемая тепловая нагрузка объекта заявителя более 0,1 Гкал/ч и не превышает 1,5 Гкал/ч, в том числе:",null,"-"]
["2.1","Надземная (наземная) прокладка, в том числе:"]
["2.1.1","50 - 250 мм",1005.74]
["2.1.2","251-400 мм",0]
["2.1.3","401-550 мм",0]
["2.1.4","551-700 мм",0]
["2.1.5","701 мм и выше",0]
["2.2","Подземная прокладка, в том числе:"]
["2.2.1","канальная прокладка"]
["2.2.1.1","50 - 250 мм",1987.75,4580.43]
["2.2.1.2","251-400 мм",0,716.94]
["2.2.1.3","401-550 мм",0]
["2.2.1.4","551-700 мм",0]
["2.2.1.5","701 мм и выше",0,277.08]
["2.2.2","бесканальная прокладка"]
["2.2.2.1","50 - 250 мм",1493.77]
["2.2.2.2","251-400 мм",0]
["2.2.2.3","401-550 мм",0]
["2.2.2.4","551-700 мм",0]
["2.2.2.5","701 мм и выше",0]
["3","Расходы на создание (реконструкцию) тепловых пунктов от существующих тепловых сетей или источников тепловой энергии до точек подключения объектов заявителей, подключаемая тепловая нагрузка которых более 0,1 Гкал/ч и не превышает 1,5 Гкал/ч (П2.2)",0,96.43]
["4","Налог на прибыль:",377.24,726.37]
[]
["Подключаемая тепловая нагрузка превышает 1,5 Гкал/ч при наличии технической возможности"]
["№п/п","Наименование","Размер ставки (тыс. руб./Гкал/ч)"]
[null,null,"без учета НДС","с учетом НДС"]
["1","Расходы на проведение мероприятий по подключению объектов заявителей (П1)",13.23,"16,19"]
["2","Расходы на создание (реконструкцию) тепловых сетей (за исключением создания (реконструкции) тепловых пунктов) от существующих тепловых сетей или источников тепловой энергии до точек подключения объектов заявителей, подключаемая тепловая нагрузка которых превышает 1,5 Гкал/ч (П2.1), в том числе:"]
["2.1","Надземная (наземная) прокладка, в том числе:"]
["2.1.1","50 - 250 мм",352.76]
["2.1.2","251-400 мм",825.59]
["2.1.3","401-550 мм",0]
["2.1.4","551-700 мм",0]
["2.1.5","701 мм и выше",0]
["2.2","Подземная прокладка, в том числе:"]
["2.2.1","канальная прокладка"]
["2.2.1.1","50 - 250 мм",1142.9000000000001,"4580,43"]
["2.2.1.2","251-400 мм",1066.98]
["2.2.1.3","401-550 мм",0]
["2.2.1.4","551-700 мм",0]
["2.1.1.5","701 мм и выше",0,"277,08"]
["2.2.2","бесканальная прокладка"]
["2.2.2.1","50 - 250 мм",1081.3599999999999]
["2.2.2.2","251-400 мм",1328.18]
["2.2.2.3","401-550 мм",0]
["2.2.2.4","551-700 мм",0]
["2.2.2.5","701 мм и выше",0]
["3","Расходы на создание (реконструкцию) тепловых пунктов от существующих тепловых сетей или источников тепловой энергии до точек подключения объектов заявителей, подключаемая тепловая нагрузка которых превышает 1,5 Гкал/ч (П2.2)",0,96.43]
["4","Налог на прибыль",243.71,"826,27"]